{"text_format":"1","workbook":"xlsx","n_sheets":20,"sheets":["Online Assessment tool","Retirement age summary","Downsizing strategy","Admin_RAC_Lookup","Admin_Amortisation","Admin_Suburbs","Admin_Postcodes","Admin_lookup","Admin_HELP","Admin_stamp_duty","Admin_Tax","Admin_Rates","Admin_FTP","Admin_Depend_assess_rates","Admin_settlement_agent","Admin_HEM","Admin_Tiered Hems","Admin_LAM_variables","Admin_loan_variables","Admin_Log"],"not_rendered":{"charts":0,"images":1,"macros":1,"external_links":3,"defined_names":182,"comments":3,"pivot_tables":0},"unopened":[],"bounds":{"document_bytes":16777216,"sheet_cells":100000,"rows_first":2000,"rows_last":500,"rows_between":2000,"halvings":0,"cell_chars":16384,"cell_head_chars":4096},"cells_cut":0,"cells_raw":0,"read":"whole","date_system":"1900"}

{"sheet":"Online Assessment tool","index":0,"n_rows":158,"n_cols":105,"rows_kept":158,"cut":false,"hidden":false,"merged":[[1,18,1,20],[2,9,2,16],[2,18,2,20],[3,18,3,20],[1,9,1,13],[9,10,9,11],[6,10,6,13],[7,10,7,13],[3,13,3,16],[3,8,3,9],[5,8,5,9],[5,15,5,16],[6,20,6,23],[8,21,8,28],[9,27,9,28],[1,21,1,28],[3,21,3,23],[2,21,2,28],[9,21,9,22],[6,6,6,9],[3,1,3,6],[7,1,7,5],[7,14,7,15],[6,14,6,17],[10,27,10,28],[11,27,11,28],[4,8,4,9],[12,1,12,6],[5,1,5,6],[6,1,6,5],[13,10,13,11],[13,1,13,6],[13,7,13,8],[13,13,13,14],[4,1,4,6],[10,1,10,6],[11,7,11,8],[12,7,12,8],[12,10,12,11],[12,13,12,14],[10,10,10,11],[11,10,11,11],[9,13,9,14],[11,1,11,6],[7,6,7,9],[11,24,11,25],[12,21,12,22],[13,24,13,25],[92,46,92,50],[62,43,62,44],[61,43,61,44],[61,40,61,41],[63,43,63,44],[62,46,62,48],[64,26,64,27],[62,24,62,25],[67,26,67,27],[62,50,62,55],[91,39,97,39],[69,24,69,25],[69,26,69,27],[85,40,85,43],[81,39,81,43],[82,21,84,28],[85,1,89,29],[78,1,78,5],[80,17,80,18],[80,1,80,5],[78,6,78,7],[78,14,78,16],[80,14,80,16],[79,17,79,18],[9,24,9,25],[10,24,10,25],[10,13,10,14],[11,13,11,14],[15,21,15,22],[15,10,15,11],[15,13,15,14],[14,10,14,11],[14,13,14,14],[14,21,14,22],[10,7,10,8],[13,21,13,22],[15,24,15,25],[10,21,10,22],[11,21,11,22],[15,7,15,8],[19,21,19,22],[20,10,20,11],[18,1,18,6],[14,7,14,8],[17,1,17,6],[19,13,19,14],[17,10,17,11],[17,24,17,25],[17,21,17,22],[16,21,16,22],[16,24,16,25],[18,21,18,22],[9,1,9,6],[9,7,9,8],[31,1,31,5],[32,1,32,3],[15,1,15,6],[20,7,20,8],[18,13,18,14],[20,1,20,6],[22,10,22,11],[21,1,21,6],[18,7,18,8],[16,10,16,11],[17,7,17,8],[16,7,16,8],[17,13,17,14],[16,13,16,14],[18,10,18,11],[19,7,19,8],[14,1,14,6],[16,1,16,6],[19,10,19,11],[29,1,29,5],[28,1,28,5],[30,1,30,5],[20,41,20,42],[21,33,21,37],[22,38,22,39],[22,33,22,37],[19,41,19,43],[24,41,24,42],[23,33,23,37],[22,27,22,28],[30,6,30,7],[26,9,26,14],[25,7,25,8],[27,10,27,11],[25,21,25,22],[27,27,27,28],[24,27,24,28],[27,24,27,25],[25,10,25,11],[25,13,25,14],[26,27,26,28],[24,13,24,14],[29,15,29,20],[26,24,26,25],[22,24,22,25],[24,24,24,25],[27,1,27,5],[32,12,32,13],[24,10,24,11],[28,10,28,11],[20,38,20,39],[31,6,31,7],[32,15,32,20],[32,21,32,22],[32,26,32,28],[19,63,19,67],[21,24,21,25],[19,24,19,25],[20,24,20,25],[19,57,19,61],[20,57,20,61],[23,38,23,39],[24,38,24,39],[19,1,19,6],[22,13,22,14],[20,21,20,22],[21,21,21,22],[22,15,22,20],[20,13,20,14],[22,1,22,6],[23,1,23,6],[21,10,21,11],[22,46,22,51],[21,13,21,14],[21,7,21,8],[22,41,22,42],[21,41,21,43],[21,27,21,28],[19,27,19,28],[12,37,12,38],[12,33,12,36],[13,33,13,36],[13,37,13,38],[18,24,18,25],[17,27,17,28],[13,27,13,28],[14,37,14,38],[12,24,12,25],[14,33,14,36],[12,27,12,28],[14,24,14,25],[14,27,14,28],[18,27,18,28],[16,27,16,28],[15,27,15,28],[1,63,1,67],[1,57,1,61],[1,53,1,55],[1,43,3,43],[1,46,1,51],[1,39,3,39],[3,46,3,47],[11,37,11,38],[7,49,7,50],[1,40,3,40],[1,41,3,41],[4,43,4,44],[10,43,10,44],[10,41,10,42],[6,37,6,38],[4,41,4,42],[10,33,10,36],[6,33,6,36],[7,33,7,36],[11,33,11,36],[5,33,5,36],[5,37,5,38],[10,37,10,38],[7,37,7,38],[4,37,4,38],[80,9,80,12],[4,33,4,36],[61,21,61,23],[59,3,60,17],[72,14,72,16],[74,6,74,7],[71,1,71,5],[69,1,69,7],[74,1,74,5],[20,32,20,37],[27,6,27,7],[29,6,29,7],[24,7,24,8],[24,1,24,6],[33,8,33,10],[25,1,25,6],[33,5,33,6],[79,14,79,16],[79,6,79,7],[79,9,79,12],[79,1,79,5],[80,6,80,7],[56,3,56,17],[55,3,55,17],[155,33,155,34],[84,9,84,11],[81,1,81,5],[81,14,81,16],[144,22,144,23],[142,22,142,23],[143,22,143,23],[129,22,129,23],[127,22,127,23],[81,9,81,12],[154,33,154,34],[82,1,82,5],[84,17,84,18],[81,6,81,7],[82,6,82,7],[84,12,84,13],[83,12,83,13],[84,6,84,7],[83,9,83,11],[82,14,82,16],[82,17,82,18],[128,22,128,23],[81,17,81,18],[51,57,51,61],[51,21,52,24],[57,21,57,23],[55,35,55,36],[58,21,58,23],[51,25,52,27],[63,40,63,41],[53,21,53,24],[56,24,56,26],[57,24,57,26],[55,27,55,28],[56,27,56,28],[62,40,62,41],[60,46,60,51],[60,43,60,44],[54,25,54,26],[73,1,73,5],[76,14,76,16],[76,1,76,5],[71,9,71,13],[56,21,56,23],[61,3,62,17],[63,3,63,17],[40,1,40,3],[33,12,33,13],[36,5,36,6],[37,8,37,10],[33,1,33,3],[34,1,34,3],[35,8,35,10],[36,1,36,3],[37,5,37,6],[39,8,39,10],[38,1,38,3],[35,1,35,3],[34,5,34,6],[35,5,35,6],[35,12,35,13],[37,12,37,13],[74,17,74,18],[67,57,67,61],[69,57,69,61],[67,24,67,25],[43,27,43,28],[71,6,71,7],[40,23,40,24],[53,57,53,61],[37,21,37,22],[29,21,29,22],[34,21,34,22],[30,15,30,20],[30,21,30,22],[31,15,31,20],[31,21,31,22],[63,36,63,38],[66,24,66,25],[49,3,49,17],[39,1,39,3],[64,24,64,25],[53,35,53,36],[43,3,43,17],[39,5,39,6],[64,3,64,17],[54,35,54,36],[39,63,39,67],[38,15,38,20],[33,15,33,20],[35,15,35,20],[36,15,36,20],[36,21,36,22],[35,21,35,22],[34,15,34,20],[37,41,37,42],[36,38,36,39],[38,21,38,22],[36,41,36,42],[39,15,39,20],[37,33,37,36],[37,38,37,39],[38,38,38,39],[36,33,36,37],[33,21,33,22],[33,38,33,39],[37,15,37,20],[77,9,77,12],[78,9,78,12],[74,14,74,16],[73,17,73,18],[77,14,77,16],[77,26,77,27],[75,17,75,18],[75,14,75,16],[50,3,50,17],[77,1,77,5],[77,6,77,7],[57,3,57,17],[58,3,58,17],[60,24,60,25],[70,6,70,7],[74,9,74,12],[72,6,72,7],[75,9,75,12],[76,9,76,12],[65,24,65,25],[63,24,63,25],[66,3,67,17],[76,6,76,7],[72,1,72,5],[76,17,76,18],[80,101,80,102],[78,26,78,27],[79,26,79,27],[80,26,80,27],[77,23,77,24],[78,17,78,18],[78,23,78,24],[79,23,79,24],[80,23,80,24],[77,17,77,18],[71,14,71,18],[72,9,72,12],[72,17,72,18],[60,40,60,41],[72,21,72,28],[75,22,75,24],[74,26,74,27],[75,26,75,27],[68,26,68,27],[68,24,68,25],[71,21,71,28],[64,33,64,35],[65,26,65,27],[64,36,64,38],[65,3,65,17],[70,1,70,5],[66,26,66,27],[60,26,60,27],[70,9,70,18],[75,6,75,7],[73,6,73,7],[73,14,73,16],[75,1,75,5],[73,9,73,12],[49,24,49,25],[55,24,55,26],[51,3,51,17],[52,3,52,17],[44,3,44,17],[59,40,59,44],[54,21,54,22],[42,21,42,27],[44,27,44,28],[45,3,45,17],[46,3,46,17],[42,3,42,17],[47,3,47,17],[48,3,48,17],[46,27,46,28],[44,20,44,23],[46,20,46,23],[47,24,47,25],[48,24,48,25],[5,10,5,13],[4,18,4,20],[57,27,57,28],[41,48,41,51],[53,25,53,27],[53,3,53,17],[54,3,54,17],[61,26,61,27],[61,24,61,25],[36,26,37,28],[23,15,23,20],[24,21,24,22],[20,27,20,28],[25,15,25,20],[24,15,24,20],[28,24,28,25],[25,24,25,25],[28,27,28,28],[28,16,28,20],[25,27,25,28],[41,3,41,13],[38,5,38,6],[28,6,28,7],[37,1,37,3]]}
[]
[null,"Offline Assessment Tool V1.92",null,null,null,null,null,"Printed:",null,{"$f":"NOW()","v":"2026-03-15T22:47:06.820"},null,null,null,null,null,null,null,null,"Applicants name",null,null,null,null,null,null,null,null,null,null,null,null,null,null,null,null,"Month",{"$f":"MONTH(J2)","v":3},null,null,"Age in mnths","mnths till 65","loan bal at 65",null,"super at 65",null,null,"`",null,null,null,null,null,{"$f":"VLOOKUP(AK2,AV64:AW75,2,FALSE)","v":2},"CHILDS AGE",null,null,null,"STANDARD STAMP DUTY ON PURCHASE",null,null,null,null,null,"CONCESSIONAL STAMP DUTY ON PURCHASE",null,null,null,null,null,null,null,"YES","Abstudy",null,null,"Annually","wkly","Term of ",null,null,null,7,null,"Established",null,null,"age of applicants",null,"check<18","Yes",null,"drop down box - click here",null,{"$f":"I4","v":0},null,"Perth metro / Country",null,"Prior to 30 June 2017"]
[null,null,null,null,null,null,null,"Filename:",null,{"$f":"MID(Admin_loan_variables!A1,(SEARCH(\"[\",Admin_loan_variables!A1,1)+1),((SEARCH(\"]\",Admin_loan_variables!A1,1)-(SEARCH(\"[\",Admin_loan_variables!A1,1))))-1)","v":"Offline Calc. v1.92 effective 15 October 2025 (2).xlsm"},null,null,null,null,null,null,null,null,"Compiled by",null,null,null,null,null,null,null,null,null,null,null,null,null,null,null,null,null,null,null,null,null,null,null,null,null,null,null,null,null,null,null,null,null,{"$f":"IF(G7>0,SUM(($J$2-G7)/365)*12,0)","v":0},0,0,null,null,null,null,null,null,null,null,null,null,null,null,null,null,"App 1",null,"NO","Age Pension - Single",null,null,"Fortnightly","f/n"," months is not the standard of ",null,null,null,14,null,"Construction",null,null,{"$f":"SUM($J$2-G7)/365.25","v":126.20656915671661},{"$f":"SUM($G$7)+6574","v":"1917-12-30"},{"$f":"IF(CJ3>$J$2,\"Applicant 1 is under 18 \",\" \")","v":" "},"N/A",null,"Home renovations",null,{"$f":"I5","v":0},null,"North West remote",null,"After 1 July 2017"]
[null,"Number of single applicants",null,null,null,null,null,null,null,null,null,null,null,null,null,null,null,null,"Loan Number",null,null,null,null,null,null,null,null,null,null,null,null,null,null,"AT AGE 65 ",null,null,null,null,null,null,null,null,null,null,null,null,"Age 65yrs to end of loan",null,"Value remaining @ 65",{"$f":"Admin_LAM_variables!D34+Admin_LAM_variables!D49","v":8.0999999999999989E-2},"Current Pension","servicing of remaining debt",{"$f":"IF(G8>0,SUM(($J$2-G8)/365)*12,0)","v":0},1,{"$f":"VLOOKUP(BB4,Admin_Depend_assess_rates!$B$5:$C$30,2,FALSE)","v":1},"AA",null,"Stamp Duty Rate Table",null,null,null,null,null,"Stamp Duty Rate Table",null,null,null,null,null,"App 2",null,null,"Age Pension - Partnered",null,null,"Weekly","mth"," months",null,null,null,null,null,null,null,null,{"$f":"SUM($J$2-G8)/365.25","v":126.20656915671661},{"$f":"SUM($G$8)+6574.5","v":"1917-12-30T12:00:00"},{"$f":"IF(CJ4>$J$2,\"Applicant 2 is under 18 \",\" \")","v":" "},null,null,"Home renovations & debts",null,{"$f":"SUM(CP2:CP3)","v":0}]
[null,"Number of Couples",null,null,null,null,null,null,null,null,null,null,null,null,null,null,null,null,"Age of Dependents",null,null,null,null,null,null,null,null,null,null,null,null,null,null,"Taxable income OLDEST",null,null,null,{"$f":"IF($BA$3>$BA$4,($K$10+$K$11+$K$12+$K$13+K16),($Y$10+$Y$11+$Y$12+$Y$13+Y16))","v":0},null,{"$f":"IF($BA$3>$BA$4,$BA$3,$BA$4)","v":0},{"$f":"IF(SUM(780-AN5)<0,0,(780-AN5))","v":780},{"$f":"IF((AO5-F40)<0,FV(Admin_LAM_variables!D34/12,IF(AO5<0,0,AO5),$AA$62,-$AK$64,0),0)","v":0},null,{"$f":"FV(Admin_LAM_variables!D54/12,AO5,-((AL5)*Admin_LAM_variables!D55)/12,-I36,1)","v":0},null,null,"Applicant 1",{"$f":"IF((BA3+$F$40)>780,(BA3+$F$40)-780,0)","v":0},{"$f":"FV(Admin_LAM_variables!D34/12,$F$40-AV5,$AA$62,-$AK$64,0)","v":0},{"$f":"PMT((Admin_LAM_variables!D34+Admin_LAM_variables!D49)/12,F40-(780-BA3),-AW7,0,0)","v":0},{"$f":"IF($G$8>0,Admin_LAM_variables!D46,Admin_LAM_variables!D47)","v":27664},{"$f":"SUM(AX5*12)/AY7","v":0},null,2,{"$f":"VLOOKUP(BB5,Admin_Depend_assess_rates!$B$5:$C$30,2,FALSE)","v":1},"AA",null,1,{"$f":"+BF5+1","v":2},{"$f":"+BG5+1","v":3},{"$f":"+BH5+1","v":4},{"$f":"+BI5+1","v":5},null,1,{"$f":"+BL5+1","v":2},{"$f":"+BM5+1","v":3},{"$f":"+BN5+1","v":4},{"$f":"+BO5+1","v":5},null,0,null,null,"Austudy",null,null,"Monthly","ann",null,null,null,null,null,null,"Newly Built",null,null,{"$f":"SUM($J$2-O7)/365.25","v":126.20656915671661},{"$f":"SUM($O$7)+6574.5","v":"1917-12-30T12:00:00"},{"$f":"IF(CJ5>$J$2,\"Applicant 3 is under 18 \",\" \")","v":" "},null,null,"Debt consolidation",null,null,null,{"$f":"Admin_loan_variables!A26","v":"Metro  - Up to $800,000"}]
[null,"Number dependents  (100% to 50% custody)",null,null,null,null,null,null,null,null,"Dependants (49% to 31% custody)",null,null,null,null,"Dependants (30% to 16% custody)",null,null,null,null,null,null,null,null,null,null,null,null,null,null,null,null,null,"Maint rec app 1",null,null,null,{"$f":"SUM(K20)","v":0},null,null,null,null,null,null,null,null,"Applicant 2",{"$f":"IF((BA4+$F$40)>780,(BA4+$F$40)-780,0)","v":0},{"$f":"FV($AX$4/12,$F$40-AV6,$AA$62,-$AK$64,0)","v":0},null,{"$f":"IF($G$8>0,Admin_LAM_variables!D46,Admin_LAM_variables!D47)","v":27664},null,null,3,{"$f":"VLOOKUP(BB6,Admin_Depend_assess_rates!$B$5:$C$30,2,FALSE)","v":1},"AA",null,"From","To","Marginal Rate","SD on Range","SD on Base",null,"From","To","Marginal Rate","SD on Range","SD on Base",null,0.05,null,null,"Carer payment",null,null,null,null,"Assessed rate ",null,null,null,null,null,null,null,null,{"$f":"SUM($J$2-O8)/365.25","v":126.20656915671661},{"$f":"SUM($O$8)+6574.5","v":"1917-12-30T12:00:00"},{"$f":"IF(CJ6>$J$2,\"Applicant 4 is under 18 \",\" \")","v":" "},null,null,"Purchase further equity",null,null,null,{"$f":"Admin_loan_variables!A27","v":"Regional - Up to $800,000"},1,2]
[null,"Date of Birth Oldest Applicant",null,null,null,null,null,null,null,null,null,null,null,null,null,null,null,null,null,null,null,null,null,null,null,null,null,null,null,null,null,null,null,"Centrelink inc app 1",null,null,null,{"$f":"SUM(K17:K19)","v":0},null,null,null,null,null,null,null,null,null,"net loan @ 65",{"$f":"IF((AR5-AW5)>0,0,AW5-AR5-AR11)","v":0},null,{"$f":"(FV(Admin_LAM_variables!D33/12,AO5,0,-AY5,0))","v":52977.179532862399},null,null,4,{"$f":"VLOOKUP(BB7,Admin_Depend_assess_rates!$B$5:$C$30,2,FALSE)","v":1},"AA",null,{"$f":"Admin_stamp_duty!B5","v":0},{"$f":"Admin_stamp_duty!C5","v":120000},{"$f":"Admin_stamp_duty!D5","v":1.9E-2},{"$f":"ROUND((+BG7-BF7+1)*BH7,0)","v":2280},0,null,{"$f":"Admin_stamp_duty!B21","v":0},{"$f":"Admin_stamp_duty!C21","v":100000},{"$f":"Admin_stamp_duty!D21","v":1.4999999999999999E-2},{"$f":"ROUND((+BM7-BL7+1)*BN7,0)","v":1500},0,null,0.1,null,null,"Disability Support Pension - Single",null,null,null,null,"is not correct. This should be check check….x%8.49%",null,null,null,null,null,null,null,null,null,null,null,null,null,"Other and Fees",null,null,null,{"$f":"Admin_loan_variables!A28","v":"Regional - Up to $800,000"}]
[null,"Date of Birth Youngest Applicant",null,null,null,null,null,null,null,null,null,null,null,null,null,null,null,null,null,null,null,null,null,null,null,null,null,null,null,null,null,null,null,"Maint paid app 1",null,null,null,{"$f":"SUM(#REF!)","v":{"$error":"#REF!"}},null,null,null,null,null,null,null,null,null,null,null,{"$f":"FV(Admin_LAM_variables!D33/12,AO24,0,-AY7,1)","v":52977.179532862399},null,null,null,5,{"$f":"VLOOKUP(BB8,Admin_Depend_assess_rates!$B$5:$C$30,2,FALSE)","v":1},"AA",null,{"$f":"Admin_stamp_duty!B6","v":120001},{"$f":"Admin_stamp_duty!C6","v":150000},{"$f":"Admin_stamp_duty!D6","v":2.8500000000000001E-2},{"$f":"ROUND((+BG8-BF8+1)*BH8,0)","v":855},{"$f":"SUM(BI$7:BI7)","v":2280},null,{"$f":"Admin_stamp_duty!B22","v":100001},{"$f":"Admin_stamp_duty!C22","v":200000},{"$f":"Admin_stamp_duty!D22","v":4.3900000000000002E-2},{"$f":"ROUND((+BM8-BL8+1)*BN8,0)","v":4390},{"$f":"SUM(BO$7:BO7)","v":1500},null,0.15,null,null,"Disability Support Pension - Partnered",null,null,null,null,null,null,null,null,null,null,null,null,null,null,null,null,null,null,null,null,null,null,{"$f":"Admin_loan_variables!A29","v":"Kimberley & Pilbara - Up to $800,000"}]
[null,null,null,null,null,null,null,null,null,null,null,null,null,null,null,null,null,null,null,null,null,null,null,null,null,null,null,null,null,null,null,null,null,null,null,null,null,null,null,null,null,null,null,null,null,null,null,null,null,null,null,null,null,6,{"$f":"VLOOKUP(BB9,Admin_Depend_assess_rates!$B$5:$C$30,2,FALSE)","v":1},"AA",null,{"$f":"Admin_stamp_duty!B7","v":150001},{"$f":"Admin_stamp_duty!C7","v":360000},{"$f":"Admin_stamp_duty!D7","v":3.7999999999999999E-2},{"$f":"ROUND((+BG9-BF9+1)*BH9,0)","v":7980},{"$f":"SUM(BI$7:BI8)","v":3135},null,null,null,null,null,null,null,0.2,null,null,"Newstart - Single - No children",null,null,null,null,"Calculations indicate that applicants have a shortfall of $",null,null,null,null,null,null,null,null,null,null,null,null,null,null,null,null,null,{"$f":"Admin_loan_variables!A30","v":"Kimberley & Pilbara - Up to $800,000"}]
[null,"Gross Wages/Salary",null,null,null,null,null,null,null,null,{"$f":"IF(H10<1,0,IF(J10=\"WKLY\",((H10/7)*365),IF(J10=\"f/n\",(H10/14)*365,IF(J10=\"MTH\",H10*12,IF(J10=\"ANN\",H10)))))","v":0},null,1,{"$f":"SUM(K10*M10)","v":0},null,null,"Gross Wage/salary",null,null,null,null,null,null,null,{"$f":"IF(V10<1,0,IF(X10=\"WKLY\",((V10/7)*365),IF(X10=\"f/n\",(V10/14)*365,IF(X10=\"MTH\",V10*12,IF(X10=\"ANN\",V10)))))","v":0},null,1,{"$f":"SUM(Y10*AA10)","v":0},null,null,null,null,null,null,null,null,null,null,null,null,null,null,null,null,null,null,null,null,null,null,null,null,null,7,{"$f":"VLOOKUP(BB10,Admin_Depend_assess_rates!$B$5:$C$30,2,FALSE)","v":1},"AA",null,{"$f":"Admin_stamp_duty!B8","v":360001},{"$f":"Admin_stamp_duty!C8","v":725000},{"$f":"Admin_stamp_duty!D8","v":4.7500000000000001E-2},{"$f":"ROUND((+BG10-BF10+1)*BH10,0)","v":17338},{"$f":"SUM(BI$7:BI9)","v":11115},null,null,null,null,null,null,null,0.25,null,null,"Newstart - single -With dep children",null,null,null,null," Please ensure that these funds are available prior to lodging application"]
[null,"Shift allowance",null,null,null,null,null,null,null,null,{"$f":"IF(H11<1,0,IF(J11=\"WKLY\",((H11/7)*365),IF(J11=\"f/n\",(H11/14)*365,IF(J11=\"MTH\",H11*12,IF(J11=\"ANN\",H11)))))","v":0},null,1,{"$f":"SUM(K11*M11)","v":0},null,null,"Shift allowance",null,null,null,null,null,null,null,0,null,1,{"$f":"SUM(Y11*AA11)","v":0},null,null,null,null,null,"Taxable income YOUNGEST",null,null,null,{"$f":"IF($BA$3>$BA$4,($Y$10+$Y$11+$Y$12+$Y$13+Y16),($K$10+$K$11+$K$12+$K$13+K16))","v":0},null,{"$f":"IF($BA$3>$BA$4,$BA$4,$BA$3)","v":0},{"$f":"IF(SUM(780-AN11)<0,0,(780-AN11))","v":780},{"$f":"IF(AO11-F40<0,FV($I$40/12,AO11,$Y$62,-$AK$64,0),0)","v":0},null,{"$f":"FV(Admin_LAM_variables!D54/12,AO11,-((AL11)*Admin_LAM_variables!D55)/12,-I38,1)","v":0},null,null,null,null,null,null,null,null,null,8,{"$f":"VLOOKUP(BB11,Admin_Depend_assess_rates!$B$5:$C$30,2,FALSE)","v":1},"AA",null,{"$f":"Admin_stamp_duty!B9","v":725001},{"$f":"Admin_stamp_duty!C9","v":2000000},{"$f":"Admin_stamp_duty!D9","v":5.1499999999999997E-2},{"$f":"ROUND((+BG11-BF11+1)*BH11,0)","v":65663},{"$f":"SUM(BI$7:BI10)","v":28453},null,null,null,null,null,null,null,0.3,null,null,"Newstart - Partnered"]
[null,"Overtime & Bonus",null,null,null,null,null,null,null,null,0,null,0.75,0,null,null,"Overtime & Bonus",null,null,null,null,null,null,null,0,null,0.75,0,null,null,null,null,null,"Maint rec app 2",null,null,null,{"$f":"SUM(Y20)","v":0},null,null,null,null,null,null,null,null,null,null,null,null,null,null,null,9,{"$f":"VLOOKUP(BB12,Admin_Depend_assess_rates!$B$5:$C$30,2,FALSE)","v":1},"AA",null,{"$f":"+BG11+1","v":2000001},null,null,"N/A",{"$f":"SUM(BI$7:BI11)","v":94116},null,null,null,null,null,null,null,0.35,null,null,"No Centrelink pension",null,null,null,null,"At "]
[null,"Commission",null,null,null,null,null,null,null,null,{"$f":"IF(H13<1,0,IF(J13=\"WKLY\",((H13/7)*365),IF(J13=\"f/n\",(H13/14)*365,IF(J13=\"MTH\",H13*12,IF(J13=\"ANN\",H13)))))","v":0},null,0.75,0,null,null,"Commission",null,null,null,null,null,null,null,0,null,0.75,0,null,null,null,null,null,"Centrelink inc app 2",null,null,null,{"$f":"SUM(Y17:Y19)","v":0},null,null,null,null,null,null,null,null,null,null,null,null,null,null,null,10,{"$f":"VLOOKUP(BB13,Admin_Depend_assess_rates!$B$5:$C$30,2,FALSE)","v":1},"AA",null,null,null,null,null,null,null,null,null,null,null,null,null,0.4,null,null,"Other",null,null,null,null,"% servicing is above policy of "]
[null,"Self employed taxable income",null,null,null,null,null,null,null,null,{"$f":"IF(H14<1,0,IF(J14=\"WKLY\",((H14/7)*365),IF(J14=\"f/n\",(H14/14)*365,IF(J14=\"MTH\",H14*12,IF(J14=\"ANN\",H14)))))","v":0},null,1,0,null,null,"Self employed taxable income",null,null,null,null,null,null,null,0,null,1,0,null,null,null,null,null,"Maint paid app 2",null,null,null,{"$f":"SUM(Y25)","v":0},null,null,null,null,null,null,null,null,null,null,null,null,null,null,null,11,{"$f":"VLOOKUP(BB14,Admin_Depend_assess_rates!$B$5:$C$30,2,FALSE)","v":1},"AA",null,{"$f":"IF(B36<Calculation___Concessional_Stamp_Duty_Threshold__House_and_Land_with_No_FHOG,\"use concessional rate if less than $\"&Calculation___Concessional_Stamp_Duty_Threshold__House_and_Land_with_No_FHOG,0)","v":"use concessional rate if less than $200000"},null,null,null,{"$f":"IF(B36>Calculation___Concessional_Stamp_Duty_Threshold__House_and_Land_with_No_FHOG,BH17,BN17)","v":0},null,null,null,null,null,null,null,0.45,null,null,"Parenting Payment - Single",null,null,null,null,"%. Loan must fit under UMI policy!"]
[null,"Casual Employment Wages & Salary",null,null,null,null,null,null,null,null,{"$f":"IF(H15<1,0,IF(J15=\"WKLY\",((H15/7)*365),IF(J15=\"f/n\",(H15/14)*365,IF(J15=\"MTH\",H15*12,IF(J15=\"ANN\",H15)))))","v":0},null,0.92,{"$f":"SUM(K15*M15)","v":0},null,null,"Casual Employment Wages & Salary",null,null,null,null,null,null,null,{"$f":"IF(V15<1,0,IF(X15=\"WKLY\",((V15/7)*365),IF(X15=\"f/n\",(V15/14)*365,IF(X15=\"MTH\",V15*12,IF(X15=\"ANN\",V15)))))","v":0},null,0.92,{"$f":"SUM(Y15*AA15)","v":0},null,null,null,null,null,null,null,null,null,null,null,null,null,null,null,null,null,null,null,null,null,null,null,null,null,null,null,null,null,null,null,null,null,null,null,null,null,null,null,null,null,0.5]
[null,"Other",null,null,null,null,null,null,null,null,0,null,null,0,null,null,"Other  ",null,null,null,null,null,null,null,0,null,null,0,null,null,null,null,null,null,null,null,null,null,null,null,null,null,null,null,null,null,null,null,null,null,null,null,null,12,{"$f":"VLOOKUP(BB16,Admin_Depend_assess_rates!$B$5:$C$30,2,FALSE)","v":0.5},"A",null,null,"Gross","Tax",null,null,null,null,"Gross","Tax",null,null,null,0.55000000000000004,null,null,"Parenting Payment - Partnered"]
[null,"No Centrelink pension",null,null,null,null,null,null,null,null,{"$f":"IF(H17<1,0,IF(J17=\"WKLY\",((H17/7)*365),IF(J17=\"f/n\",(H17/14)*365,IF(J17=\"MTH\",H17*12,IF(J17=\"ANN\",H17)))))","v":0},null,1,0,null,null,"No Centrelink pension",null,null,null,null,null,null,null,{"$f":"IF(V17<1,0,IF(X17=\"WKLY\",((V17/7)*365),IF(X17=\"f/n\",(V17/14)*365,IF(X17=\"MTH\",V17*12,IF(X17=\"ANN\",V17)))))","v":0},null,1,0,null,null,null,null,null,null,null,null,null,null,null,null,null,null,null,null,null,null,null,null,null,null,null,null,null,13,{"$f":"VLOOKUP(BB17,Admin_Depend_assess_rates!$B$5:$C$30,2,FALSE)","v":0.5},"B",null,"HOUSE PRICE",{"$f":"B36","v":0},{"$f":"VLOOKUP(B36,BF7:BJ12,BJ5)+ROUND((B36-VLOOKUP(B36,BF7:BJ12,BF5))*VLOOKUP(B36,BF7:BJ12,BH5),0)","v":0},null,null,null,"HOUSE PRICE",{"$f":"IF(B36>Calculation___Concessional_Stamp_Duty_Threshold__House_and_Land_with_No_FHOG,\"over limit\",B36)","v":0},{"$f":"VLOOKUP(BM17,$BL$7:$BP$12,BP$5)+ROUND((BM17-VLOOKUP(BM17,$BL$7:$BP$12,BL$5))*VLOOKUP(BM17,$BL$7:$BP$12,BN$5),0)","v":0},null,null,null,0.6,null,null,"Sickness allowance",null,null,null,null,"% DSR is above DSR policy of "]
[null,"Carer's allowance",null,null,null,null,null,null,null,null,0,null,1,0,null,null,"Carer's allowance ",null,null,null,null,null,null,null,0,null,1,0,null,null,null,null,null,null,null,null,null,null,null,null,null,null,null,null,null,null,null,null,null,null,null,null,null,14,{"$f":"VLOOKUP(BB18,Admin_Depend_assess_rates!$B$5:$C$30,2,FALSE)","v":0},"B",null,null,null,null,null,null,null,null,null,null,null,null,null,0.65,null,null,"Youth Allowance"]
[null,"Austudy Abstudy",null,null,null,null,null,null,null,null,0,null,1,0,null,null,"Austudy Abstudy",null,null,null,null,null,null,null,0,null,1,0,null,null,null,null,null,null,null,null,null,null,null,null,null,null,null,null,null,null,null,null,null,null,null,null,null,15,{"$f":"VLOOKUP(BB19,Admin_Depend_assess_rates!$B$5:$C$30,2,FALSE)","v":0},"B",null,null,null,null,null,null,null,null,null,null,null,null,null,0.7,null,null,"(Base only)",null,null,null,null,"Number of dependents stated as "]
[null,"child maintenance rec",null,null,null,null,null,null,null,null,0,null,{"$f":"IF($BB$34>0,$BC$34/$BB$34,0)","v":0},{"$f":"SUM(K20*M20)","v":0},null,null,"child maintenance rec",null,null,null,null,null,null,null,0,null,{"$f":"IF($BB$34>0,$BC$34/$BB$34,0)","v":0},{"$f":"SUM(Y20*AA20)","v":0},null,null,null,null,null,null,null,null,null,null,null,null,null,"paymt term 10 yrs more",null,null,null,null,null,null,null,null,null,null,null,16,{"$f":"VLOOKUP(BB20,Admin_Depend_assess_rates!$B$5:$C$30,2,FALSE)","v":0},"C",null,"STANDARD STAMP DUTY ON PURCHASE OF ",null,null,null,null,null,"FIRST HOME OWNER STAMP DUTY ON",null,null,null,null,null,0.75,null,null,"(YTD Gross)",null,null,null,null," however ages for "]
[null,"Family Tax A",null,null,null,null,null,null,null,"f/n",0,null,{"$f":"IF($BB$34>0,$BC$34/$BB$34,0)","v":0},{"$f":"SUM(K21*M21)","v":0},null,null,"Family Tax A",null,null,null,null,null,null,"f/n",0,null,{"$f":"IF($BB$34>0,$BC$34/$BB$34,0)","v":0},{"$f":"SUM(Y21*AA21)","v":0},null,null,null,null,"bal of loan less both supers when youngest reaches 65",null,null,null,null,null,{"$f":"IF(AR5>AP5,0,AP5-AR5)","v":0},null,{"$f":"F40-AO5","v":-420},{"$f":"PMT((Admin_LAM_variables!D34+Admin_LAM_variables!D49)/12,120,-AM21,0)","v":0},null,null,null,null,null,null,null,null,null,null,null,17,{"$f":"VLOOKUP(BB21,Admin_Depend_assess_rates!$B$5:$C$30,2,FALSE)","v":0},"C",null,"LAND ONLY",null,null,null,null,null,null,null,"PURCHASE",null,null,null,0.8,null,null,"(YTD Annualised)",null,null,null,null," are loaded"]
[null,"Family Tax B",null,null,null,null,null,null,null,"f/n",0,null,{"$f":"IF(AL51>0,AL51,0)","v":0},{"$f":"SUM(K22*M22)","v":0},null,null,"Family Tax B",null,null,null,null,null,null,"f/n",0,null,{"$f":"IF(AL51>0,AL51,0)","v":0},{"$f":"SUM(Y22*AA22)","v":0},null,null,null,null,null,null,null,null,null,null,null,null,null,"paymt term remain",null,null,null,null,null,null,null,null,null,null,null,18,{"$f":"VLOOKUP(BB22,Admin_Depend_assess_rates!$B$5:$C$30,2,FALSE)","v":0},"C",null,"Stamp Duty Rate Table",null,null,null,null,null,"Stamp Duty Rate Table",null,null,null,null,null,0.85]
[null,null,null,null,null,null,null,null,null,null,{"$f":"SUM(K10:L22)","v":0},null,null,{"$f":"SUM(N10:O22)","v":0},null,null,null,null,null,null,null,null,null,null,{"$f":"SUM(Y10:Z22)","v":0},null,null,{"$f":"SUM(AB10:AC22)","v":0},null,null,null,null,null,"Income oldest",null,null,null,null,{"$f":"AY7/2","v":26488.5897664312},null,null,{"$f":"PMT((Admin_LAM_variables!D34+Admin_LAM_variables!D49)/12,AO21,-AM21,0,0)","v":0},null,null,null,null,"CENTRELINK CALCULATION",null,null,null,null,null,null,19,{"$f":"VLOOKUP(BB23,Admin_Depend_assess_rates!$B$5:$C$30,2,FALSE)","v":0},"D",null,1,{"$f":"+BF23+1","v":2},{"$f":"+BG23+1","v":3},{"$f":"+BH23+1","v":4},{"$f":"+BI23+1","v":5},null,1,{"$f":"+BL23+1","v":2},{"$f":"+BM23+1","v":3},{"$f":"+BN23+1","v":4},{"$f":"+BO23+1","v":5},null,0.9]
[null,null,null,null,null,null,null,null,null,null,null,null,null,"Monthly",{"$f":"N23/12","v":0},null,null,null,null,null,null,null,null,null,null,null,null,"Monthly",{"$f":"AB23/12","v":0},null,null,null,null,"Income youngest - current income or pension",null,null,null,null,{"$f":"IF(AB29>Admin_LAM_variables!D47,AB29,AY7/2)","v":26488.5897664312},null,{"$f":"SUM(AO11-AO5)","v":0},null,null,null,null,null,"INCOME APP 1",{"$f":"SUM(K10:L19)","v":0},{"$f":"SUM(Admin_LAM_variables!D13+Admin_LAM_variables!D10*(BB34-1))","v":115997},null,null,null,null,20,{"$f":"VLOOKUP(BB24,Admin_Depend_assess_rates!$B$5:$C$30,2,FALSE)","v":0},"D",null,"From","To","Marginal Rate","SD on Range","SD on Base",null,"From","To","Marginal Rate","SD on Range","SD on Base",null,0.95,null,null,null,null,null,null,null,null,null,null,null,null,null,null,null,null,null,null,null,null,null,null,null,null,null,null,null,null,null,null,null,null,null,null," "]
[null,"Is HELP, SFSS, SSL, VSL payable?",null,null,null,null,null,null,null,null,null,null,null,null,null,"Is HELP, SFSS, SSL, VSL payable?",null,null,null,null,null,null,null,null,null,null,null,null,null,null,null,null,null,null,null,null,{"$f":"IF(AM25<35001,27.03%,31%)","v":0.31},null,{"$f":"SUM(AM23:AN24)","v":52977.179532862399},null,null,{"$f":"IF(AM21>Y62,SUM(AP23*12)/AM25,0)","v":0},null,{"$f":"IF(AP25>AK25,\"outside policy\",\" \")","v":" "},null," ","INCOME APP 2",{"$f":"SUM(Y10:Z19)","v":0},null,null,null,null,null,21,{"$f":"VLOOKUP(BB25,Admin_Depend_assess_rates!$B$5:$C$30,2,FALSE)","v":0},"D",null,{"$f":"Admin_stamp_duty!B13","v":0},{"$f":"Admin_stamp_duty!C13","v":120000},{"$f":"Admin_stamp_duty!D13","v":1.9E-2},{"$f":"ROUND((+BG25-BF25+1)*BH25,0)","v":2280},0,null,{"$f":"Admin_stamp_duty!B26","v":0},{"$f":"Admin_stamp_duty!C26","v":500000},{"$f":"Admin_stamp_duty!D26","v":0},{"$f":"ROUND((+BM25-BL25+1)*BN25,0)","v":0},0,null,1]
[null,null,null,null,null,null,null,null,null,null,null,null,null,null,null,null,null,null,null,null,null,null,null,null,null,null,null,null,null,null,null,null,null,null,null,null,null,null,null,null,null,null,null,null,null,null,"total income",{"$f":"SUM(AV24:AV25)","v":0},{"$f":"SUM((AV24+AV25)-Admin_LAM_variables!D19)","v":-65189},null,{"$f":"IF(AW26>0,AW26*FTB_A___Maximum_Rate___Benefit_Reduction__0.xx_cents_in_dollar,0)+AY51","v":0},{"$f":"IF(AV26>AW24,(AV26-AW24)*FTB_A___Base_Rate___Benefit_Reduction__0.xx_cents_in_dollar,0)","v":0},null,22,{"$f":"VLOOKUP(BB26,Admin_Depend_assess_rates!$B$5:$C$30,2,FALSE)","v":0},"D",null,{"$f":"Admin_stamp_duty!B14","v":120001},{"$f":"Admin_stamp_duty!C14","v":150000},{"$f":"Admin_stamp_duty!D14","v":2.8500000000000001E-2},{"$f":"ROUND((+BG26-BF26+1)*BH26,0)","v":855},{"$f":"SUM(BI$25:BI25)","v":2280},null,{"$f":"Admin_stamp_duty!B27","v":500001},{"$f":"Admin_stamp_duty!C27","v":700000},{"$f":"Admin_stamp_duty!D27","v":0.1363},{"$f":"ROUND((+BM26-BL26+1)*BN26,0)","v":27260},{"$f":"SUM(BO25:BO25)","v":0}]
[null,null,null,null,null,null,null,null,null,"Security Location & Value",null,null,null,null,null,null,null,null,null,null,null,null,null,null,null,null,null,null,null,null,null,null,null,null,null,null,null,null,null,null,null,null,null,null,null,null,null,null,null,null,null,null,null,23,{"$f":"VLOOKUP(BB27,Admin_Depend_assess_rates!$B$5:$C$30,2,FALSE)","v":0},"D",null,{"$f":"Admin_stamp_duty!B15","v":150001},{"$f":"Admin_stamp_duty!C15","v":360000},{"$f":"Admin_stamp_duty!D15","v":3.7999999999999999E-2},{"$f":"ROUND((+BG27-BF27+1)*BH27,0)","v":7980},{"$f":"SUM(BI$25:BI26)","v":3135}]
[null,"For increase: Curr loan Bal.",null,null,null,null,null,null,null,null,null,null,null,null,null,null,null,null,null,null,null,null,null,null,null,null,null,null,null,null,null,null,null,null,null,null,null,null,null,null,null,null,null,null,null,null,null,null,null,"Base rate",null,null,null,24,{"$f":"VLOOKUP(BB28,Admin_Depend_assess_rates!$B$5:$C$30,2,FALSE)","v":0},"D",null,{"$f":"Admin_stamp_duty!B16","v":360001},{"$f":"Admin_stamp_duty!C16","v":725000},{"$f":"Admin_stamp_duty!D16","v":4.7500000000000001E-2},{"$f":"ROUND((+BG28-BF28+1)*BH28,0)","v":17338},{"$f":"SUM(BI$25:BI27)","v":11115}]
[null,"drop down box - click here",null,null,null,null,null,null,null,null,null,null,null,null,null,null,null,null,null,null,null,null,null,null,null,null,null,null,null,null,null,null,null,null,null,null,null,null,null,null,null,null,null,null,null,null,null,"No. of kids","MAX EACH","min each","Totals",null,null,null,null,null,null,{"$f":"Admin_stamp_duty!B17","v":725001},{"$f":"Admin_stamp_duty!C17","v":2000000},{"$f":"Admin_stamp_duty!D17","v":5.1499999999999997E-2},{"$f":"ROUND((+BG29-BF29+1)*BH29,0)","v":65663},{"$f":"SUM(BI$25:BI28)","v":28453}]
[null,"drop down box - click here",null,null,null,null,null,null,null,null,null,null,null,null,"CC Limit","Lender & type of debt",null,null,null,null,null,"Balance",null,"Rpymt","Freq",null,null,null,null,null,null,null,null,null,null,null,null,null,null,null,null,null,null,null,null,null,"<5",{"$f":"COUNTIF($V$5:$AC$5,AU30)","v":0},{"$f":"Admin_FTP!D6","v":6705.05},{"$f":"Admin_FTP!E6","v":2774},{"$f":"SUM(AW30*AV30)","v":0},{"$f":"SUM(AX30*AV30)","v":0},null,null,null,null,null,{"$f":"+BG29+1","v":2000001},null,null,"N/A",{"$f":"SUM(BI$25:BI30)","v":94116}]
[null,"drop down box - click here",null,null,null,null,null,null,null,null,null,null,null,null,null,null,null,null,null,null,null,null,null,{"$f":"PMT(22%/12,36,-O31,-1)","v":1.9857119844776158E-2}]
[null,"Total loan req'd (input below)",null,null,null,null,{"$f":"SUM(G28:G31)","v":0},null,null,null,null,null,null,null,null,null,null,null,null,null,null,null,null,{"$f":"PMT(22%/12,36,-O32,-1)","v":1.9857119844776158E-2},null,null,null,null,null,null,null,null,null,null,null,null,null,null,null,null,null,"``"]
[null,"Type of deal",null,null,null,"Loan required",null,null,null,"Clients own funds",null,null,null,null,null,null,null,null,null,null,null,null,null,{"$f":"PMT(22%/12,36,-O33,-1)","v":1.9857119844776158E-2},{"$f":"IF(O33=\"\",\"\",\"mth\")","v":""},null,"INCOME CRITERIA",null,null,null,null,null,null,null,null,null,null,null,null,null,null,null,null,null,null,null,"<13",{"$f":"COUNTIF($V$5:$AC$5,AU33)-AV30","v":0},{"$f":"Admin_FTP!D7","v":6705.05},{"$f":"Admin_FTP!E7","v":2774},{"$f":"SUM(AW33*AV33)","v":0},{"$f":"SUM(AX33*AV33)","v":0}]
[null,"Established",null,null,null,null,null,null,null,null,null,null,null,null,null,null,null,null,null,null,null,null,null,0,null,null,"Qualifying",null,{"$f":"AJ152","v":0},null,null,null,null,"bal of loan when youngest reaches 65",null,null,null,null,{"$f":"IF(FV((Admin_LAM_variables!D34+Admin_LAM_variables!D49)/12,AO24,Y62,-AM21,1)-AR11<0,0,(FV((Admin_LAM_variables!D34+Admin_LAM_variables!D49)/12,AO24,Y62,-AM21,1)-AR5-AR11))","v":0},null,null,null,null,null,null,null,"<16",{"$f":"COUNTIF($V$5:$AC$5,AU34)-AV33-AV30","v":0},{"$f":"Admin_FTP!D8","v":8446.1},{"$f":"Admin_FTP!E8","v":2774},{"$f":"SUM(AW34*AV34)","v":0},{"$f":"SUM(AX34*AV34)","v":0},null,{"$f":"COUNTIF(BB35:BB42,\">0\")","v":0},{"$f":"SUM(BC35:BC42)","v":0}]
[null,"purchase price",null,null,null,"FHOG",null,null,"Super balance App 1",null,null,null,null,null,null,null,null,null,null,null,null,null,null,null,null,null,"Assessable",null,{"$f":"N23+AB23","v":0},null,null,null,null,null,null,null,null,null,null,null,null,null,null,null,null,null,"<18",{"$f":"COUNTIF($V$5:$AC$5,AU35)-AV34-AV33-AV30","v":0},{"$f":"Admin_FTP!D9","v":2774},{"$f":"Admin_FTP!E9","v":2774},{"$f":"SUM(AW35*AV35)","v":0},{"$f":"SUM(AX35*AV35)","v":0},null,{"$f":"IF(V5>0,SUM(V5),\" \")","v":" "},{"$f":"VLOOKUP((V5),$BB$3:$BC$28,2,FALSE)","v":0},null,null,"Concession depending on FHOG and max land value:",null,null,null,null,null,null,"Gross","Tax"]
[null,null,null,null,null,null,null,null,null,null,null,null,null,null,null,null,null,null,null,null,null,null,null,null,null,null,null,null,null,null,null,null,null,"Income based on FV of Pension",null,null,null,null,null,null,null,null,null,null,null,null,"<25",{"$f":"COUNTIF($V$5:$AC$5,AU36)-AV35-AV34-AV33-AV30","v":0},{"$f":"Admin_FTP!D10","v":0},{"$f":"Admin_FTP!E10","v":0},{"$f":"SUM(AW36*AV36)","v":0},{"$f":"SUM(AX36*AV36)","v":0},null,{"$f":"IF(W5>0,SUM(W5),\" \")","v":" "},{"$f":"VLOOKUP((W5),$BB$3:$BC$28,2,FALSE)","v":0},null,null,null,null,{"$f":"IF(N74>0,IF(BG38<72001,500,0))","v":false},null,null,null,"HOUSE PRICE",{"$f":"IF(B36>250000,B36,0)","v":0},{"$f":"VLOOKUP(B36,BL25:BP30,BP23)+ROUND((B36-VLOOKUP(B36,BL25:BP30,BL23))*VLOOKUP(B36,BL25:BP30,BN23),0)","v":0}]
[null,"Land Price",null,null,null,null,null,null,"Super balance App 2",null,null,null,null,null,null,null,null,null,null,null,null,null,null,null,null,null,"NDI Ratio must be at least 1.00.1",null,null,null,null,null,null,"Income oldest",null,null,null,null,{"$f":"SUM(AX8/2)","v":26488.5897664312},null,{"$f":"SUM(F40-AO11)","v":-420},{"$f":"PMT((Admin_LAM_variables!D34+Admin_LAM_variables!D49)/12,AO37,-AM34,0,0)","v":0},null,null,null,null,null,{"$f":"SUM(AV30:AV36)","v":0},null,null,null,null,null,{"$f":"IF(X5>0,SUM(X5),\" \")","v":" "},{"$f":"VLOOKUP((X5),$BB$3:$BC$28,2,FALSE)","v":0},null,null,null,"Gross","Tax"]
[null,null,null,null,null,null,null,null,null,null,null,null,null,null,null,null,null,null,null,null,null,null,null,null,null,null,null,null,null,null,null,null,null,"Income youngest",null,null,null,null,{"$f":"SUM(AX8/2)","v":26488.5897664312},null,null,{"$f":"IF(AM34>0,SUM(AP37*12)/AM39,0)","v":0},null,{"$f":"IF(AP38>AK39,\"outside policy\",\" \")","v":" "},null,null,null,null,null,"Gross",{"$f":"SUM(AY30:AY37)","v":0},{"$f":"SUM(AZ30:AZ37)","v":0},{"$f":"SUM(AZ38)/(365/14)","v":0},{"$f":"IF(Y5>0,SUM(Y5),\" \")","v":" "},{"$f":"VLOOKUP((Y5),$BB$3:$BC$28,2,FALSE)","v":0},null,null,"LAND PRICE",{"$f":"B38","v":0},{"$f":"VLOOKUP(BG38,$BF$25:$BJ$30,BJ$23)+ROUND((BG38-VLOOKUP(BG38,$BF$25:$BJ$30,BF$23))*VLOOKUP(BG38,$BF$25:$BJ$30,BH$23),0)","v":0}]
[null,"house price",null,null,null,"Loan term",null,null,"Interest Rate",null,null,null,null,null,null,"HECS/HELP APP 1",null,null,null,null,null,null,null,{"$f":"IF(H25=\"YES\",BC84/12,0)","v":0},null,null,"NDI RATIO",null,{"$f":"IF(F40>0,IF(AK79>0,AK85/AK92,\"\"),\"\")","v":""},{"$f":"IF(AK79>0,\":1\",\"\")","v":""},null,null,null,null,null,null,{"$f":"IF(AM39<35001,27.03%,31%)","v":0.31},null,{"$f":"SUM(AM37:AN38)","v":52977.179532862399},null,null,null,null,null,null,null,null,null,null,"Nett",{"$f":"IF(AY26<AY38,AY38-AY26,0)","v":0},{"$f":"IF(AZ26<AZ38,AZ38-AZ26,0)","v":0},null,{"$f":"IF(Z5>0,SUM(Z5),\" \")","v":" "},{"$f":"VLOOKUP((Z5),$BB$3:$BC$28,2,FALSE)","v":0}]
[null,null,null,null,null,360,null,null,{"$f":"AK87","v":7.0999999999999994E-2},null,null,null,null,null,null,"HECS/HELP APP 2",null,null,null,null,null,null,null,{"$f":"IF(V25=\"YES\",BD84/12,0)","v":0},null,null,null,null,null,null,null,null,null,null,null,null,null,null,null,null,null,null,null,null,null,null,"Family Tax benefit part A",null,null,null,{"$f":"SUM(AY39)/(365/14)","v":0},{"$f":"SUM(AZ39)/(365/14)","v":0},null,{"$f":"IF(AA5>0,SUM(AA5),\" \")","v":" "},{"$f":"VLOOKUP((AA5),$BB$3:$BC$28,2,FALSE)","v":0},null,null,null,null,null,null,null,null,"FIRST HOME OWNER STAMP DUTY ON "]
[null,{"$f":"SUM(B36+B38+B40)","v":0},null,null,"TOTAL",null,null,null,null,null,null,null,null,null,null,"TOTAL MONTHLY REPAYMENTS",null,null,null,null,null,null,null,{"$f":"SUM(AQ57+X39+X40)","v":5.9571359534328482E-2},null,null,null,null,null,null,null,null,null,null,null,null,null,null,null,null,null,null,null,null,null,null,{"$f":"IF(AY40>AZ40,AY40,AZ40)","v":0},null,null,null,null,null,null,{"$f":"IF(AB5>0,SUM(AB5),\" \")","v":" "},{"$f":"VLOOKUP((AB5),$BB$3:$BC$28,2,FALSE)","v":0},null,null,null,null,null,null,null,null,null,null,"LAND"]
[null,null,null,"AREAS TO BE ADDRESSED PRIOR TO LODGING APPLICATION",null,null,null,null,null,null,null,null,null,null,null,"DEBT TO INCOME RATIO %",null,null,null,null,null,null,null,null,{"$f":"IF(ISERROR(SUM(AP50:AP57)/12/SUM(O24+AC24)),\"\",(SUM(AP50:AP57)/12/SUM(O24+AC24)))","v":""},null,null,null,null,null,null,null,null,null,"<12",{"$f":"COUNTIF($BB$35:$BB$42,AI42)","v":0},null,null,null,null,null,null,null,null,null,null,null,null,"Maintenance received",null,null,null,null,{"$f":"IF(AC5>0,SUM(AC5),\" \")","v":" "},{"$f":"VLOOKUP((AC5),$BB$3:$BC$28,2,FALSE)","v":0},null,null,null,null,null,null,null,null,"Stamp Duty Rate Table"]
[null,null,null,null,null,null,null,null,null,null,null,null,null,null,null,null,null,null,null,null,null,"TOTAL LIVING EXPENSES",null,null,null,null,null,null,null,null,null,null,null,null,"<14",{"$f":"COUNTIF($BB$35:$BB$42,AI43)-AJ42","v":0},null,null,null,null,null,null,null,null,null,null,"Large Family supplement",null,{"$f":"IF(K20>0,1,0)","v":0},{"$f":"IF(K20>0,FTB_A___Maintenance_Income___Income_Reduction_Threshold__Couple,0)","v":0},null,null,null,null,null,null,null,null,null,null,null,null,null,1,{"$f":"+BL43+1","v":2},{"$f":"+BM43+1","v":3},{"$f":"+BN43+1","v":4},{"$f":"+BO43+1","v":5}]
[null,null,null,{"$f":"IF(AND((F34+F38)<=Z52,AC39>0.99,AK97=\"Pass\",AK99=\"Pass\"),\"ASSESSMENT MEETS UMI POLICY\",\"ASSESSMENT FAIL\")","v":{"$error":"#N/A"}},null,null,null,null,null,null,null,null,null,null,null,null,null,null,null,null,null,null,null,null,"Amount","Freq",null,"Annual",null,null,null,null,null,null,">13",{"$f":"COUNTIF($BB$35:$BB$42,AI44)","v":0},null,null,null,null,null,null,null," ",null,null,{"$f":"IF(BB34>3,(BB34-3)*AV44,0)","v":0},{"$f":"FTB_A___Large_Family_Supplement__Third_and_subsequent_child","v":0},{"$f":"IF(Y20>0,1,0)","v":0},{"$f":"IF(Y20>0,FTB_A___Maintenance_Income___Income_Reduction_Threshold__Couple,0)","v":0},null,null,null,null,null,null,null,null,null,null,null,null,null,"From","To","Marginal Rate","SD on Range","SD on Base"]
[null,null,null,{"$f":"IF(AND(CS6=1,B41>Admin_loan_variables!B20),\"WARNING! Purchase price for Perth metropolitan areas cannot exceed $\"&Admin_loan_variables!B20,IF(AND(CS6>=2,CS6<=3,B41>Admin_loan_variables!B21),\"WARNING! Purchase price for regional areas cannot exceed $\"&Admin_loan_variables!B21,IF(AND(CS6=4,B41>Admin_loan_variables!B23),\"WARNING! Purchase price for the Kimberley & Pilbara cannot exceed $\"&Admin_loan_variables!B22,IF(AND(CS6=5,B41>Admin_loan_variables!B23),\"WARNING! Purchase price for the Kimberley & Pilbara cannot exceed $\"&Admin_loan_variables!B23,\"\"))))","v":""},null,null,null,null,null,null,null,null,null,null,null,null,null,null,null,null,"Living Expenses",null,null,null,null,"mth",null,{"$f":"IF(Y45<1,0,IF(Z45=BY2,((Y45/7)*365),IF(Z45=BY3,(Y45/14)*365,IF(Z45=BY4,Y45*12,IF(Z45=BY5,Y45)))))","v":0},null,null,null,null,null,null,null,null,null,null,null,null,null,null,null,null,null,null,null,null,null,{"$f":"IF(AX43=AX44,FTB_A___Maintenance_Income___Income_Reduction_Threshold__Single_Parent,FTB_A___Maintenance_Income___Income_Reduction_Threshold__Couple)","v":1960.05},null,null,null,null,null,null,null,null,null,null,null,null,null,{"$f":"Admin_stamp_duty!B31","v":0},{"$f":"Admin_stamp_duty!C31","v":350000},{"$f":"Admin_stamp_duty!D31","v":0},{"$f":"ROUND((+BM45-BL45+1)*BN45,0)","v":0},0]
[null,null,null,{"$f":"IFERROR(IF(AC49=\"Fail\",\"UMI is insufficient to service Rent/Board plus Monthly Construction Payment\",\"\"),\"\")","v":""},null,null,null,null,null,null,null,null,null,null,null,null,null,null,null,null,{"$f":"IF(Y45=\"\",\"WARNING! You must input the customers living expenses.\",\"\")","v":"WARNING! You must input the customers living expenses."}]
[null,null,null,{"$f":"IF(AC50=\"Fail\",\"The post-construction Projected payment exceeds the UMI\",\"\")","v":{"$error":"#N/A"}},null,null,null,null,null,null,null,null,null,null,null,null,null,null,null,null,"Rent/Board","Rent/Board",null,null,null,"wkly",null,null,null,null,null,"`"]
[null,null,null,{"$f":"IFERROR(IF(AL70<80%,\"Warning! Declared living expenses are less than 80% of comparative benchmark\",\"\"),\"\")","v":""},null,null,null,null,null,null,null,null,null,null,null,null,null,null,null,null,"Min Mthly Const Pymt",null,null,null,{"$f":"400","v":400}]
[null,null,null,{"$f":"IF(I4>1,\"Warning! You have entered 2 single applicants. Please use Loanapp for an accurate serviceability\",\"\")","v":""},null,null,null,null,null,null,null,null,null,null,null,null,null,null,null,null,"Projected Loan - PCRV",null,null,null,{"$f":"AK98","v":0},null,null,"CPPV",{"$f":"IF(B34=\"Construction\",AK97,\"\")","v":""},null,null,null,null,null,null,null,null,null,null,null,null,"Existing debts"]
[null,null,null,{"$f":"IF(AND(CS6=1,Single_Applicant=1,No_of_depend=0,AC34>Admin_loan_variables!B6),\"****INCOME EXCEEDS LIMIT OF \"&TEXT(Admin_loan_variables!B6,\"$#,##,0\")&\"****\",IF(AND(CS6=1,Single_Applicant>1,No_of_depend=0,AC34>Admin_loan_variables!B7),\"****INCOME EXCEEDS LIMIT OF \"&TEXT(Admin_loan_variables!B7,\"$#,##,0\")&\"****\",IF(AND(CS6=1,Single_Applicant>=1,No_of_depend>0,AC34>Admin_loan_variables!B8),\"****INCOME EXCEEDS LIMIT OF \"&TEXT(Admin_loan_variables!B8,\"$#,##,0\")&\"****\",IF(AND(CS6=2,Single_Applicant=1,No_of_depend=0,AC34>Admin_loan_variables!B9),\"****INCOME EXCEEDS LIMIT OF \"&TEXT(Admin_loan_variables!B9,\"$#,##,0\")&\"****\",IF(AND(CS6=2,Single_Applicant>1,No_of_depend=0,AC34>Admin_loan_variables!B10),\"****INCOME EXCEEDS LIMIT OF \"&TEXT(Admin_loan_variables!B10,\"$#,##,0\")&\"****\",IF(AND(CS6=2,Single_Applicant>=1,No_of_depend>0,AC34>Admin_loan_variables!B11),\"****INCOME EXCEEDS LIMIT OF \"&TEXT(Admin_loan_variables!B11,\"$#,##,0\")&\"****\",IF(AND(CS6=3,Single_Applicant=1,No_of_depend=0,AC34>Admin_loan_variables!B9),\"****INCOME EXCEEDS LIMIT OF \"&TEXT(Admin_loan_variables!B9,\"$#,##,0\")&\"****\",IF(AND(CS6=3,Single_Applicant>1,No_of_depend=0,AC34>Admin_loan_variables!B10),\"****INCOME EXCEEDS LIMIT OF \"&TEXT(Admin_loan_variables!B10,\"$#,##,0\")&\"****\",IF(AND(CS6=3,Single_Applicant>=1,No_of_depend>0,AC34>Admin_loan_variables!B11),\"****INCOME EXCEEDS LIMIT OF \"&TEXT(Admin_loan_variables!B11,\"$#,##,0\")&\"****\",IF(AND(CS6=4,Single_Applicant=1,No_of_depend=0,AC34>Admin_loan_variables!B12),\"****INCOME EXCEEDS LIMIT OF \"&TEXT(Admin_loan_variables!B12,\"$#,##,0\")&\"****\",IF(AND(CS6=4,Single_Applicant>1,No_of_depend=0,AC34>Admin_loan_variables!B13),\"****INCOME EXCEEDS LIMIT OF \"&TEXT(Admin_loan_variables!B13,\"$#,##,0\")&\"****\",IF(AND(CS6=5,Single_Applicant=1,No_of_depend=0,AC34>Admin_loan_variables!B15),\"****INCOME EXCEEDS LIMIT OF \"&TEXT(Admin_loan_variables!B15,\"$#,##,0\")&\"****\",IF(AND(CS6=5,Single_Applicant>1,No_of_depend=0,AC34>Admin_loan_variables!B16),\"****INCOME EXCEEDS LIMIT OF \"&TEXT(Admin_loan_variables!B16,\"$#,##,0\")&\"****\",IF(AND(CS6=4,Single_Applicant>=1,No_of_depend>0,AC34>Admin_loan_variables!B14),\"****INCOME EXCEEDS LIMIT OF \"&TEXT(Admin_loan_variables!B14,\"$#,##,0\")&\"****\",IF(AND(CS6=5,Single_Applicant>=1,No_of_depend>0,AC34>Admin_loan_variables!B17),\"****INCOME EXCEEDS LIMIT OF \"&TEXT(Admin_loan_variables!B17,\"$#,##,0\")&\"****\",IF(AND(CS6=1,Couple=1,No_of_depend=0,AC34>Admin_loan_variables!B7),\"****INCOME EXCEEDS LIMIT OF \"&TEXT(Admin_loan_variables!B7,\"$#,##,0\")&\"****\",IF(AND(CS6=1,Couple=1,No_of_depend=0,AC34>Admin_loan_variables!B7),\"****INCOME EXCEEDS LIMIT OF \"&TEXT(Admin_loan_variables!B7,\"$#,##,0\")&\"****\",IF(AND(CS6=1,Couple>=1,No_of_depend>=0,AC34>Admin_loan_variables!B8),\"****INCOME EXCEEDS LIMIT OF \"&TEXT(Admin_loan_variables!B8,\"$#,##,0\")&\"****\",IF(AND(CS6=2,Couple=1,No_of_depend=0,AC34>Admin_loan_variables!B10),\"****INCOME EXCEEDS LIMIT OF \"&TEXT(Admin_loan_variables!B10,\"$#,##,0\")&\"****\",IF(AND(CS6=2,Couple=1,No_of_depend>0,AC34>Admin_loan_variables!B11),\"****INCOME EXCEEDS LIMIT OF \"&TEXT(Admin_loan_variables!B11,\"$#,##,0\")&\"****\",IF(AND(CS6=3,Couple=1,No_of_depend=0,AC34>Admin_loan_variables!B10),\"****INCOME EXCEEDS LIMIT OF \"&TEXT(Admin_loan_variables!B10,\"$#,##,0\")&\"****\",IF(AND(CS6=3,Couple=1,No_of_depend>0,AC34>Admin_loan_variables!B11),\"****INCOME EXCEEDS LIMIT OF \"&TEXT(Admin_loan_variables!B11,\"$#,##,0\")&\"****\",IF(AND(CS6=4,Couple=1,No_of_depend=0,AC34>Admin_loan_variables!B13),\"****INCOME EXCEEDS LIMIT OF \"&TEXT(Admin_loan_variables!B13,\"$#,##,0\")&\"****\",IF(AND(CS6=4,Couple=1,No_of_depend>0,AC34>Admin_loan_variables!B14),\"****INCOME EXCEEDS LIMIT OF \"&TEXT(Admin_loan_variables!B14,\"$#,##,0\")&\"****\",IF(AND(CS6=5,Couple=1,No_of_depend=0,AC34>Admin_loan_variables!B16),\"****INCOME EXCEEDS LIMIT OF \"&TEXT(Admin_loan_variables!B16,\"$#,##,0\")&\"****\",IF(AND(CS6=5,Couple=1,No_of_depend>0,AC34>Admin_loan_variables!B17),\"****INCOME EXCEEDS LIMIT OF \"&TEXT(Admin_loan_variables!B17,\"$#,##,0\")&\"****\",\"\"))))))))))))))))))))))))))","v":""},null,null,null,null,null,null,null,null,null,null,null,null,null,null,null,null,"Projected Rpymt - PCRV",null,null,null,{"$f":"PMT(I40/12,F40,-Y49)","v":0},null,null,"PCRV",{"$f":"AK99","v":{"$error":"#N/A"}},null,null,null,null,null,null,{"$f":"IF(AM51<AM50,AM50,AM51)","v":0},null,null,{"$f":"SUM(K10:K16)","v":0},null,null,{"$f":"X31*12","v":0.2382854381373139},null,null,null,null,"Multiple Birth",null,null,{"$f":"IF(AX45>AX43,AX45,AX43)","v":1960.05},null,null,"Child Maintenance Assessment",null,null,null,null,null,null,null,null,null,null,{"$f":"Admin_stamp_duty!B32","v":350001},{"$f":"Admin_stamp_duty!C32","v":450000},{"$f":"Admin_stamp_duty!D32","v":0.15390000000000001},{"$f":"ROUND((+BM50-BL50+1)*BN50,0)","v":15390},{"$f":"SUM(BO45:BO45)","v":0}]
[null,null,null,{"$f":"IF(AV37=I6+O6+R6,\" \",BZ19&SUM(I6,O6,R6)&BZ20&AV37&BZ21)","v":" "},null,null,null,null,null,null,null,null,null,null,null,null,null,null,null,null,null,null,null,null,null,null,null,null,null,null,null,null,null,null,null,{"$f":"IF(AJ50>Admin_LAM_variables!D12,0,'Online Assessment tool'!AU59)","v":0},null,{"$f":"IF(AJ42>0,100%,IF(AJ43>0,50%,0))","v":0},{"$f":"SUM(Y10:Y16)","v":0},null,null,{"$f":"X32*12","v":0.2382854381373139},null,null,null,null,null,null,null,{"$f":"SUM(FTB_A___Maintenance_Income___Income_Reduction_Threshold__Increase_for_each_Child_after_first*(BB34-1))+AX50","v":1306.6999999999998},{"$f":"(IF((K20+Y20)>AX51,(K20+Y20)-AX51,0))*FTB_A___Maintenance_Income___Benefit_Reduction__0.xx_cents_in_dollar","v":0}]
[null,null,null,{"$f":"IF(F40>360,\"MAXIMUM LOAN TERM IS 30 YEARS\",\"\")","v":""},null,null,null,null,null,null,null,null,null,null,null,null,null,null,null,null,null,"MAXIMUM LOAN",null,null,null,{"$f":"ROUNDDOWN(INT(AK89),-2)","v":{"$error":"#N/A"}},null,null,null,null,null,null,null,null,null,null,null,null,{"$f":"K17+K21+K22","v":0},null,null,{"$f":"X33*12","v":0.2382854381373139},null,null,null,null,null,null,null,null,null,null,null,null,"Amount",null,null,"INCOME TAX TABLE - APPLICANT 1"]
[null,null,null,null,null,null,null,null,null,null,null,null,null,null,null,null,null,null,null,null,null,null,null,null,null,null,null,null,null,null,null,null,null,null,null,null,null,null,{"$f":"Y17+Y21+Y22","v":0},null,null,{"$f":"IF(X34<1,0,IF(Y34=\"wkly\",(X34*52),IF(Y34=\"f/n\",(X34*26),IF(Y34=\"mth\",X34*12))))","v":0},null,null,null,null,"Family tax benefit part B",null,null,null,null,null,"Assessable Income",null,{"$f":"SUM($N$23+$AB$23)","v":0},{"$f":"N20+AB20","v":0}]
[null,null,null,{"$f":"IF(G7>1,\" \",\"Insert app 1's Date of Birth\")","v":"Insert app 1's Date of Birth"},null,null,null,null,null,null,null,null,null,null,null,null,null,null,null,null,null,"LOAN REPAYMENT",null,null,null,{"$f":"PMT(AK87/12,F40,-AK64,0,0)","v":0},null,null,null,null,null,null,null,null,null,{"$f":"IF(AJ55>AJ56,AJ56,AJ55)","v":-0.8292996686795201},null,null,null,null,null,0,null,null,null,null,null,null,null,null,{"$f":"IF(MIN(AV24:AV25)>FTB_B___Income_Reduction_Threshold__Based_on_the_Lowest_Income_Earner,(MIN(AV24:AV25)-FTB_B___Income_Reduction_Threshold__Based_on_the_Lowest_Income_Earner)*FTB_B___Benefit_Reduction__0.xx_cents_in_dollar,0)","v":0},null,"Assessable Inc - Maint",null,{"$f":"SUM(N29+AB29)-SUM(N20+AB20)","v":0},{"$f":"SUM(BC54/60%)*40%","v":0},null,"Stamp Duty Rate Table"]
[null,null,null,null,{"$f":"IFERROR(IF(D54-D53>'Online Assessment tool'!#REF!,\"\",IF(D54-D54<'Online Assessment tool'!#REF!,\"Warning! A post retirement strategy will be required if the loan term is not reduced\")),\"\")","v":""},{"$f":"IFERROR(IF(E54-E53>'Online Assessment tool'!A89,\"\",IF(E54-E54<'Online Assessment tool'!A89,\"Warning! A post retirement strategy will be required if the loan term is not reduced\")),\"\")","v":false},{"$f":"IFERROR(IF(F54-F53>'Online Assessment tool'!B89,\"\",IF(F54-F54<'Online Assessment tool'!B89,\"Warning! A post retirement strategy will be required if the loan term is not reduced\")),\"\")","v":false},{"$f":"IFERROR(IF(G54-G53>'Online Assessment tool'!C89,\"\",IF(G54-G54<'Online Assessment tool'!C89,\"Warning! A post retirement strategy will be required if the loan term is not reduced\")),\"\")","v":false},{"$f":"IFERROR(IF(H54-H53>'Online Assessment tool'!D89,\"\",IF(H54-H54<'Online Assessment tool'!D89,\"Warning! A post retirement strategy will be required if the loan term is not reduced\")),\"\")","v":false},{"$f":"IFERROR(IF(I54-I53>'Online Assessment tool'!E89,\"\",IF(I54-I54<'Online Assessment tool'!E89,\"Warning! A post retirement strategy will be required if the loan term is not reduced\")),\"\")","v":false},{"$f":"IFERROR(IF(J54-J53>'Online Assessment tool'!F89,\"\",IF(J54-J54<'Online Assessment tool'!F89,\"Warning! A post retirement strategy will be required if the loan term is not reduced\")),\"\")","v":false},{"$f":"IFERROR(IF(K54-K53>'Online Assessment tool'!G89,\"\",IF(K54-K54<'Online Assessment tool'!G89,\"Warning! A post retirement strategy will be required if the loan term is not reduced\")),\"\")","v":false},{"$f":"IFERROR(IF(L54-L53>'Online Assessment tool'!H89,\"\",IF(L54-L54<'Online Assessment tool'!H89,\"Warning! A post retirement strategy will be required if the loan term is not reduced\")),\"\")","v":false},{"$f":"IFERROR(IF(M54-M53>'Online Assessment tool'!I89,\"\",IF(M54-M54<'Online Assessment tool'!I89,\"Warning! A post retirement strategy will be required if the loan term is not reduced\")),\"\")","v":false},{"$f":"IFERROR(IF(N54-N53>'Online Assessment tool'!J89,\"\",IF(N54-N54<'Online Assessment tool'!J89,\"Warning! A post retirement strategy will be required if the loan term is not reduced\")),\"\")","v":false},{"$f":"IFERROR(IF(O54-O53>'Online Assessment tool'!K89,\"\",IF(O54-O54<'Online Assessment tool'!K89,\"Warning! A post retirement strategy will be required if the loan term is not reduced\")),\"\")","v":false},{"$f":"IFERROR(IF(P54-P53>'Online Assessment tool'!L89,\"\",IF(P54-P54<'Online Assessment tool'!L89,\"Warning! A post retirement strategy will be required if the loan term is not reduced\")),\"\")","v":false},{"$f":"IFERROR(IF(Q54-Q53>'Online Assessment tool'!M89,\"\",IF(Q54-Q54<'Online Assessment tool'!M89,\"Warning! A post retirement strategy will be required if the loan term is not reduced\")),\"\")","v":false},null,null,null,null,null,null,null,null,null,null,null,null,null,null,null,null,null,{"$f":"PV(Admin_LAM_variables!D34+Admin_LAM_variables!D49/12,F40,-(AQ92*Y52)/12,0,0)","v":0},null,null,null,null,null,{"$f":"IF(X36<1,0,IF(Y36=\"wkly\",(X36*52),IF(Y36=\"f/n\",(X36*26),IF(Y36=\"mth\",X36*12))))","v":0},null,null,null,null,"under 5",{"$f":"AV30","v":0},{"$f":"IF(AV55>0,1,0)","v":0},{"$f":"IF($AY$54<Admin_FTP!D11,Admin_FTP!D11-$AY$54,0)","v":5372.8},{"$f":"SUM(AX55*AW55)/(365/14)","v":0},null,"Maint as % of Assess Income",null,{"$f":"IFERROR(BD53/BC53,0)","v":0},null,null,1,2,3,4,5]
[null,null,null,{"$f":"IF(Y64<0,BZ9&ROUNDDOWN(-Y64,0)&BZ10,\" \")","v":"Calculations indicate that applicants have a shortfall of $2922 Please ensure that these funds are available prior to lodging application"},null,null,null,null,null,null,null,null,null,null,null,null,null,null,null,null,null,null,null,null,"Oldest applicant",null,null,"Youngest applicant",null,null,null,null,null,null,null,{"$f":"PV(Admin_LAM_variables!D34+Admin_LAM_variables!D49/12,F40,-(((AQ92*Y52)/12)-X41),0,0)","v":-0.8292996686795201},null,null,null,null,null,{"$f":"IF(X37<1,0,IF(Y37=\"wkly\",(X37*52),IF(Y37=\"f/n\",(X37*26),IF(Y37=\"mth\",X37*12))))","v":0},null,null,null,null,"5 to 15",{"$f":"SUM(AV33:AV34)","v":0},{"$f":"IF(AV56>0,1,0)","v":0},{"$f":"IF($AY$54<Admin_FTP!D12,Admin_FTP!D12-$AY$54,0)","v":3883.6},{"$f":"SUM(AX56*AW56)/(365/14)","v":0},null,"Maintenance reduction req",null,{"$f":"BD53-BD54","v":0},null,null,"From","To","Marginal Rate","SD on Range","SD on Base"]
[null,null,null,{"$f":"IF(AND(CS6=1,Loan_req+F38>Admin_loan_variables!B26),\"WARNING! LOAN IS GREATER THAN MAXIMUM ALLOWED OF $\"&Admin_loan_variables!B26,IF(AND(CS6=2,Loan_req+F38>Admin_loan_variables!B27),\"WARNING! LOAN IS GREATER THAN MAXIMUM ALLOWED OF $\"&Admin_loan_variables!B27,IF(AND(CS6=3,Loan_req+F38>Admin_loan_variables!B28),\"WARNING! LOAN IS GREATER THAN MAXIMUM ALLOWED OF $\"&Admin_loan_variables!B28,IF(AND(CS6=4,Loan_req+F38>Admin_loan_variables!B29),\"WARNING! LOAN IS GREATER THAN MAXIMUM ALLOWED OF $\"&Admin_loan_variables!B29,IF(AND(CS6=5,Loan_req+F38>Admin_loan_variables!B30),\"WARNING! LOAN IS GREATER THAN MAXIMUM ALLOWED OF $\"&Admin_loan_variables!B30,\"\")))))","v":""},null,null,null,null,null,null,null,null,null,null,null,null,null,null,null,null,null,"Current Age",null,null,{"$f":"IF(G7=\"\",\"\",IF(AF58>AF57,AF58,AF57))","v":""},null,null,{"$f":"IF(G8=\"\",\"\",IF(AF57<AF58,AF57,AF58))","v":""},null,null,null,{"$f":"DATEDIF(G7,TODAY(),\"y\")&\" Years, \"&DATEDIF(G7,TODAY(),\"YM\")&\" Months\"","v":"126 Years, 2 Months"},null,{"$f":"BA3/12","v":0},{"$f":"AH57+(F40/12)","v":30},{"$f":"Admin_LAM_variables!D26","v":2000},3000,1000,null,null,null,{"$f":"IF(X38<1,0,IF(Y38=\"wkly\",(X38*52),IF(Y38=\"f/n\",(X38*26),IF(Y38=\"mth\",X38*12))))","v":0},{"$f":"AP58/12","v":5.9571359534328482E-2},null,null,null,"16 to 18",{"$f":"SUM(AV35)","v":0},{"$f":"IF(AV57>0,1,0)","v":0},null,null,null,null,null,null,null,null,0,{"$f":"Admin_Tax!B6","v":18200},{"$f":"Admin_Tax!C5","v":0},{"$f":"ROUND((BG57-BF57+1)*BH57,0)","v":0},0,null,null,"Gross","Tax"]
[null,null,null,{"$f":"IF(Admin_loan_variables!A1078>10,\" \",Admin_loan_variables!A1075&Admin_loan_variables!A1080&Admin_loan_variables!B1075)","v":""},null,null,null,null,null,null,null,null,null,null,null,null,null,null,null,null,null,"Age at end of term",null,null,{"$f":"IF(G7=\"\",\"\",IF(AF59>AF60,AF59,AF60))","v":""},null,null,{"$f":"IF(G8=\"\",\"\",IF(AF59<AF60,AF59,AF60))","v":""},null,null,null,{"$f":"DATEDIF(G8,TODAY(),\"y\")&\" Years, \"&DATEDIF(G8,TODAY(),\"YM\")&\" Months\"","v":"126 Years, 2 Months"},null,{"$f":"BA4/12","v":0},{"$f":"AH58+(F40/12)","v":30},"yes",null,null,null,null,null,{"$f":"SUM(AP50:AP57)","v":0.71485631441194175},null,null,null,null,null,null,null,null,null,null,null,null,null,null,null,{"$f":"BG57+1","v":18201},{"$f":"Admin_Tax!B7","v":45000},{"$f":"Admin_Tax!C6","v":0.16},{"$f":"ROUND((BG58-BF58+1)*BH58,0)","v":4288},{"$f":"SUM($BI$57:BI57)","v":0},null,"HOUSE PRICE",{"$f":"B38","v":0},{"$f":"VLOOKUP(BM58,BL45:BP54,BP43)+ROUND((BM58-VLOOKUP(BM58,BL45:BP54,BL43))*VLOOKUP(BM58,BL45:BP54,BN43),0)","v":0}]
[null,null,null,{"$f":"(CK3&CK4&CK5&CK6)","v":"    "},null,null,null,null,null,null,null,null,null,null,null,null,null,null,null,null,null,"Lesser10 yrs or remaining term",null,null,{"$f":"MIN(AP21,AP23)*12/AM25","v":0},null,null,{"$f":"IF(AM34>0,AP38,AP38)","v":0},null,null,null,{"$f":"INT(AI57) & \" years / \" &INT((A157-INT(A157))*12) & \"months\"","v":"30 years / 0months"},null,null,null,{"$f":"IF(B36>0,B36,B38+B40)","v":0},null,null,null,null,null,null,null,null,null,null,{"$f":"IF(Admin_loan_variables!B3>J2,IF(BB34=0,0,IF(AY55>AY56,AY55,AY56)),0)","v":0},null,null,null,null,null,null,null,null,null,null,{"$f":"BG58+1","v":45001},{"$f":"Admin_Tax!B8","v":135000},{"$f":"Admin_Tax!C7","v":0.3},27000,{"$f":"SUM($BI$57:BI58)","v":4288}]
[null,null,null,{"$f":"IF(N17>0,\"Applicant receives centrelink payments. Ensure updated centrelink statement showing declared income is included with submission\",\" \")","v":" "},null,null,null,null,null,null,null,null,null,null,null,null,null,null,null,null,null,null,null,null,null,null,null,null,null,null,null,{"$f":"INT(AI58) & \" years / \" &INT((A158-INT(A158))*12) & \"months\"","v":"30 years / 0months"},null,null,null,null,null,null,null,null,"Annualising calculator",null,null,null,null,null,null,null,null,null,null,null,null,null,null,null,null,{"$f":"BG59+1","v":135001},{"$f":"Admin_Tax!B9","v":190000},{"$f":"Admin_Tax!C8","v":0.37},20350,{"$f":"SUM($BI$57:BI59)","v":31288}]
[null,null,null,null,null,null,null,null,null,null,null,null,null,null,null,null,null,null,null,null,null,null,null,null,"Assessed",null,"Actual",null,null,null,null,null,"Total Purch Price",null,null,null,null,null,{"$f":"IF(AK65<400000,AK65*2%,AK65*5%)","v":0},null,"Primary",null,null,"Other Applic.",null,null,"month calculation",null,null,null,null,null,null,null,null,null,null,{"$f":"BG60+1","v":190001},null,{"$f":"Admin_Tax!C9","v":0.45},"N/A",{"$f":"SUM($BI$57:BI60)","v":51638}]
[null,null,null,{"$f":"IF(I4<2,IF(Y29>0,IF(4<1,\"You have indicated that there is only one applicant yet you have income loaded for a second applicant\"),\" \"))","v":" "},null,null,null,null,null,null,null,null,null,null,null,null,null,null,null,null,null,"Loan Repayment",null,null,{"$f":"PMT(AK88/12,F40,-AK64,0,0)","v":0},null,{"$f":"PMT(AK87/12,F40,-AK64,0,0)","v":0},null,null,null,null,null,null,null,null,null,null,"Min deposit",{"$f":"IF(AN65<=2000,2000,AN65)","v":2000},null,{"$f":"SUM(Y67-Y66)","v":0},null,null,{"$f":"SUM(AA67-AA66)","v":0}]
[null,null,null,null,null,null,null,null,null,null,null,null,null,null,null,null,null,null,null,null,null,"LVR",null,null,{"$f":"IF(AK64>0,SUM(AK64/AK65),\" \")","v":" "},null,null,null,null,null,null,null,null,null,null,null,null,"FHOG surplus",{"$f":"7000-SUM(AM62+R76)","v":2077.6499999999996},null,{"$f":"AO62+1","v":1},null,null,{"$f":"AR62+1","v":1},null,null,"MONTHS FOR RATES",null,null,null,"HECS CALCULATION",null,null,null,null,null,null,"Gross","Tax","Medicare Levy"]
[null,null,null,{"$f":"IF(AND(CS6=1, Loan_req>(B41*Admin_loan_variables!B50)),\"WARNING! MINIMUM \"&TEXT(Admin_loan_variables!B34,\"0%\")&\" DEPOSIT IS REQUIRED\",IF(AND(CS6=2, Loan_req>(B41*Admin_loan_variables!B51)),\"WARNING! MINIMUM \"&TEXT(Admin_loan_variables!B35,\"0%\")&\" DEPOSIT IS REQUIRED\",IF(AND(CS6=3, Loan_req>(B41*Admin_loan_variables!B52)),\"WARNING! MINIMUM \"&TEXT(Admin_loan_variables!B36,\"0%\")&\" DEPOSIT IS REQUIRED\",IF(AND(CS6=4, Loan_req>(B41*Admin_loan_variables!B53)),\"WARNING! MINIMUM \"&TEXT(Admin_loan_variables!B37,\"0%\")&\" DEPOSIT IS REQUIRED\",IF(AND(CS6=5, Loan_req>(B41*Admin_loan_variables!B38)),\"WARNING! MINIMUM \"&TEXT(Admin_loan_variables!B38,\"0%\")&\" DEPOSIT IS REQUIRED\",\"\")))))","v":""},null,null,null,null,null,null,null,null,null,null,null,null,null,null,null,null,null,"Shortfall/Surplus",null,null,{"$f":"SUM(M85-R85)","v":-2922.35},null,null,null,null,null,null,null,null,"Loan Amount",null,null,{"$f":"F34+F38","v":0},null,null,null,365,null,null,365,null,null,{"$f":"Admin_Rates!B6","v":"August "},8,{"$f":"Admin_Rates!C6","v":9},null,"HECS",{"$f":"Admin_HELP!B4","v":0},{"$f":"Admin_HELP!C4","v":54434.99},{"$f":"Admin_HELP!D4","v":0},{"$f":"IF(H$25=\"yes\",IF($AY$66>$AZ64,IF($AY$66<$BA64,$AY$66*$BB64,\" \")))","v":false},{"$f":"IF(V$25=\"yes\",IF($AY$67>$AZ64,IF($AY$67<$BA64,$AY$67*$BB64,\" \")))","v":false},null,{"$f":"AK74","v":0},{"$f":"VLOOKUP(BF64,BF57:BJ61,BJ55)+ROUND((BF64-VLOOKUP(BF64,BF57:BJ61,BF55))*VLOOKUP(BF64,BF57:BJ61,BH55),0)","v":0},{"$f":"IF(BF64>Calculation___Medicare_Levy__Percentage,BF64*Calculation___Medicare_Levy__Percentage,0)","v":0}]
[null,null,null,{"$f":"IF(AND(AH57>50,AI57>74.99),\"Warning! A suitable exit strategy will be required for this customer.\",\"\")","v":""},null,null,null,null,null,null,null,null,null,null,null,null,null,null,null,null,null,"Annualised:",null,null,"Primary",null,"Other Applic.",null,null,null,null,null,null,"total price",null,null,{"$f":"IF(B36>0,B36,B38+B40)","v":0},null,null,{"$f":"AK65*Admin_loan_variables!B34","v":0},null,null,null,null,null,null,{"$f":"Admin_Rates!B7","v":"September"},9,{"$f":"Admin_Rates!C7","v":8},null,null,{"$f":"Admin_HELP!B5","v":54435},{"$f":"Admin_HELP!C5","v":62850.99},{"$f":"Admin_HELP!D5","v":0.01},{"$f":"IF(H$25=\"yes\",IF($AY$66>$AZ65,IF($AY$66<$BA65,$AY$66*$BB65,\" \")))","v":false},{"$f":"IF(V$25=\"yes\",IF($AY$67>$AZ65,IF($AY$67<$BA65,$AY$67*$BB65,\" \")))","v":false}]
[null,null,null,null,null,null,null,null,null,null,null,null,null,null,null,null,null,null,null,null,null,"Start date",null,null,null,null,null,null,null,null,null,null,null,null,null,null,null,null,null,null,null,null,null,null,null,null,{"$f":"Admin_Rates!B8","v":"October"},10,{"$f":"Admin_Rates!C8","v":7},null,{"$f":"SUM(K10:K16)","v":0},{"$f":"Admin_HELP!B6","v":62851},{"$f":"Admin_HELP!C6","v":66620.990000000005},{"$f":"Admin_HELP!D6","v":0.02},{"$f":"IF(H$25=\"yes\",IF($AY$66>$AZ66,IF($AY$66<$BA66,$AY$66*$BB66,\" \")))","v":false},{"$f":"IF(V$25=\"yes\",IF($AY$67>$AZ66,IF($AY$67<$BA66,$AY$67*$BB66,\" \")))","v":false}]
[null,null,null,{"$f":"IF(BC55>40.01%,\"Assessable Child Maintenance income exceeds 40% of total assessable income. Suggest reducing the Child Maintenance income to \" &TEXT(BD54,\"$#,##,0.00\"),\"\")","v":""},null,null,null,null,null,null,null,null,null,null,null,null,null,null,null,null,null,"Last pay date",null,null,null,null,null,null,null,null,null,null,null,"Single",null,{"$f":"Admin_HEM!C8","v":0},{"$f":"I4*AJ67","v":0},null,{"$f":"IF(F40>0,-PV(AK88/12,F40,AM70/12,,0)/1000,0)","v":0},null,null,null,null,null,null,null,{"$f":"Admin_Rates!B9","v":"November"},11,{"$f":"Admin_Rates!C9","v":6},null,{"$f":"SUM(Y10:Y16)","v":0},{"$f":"Admin_HELP!B7","v":66621},{"$f":"Admin_HELP!C7","v":70618.990000000005},{"$f":"Admin_HELP!D7","v":2.5000000000000001E-2},{"$f":"IF(H$25=\"yes\",IF($AY$66>$AZ67,IF($AY$66<$BA67,$AY$66*$BB67,\" \")))","v":false},{"$f":"IF(V$25=\"yes\",IF($AY$67>$AZ67,IF($AY$67<$BA67,$AY$67*$BB67,\" \")))","v":false}]
[null,null,null,null,null,null,null,null,null,null,null,null,null,null,null,null,null,null,null,null,null,"Pay cycle",null,null,null,null,null,null,null,null,null,null,null,"Couple",null,{"$f":"Admin_HEM!D8","v":0},{"$f":"I5*AJ68","v":0},null,null,null,null,null,null,null,null,null,{"$f":"Admin_Rates!B10","v":"December"},12,{"$f":"Admin_Rates!C10","v":5},null,null,{"$f":"Admin_HELP!B8","v":70619},{"$f":"Admin_HELP!C8","v":74855.990000000005},{"$f":"Admin_HELP!D8","v":0.03},{"$f":"IF(H$25=\"yes\",IF($AY$66>$AZ68,IF($AY$66<$BA68,$AY$66*$BB68,\" \")))","v":false},{"$f":"IF(V$25=\"yes\",IF($AY$67>$AZ68,IF($AY$67<$BA68,$AY$67*$BB68,\" \")))","v":false},null,"INCOME TAX TABLE - APPLICANT 2"]
[null,null,null,null,null,null,null,null,null,null,null,null,null,null,null,null,null,null,null,null,null,"Income YTD",null,null,null,null,null,null,null,null,null,null,null,"Dependents",null,{"$f":"Admin_HEM!E8*T6","v":0},{"$f":"I6*AJ69","v":0},null,{"$f":"IF(AB34>0,AB34-#REF!,0)","v":0},null,null,null,null,null,null,null,{"$f":"Admin_Rates!B11","v":"January"},1,{"$f":"Admin_Rates!C11","v":4}]
[null,"FEE TABLE",null,null,null,null,null,null,null,null,null,null,null,null,null,null,null,null,null,null,null,"Annualised ",null,null,{"$f":"SUM((Y69/AO63)*AO64)","v":0},null,{"$f":"SUM((AA69/AR63)*AR64)","v":0},null,null,null,null,null,null,"Total Living Expenses",null,null,{"$f":"'Admin_Tiered Hems'!B17*52","v":{"$error":"#N/A"}},{"$f":"AB45/Total_Living_Expenses","v":{"$error":"#N/A"}},{"$f":"AM69/12","v":0},null,null,null,null,null,null,null,{"$f":"Admin_Rates!B12","v":"February"},2,{"$f":"Admin_Rates!C12","v":3},null,null,{"$f":"Admin_HELP!B9","v":74856},{"$f":"Admin_HELP!C9","v":79346.990000000005},{"$f":"Admin_HELP!D9","v":3.5000000000000003E-2},{"$f":"IF(H$25=\"yes\",IF($AY$66>$AZ70,IF($AY$66<$BA70,$AY$66*$BB70,\" \")))","v":false},{"$f":"IF(V$25=\"yes\",IF($AY$67>$AZ70,IF($AY$67<$BA70,$AY$67*$BB70,\" \")))","v":false},null,"Stamp Duty Rate Table"]
[null,"Application fee",null,null,null,null,600,null,null,"FUNDING TABLE",null,null,null,null,null,null,null,null,null,null,null,null,null,null,null,null,null,null,null,null,null,null,null,"Other commitments",null,null,{"$f":"SUM(N28+AB28)+X41*12","v":0.71485631441194175},null,null,null,null,null,null,null,null,null,{"$f":"Admin_Rates!B13","v":"March"},3,{"$f":"Admin_Rates!C13","v":2},null,null,{"$f":"Admin_HELP!B10","v":79347},{"$f":"Admin_HELP!C10","v":84107.99},{"$f":"Admin_HELP!D10","v":0.04},{"$f":"IF(H$25=\"yes\",IF($AY$66>$AZ71,IF($AY$66<$BA71,$AY$66*$BB71,\" \")))","v":false},false,null,1,2,3,4,5]
[null,"Valuation Fee",null,null,null,null,250,null,null,"FUNDS",null,null,null,null,"COSTS",null,null,null,null,null,null,"INCOME LIMIT CHECK",null,null,null,null,null,null,null,null,null,null,null,"Assessed Repayment",null,null,{"$f":"IF(F34>0,INT(-PMT(AK88/12,F40,F34,0)+1),0)","v":0},null,null,null,null,null,null,null,null,null,{"$f":"Admin_Rates!B14","v":"April"},4,{"$f":"Admin_Rates!C14","v":12},null,null,{"$f":"Admin_HELP!B11","v":84108},{"$f":"Admin_HELP!C11","v":89154.99},{"$f":"Admin_HELP!D11","v":4.4999999999999998E-2},{"$f":"IF(H$25=\"yes\",IF($AY$66>$AZ72,IF($AY$66<$BA72,$AY$66*$BB72,\" \")))","v":false},false,null,"From","To","Marginal Rate","SD on Range","SD on Base"]
[null,"Construction Val Fee",null,null,null,null,{"$f":"IF(B40>0,Admin_LAM_variables!D21,0)","v":0},null,null,"Loan Keystart",null,null,null,{"$f":"F34","v":0},"Purchase Price",null,null,{"$f":"B36","v":0},null,null,null,"(Please enter the relevant suburb or postcode)",null,null,null,null,null,null,null,null,null,null,null,"Proposed Ann Rpymts",null,null,{"$f":"AK72*12","v":0},null,null,null,null,null,null,null,null,null,{"$f":"Admin_Rates!B15","v":"May"},5,{"$f":"Admin_Rates!C15","v":12},null,null,{"$f":"Admin_HELP!B12","v":89155},{"$f":"Admin_HELP!C12","v":94503.99},{"$f":"Admin_HELP!D12","v":0.05},{"$f":"IF(H$25=\"yes\",IF($AY$66>$AZ73,IF($AY$66<$BA73,$AY$66*$BB73,\" \")))","v":false},false,null,0,{"$f":"Admin_Tax!B6","v":18200},{"$f":"Admin_Tax!C5","v":0},{"$f":"ROUND((BG73-BF73+1)*BH73,0)","v":0},0]
[null,"Legal",null,null,null,null,409.35,null,null,"FHOG",null,null,null,{"$f":"IF(AND(F36=\"Yes\")*AND(B34=\"Established\"),Admin_LAM_variables!D28,IF(AND(F36=\"Yes\")*AND(B34=\"Construction\"),Admin_LAM_variables!D27,IF(AND(F36=\"Yes\")*AND(B34=\"Construction\"),Admin_LAM_variables!D27,IF(AND(F36=\"Yes\")*AND(B34=\"Newly Built\"),Admin_LAM_variables!D27,IF(AND(F36=\"Yes\")*AND(B34=\"Newly Built\"),Admin_LAM_variables!D27,0)))))","v":0},"Land price",null,null,{"$f":"SUM(B38)","v":0},null,null,null,null,null,null,null,null,null,null,null,null,null,null,null,"Taxable Income - Applic 1",null,null,{"$f":"SUM(N10:O16)","v":0},"Non Taxable",null,{"$f":"SUM(N17:N22)","v":0},null,null,null,null,null,null,{"$f":"Admin_Rates!B16","v":"June"},6,{"$f":"Admin_Rates!C16","v":11},null,null,{"$f":"Admin_HELP!B13","v":94504},{"$f":"Admin_HELP!C13","v":100174.99},{"$f":"Admin_HELP!D13","v":5.5E-2},{"$f":"IF(H$25=\"yes\",IF($AY$66>=$AZ74,IF($AY$66<$BA74,$AY$66*$BB74,\" \")))","v":false},false,null,{"$f":"BG73+1","v":18201},{"$f":"Admin_Tax!B7","v":45000},{"$f":"Admin_Tax!C6","v":0.16},{"$f":"ROUND((BG74-BF74+1)*BH74,0)","v":4288},{"$f":"SUM($BI$73:BI73)","v":0}]
[null,"Stamp Duty on Mtg",null,null,null,null,"Not applicable",null,null,"Fee Assistance",null,null,null,{"$f":"F38","v":0},"Building costs",null,null,{"$f":"SUM(B40)","v":0},null,null,null,null,"SUBURB",null,null,null,"POSTCODE",null,null,null,null,null,null,"Tax payable",null,null,{"$f":"SUM(BG64:BH64)","v":0},null,null,null,null,null,null,null,null,null,{"$f":"Admin_Rates!B17","v":"July"},7,{"$f":"Admin_Rates!C17","v":10},null,null,{"$f":"Admin_HELP!B14","v":100175},{"$f":"Admin_HELP!C14","v":106185.99},{"$f":"Admin_HELP!D14","v":0.06},false,false,null,{"$f":"BG74+1","v":45001},{"$f":"Admin_Tax!B8","v":135000},{"$f":"Admin_Tax!C7","v":0.3},27000,{"$f":"SUM($BI$73:BI74)","v":4288}]
[null,"Sub Total",null,null,null,null,{"$f":"SUM(G71:H75)","v":1259.3499999999999},null,null,"Own Funds",null,null,null,{"$f":"I34","v":0},"Total Fees",null,null,{"$f":"G85","v":2922.35},null,null,null,null,null,null,null,null,null,null,null,null,null,null,null,"Taxable Income - Applic 2",null,null,{"$f":"SUM(AB10:AB16)","v":0},"Non Taxable",null,{"$f":"SUM(AB17:AC22)","v":0},null,null,null,null,null,null,null,null,null,null,null,{"$f":"Admin_HELP!B15","v":106186},{"$f":"Admin_HELP!C15","v":112556.99},{"$f":"Admin_HELP!D15","v":6.5000000000000002E-2},false,false,null,{"$f":"BG75+1","v":135001},{"$f":"Admin_Tax!B9","v":190000},{"$f":"Admin_Tax!C8","v":0.37},20350,{"$f":"SUM($BI$73:BI75)","v":31288}]
[null,"Settlement Agent Fees",null,null,null,null,null,null,null,null,null,null,null,null,"Improvements",null,null,null,null,null,null,null,null,null,null,null,null,null,null,null,null,null,null,"Tax payable",null,null,{"$f":"SUM(BG80:BH80)","v":0},null,null,null,null,null,null,null,null,null,null,null,null,null,null,{"$f":"Admin_HELP!B16","v":112557},{"$f":"Admin_HELP!C16","v":119309.99},{"$f":"Admin_HELP!D16","v":7.0000000000000007E-2},false,false,null,{"$f":"BG76+1","v":190001},null,{"$f":"Admin_Tax!C9","v":0.45},"N/A",{"$f":"SUM($BI$73:BI76)","v":51638}]
[null,"Miscellaneous",null,null,null,null,200,null,null,null,null,null,null,null,null,null,null,null,null,null,null,"Limits*",null,{"$f":"IF(ISERROR(VLOOKUP('Online Assessment tool'!$W$76,Admin_Suburbs!$A$2:$J$1843,6,FALSE)),\"\",(VLOOKUP('Online Assessment tool'!$W$76,Admin_Suburbs!$A$2:$J$1843,6,FALSE)))","v":""},null,null,{"$f":"IF(ISERROR(VLOOKUP('Online Assessment tool'!$AA$76,Admin_Postcodes!$A$2:$J$1843,6,FALSE)),\"\",(VLOOKUP('Online Assessment tool'!$AA$76,Admin_Postcodes!$A$2:$J$1843,6,FALSE)))","v":""},null,null,null,null,null,null,"Total Tax Payable",null,null,{"$f":"AK75+AK77","v":0},null,null,null,null,null,null,null,null,null,null,null,null,null,null,{"$f":"Admin_HELP!B17","v":119310},{"$f":"Admin_HELP!C17","v":126467.99},{"$f":"Admin_HELP!D17","v":7.4999999999999997E-2},false,false]
[null,"Settlement agents fee",null,null,null,null,{"$f":"IF(AX107<Admin_settlement_agent!D6,Admin_settlement_agent!D6,AX107)","v":963},null,null,null,null,null,null,null,null,null,null,null,null,null,null,"Single",null,{"$f":"IF(ISERROR(VLOOKUP($X$78,Admin_lookup!$A$16:$D$20,2,FALSE)),\"\",(VLOOKUP($X$78,Admin_lookup!$A$16:$D$20,2,FALSE)))","v":""},null,null,{"$f":"IF(ISERROR(VLOOKUP($AA$78,Admin_lookup!$A$16:$D$20,2,FALSE)),\"\",(VLOOKUP($AA$78,Admin_lookup!$A$16:$D$20,2,FALSE)))","v":""},null,null,null,null,null,null,"Total Net Income",null,null,{"$f":"SUM(AK74+AN74+AK76+AN76)-AK78","v":0},null,null,null,null,null,null,null,null,null,null,null,null,null,null,{"$f":"Admin_HELP!B18","v":126468},{"$f":"Admin_HELP!C18","v":134056.99},{"$f":"Admin_HELP!D18","v":0.08},false,false,null,"Gross","Tax","Medicare Levy"]
[null,"Stamp duty on land",null,null,null,null,{"$f":"IF(AND(UPPER(F36)=\"YES\",UPPER(B37)=\"LAND PRICE\"),IF(B38<=450000,BN58,IF(B38>450000,BH38)),BH38)","v":0},null,null,null,null,null,null,null,null,null,null,null,null,null,null,"Couple",null,{"$f":"IF(ISERROR(VLOOKUP($X$78,Admin_lookup!$A$16:$D$20,3,FALSE)),\"\",(VLOOKUP($X$78,Admin_lookup!$A$16:$D$20,3,FALSE)))","v":""},null,null,{"$f":"IF(ISERROR(VLOOKUP($AA$78,Admin_lookup!$A$16:$D$20,3,FALSE)),\"\",(VLOOKUP($AA$78,Admin_lookup!$A$16:$D$20,3,FALSE)))","v":""},null,null,null,null,null,null,"Less Living Costs",null,null,{"$f":"IF(AK70<AK101,AK101,AK70)","v":{"$error":"#N/A"}},null,null,null,null,null,null,null,null,null,null,null,null,null,null,{"$f":"Admin_HELP!B19","v":134057},{"$f":"Admin_HELP!C19","v":142100.99},{"$f":"Admin_HELP!D19","v":8.5000000000000006E-2},false,false,null,{"$f":"AK76","v":0},{"$f":"VLOOKUP(BF80,BF73:BJ77,BJ71)+ROUND((BF80-VLOOKUP(BF80,BF73:BJ77,BF71))*VLOOKUP(BF80,BF73:BJ77,BH71),0)","v":0},{"$f":"IF(BF80>Calculation___Medicare_Levy__Percentage,BF80*Calculation___Medicare_Levy__Percentage,0)","v":0}]
[null,"Stamp Duty on est home",null,null,null,null,{"$f":"IF(AND(UPPER(F36)=\"YES\",UPPER(B34)=\"ESTABLISHED\"),IF(B36<=700000,BN36,IF(B36>700000,BJ14)),IF(AND(UPPER(F36)=\"YES\",UPPER(B34)=\"Newly Built\"),IF(B36<=700000,BN36,IF(B36>700000,BJ14)),BJ14))","v":0},null,null,"S/D Rebate",null,null,null,null,null,null,null,null,null,null,null,"Family",null,{"$f":"IF(ISERROR(VLOOKUP($X$78,Admin_lookup!$A$16:$D$20,4,FALSE)),\"\",(VLOOKUP($X$78,Admin_lookup!$A$16:$D$20,4,FALSE)))","v":""},null,null,{"$f":"IF(ISERROR(VLOOKUP($AA$78,Admin_lookup!$A$16:$D$20,4,FALSE)),\"\",(VLOOKUP($AA$78,Admin_lookup!$A$16:$D$20,4,FALSE)))","v":""},null,null,null,null,null,null,"Less other commitments",null,null,{"$f":"Other_committments","v":0.71485631441194175},null,null,null,null,null,null,null,null,null,null,null,null,null,null,{"$f":"Admin_HELP!B20","v":142101},{"$f":"Admin_HELP!C20","v":150626.99},{"$f":"Admin_HELP!D20","v":0.09},false,false]
[null,"Rates/Water",null,null,null,null,{"$f":"SUM(Admin_LAM_variables!D56/12*BA2)","v":500},null,null,null,null,null,null,null,null,null,null,null,null,null,null,null,null,null,null,null,null,null,null,null,null,null,null,"Dep Under 50% to 35%",null,null,{"$f":"O6*(200*12)","v":0},null,null,null,null,null,null,null,null,null,null,null,null,null,null,{"$f":"Admin_HELP!B21","v":150627},{"$f":"Admin_HELP!C21","v":159663.99},{"$f":"Admin_HELP!D21","v":9.5000000000000001E-2},false,false]
[null,"SUB TOTAL",null,null,null,null,{"$f":"SUM(G78:G82)","v":1663},null,null,null,null,null,null,null,null,null,null,null,null,null,null,"*Disclaimer: These limits are a guide only and Keystart give no assurance that the results are correct. Keystart reserve the right to determine which income limits are applicable.",null,null,null,null,null,null,null,null,null,null,null,"Dep 35% to 15%",null,null,{"$f":"R6*(100*12)","v":0},null,null,null,null,null,null,null,null,null,null,null,null,null,null,{"$f":"Admin_HELP!B22","v":159664},{"$f":"Admin_HELP!C22","v":999999.99},{"$f":"Admin_HELP!D22","v":0.1},false,false]
[null,null,null,null,null,null,null,null,null,null,null,null,null,null,null,null,null,null,null,null,null,null,null,null,null,null,null,null,null,null,null,null,null,"NIS Buffer",null,null,1200,null,null,null,null,null,null,null,null,null,null,null,null,null,null,null,null,null,{"$f":"SUM(BC64:BC83)","v":0},{"$f":"SUM(BD64:BD83)","v":0}]
[null,"GRAND TOTAL",null,null,null,null,{"$f":"SUM(G76+G83)","v":2922.35},null,null,null,null,null,{"$f":"SUM(M73:N84)","v":0},null,null,null,null,{"$f":"SUM(R73:R83)","v":2922.35},null,null,null,null,null,null,null,null,null,null,null,null,null,null,null,"Net Disposable Income",null,null,{"$f":"SUM(Total_net_income-Living_costs-AK81-AK84-AK82-AK83)","v":{"$error":"#N/A"}}]
[null,"DISCLAIMER:\nThe result you obtain from this Offline Assessment Tool are an estimate only and do not in any way confirm that the client will be eligible for a Keystart loan. All loan applications submitted to Keystart must be accompanied by a Finalised Loan Assessment using the Loan Assessment Tool (LAT) within LoanApp. We have taken reasonable care in creating this Offline Assessment Tool but can give no assurance that the criteria are accurate, or that the result you obtain from this tool is correct. We cannot therefore be held responsible for any loss arising from its use or from any reliance that you or any other person may place upon it.",null,null,null,null,null,null,null,null,null,null,null,null,null,null,null,null,null,null,null,null,null,null,null,null,null,null,null,null,null,null,null,"Net monthly income",null,null,{"$f":"AK85/12","v":{"$error":"#N/A"}}]
[null,null,null,null,null,null,null,null,null,null,null,null,null,null,null,null,null,null,null,null,null,null,null,null,null,null,null,null,null,null,null,null,null,"Actual Rate",null,null,{"$f":"Interest_Rate___Keystart_standard_variable","v":7.0999999999999994E-2},null,null,null,0]
[null,null,null,null,null,null,null,null,null,null,null,null,null,null,null,null,null,null,null,null,null,null,null,null,null,null,null,null,null,null,null,null,null,"Assessed UMI Rate",null,null,{"$f":"AK87+Calculation___Assessment_Rate_Buffer__Percentage____All_regions","v":9.0999999999999998E-2},null,null,null,1]
[null,null,null,null,null,null,null,null,null,null,null,null,null,null,null,null,null,null,null,null,null,null,null,null,null,null,null,null,null,null,null,null,null,"Max loan at assessed rate",null,null,{"$f":"IF(F40>0,-PV(AK88/12,F40,AK86,,0),0)","v":{"$error":"#N/A"}},null,null,null,2]
[null,null,null,null,null,null,null,null,null,null,null,null,null,null,null,null,null,null,null,null,null,null,null,null,null,null,null,null,null,null,null,null,null,"Max loan at actual rate",null,null,{"$f":"IF(F40>0,-PV(AK87/12,F40,AK86,,0),0)","v":{"$error":"#N/A"}},null,null,null,3]
[null,null,null,null,null,null,null,null,null,null,null,null,null,null,null,null,null,null,null,null,null,null,null,null,null,null,null," ",null,null,null,null,null,"Assessed UMI repayment",null,null,{"$f":"Y62","v":0},null,null,null,4,null,null,null,null,null,"SETTLEMENT AGENTS FEES"]
[null,null,null,null,null,null,null,null,null,null,null,null,null,null,null,null,null,null,null,null,null,null,null,null,null,null,null,null,null,null,null,null,null,"Total Commitments",null,null,{"$f":"AK91*12","v":0}]
[]
[null,null,null,null,null,null,null,null,null,null,null,null,null,null,null,null,null,null,null,null,null,null,null,null,null,null,null,null,null,null,null,null,null,"Rent/Board",null,null,{"$f":"IF(Y47<1,0,IF(Z47=BY2,(Y47*4*13),IF(Z47=BY3,(Y47*2*12),IF(Z47=BY4,Y47*12,IF(Z47=BY5,Y47)))))","v":0}]
[null,null,null,null,null,null,null,null,null,null,null,null,null,null,null,null,null,null,null,null,null,null,null,null,null,null,null,null,null,null,null,null,null,"Min Mthly Const Rpymt",null,null,{"$f":"Minimum_monthly_repayment___construction_loans*12","v":2400},null,null,null,null,null,null,null,null,null,"Settlement Agent Fees"]
[null,null,null,null,null,null,null,null,null,null,null,null,null,null,null,null,null,null,null,null,null,null,null,null,null,null,null,null,null,null,null,null,null,"Total monthly outgoings",null,null,{"$f":"SUM(AK94:AK95)/12","v":200},null,null,null,null,null,null,null,null,null,1,{"$f":"+AU96+1","v":2},{"$f":"+AV96+1","v":3},{"$f":"+AW96+1","v":4},{"$f":"+AX96+1","v":5}]
[null,null,null,null,null,null,null,null,null,null,null,null,null,null,null,null,null,null,null,null,null,null,null,null,null,null,null,null,null,null,null,null,null,"CPPV",null,null,"Pass",null,null,null,null,null,null,null,null,null,"From","To","Rate %","Fixed Range","Fees on Base"]
[null,null,null,null,null,null,null,null,null,null,null,null,null,null,null,null,null,null,null,null,null,null,null,null,null,null,null,null,null,null,null,null,null,"Balance at end of construction period",null,null,{"$f":"IF(ISERROR(VLOOKUP(Average_construction_period___block___build,Admin_Amortisation!$B$16:$H$39,7,FALSE)),0,VLOOKUP(Average_construction_period___block___build,Admin_Amortisation!$B$16:$H$39,7,FALSE))","v":0},null,null,null,null,null,null,null,null,null,{"$f":"Admin_settlement_agent!B6","v":0},{"$f":"Admin_settlement_agent!C6","v":150000},null,{"$f":"Admin_settlement_agent!D6","v":963},{"$f":"Admin_settlement_agent!D6","v":963}]
[null,null,null,null,null,null,null,null,null,null,null,null,null,null,null,null,null,null,null,null,null,null,null,null,null,null,null,null,null,null,null,null,null,"PCRV",null,"`",{"$f":"IF(AK98<=AK90,\"Pass\",\"Fail\")","v":{"$error":"#N/A"}},null,null,null,null,null,null,null,null,null,{"$f":"Admin_settlement_agent!B7","v":150001},{"$f":"Admin_settlement_agent!C7","v":500000},{"$f":"Admin_settlement_agent!E7","v":2.2000000000000001E-3},{"$f":"ROUND((+AV99-AU99+1)*AW99,2)","v":770},{"$f":"SUM(AX$98:AX98)","v":963}]
[null,null,null,null,null,null,null,null,null,null,null,null,null,null,null,null,null,null,null,null,null,null,null,null,null,null,null,null,null,null,null,null,null,"CP Gap",null,null,{"$f":"SUM(Z54-(AB47/12))","v":0},null,null,null,null,null,null,null,null,null,{"$f":"Admin_settlement_agent!B8","v":500001},{"$f":"Admin_settlement_agent!C8","v":1000000},{"$f":"Admin_settlement_agent!E8","v":1.65E-3},{"$f":"ROUND((+AV100-AU100+1)*AW100,2)","v":825},{"$f":"SUM(AX$98:AX99)","v":1733}]
[null,null,null,null,null,null,null,null,null,null,null,null,null,null,null,null,null,null,null,null,null,null,null,null,null,null,null,null,null,null,null,null,null,"Declared Living Expenses",null,null,{"$f":"AB45","v":0},null,null,null,null,null,null,null,null,null,{"$f":"Admin_settlement_agent!B9","v":1000001},{"$f":"Admin_settlement_agent!C9","v":10000000},{"$f":"Admin_settlement_agent!E9","v":1.1000000000000001E-3},{"$f":"ROUND((+AV101-AU101+1)*AW101,2)","v":9900},{"$f":"SUM(AX$98:AX100)","v":2558}]
[]
[null,null,null,null,null,null,null,null,null,null,null,null,null,null,null,null,null,null,null,null,null,null,null,null,null,null,null,null,null,null,null,null,null,"Minimum monthly repayment",null,null,{"$f":"AA62","v":0},null,null,null,null,null,null,null,null,null,null,null,null,"N/A",{"$f":"SUM(AX$98:AX102)","v":12458}]
[null,null,null,null,null,null,null,null,null,null,null,null,null,null,null,null,null,null,null,null,null,null,null,null,null,null,null,null,null,null,null,null,null,"Monthly rent/board",null,null,{"$f":"AK94/12","v":0}]
[null,null,null,null,null,null,null,null,null,null,null,null,null,null,null,null,null,null,null,null,null,null,null,null,null,null,null,null,null,null,null,null,null,"Minimum construction repayment",null,null,{"$f":"AK103-AK104","v":0}]
[null,null,null,null,null,null,null,null,null,null,null,null,null,null,null,null,null,null,null,null,null,null,null,null,null,null,null,null,null,null,null,null,null,null,null,null,null,null,null,null,null,null,null,null,null,null,null,"Gross","Fee inc. GST"]
[null,null,null,null,null,null,null,null,null,null,null,null,null,null,null,null,null,null,null,null,null,null,null,null,null,null,null,null,null,null,null,null,null,null,null,null,null,null,null,null,null,null,null,null,null,null,"HOUSE PRICE",{"$f":"IF(B38>0,B38,B36)","v":0},{"$f":"VLOOKUP(AV107,AU98:AY103,AY96)+ROUND((AV107-VLOOKUP(AV107,AU98:AY103,AU96))*VLOOKUP(AV107,AU98:AY103,AW96),3)","v":963},{"$f":"AW107","v":963}]
[]
[]
[]
[]
[]
[]
[]
[null,null,null,null,null,null,null,"total assessed income",null,null,null,null,null,null,"No. kids"]
[null,null,null,null,null,null,"<",35001,"With or without kids",null,null,null,null,{"$f":"IF(AO86<H116,AO86,\" \")","v":0},{"$f":"BB34","v":0},null,null,null,0.36,0.36]
[null,null,null,null,null,null,">",35000,"With kids",null,null,null,null,{"$f":"IF(AO86>35000,IF(BB34 >0,AO86,\" \"),\" \")","v":" "},{"$f":"BB34","v":0},null,null,null,0.39,0.39]
[null,null,null,null,null,null,">",35000,"No kids",null,null,null,null,{"$f":"IF(AN86>35000,IF(BB34=0,AO86,\" \"),\" \")","v":" "},{"$f":"BB34","v":0},null,null,null,0.42,0.42]
[]
[]
[null,null,null,null,null,null,null,null,null,null,null,null,null,0,0.39,null,null,null,0.39]
[null,null,null,null,null,null,null,null,null,null,null,null,null,1,0.39,null,null,null,0.39]
[null,null,null,null,null,null,null,null,null,null,null,null,null,2,0.39,null,null,null,0.39]
[null,null,null,null,null,null,null,null,null,null,null,null,null,3,0.39,null,null,null,0.39]
[null,null,null,null,null,null,null,null,null,null,null,null,null,4,0.39,null,null,null,0.39]
[null,null,null,null,null,null,null,null,null,null,null,null,null,5,0.39,null,null,null,0.39]
[null,null,null,null,null,null,null,null,null,null,null,null,null,6,0.39,null,null,null,0.39]
[null,null,null,null,null,null,null,null,null,null,null,null,null,7,0.39,null,null,null,0.39,null,null,null,null,null,null,{"$f":"IF(W128>T116,\"outside policy\",\" \")","v":" "},{"$f":"IF(P116>0,\" \",IF(W128>U128,\"outside policy\",\" \"))","v":" "},{"$f":"IF(Q116>0,\" \",IF(X128>V128,\"outside policy\",\" \"))","v":" "}]
[null,null,null,null,null,null,null,null,null,null,null,null,null,8,0.39,null,null,null,0.39,null,null,null,null,null,null,{"$f":"IF(W129>T117,\"outside policy\",\" \")","v":" "}]
[null,null,null,null,null,null,null,null,null,null,null,null,null,null,null,null,null,null,null,null,null,null,null,null,null,{"$f":"IF(W130>T118,\"outside policy\",\" \")","v":" "}]
[]
[null,null,null,null,null,null,null,null,null,null,null,null,null,null,null,null,null,null,null,null,null,null,null,null,null,{"$f":"IF(Z128=\"outside policy\",\"Outside policy\",IF(Z129=\"outside policy\",\"Outside policy\",IF(Z130=\"outside policy\",\"Outside policy\",\" \")))","v":" "}]
[]
[]
[]
[]
[]
[]
[]
[]
[]
[]
[null,null,null,null,null,null,null,null,null,null,null,null,null,null,null,null,null,null,null,null,null,null,null,null,null,null,null,{"$f":"IF(Q131>0,\" \",IF(X143>V143,\"outside policy\",\" \"))","v":" "}]
[]
[]
[]
[]
[]
[]
[null,null,null,null,null,null,null,null,null,null,null,null,null,null,null,null,null,null,null,null,null,null,null,null,null,null,null,null,null,null,null,null,null,"Qualifying income 1",null,{"$f":"SUM(N10:O19)","v":0}]
[null,null,null,null,null,null,null,null,null,null,null,null,null,null,null,null,null,null,null,null,null,null,null,null,null,null,null,null,null,null,null,null,null,"Qualifying income 2",null,{"$f":"SUM(AB10:AC19)","v":0}]
[null,null,null,null,null,null,null,null,null,null,null,null,null,null,null,null,null,null,null,null,null,null,null,null,null,null,null,null,null,null,null,null,null,null,null,{"$f":"SUM(AJ150:AJ151)","v":0}]
[null,null,null,null,null,null,null,null,null,null,null,null,null,null,null,null,null,null,null,null,null,null,null,null,null,null,null,null,null,null,null,null,null,null,null,null,null,null,{"$f":"SUM(AJ155/12)","v":0}]
[null,null,null,null,null,null,null,null,null,null,null,null,null,null,null,null,null,null,null,null,null,null,null,null,null,null,null,null,null,null,null,null,null,"Total income:      Per An.                   Monthly",null,null,null,null,{"$f":"SUM(AJ156/12)","v":0}]
[null,null,null,null,null,null,null,null,null,null,null,null,null,null,null,null,null,null,null,null,null,null,null,null,null,null,null,null,null,null,null,null,null,"Actual",null,{"$f":"SUM(K29+Y29)","v":0}]
[null,null,null,null,null,null,null,null,null,null,null,null,null,null,null,null,null,null,null,null,null,null,null,null,null,null,null,null,null,null,null,null,null,"Assessed",null,{"$f":"SUM(N29+AB29)","v":0},null,null,{"$f":"SUM(X32+X33+X36+X37)/SUM(O24+AC24)","v":{"$error":"#DIV/0!"}}]
[]
[null,null,null,null,null,null,null,null,null,null,null,null,null,null,null,null,null,null,null,null,null,null,null,null,null,null,null,null,null,null,null,null,null,"Monthly debt (excluding HECS)"]

{"sheet":"Retirement age summary","index":1,"n_rows":763,"n_cols":22,"rows_kept":763,"cut":false,"hidden":false,"merged":[[15,1,15,2],[3,2,3,4],[4,1,4,2],[5,1,5,2],[6,1,6,2],[7,1,7,2],[8,1,8,2],[9,1,9,2],[10,1,10,2],[11,1,11,2],[13,1,13,2],[14,1,14,2],[28,1,28,2],[16,1,16,2],[17,1,17,2],[18,1,18,2],[20,1,20,2],[21,1,21,2],[22,1,22,2],[23,1,23,2],[24,1,24,2],[25,1,25,2],[26,1,26,2],[27,1,27,2],[34,1,34,2],[35,6,35,18],[36,9,36,14],[401,15,401,22],[29,1,29,3],[29,6,29,7],[30,1,30,2],[30,6,30,7],[31,1,31,2],[33,1,33,2]]}
[]
[null,"Loan Number:",null,"Assessment date:",{"$f":"NOW()","v":"2026-03-15T22:47:06.810"}]
[]
[null,"Applicant(s):",{"$f":"IF('Online Assessment tool'!V2=\"\",\"\",'Online Assessment tool'!V2)","v":""}]
[null,null,null,"Applicant 1","Applicant 2"]
[null,"Date of Birth",null,{"$f":"IF('Online Assessment tool'!$G$7=\"\",\"\",'Online Assessment tool'!$G$7)","v":""},{"$f":"IF('Online Assessment tool'!$G$8=\"\",\"\",'Online Assessment tool'!$G$8)","v":""}]
[null,"Gross wage/salary",null,{"$f":"'Online Assessment tool'!$N$10","v":0},{"$f":"'Online Assessment tool'!$AB$10","v":0}]
[null,"Shift allowance",null,{"$f":"'Online Assessment tool'!$N$11","v":0},{"$f":"'Online Assessment tool'!$AB$11","v":0}]
[null,"Overtime & bonus",null,{"$f":"'Online Assessment tool'!$N$12","v":0},{"$f":"'Online Assessment tool'!$AB$12","v":0}]
[null,"Commission",null,{"$f":"'Online Assessment tool'!$N$13","v":0},{"$f":"'Online Assessment tool'!$AB$13","v":0}]
[null,"Casual employment wages/salary",null,{"$f":"'Online Assessment tool'!$N$15","v":0},{"$f":"'Online Assessment tool'!$AB$15","v":0}]
[null,"Total assessable income",null,{"$f":"SUM(D7+D8+(D9*30%)+(D10*75%)+(D11*92%))","v":0},{"$f":"SUM(E7+E8+(E9*30%)+(E10*75%)+(E11*92%))","v":0}]
[]
[null,"Loan Amount",null,{"$f":"Loan_req","v":0}]
[null,"Interest Rate (per annum)",null,{"$f":"'Online Assessment tool'!$I$40","v":7.0999999999999994E-2}]
[null,"Loan Term (years)",null,{"$f":"'Online Assessment tool'!F40/12","v":30}]
[null,"Minimum monthly repayment",null,{"$f":"IFERROR(PMT(Interest_Rate/12,No_of_pymts,-Loan_Amount,0),0)","v":0}]
[null,"Number of payments",null,{"$f":"Loan_term*12","v":360}]
[null,"Loan finalisation date",null,{"$f":"IF(OR(Applic1_DOB=\"\",Loan_term=\"\"),\"\",IF(Loan_start_date=\"\",\"\",EDATE(Loan_start_date,No_of_pymts)))","v":""}]
[null,"Estimated loan balance ",null,"Applicant 1","Applicant 2"]
[null,"Applicant age at loan assessment date",null,{"$f":"IF(Applic1_DOB=\"\",\"\",IFERROR(IF(AND(DAY(Applic1_DOB)=DAY(Loan_start_date),MONTH(Applic1_DOB)=MONTH(Loan_start_date)),ROUND(YEARFRAC(Applic1_DOB,Loan_start_date,1),0),ROUNDDOWN(YEARFRAC(Applic1_DOB,Loan_start_date,1),0)),\"\"))","v":""},{"$f":"IF(Applic2_DOB=\"\",\"\",IFERROR(IF(AND(DAY(Applic2_DOB)=DAY(Loan_start_date),MONTH(Applic2_DOB)=MONTH(Loan_start_date)),ROUND(YEARFRAC(Applic2_DOB,Loan_start_date,1),0),ROUNDDOWN(YEARFRAC(Applic2_DOB,Loan_start_date,1),0)),\"\"))","v":""}]
[null,"Forecast retirement age"]
[null,"Date of retirement",null,{"$f":"IFERROR(IF(ISBLANK(Forecast_retirement_age1),\"\",EDATE(Applic1_DOB,Forecast_retirement_age1*12)),\"\")","v":""},{"$f":"IFERROR(IF(ISBLANK(Forecast_retirement_age2),\"\",EDATE(Applic2_DOB,Forecast_retirement_age2*12)),\"\")","v":""}]
[null,{"$f":"\"Applicant age at the \"&IF(Forecast_retirement_age2=\"\",\"\",\"earliest \")&\"applicant's retirement\"","v":"Applicant age at the applicant's retirement"},null,{"$f":"IF(OR(Applic1_DOB=\"\",Applic1_DOR=\"\"),\"\",IF(OR(AND(DAY(Applic1_DOB)=DAY(MIN(D23:E23)),MONTH(Applic1_DOB)=MONTH(MIN(D23:E23))),AND(DAY(Applic1_DOB)=DAY(Loan_start_date),MONTH(Applic1_DOB)=MONTH(Loan_start_date)),AND(DAY(Applic1_DOB)=29,MONTH(Applic1_DOB)=2)),ROUND((MIN(D23:E23)-Applic1_DOB)/365.25,0),ROUNDDOWN((MIN(D23:E23)-Applic1_DOB)/365.25,0)))","v":""},{"$f":"IF(OR(Applic2_DOB=\"\",Applic2_DOR=\"\"),\"\",IF(OR(AND(DAY(Applic2_DOB)=DAY(MIN(D23:E23)),MONTH(Applic2_DOB)=MONTH(MIN(D23:E23))),AND(DAY(Applic2_DOB)=DAY(Loan_start_date),MONTH(Applic2_DOB)=MONTH(Loan_start_date)),AND(DAY(Applic2_DOB)=29,MONTH(Applic2_DOB)=2)),ROUND((MIN(D23:E23)-Applic2_DOB)/365.25,0),ROUNDDOWN((MIN(D23:E23)-Applic2_DOB)/365.25,0)))","v":""}]
[null,"Age at loan finalisation date",null,{"$f":"IF(Applic1_DOB=\"\",\"\",IFERROR(IF(AND(DAY(Applic1_DOB)=DAY(Loan_start_date),MONTH(Applic1_DOB)=MONTH(Loan_start_date)),ROUND(YEARFRAC(Applic1_DOB,Loan_finalisation_date,1),0),ROUNDDOWN(YEARFRAC(Applic1_DOB,Loan_finalisation_date,1),0)),\"\"))","v":""},{"$f":"IF(Applic2_DOB=\"\",\"\",IFERROR(IF(AND(DAY(Applic2_DOB)=DAY(Loan_start_date),MONTH(Applic2_DOB)=MONTH(Loan_start_date)),ROUND(YEARFRAC(Applic2_DOB,Loan_finalisation_date,1),0),ROUNDDOWN(YEARFRAC(Applic2_DOB,Loan_finalisation_date,1),0)),\"\"))","v":""},"this will be hidden"]
[null,"Remaining term (months) at retirement",null,{"$f":"IF(OR(ISBLANK(Applic1_DOB),ISBLANK(Forecast_retirement_age1)),\"\",IF(No_of_pymts-((EDATE(Applic1_DOB,Forecast_retirement_age1*12)-Loan_start_date)/365.25*12)<=0,0,No_of_pymts-IF(DAY(Applic1_DOB)=DAY(Loan_start_date),ROUND((EDATE(Applic1_DOB,Forecast_retirement_age1*12)-Loan_start_date)/365.25*12,0),ROUNDDOWN((EDATE(Applic1_DOB,Forecast_retirement_age1*12)-Loan_start_date)/365.25*12,0))))","v":""},{"$f":"IF(OR(ISBLANK(Applic2_DOB),ISBLANK(Forecast_retirement_age2)),\"\",IF(No_of_pymts-((EDATE(Applic2_DOB,Forecast_retirement_age2*12)-Loan_start_date)/365.25*12)<=0,0,No_of_pymts-IF(DAY(Applic2_DOB)=DAY(Loan_start_date),ROUND((EDATE(Applic2_DOB,Forecast_retirement_age2*12)-Loan_start_date)/365.25*12,0),ROUNDDOWN((EDATE(Applic2_DOB,Forecast_retirement_age2*12)-Loan_start_date)/365.25*12,0))))","v":""},"this will be hidden"]
[null,{"$f":"\"Remaining term (months) at \"&IF(Forecast_retirement_age2=\"\",\"\",\"earliest \")&\"applicant's retirement\"","v":"Remaining term (months) at applicant's retirement"},null,{"$f":"IFERROR(MAX(D26:E26),\"\")","v":0}]
[null,"Estimated loan balance at retirement",null,{"$f":"IFERROR(VLOOKUP(No_of_pymts-Applic1_RT,C39:H400,6,0),0)","v":0},{"$f":"IF(ISBLANK(Applic2_DOB),0,IFERROR(VLOOKUP(No_of_pymts-Applic2_RT,N39:S400,6,0),0))","v":0},"this will be hidden"]
[null,{"$f":"\"Estimated loan balance at \"&IF(ISBLANK(Forecast_retirement_age2),\"\",\"earliest \")&\"applicant's retirement\"","v":"Estimated loan balance at applicant's retirement"},null,{"$f":"MAX(D28:E28)","v":0}]
[null,"Estimated superannuation balance "]
[null,"Current superannuation balance",null,{"$f":"'Online Assessment tool'!$I$36","v":0},{"$f":"'Online Assessment tool'!$I$38","v":0}]
[null,"Estimated super balance at earliest applicant's retirement",null,{"$f":"IFERROR(IF(OR(App1_Age_At_Earliest_Retirement<65,ISBLANK(Applic1_DOB),ISBLANK(Forecast_retirement_age1)),0,VLOOKUP(No_of_pymts-MAX(D26:E26),$C$403:$J$763,8,1)),0)","v":0},{"$f":"IFERROR(IF(OR(App2_Age_At_Earliest_Retirement<65,ISBLANK(Applic2_DOB),ISBLANK(Forecast_retirement_age2)),0,VLOOKUP(No_of_pymts-MAX(D26:E26),N403:U763,8,1)),0)","v":0}]
[null,"Discounted super balance",null,{"$f":"SUM(Est_super_Applic1-Est_super_Applic1*20%)","v":0},{"$f":"SUM(Est_super_Applic2-Est_super_Applic2*20%)","v":0}]
[null,"Total available super balance at earliest retirement",null,{"$f":"SUM(D33:E33)","v":0}]
[null,"Surplus/shortfall",null,{"$f":"IF(OR(ISBLANK(Loan_start_date),ISBLANK(Applic1_DOB),ISBLANK(Forecast_retirement_age1)),0,D34-Est_Loan_Bal)","v":0}]
[]
[null,{"$f":"IF(OR(ISBLANK(Applic1_DOB),ISBLANK(Forecast_retirement_age1),D33<0),\"\",IF(D35>=0,\"Pass! Superannuation balance sufficient to pay out loan\",\"Fail! Superannuation balance insufficient to pay out loan\"))","v":""}]
[]
[null,"Year","Payment Number","Last Payment Date","Age of Applicant","Starting Balance","Required Repayment","Ending Balance","Principal","Interest","Cumulative Interest",null,"Year","Payment Number","Last Payment Date","Age of Applicant","Starting Balance","Required Repayment","Ending Balance","Principal","Interest","Cumulative Interest"]
[null,{"$f":"IFERROR(INT((C40-1)/12)+1,\"\")","v":1},1,{"$f":"EDATE(Loan_start_date,C40)","v":"2026-04-15"},{"$f":"IF(Applic1_DOB=\"\",1,INT((D40-D6)/365.25))","v":1},{"$f":"$D$14","v":0},{"$f":"IF(C40=\"\",\"\",$D$17)","v":0},{"$f":"IF(C40=\"\",\"\",F40-I40)","v":0},{"$f":"IF(C40=\"\",\"\",G40-J40)","v":0},{"$f":"IF(C40=\"\",\"\",($D$15/12)*F40)","v":0},{"$f":"IF(C40=\"\",\"\",SUM($J$40:J40))","v":0},null,{"$f":"IFERROR(INT((N40-1)/12)+1,\"\")","v":1},1,{"$f":"EDATE(Loan_start_date,N40)","v":"2026-04-15"},{"$f":"IF(E6=\"\",1,INT((O40-E6)/365))","v":1},{"$f":"$D$14","v":0},{"$f":"IF(N40=\"\",\"\",$D$17)","v":0},{"$f":"IF(N40=\"\",\"\",Q40-T40)","v":0},{"$f":"IF(N40=\"\",\"\",R40-U40)","v":0},{"$f":"IF(N40=\"\",\"\",($D$15/12)*Q40)","v":0},{"$f":"IF(N40=\"\",\"\",SUM($U$40:U40))","v":0}]
[null,{"$f":"IFERROR(INT((C41-1)/12)+1,\"\")","v":1},{"$f":"IF(C40>=No_of_pymts,\"\",C40+1)","v":2},{"$f":"IF(C41=\"\",\"\",EDATE(Loan_start_date,C41))","v":"2026-05-15"},{"$f":"IF($C41=\"\",\"\",IF($D$6=\"\",$B41+1,INT(($D41-$D$6)/365.25)))","v":2},{"$f":"IF(C41=\"\",\"\",H40)","v":0},0,{"$f":"IF(C41=\"\",\"\",IF(G41=F41,0,(F41-I41)))","v":0},{"$f":"IF(C41=\"\",\"\",G41-J41)","v":0},0,{"$f":"IF(C41=\"\",\"\",SUM($J$40:J41))","v":0},null,{"$f":"IFERROR(INT((N41-1)/12)+1,\"\")","v":1},{"$f":"IF(N40>=No_of_pymts,\"\",N40+1)","v":2},{"$f":"IF(N41=\"\",\"\",EDATE(Loan_start_date,N41))","v":"2026-05-15"},{"$f":"IF($N41=\"\",\"\",IF($E$6=\"\",$M41+1,INT(($O41-$E$6)/365)))","v":2},{"$f":"IF(N41=\"\",\"\",S40)","v":0},0,{"$f":"IF(N41=\"\",\"\",IF(R41=Q41,0,(Q41-T41)))","v":0},{"$f":"IF(N41=\"\",\"\",R41-U41)","v":0},0,{"$f":"IF(N41=\"\",\"\",SUM($U$40:U41))","v":0}]
[null,1,3,"2026-06-15",{"$f":"IF($C42=\"\",\"\",IF($D$6=\"\",$B42+1,INT(($D42-$D$6)/365.25)))","v":2},{"$f":"IF(C42=\"\",\"\",H41)","v":0},0,{"$f":"IF(C42=\"\",\"\",IF(G42=F42,0,(F42-I42)))","v":0},{"$f":"IF(C42=\"\",\"\",G42-J42)","v":0},0,{"$f":"IF(C42=\"\",\"\",SUM($J$40:J42))","v":0},null,1,3,"2026-06-15",2,{"$f":"IF(N42=\"\",\"\",S41)","v":0},0,{"$f":"IF(N42=\"\",\"\",IF(R42=Q42,0,(Q42-T42)))","v":0},{"$f":"IF(N42=\"\",\"\",R42-U42)","v":0},0,{"$f":"IF(N42=\"\",\"\",SUM($U$40:U42))","v":0}]
[null,1,4,"2026-07-15",2,0,0,0,0,0,{"$f":"IF(C43=\"\",\"\",SUM($J$40:J43))","v":0},null,1,4,"2026-07-15",2,0,0,0,0,0,{"$f":"IF(N43=\"\",\"\",SUM($U$40:U43))","v":0}]
[null,1,5,"2026-08-15",2,0,0,0,0,0,{"$f":"IF(C44=\"\",\"\",SUM($J$40:J44))","v":0},null,1,5,"2026-08-15",2,0,0,0,0,0,{"$f":"IF(N44=\"\",\"\",SUM($U$40:U44))","v":0}]
[null,1,6,"2026-09-15",2,0,0,0,0,0,{"$f":"IF(C45=\"\",\"\",SUM($J$40:J45))","v":0},null,1,6,"2026-09-15",2,0,0,0,0,0,{"$f":"IF(N45=\"\",\"\",SUM($U$40:U45))","v":0}]
[null,1,7,"2026-10-15",2,0,0,0,0,0,{"$f":"IF(C46=\"\",\"\",SUM($J$40:J46))","v":0},null,1,7,"2026-10-15",2,0,0,0,0,0,{"$f":"IF(N46=\"\",\"\",SUM($U$40:U46))","v":0}]
[null,1,8,"2026-11-15",2,0,0,0,0,0,{"$f":"IF(C47=\"\",\"\",SUM($J$40:J47))","v":0},null,1,8,"2026-11-15",2,0,0,0,0,0,{"$f":"IF(N47=\"\",\"\",SUM($U$40:U47))","v":0}]
[null,1,9,"2026-12-15",2,0,0,0,0,0,{"$f":"IF(C48=\"\",\"\",SUM($J$40:J48))","v":0},null,1,9,"2026-12-15",2,0,0,0,0,0,{"$f":"IF(N48=\"\",\"\",SUM($U$40:U48))","v":0}]
[null,1,10,"2027-01-15",2,0,0,0,0,0,{"$f":"IF(C49=\"\",\"\",SUM($J$40:J49))","v":0},null,1,10,"2027-01-15",2,0,0,0,0,0,{"$f":"IF(N49=\"\",\"\",SUM($U$40:U49))","v":0}]
[null,1,11,"2027-02-15",2,0,0,0,0,0,{"$f":"IF(C50=\"\",\"\",SUM($J$40:J50))","v":0},null,1,11,"2027-02-15",2,0,0,0,0,0,{"$f":"IF(N50=\"\",\"\",SUM($U$40:U50))","v":0}]
[null,1,12,"2027-03-15",2,0,0,0,0,0,{"$f":"IF(C51=\"\",\"\",SUM($J$40:J51))","v":0},null,1,12,"2027-03-15",2,0,0,0,0,0,{"$f":"IF(N51=\"\",\"\",SUM($U$40:U51))","v":0}]
[null,2,13,"2027-04-15",3,0,0,0,0,0,{"$f":"IF(C52=\"\",\"\",SUM($J$40:J52))","v":0},null,2,13,"2027-04-15",3,0,0,0,0,0,{"$f":"IF(N52=\"\",\"\",SUM($U$40:U52))","v":0}]
[null,2,14,"2027-05-15",3,0,0,0,0,0,{"$f":"IF(C53=\"\",\"\",SUM($J$40:J53))","v":0},null,2,14,"2027-05-15",3,0,0,0,0,0,{"$f":"IF(N53=\"\",\"\",SUM($U$40:U53))","v":0}]
[null,2,15,"2027-06-15",3,0,0,0,0,0,{"$f":"IF(C54=\"\",\"\",SUM($J$40:J54))","v":0},null,2,15,"2027-06-15",3,0,0,0,0,0,{"$f":"IF(N54=\"\",\"\",SUM($U$40:U54))","v":0}]
[null,2,16,"2027-07-15",3,0,0,0,0,0,{"$f":"IF(C55=\"\",\"\",SUM($J$40:J55))","v":0},null,2,16,"2027-07-15",3,0,0,0,0,0,{"$f":"IF(N55=\"\",\"\",SUM($U$40:U55))","v":0}]
[null,2,17,"2027-08-15",3,0,0,0,0,0,{"$f":"IF(C56=\"\",\"\",SUM($J$40:J56))","v":0},null,2,17,"2027-08-15",3,0,0,0,0,0,{"$f":"IF(N56=\"\",\"\",SUM($U$40:U56))","v":0}]
[null,2,18,"2027-09-15",3,0,0,0,0,0,{"$f":"IF(C57=\"\",\"\",SUM($J$40:J57))","v":0},null,2,18,"2027-09-15",3,0,0,0,0,0,{"$f":"IF(N57=\"\",\"\",SUM($U$40:U57))","v":0}]
[null,2,19,"2027-10-15",3,0,0,0,0,0,{"$f":"IF(C58=\"\",\"\",SUM($J$40:J58))","v":0},null,2,19,"2027-10-15",3,0,0,0,0,0,{"$f":"IF(N58=\"\",\"\",SUM($U$40:U58))","v":0}]
[null,2,20,"2027-11-15",3,0,0,0,0,0,{"$f":"IF(C59=\"\",\"\",SUM($J$40:J59))","v":0},null,2,20,"2027-11-15",3,0,0,0,0,0,{"$f":"IF(N59=\"\",\"\",SUM($U$40:U59))","v":0}]
[null,2,21,"2027-12-15",3,0,0,0,0,0,{"$f":"IF(C60=\"\",\"\",SUM($J$40:J60))","v":0},null,2,21,"2027-12-15",3,0,0,0,0,0,{"$f":"IF(N60=\"\",\"\",SUM($U$40:U60))","v":0}]
[null,2,22,"2028-01-15",3,0,0,0,0,0,{"$f":"IF(C61=\"\",\"\",SUM($J$40:J61))","v":0},null,2,22,"2028-01-15",3,0,0,0,0,0,{"$f":"IF(N61=\"\",\"\",SUM($U$40:U61))","v":0}]
[null,2,23,"2028-02-15",3,0,0,0,0,0,{"$f":"IF(C62=\"\",\"\",SUM($J$40:J62))","v":0},null,2,23,"2028-02-15",3,0,0,0,0,0,{"$f":"IF(N62=\"\",\"\",SUM($U$40:U62))","v":0}]
[null,2,24,"2028-03-15",3,0,0,0,0,0,{"$f":"IF(C63=\"\",\"\",SUM($J$40:J63))","v":0},null,2,24,"2028-03-15",3,0,0,0,0,0,{"$f":"IF(N63=\"\",\"\",SUM($U$40:U63))","v":0}]
[null,3,25,"2028-04-15",4,0,0,0,0,0,{"$f":"IF(C64=\"\",\"\",SUM($J$40:J64))","v":0},null,3,25,"2028-04-15",4,0,0,0,0,0,{"$f":"IF(N64=\"\",\"\",SUM($U$40:U64))","v":0}]
[null,3,26,"2028-05-15",4,0,0,0,0,0,{"$f":"IF(C65=\"\",\"\",SUM($J$40:J65))","v":0},null,3,26,"2028-05-15",4,0,0,0,0,0,{"$f":"IF(N65=\"\",\"\",SUM($U$40:U65))","v":0}]
[null,3,27,"2028-06-15",4,0,0,0,0,0,{"$f":"IF(C66=\"\",\"\",SUM($J$40:J66))","v":0},null,3,27,"2028-06-15",4,0,0,0,0,0,{"$f":"IF(N66=\"\",\"\",SUM($U$40:U66))","v":0}]
[null,3,28,"2028-07-15",4,0,0,0,0,0,{"$f":"IF(C67=\"\",\"\",SUM($J$40:J67))","v":0},null,3,28,"2028-07-15",4,0,0,0,0,0,{"$f":"IF(N67=\"\",\"\",SUM($U$40:U67))","v":0}]
[null,3,29,"2028-08-15",4,0,0,0,0,0,{"$f":"IF(C68=\"\",\"\",SUM($J$40:J68))","v":0},null,3,29,"2028-08-15",4,0,0,0,0,0,{"$f":"IF(N68=\"\",\"\",SUM($U$40:U68))","v":0}]
[null,3,30,"2028-09-15",4,0,0,0,0,0,{"$f":"IF(C69=\"\",\"\",SUM($J$40:J69))","v":0},null,3,30,"2028-09-15",4,0,0,0,0,0,{"$f":"IF(N69=\"\",\"\",SUM($U$40:U69))","v":0}]
[null,3,31,"2028-10-15",4,0,0,0,0,0,{"$f":"IF(C70=\"\",\"\",SUM($J$40:J70))","v":0},null,3,31,"2028-10-15",4,0,0,0,0,0,{"$f":"IF(N70=\"\",\"\",SUM($U$40:U70))","v":0}]
[null,3,32,"2028-11-15",4,0,0,0,0,0,{"$f":"IF(C71=\"\",\"\",SUM($J$40:J71))","v":0},null,3,32,"2028-11-15",4,0,0,0,0,0,{"$f":"IF(N71=\"\",\"\",SUM($U$40:U71))","v":0}]
[null,3,33,"2028-12-15",4,0,0,0,0,0,{"$f":"IF(C72=\"\",\"\",SUM($J$40:J72))","v":0},null,3,33,"2028-12-15",4,0,0,0,0,0,{"$f":"IF(N72=\"\",\"\",SUM($U$40:U72))","v":0}]
[null,3,34,"2029-01-15",4,0,0,0,0,0,{"$f":"IF(C73=\"\",\"\",SUM($J$40:J73))","v":0},null,3,34,"2029-01-15",4,0,0,0,0,0,{"$f":"IF(N73=\"\",\"\",SUM($U$40:U73))","v":0}]
[null,3,35,"2029-02-15",4,0,0,0,0,0,{"$f":"IF(C74=\"\",\"\",SUM($J$40:J74))","v":0},null,3,35,"2029-02-15",4,0,0,0,0,0,{"$f":"IF(N74=\"\",\"\",SUM($U$40:U74))","v":0}]
[null,3,36,"2029-03-15",4,0,0,0,0,0,{"$f":"IF(C75=\"\",\"\",SUM($J$40:J75))","v":0},null,3,36,"2029-03-15",4,0,0,0,0,0,{"$f":"IF(N75=\"\",\"\",SUM($U$40:U75))","v":0}]
[null,4,37,"2029-04-15",5,0,0,0,0,0,{"$f":"IF(C76=\"\",\"\",SUM($J$40:J76))","v":0},null,4,37,"2029-04-15",5,0,0,0,0,0,{"$f":"IF(N76=\"\",\"\",SUM($U$40:U76))","v":0}]
[null,4,38,"2029-05-15",5,0,0,0,0,0,{"$f":"IF(C77=\"\",\"\",SUM($J$40:J77))","v":0},null,4,38,"2029-05-15",5,0,0,0,0,0,{"$f":"IF(N77=\"\",\"\",SUM($U$40:U77))","v":0}]
[null,4,39,"2029-06-15",5,0,0,0,0,0,{"$f":"IF(C78=\"\",\"\",SUM($J$40:J78))","v":0},null,4,39,"2029-06-15",5,0,0,0,0,0,{"$f":"IF(N78=\"\",\"\",SUM($U$40:U78))","v":0}]
[null,4,40,"2029-07-15",5,0,0,0,0,0,{"$f":"IF(C79=\"\",\"\",SUM($J$40:J79))","v":0},null,4,40,"2029-07-15",5,0,0,0,0,0,{"$f":"IF(N79=\"\",\"\",SUM($U$40:U79))","v":0}]
[null,4,41,"2029-08-15",5,0,0,0,0,0,{"$f":"IF(C80=\"\",\"\",SUM($J$40:J80))","v":0},null,4,41,"2029-08-15",5,0,0,0,0,0,{"$f":"IF(N80=\"\",\"\",SUM($U$40:U80))","v":0}]
[null,4,42,"2029-09-15",5,0,0,0,0,0,{"$f":"IF(C81=\"\",\"\",SUM($J$40:J81))","v":0},null,4,42,"2029-09-15",5,0,0,0,0,0,{"$f":"IF(N81=\"\",\"\",SUM($U$40:U81))","v":0}]
[null,4,43,"2029-10-15",5,0,0,0,0,0,{"$f":"IF(C82=\"\",\"\",SUM($J$40:J82))","v":0},null,4,43,"2029-10-15",5,0,0,0,0,0,{"$f":"IF(N82=\"\",\"\",SUM($U$40:U82))","v":0}]
[null,4,44,"2029-11-15",5,0,0,0,0,0,{"$f":"IF(C83=\"\",\"\",SUM($J$40:J83))","v":0},null,4,44,"2029-11-15",5,0,0,0,0,0,{"$f":"IF(N83=\"\",\"\",SUM($U$40:U83))","v":0}]
[null,4,45,"2029-12-15",5,0,0,0,0,0,{"$f":"IF(C84=\"\",\"\",SUM($J$40:J84))","v":0},null,4,45,"2029-12-15",5,0,0,0,0,0,{"$f":"IF(N84=\"\",\"\",SUM($U$40:U84))","v":0}]
[null,4,46,"2030-01-15",5,0,0,0,0,0,{"$f":"IF(C85=\"\",\"\",SUM($J$40:J85))","v":0},null,4,46,"2030-01-15",5,0,0,0,0,0,{"$f":"IF(N85=\"\",\"\",SUM($U$40:U85))","v":0}]
[null,4,47,"2030-02-15",5,0,0,0,0,0,{"$f":"IF(C86=\"\",\"\",SUM($J$40:J86))","v":0},null,4,47,"2030-02-15",5,0,0,0,0,0,{"$f":"IF(N86=\"\",\"\",SUM($U$40:U86))","v":0}]
[null,4,48,"2030-03-15",5,0,0,0,0,0,{"$f":"IF(C87=\"\",\"\",SUM($J$40:J87))","v":0},null,4,48,"2030-03-15",5,0,0,0,0,0,{"$f":"IF(N87=\"\",\"\",SUM($U$40:U87))","v":0}]
[null,5,49,"2030-04-15",6,0,0,0,0,0,{"$f":"IF(C88=\"\",\"\",SUM($J$40:J88))","v":0},null,5,49,"2030-04-15",6,0,0,0,0,0,{"$f":"IF(N88=\"\",\"\",SUM($U$40:U88))","v":0}]
[null,5,50,"2030-05-15",6,0,0,0,0,0,{"$f":"IF(C89=\"\",\"\",SUM($J$40:J89))","v":0},null,5,50,"2030-05-15",6,0,0,0,0,0,{"$f":"IF(N89=\"\",\"\",SUM($U$40:U89))","v":0}]
[null,5,51,"2030-06-15",6,0,0,0,0,0,{"$f":"IF(C90=\"\",\"\",SUM($J$40:J90))","v":0},null,5,51,"2030-06-15",6,0,0,0,0,0,{"$f":"IF(N90=\"\",\"\",SUM($U$40:U90))","v":0}]
[null,5,52,"2030-07-15",6,0,0,0,0,0,{"$f":"IF(C91=\"\",\"\",SUM($J$40:J91))","v":0},null,5,52,"2030-07-15",6,0,0,0,0,0,{"$f":"IF(N91=\"\",\"\",SUM($U$40:U91))","v":0}]
[null,5,53,"2030-08-15",6,0,0,0,0,0,{"$f":"IF(C92=\"\",\"\",SUM($J$40:J92))","v":0},null,5,53,"2030-08-15",6,0,0,0,0,0,{"$f":"IF(N92=\"\",\"\",SUM($U$40:U92))","v":0}]
[null,5,54,"2030-09-15",6,0,0,0,0,0,{"$f":"IF(C93=\"\",\"\",SUM($J$40:J93))","v":0},null,5,54,"2030-09-15",6,0,0,0,0,0,{"$f":"IF(N93=\"\",\"\",SUM($U$40:U93))","v":0}]
[null,5,55,"2030-10-15",6,0,0,0,0,0,{"$f":"IF(C94=\"\",\"\",SUM($J$40:J94))","v":0},null,5,55,"2030-10-15",6,0,0,0,0,0,{"$f":"IF(N94=\"\",\"\",SUM($U$40:U94))","v":0}]
[null,5,56,"2030-11-15",6,0,0,0,0,0,{"$f":"IF(C95=\"\",\"\",SUM($J$40:J95))","v":0},null,5,56,"2030-11-15",6,0,0,0,0,0,{"$f":"IF(N95=\"\",\"\",SUM($U$40:U95))","v":0}]
[null,5,57,"2030-12-15",6,0,0,0,0,0,{"$f":"IF(C96=\"\",\"\",SUM($J$40:J96))","v":0},null,5,57,"2030-12-15",6,0,0,0,0,0,{"$f":"IF(N96=\"\",\"\",SUM($U$40:U96))","v":0}]
[null,5,58,"2031-01-15",6,0,0,0,0,0,{"$f":"IF(C97=\"\",\"\",SUM($J$40:J97))","v":0},null,5,58,"2031-01-15",6,0,0,0,0,0,{"$f":"IF(N97=\"\",\"\",SUM($U$40:U97))","v":0}]
[null,5,59,"2031-02-15",6,0,0,0,0,0,{"$f":"IF(C98=\"\",\"\",SUM($J$40:J98))","v":0},null,5,59,"2031-02-15",6,0,0,0,0,0,{"$f":"IF(N98=\"\",\"\",SUM($U$40:U98))","v":0}]
[null,5,60,"2031-03-15",6,0,0,0,0,0,{"$f":"IF(C99=\"\",\"\",SUM($J$40:J99))","v":0},null,5,60,"2031-03-15",6,0,0,0,0,0,{"$f":"IF(N99=\"\",\"\",SUM($U$40:U99))","v":0}]
[null,6,61,"2031-04-15",7,0,0,0,0,0,{"$f":"IF(C100=\"\",\"\",SUM($J$40:J100))","v":0},null,6,61,"2031-04-15",7,0,0,0,0,0,{"$f":"IF(N100=\"\",\"\",SUM($U$40:U100))","v":0}]
[null,6,62,"2031-05-15",7,0,0,0,0,0,{"$f":"IF(C101=\"\",\"\",SUM($J$40:J101))","v":0},null,6,62,"2031-05-15",7,0,0,0,0,0,{"$f":"IF(N101=\"\",\"\",SUM($U$40:U101))","v":0}]
[null,6,63,"2031-06-15",7,0,0,0,0,0,{"$f":"IF(C102=\"\",\"\",SUM($J$40:J102))","v":0},null,6,63,"2031-06-15",7,0,0,0,0,0,{"$f":"IF(N102=\"\",\"\",SUM($U$40:U102))","v":0}]
[null,6,64,"2031-07-15",7,0,0,0,0,0,{"$f":"IF(C103=\"\",\"\",SUM($J$40:J103))","v":0},null,6,64,"2031-07-15",7,0,0,0,0,0,{"$f":"IF(N103=\"\",\"\",SUM($U$40:U103))","v":0}]
[null,6,65,"2031-08-15",7,0,{"$f":"IF(C104=\"\",\"\",$D$17)","v":0},0,0,{"$f":"IF(C104=\"\",\"\",($D$15/12)*F104)","v":0},{"$f":"IF(C104=\"\",\"\",SUM($J$40:J104))","v":0},null,6,65,"2031-08-15",7,0,{"$f":"IF(N104=\"\",\"\",$D$17)","v":0},0,0,{"$f":"IF(N104=\"\",\"\",($D$15/12)*Q104)","v":0},{"$f":"IF(N104=\"\",\"\",SUM($U$40:U104))","v":0}]
[null,{"$f":"IFERROR(INT((C105-1)/12)+1,\"\")","v":6},{"$f":"IF(C104>=No_of_pymts,\"\",C104+1)","v":66},{"$f":"IF(C105=\"\",\"\",EDATE(Loan_start_date,C105))","v":"2031-09-15"},7,0,0,0,0,0,{"$f":"IF(C105=\"\",\"\",SUM($J$40:J105))","v":0},null,{"$f":"IFERROR(INT((N105-1)/12)+1,\"\")","v":6},{"$f":"IF(N104>=No_of_pymts,\"\",N104+1)","v":66},{"$f":"IF(N105=\"\",\"\",EDATE(Loan_start_date,N105))","v":"2031-09-15"},{"$f":"IF($N105=\"\",\"\",IF($E$6=\"\",$M105+1,INT(($O105-$E$6)/365)))","v":7},0,0,0,0,0,{"$f":"IF(N105=\"\",\"\",SUM($U$40:U105))","v":0}]
[null,6,67,"2031-10-15",{"$f":"IF($C106=\"\",\"\",IF($D$6=\"\",$B106+1,INT(($D106-$D$6)/365.25)))","v":7},{"$f":"IF(C106=\"\",\"\",H105)","v":0},0,{"$f":"IF(C106=\"\",\"\",IF(G106=F106,0,(F106-I106)))","v":0},{"$f":"IF(C106=\"\",\"\",G106-J106)","v":0},0,{"$f":"IF(C106=\"\",\"\",SUM($J$40:J106))","v":0},null,6,67,"2031-10-15",7,{"$f":"IF(N106=\"\",\"\",S105)","v":0},0,{"$f":"IF(N106=\"\",\"\",IF(R106=Q106,0,(Q106-T106)))","v":0},{"$f":"IF(N106=\"\",\"\",R106-U106)","v":0},0,{"$f":"IF(N106=\"\",\"\",SUM($U$40:U106))","v":0}]
[null,6,68,"2031-11-15",7,0,0,0,0,0,{"$f":"IF(C107=\"\",\"\",SUM($J$40:J107))","v":0},null,6,68,"2031-11-15",7,0,0,0,0,0,{"$f":"IF(N107=\"\",\"\",SUM($U$40:U107))","v":0}]
[null,6,69,"2031-12-15",7,0,0,0,0,0,{"$f":"IF(C108=\"\",\"\",SUM($J$40:J108))","v":0},null,6,69,"2031-12-15",7,0,0,0,0,0,{"$f":"IF(N108=\"\",\"\",SUM($U$40:U108))","v":0}]
[null,6,70,"2032-01-15",7,0,0,0,0,0,{"$f":"IF(C109=\"\",\"\",SUM($J$40:J109))","v":0},null,6,70,"2032-01-15",7,0,0,0,0,0,{"$f":"IF(N109=\"\",\"\",SUM($U$40:U109))","v":0}]
[null,6,71,"2032-02-15",7,0,0,0,0,0,{"$f":"IF(C110=\"\",\"\",SUM($J$40:J110))","v":0},null,6,71,"2032-02-15",7,0,0,0,0,0,{"$f":"IF(N110=\"\",\"\",SUM($U$40:U110))","v":0}]
[null,6,72,"2032-03-15",7,0,0,0,0,0,{"$f":"IF(C111=\"\",\"\",SUM($J$40:J111))","v":0},null,6,72,"2032-03-15",7,0,0,0,0,0,{"$f":"IF(N111=\"\",\"\",SUM($U$40:U111))","v":0}]
[null,7,73,"2032-04-15",8,0,0,0,0,0,{"$f":"IF(C112=\"\",\"\",SUM($J$40:J112))","v":0},null,7,73,"2032-04-15",8,0,0,0,0,0,{"$f":"IF(N112=\"\",\"\",SUM($U$40:U112))","v":0}]
[null,7,74,"2032-05-15",8,0,0,0,0,0,{"$f":"IF(C113=\"\",\"\",SUM($J$40:J113))","v":0},null,7,74,"2032-05-15",8,0,0,0,0,0,{"$f":"IF(N113=\"\",\"\",SUM($U$40:U113))","v":0}]
[null,7,75,"2032-06-15",8,0,0,0,0,0,{"$f":"IF(C114=\"\",\"\",SUM($J$40:J114))","v":0},null,7,75,"2032-06-15",8,0,0,0,0,0,{"$f":"IF(N114=\"\",\"\",SUM($U$40:U114))","v":0}]
[null,7,76,"2032-07-15",8,0,0,0,0,0,{"$f":"IF(C115=\"\",\"\",SUM($J$40:J115))","v":0},null,7,76,"2032-07-15",8,0,0,0,0,0,{"$f":"IF(N115=\"\",\"\",SUM($U$40:U115))","v":0}]
[null,7,77,"2032-08-15",8,0,0,0,0,0,{"$f":"IF(C116=\"\",\"\",SUM($J$40:J116))","v":0},null,7,77,"2032-08-15",8,0,0,0,0,0,{"$f":"IF(N116=\"\",\"\",SUM($U$40:U116))","v":0}]
[null,7,78,"2032-09-15",8,0,0,0,0,0,{"$f":"IF(C117=\"\",\"\",SUM($J$40:J117))","v":0},null,7,78,"2032-09-15",8,0,0,0,0,0,{"$f":"IF(N117=\"\",\"\",SUM($U$40:U117))","v":0}]
[null,7,79,"2032-10-15",8,0,0,0,0,0,{"$f":"IF(C118=\"\",\"\",SUM($J$40:J118))","v":0},null,7,79,"2032-10-15",8,0,0,0,0,0,{"$f":"IF(N118=\"\",\"\",SUM($U$40:U118))","v":0}]
[null,7,80,"2032-11-15",8,0,0,0,0,0,{"$f":"IF(C119=\"\",\"\",SUM($J$40:J119))","v":0},null,7,80,"2032-11-15",8,0,0,0,0,0,{"$f":"IF(N119=\"\",\"\",SUM($U$40:U119))","v":0}]
[null,7,81,"2032-12-15",8,0,0,0,0,0,{"$f":"IF(C120=\"\",\"\",SUM($J$40:J120))","v":0},null,7,81,"2032-12-15",8,0,0,0,0,0,{"$f":"IF(N120=\"\",\"\",SUM($U$40:U120))","v":0}]
[null,7,82,"2033-01-15",8,0,0,0,0,0,{"$f":"IF(C121=\"\",\"\",SUM($J$40:J121))","v":0},null,7,82,"2033-01-15",8,0,0,0,0,0,{"$f":"IF(N121=\"\",\"\",SUM($U$40:U121))","v":0}]
[null,7,83,"2033-02-15",8,0,0,0,0,0,{"$f":"IF(C122=\"\",\"\",SUM($J$40:J122))","v":0},null,7,83,"2033-02-15",8,0,0,0,0,0,{"$f":"IF(N122=\"\",\"\",SUM($U$40:U122))","v":0}]
[null,7,84,"2033-03-15",8,0,0,0,0,0,{"$f":"IF(C123=\"\",\"\",SUM($J$40:J123))","v":0},null,7,84,"2033-03-15",8,0,0,0,0,0,{"$f":"IF(N123=\"\",\"\",SUM($U$40:U123))","v":0}]
[null,8,85,"2033-04-15",9,0,0,0,0,0,{"$f":"IF(C124=\"\",\"\",SUM($J$40:J124))","v":0},null,8,85,"2033-04-15",9,0,0,0,0,0,{"$f":"IF(N124=\"\",\"\",SUM($U$40:U124))","v":0}]
[null,8,86,"2033-05-15",9,0,0,0,0,0,{"$f":"IF(C125=\"\",\"\",SUM($J$40:J125))","v":0},null,8,86,"2033-05-15",9,0,0,0,0,0,{"$f":"IF(N125=\"\",\"\",SUM($U$40:U125))","v":0}]
[null,8,87,"2033-06-15",9,0,0,0,0,0,{"$f":"IF(C126=\"\",\"\",SUM($J$40:J126))","v":0},null,8,87,"2033-06-15",9,0,0,0,0,0,{"$f":"IF(N126=\"\",\"\",SUM($U$40:U126))","v":0}]
[null,8,88,"2033-07-15",9,0,0,0,0,0,{"$f":"IF(C127=\"\",\"\",SUM($J$40:J127))","v":0},null,8,88,"2033-07-15",9,0,0,0,0,0,{"$f":"IF(N127=\"\",\"\",SUM($U$40:U127))","v":0}]
[null,8,89,"2033-08-15",9,0,0,0,0,0,{"$f":"IF(C128=\"\",\"\",SUM($J$40:J128))","v":0},null,8,89,"2033-08-15",9,0,0,0,0,0,{"$f":"IF(N128=\"\",\"\",SUM($U$40:U128))","v":0}]
[null,8,90,"2033-09-15",9,0,0,0,0,0,{"$f":"IF(C129=\"\",\"\",SUM($J$40:J129))","v":0},null,8,90,"2033-09-15",9,0,0,0,0,0,{"$f":"IF(N129=\"\",\"\",SUM($U$40:U129))","v":0}]
[null,8,91,"2033-10-15",9,0,0,0,0,0,{"$f":"IF(C130=\"\",\"\",SUM($J$40:J130))","v":0},null,8,91,"2033-10-15",9,0,0,0,0,0,{"$f":"IF(N130=\"\",\"\",SUM($U$40:U130))","v":0}]
[null,8,92,"2033-11-15",9,0,0,0,0,0,{"$f":"IF(C131=\"\",\"\",SUM($J$40:J131))","v":0},null,8,92,"2033-11-15",9,0,0,0,0,0,{"$f":"IF(N131=\"\",\"\",SUM($U$40:U131))","v":0}]
[null,8,93,"2033-12-15",9,0,0,0,0,0,{"$f":"IF(C132=\"\",\"\",SUM($J$40:J132))","v":0},null,8,93,"2033-12-15",9,0,0,0,0,0,{"$f":"IF(N132=\"\",\"\",SUM($U$40:U132))","v":0}]
[null,8,94,"2034-01-15",9,0,0,0,0,0,{"$f":"IF(C133=\"\",\"\",SUM($J$40:J133))","v":0},null,8,94,"2034-01-15",9,0,0,0,0,0,{"$f":"IF(N133=\"\",\"\",SUM($U$40:U133))","v":0}]
[null,8,95,"2034-02-15",9,0,0,0,0,0,{"$f":"IF(C134=\"\",\"\",SUM($J$40:J134))","v":0},null,8,95,"2034-02-15",9,0,0,0,0,0,{"$f":"IF(N134=\"\",\"\",SUM($U$40:U134))","v":0}]
[null,8,96,"2034-03-15",9,0,0,0,0,0,{"$f":"IF(C135=\"\",\"\",SUM($J$40:J135))","v":0},null,8,96,"2034-03-15",9,0,0,0,0,0,{"$f":"IF(N135=\"\",\"\",SUM($U$40:U135))","v":0}]
[null,9,97,"2034-04-15",10,0,0,0,0,0,{"$f":"IF(C136=\"\",\"\",SUM($J$40:J136))","v":0},null,9,97,"2034-04-15",10,0,0,0,0,0,{"$f":"IF(N136=\"\",\"\",SUM($U$40:U136))","v":0}]
[null,9,98,"2034-05-15",10,0,0,0,0,0,{"$f":"IF(C137=\"\",\"\",SUM($J$40:J137))","v":0},null,9,98,"2034-05-15",10,0,0,0,0,0,{"$f":"IF(N137=\"\",\"\",SUM($U$40:U137))","v":0}]
[null,9,99,"2034-06-15",10,0,0,0,0,0,{"$f":"IF(C138=\"\",\"\",SUM($J$40:J138))","v":0},null,9,99,"2034-06-15",10,0,0,0,0,0,{"$f":"IF(N138=\"\",\"\",SUM($U$40:U138))","v":0}]
[null,9,100,"2034-07-15",10,0,0,0,0,0,{"$f":"IF(C139=\"\",\"\",SUM($J$40:J139))","v":0},null,9,100,"2034-07-15",10,0,0,0,0,0,{"$f":"IF(N139=\"\",\"\",SUM($U$40:U139))","v":0}]
[null,9,101,"2034-08-15",10,0,0,0,0,0,{"$f":"IF(C140=\"\",\"\",SUM($J$40:J140))","v":0},null,9,101,"2034-08-15",10,0,0,0,0,0,{"$f":"IF(N140=\"\",\"\",SUM($U$40:U140))","v":0}]
[null,9,102,"2034-09-15",10,0,0,0,0,0,{"$f":"IF(C141=\"\",\"\",SUM($J$40:J141))","v":0},null,9,102,"2034-09-15",10,0,0,0,0,0,{"$f":"IF(N141=\"\",\"\",SUM($U$40:U141))","v":0}]
[null,9,103,"2034-10-15",10,0,0,0,0,0,{"$f":"IF(C142=\"\",\"\",SUM($J$40:J142))","v":0},null,9,103,"2034-10-15",10,0,0,0,0,0,{"$f":"IF(N142=\"\",\"\",SUM($U$40:U142))","v":0}]
[null,9,104,"2034-11-15",10,0,0,0,0,0,{"$f":"IF(C143=\"\",\"\",SUM($J$40:J143))","v":0},null,9,104,"2034-11-15",10,0,0,0,0,0,{"$f":"IF(N143=\"\",\"\",SUM($U$40:U143))","v":0}]
[null,9,105,"2034-12-15",10,0,0,0,0,0,{"$f":"IF(C144=\"\",\"\",SUM($J$40:J144))","v":0},null,9,105,"2034-12-15",10,0,0,0,0,0,{"$f":"IF(N144=\"\",\"\",SUM($U$40:U144))","v":0}]
[null,9,106,"2035-01-15",10,0,0,0,0,0,{"$f":"IF(C145=\"\",\"\",SUM($J$40:J145))","v":0},null,9,106,"2035-01-15",10,0,0,0,0,0,{"$f":"IF(N145=\"\",\"\",SUM($U$40:U145))","v":0}]
[null,9,107,"2035-02-15",10,0,0,0,0,0,{"$f":"IF(C146=\"\",\"\",SUM($J$40:J146))","v":0},null,9,107,"2035-02-15",10,0,0,0,0,0,{"$f":"IF(N146=\"\",\"\",SUM($U$40:U146))","v":0}]
[null,9,108,"2035-03-15",10,0,0,0,0,0,{"$f":"IF(C147=\"\",\"\",SUM($J$40:J147))","v":0},null,9,108,"2035-03-15",10,0,0,0,0,0,{"$f":"IF(N147=\"\",\"\",SUM($U$40:U147))","v":0}]
[null,10,109,"2035-04-15",11,0,0,0,0,0,{"$f":"IF(C148=\"\",\"\",SUM($J$40:J148))","v":0},null,10,109,"2035-04-15",11,0,0,0,0,0,{"$f":"IF(N148=\"\",\"\",SUM($U$40:U148))","v":0}]
[null,10,110,"2035-05-15",11,0,0,0,0,0,{"$f":"IF(C149=\"\",\"\",SUM($J$40:J149))","v":0},null,10,110,"2035-05-15",11,0,0,0,0,0,{"$f":"IF(N149=\"\",\"\",SUM($U$40:U149))","v":0}]
[null,10,111,"2035-06-15",11,0,0,0,0,0,{"$f":"IF(C150=\"\",\"\",SUM($J$40:J150))","v":0},null,10,111,"2035-06-15",11,0,0,0,0,0,{"$f":"IF(N150=\"\",\"\",SUM($U$40:U150))","v":0}]
[null,10,112,"2035-07-15",11,0,0,0,0,0,{"$f":"IF(C151=\"\",\"\",SUM($J$40:J151))","v":0},null,10,112,"2035-07-15",11,0,0,0,0,0,{"$f":"IF(N151=\"\",\"\",SUM($U$40:U151))","v":0}]
[null,10,113,"2035-08-15",11,0,0,0,0,0,{"$f":"IF(C152=\"\",\"\",SUM($J$40:J152))","v":0},null,10,113,"2035-08-15",11,0,0,0,0,0,{"$f":"IF(N152=\"\",\"\",SUM($U$40:U152))","v":0}]
[null,10,114,"2035-09-15",11,0,0,0,0,0,{"$f":"IF(C153=\"\",\"\",SUM($J$40:J153))","v":0},null,10,114,"2035-09-15",11,0,0,0,0,0,{"$f":"IF(N153=\"\",\"\",SUM($U$40:U153))","v":0}]
[null,10,115,"2035-10-15",11,0,0,0,0,0,{"$f":"IF(C154=\"\",\"\",SUM($J$40:J154))","v":0},null,10,115,"2035-10-15",11,0,0,0,0,0,{"$f":"IF(N154=\"\",\"\",SUM($U$40:U154))","v":0}]
[null,10,116,"2035-11-15",11,0,0,0,0,0,{"$f":"IF(C155=\"\",\"\",SUM($J$40:J155))","v":0},null,10,116,"2035-11-15",11,0,0,0,0,0,{"$f":"IF(N155=\"\",\"\",SUM($U$40:U155))","v":0}]
[null,10,117,"2035-12-15",11,0,0,0,0,0,{"$f":"IF(C156=\"\",\"\",SUM($J$40:J156))","v":0},null,10,117,"2035-12-15",11,0,0,0,0,0,{"$f":"IF(N156=\"\",\"\",SUM($U$40:U156))","v":0}]
[null,10,118,"2036-01-15",11,0,0,0,0,0,{"$f":"IF(C157=\"\",\"\",SUM($J$40:J157))","v":0},null,10,118,"2036-01-15",11,0,0,0,0,0,{"$f":"IF(N157=\"\",\"\",SUM($U$40:U157))","v":0}]
[null,10,119,"2036-02-15",11,0,0,0,0,0,{"$f":"IF(C158=\"\",\"\",SUM($J$40:J158))","v":0},null,10,119,"2036-02-15",11,0,0,0,0,0,{"$f":"IF(N158=\"\",\"\",SUM($U$40:U158))","v":0}]
[null,10,120,"2036-03-15",11,0,0,0,0,0,{"$f":"IF(C159=\"\",\"\",SUM($J$40:J159))","v":0},null,10,120,"2036-03-15",11,0,0,0,0,0,{"$f":"IF(N159=\"\",\"\",SUM($U$40:U159))","v":0}]
[null,11,121,"2036-04-15",12,0,0,0,0,0,{"$f":"IF(C160=\"\",\"\",SUM($J$40:J160))","v":0},null,11,121,"2036-04-15",12,0,0,0,0,0,{"$f":"IF(N160=\"\",\"\",SUM($U$40:U160))","v":0}]
[null,11,122,"2036-05-15",12,0,0,0,0,0,{"$f":"IF(C161=\"\",\"\",SUM($J$40:J161))","v":0},null,11,122,"2036-05-15",12,0,0,0,0,0,{"$f":"IF(N161=\"\",\"\",SUM($U$40:U161))","v":0}]
[null,11,123,"2036-06-15",12,0,0,0,0,0,{"$f":"IF(C162=\"\",\"\",SUM($J$40:J162))","v":0},null,11,123,"2036-06-15",12,0,0,0,0,0,{"$f":"IF(N162=\"\",\"\",SUM($U$40:U162))","v":0}]
[null,11,124,"2036-07-15",12,0,0,0,0,0,{"$f":"IF(C163=\"\",\"\",SUM($J$40:J163))","v":0},null,11,124,"2036-07-15",12,0,0,0,0,0,{"$f":"IF(N163=\"\",\"\",SUM($U$40:U163))","v":0}]
[null,11,125,"2036-08-15",12,0,0,0,0,0,{"$f":"IF(C164=\"\",\"\",SUM($J$40:J164))","v":0},null,11,125,"2036-08-15",12,0,0,0,0,0,{"$f":"IF(N164=\"\",\"\",SUM($U$40:U164))","v":0}]
[null,11,126,"2036-09-15",12,0,0,0,0,0,{"$f":"IF(C165=\"\",\"\",SUM($J$40:J165))","v":0},null,11,126,"2036-09-15",12,0,0,0,0,0,{"$f":"IF(N165=\"\",\"\",SUM($U$40:U165))","v":0}]
[null,11,127,"2036-10-15",12,0,0,0,0,0,{"$f":"IF(C166=\"\",\"\",SUM($J$40:J166))","v":0},null,11,127,"2036-10-15",12,0,0,0,0,0,{"$f":"IF(N166=\"\",\"\",SUM($U$40:U166))","v":0}]
[null,11,128,"2036-11-15",12,0,0,0,0,0,{"$f":"IF(C167=\"\",\"\",SUM($J$40:J167))","v":0},null,11,128,"2036-11-15",12,0,0,0,0,0,{"$f":"IF(N167=\"\",\"\",SUM($U$40:U167))","v":0}]
[null,11,129,"2036-12-15",12,0,{"$f":"IF(C168=\"\",\"\",$D$17)","v":0},0,0,{"$f":"IF(C168=\"\",\"\",($D$15/12)*F168)","v":0},{"$f":"IF(C168=\"\",\"\",SUM($J$40:J168))","v":0},null,11,129,"2036-12-15",12,0,{"$f":"IF(N168=\"\",\"\",$D$17)","v":0},0,0,{"$f":"IF(N168=\"\",\"\",($D$15/12)*Q168)","v":0},{"$f":"IF(N168=\"\",\"\",SUM($U$40:U168))","v":0}]
[null,{"$f":"IFERROR(INT((C169-1)/12)+1,\"\")","v":11},{"$f":"IF(C168>=No_of_pymts,\"\",C168+1)","v":130},{"$f":"IF(C169=\"\",\"\",EDATE(Loan_start_date,C169))","v":"2037-01-15"},12,0,0,0,0,0,{"$f":"IF(C169=\"\",\"\",SUM($J$40:J169))","v":0},null,{"$f":"IFERROR(INT((N169-1)/12)+1,\"\")","v":11},{"$f":"IF(N168>=No_of_pymts,\"\",N168+1)","v":130},{"$f":"IF(N169=\"\",\"\",EDATE(Loan_start_date,N169))","v":"2037-01-15"},{"$f":"IF($N169=\"\",\"\",IF($E$6=\"\",$M169+1,INT(($O169-$E$6)/365)))","v":12},0,0,0,0,0,{"$f":"IF(N169=\"\",\"\",SUM($U$40:U169))","v":0}]
[null,11,131,"2037-02-15",{"$f":"IF($C170=\"\",\"\",IF($D$6=\"\",$B170+1,INT(($D170-$D$6)/365.25)))","v":12},{"$f":"IF(C170=\"\",\"\",H169)","v":0},0,{"$f":"IF(C170=\"\",\"\",IF(G170=F170,0,(F170-I170)))","v":0},{"$f":"IF(C170=\"\",\"\",G170-J170)","v":0},0,{"$f":"IF(C170=\"\",\"\",SUM($J$40:J170))","v":0},null,11,131,"2037-02-15",12,{"$f":"IF(N170=\"\",\"\",S169)","v":0},0,{"$f":"IF(N170=\"\",\"\",IF(R170=Q170,0,(Q170-T170)))","v":0},{"$f":"IF(N170=\"\",\"\",R170-U170)","v":0},0,{"$f":"IF(N170=\"\",\"\",SUM($U$40:U170))","v":0}]
[null,11,132,"2037-03-15",12,0,0,0,0,0,{"$f":"IF(C171=\"\",\"\",SUM($J$40:J171))","v":0},null,11,132,"2037-03-15",12,0,0,0,0,0,{"$f":"IF(N171=\"\",\"\",SUM($U$40:U171))","v":0}]
[null,12,133,"2037-04-15",13,0,0,0,0,0,{"$f":"IF(C172=\"\",\"\",SUM($J$40:J172))","v":0},null,12,133,"2037-04-15",13,0,0,0,0,0,{"$f":"IF(N172=\"\",\"\",SUM($U$40:U172))","v":0}]
[null,12,134,"2037-05-15",13,0,0,0,0,0,{"$f":"IF(C173=\"\",\"\",SUM($J$40:J173))","v":0},null,12,134,"2037-05-15",13,0,0,0,0,0,{"$f":"IF(N173=\"\",\"\",SUM($U$40:U173))","v":0}]
[null,12,135,"2037-06-15",13,0,0,0,0,0,{"$f":"IF(C174=\"\",\"\",SUM($J$40:J174))","v":0},null,12,135,"2037-06-15",13,0,0,0,0,0,{"$f":"IF(N174=\"\",\"\",SUM($U$40:U174))","v":0}]
[null,12,136,"2037-07-15",13,0,0,0,0,0,{"$f":"IF(C175=\"\",\"\",SUM($J$40:J175))","v":0},null,12,136,"2037-07-15",13,0,0,0,0,0,{"$f":"IF(N175=\"\",\"\",SUM($U$40:U175))","v":0}]
[null,12,137,"2037-08-15",13,0,0,0,0,0,{"$f":"IF(C176=\"\",\"\",SUM($J$40:J176))","v":0},null,12,137,"2037-08-15",13,0,0,0,0,0,{"$f":"IF(N176=\"\",\"\",SUM($U$40:U176))","v":0}]
[null,12,138,"2037-09-15",13,0,0,0,0,0,{"$f":"IF(C177=\"\",\"\",SUM($J$40:J177))","v":0},null,12,138,"2037-09-15",13,0,0,0,0,0,{"$f":"IF(N177=\"\",\"\",SUM($U$40:U177))","v":0}]
[null,12,139,"2037-10-15",13,0,0,0,0,0,{"$f":"IF(C178=\"\",\"\",SUM($J$40:J178))","v":0},null,12,139,"2037-10-15",13,0,0,0,0,0,{"$f":"IF(N178=\"\",\"\",SUM($U$40:U178))","v":0}]
[null,12,140,"2037-11-15",13,0,0,0,0,0,{"$f":"IF(C179=\"\",\"\",SUM($J$40:J179))","v":0},null,12,140,"2037-11-15",13,0,0,0,0,0,{"$f":"IF(N179=\"\",\"\",SUM($U$40:U179))","v":0}]
[null,12,141,"2037-12-15",13,0,0,0,0,0,{"$f":"IF(C180=\"\",\"\",SUM($J$40:J180))","v":0},null,12,141,"2037-12-15",13,0,0,0,0,0,{"$f":"IF(N180=\"\",\"\",SUM($U$40:U180))","v":0}]
[null,12,142,"2038-01-15",13,0,0,0,0,0,{"$f":"IF(C181=\"\",\"\",SUM($J$40:J181))","v":0},null,12,142,"2038-01-15",13,0,0,0,0,0,{"$f":"IF(N181=\"\",\"\",SUM($U$40:U181))","v":0}]
[null,12,143,"2038-02-15",13,0,0,0,0,0,{"$f":"IF(C182=\"\",\"\",SUM($J$40:J182))","v":0},null,12,143,"2038-02-15",13,0,0,0,0,0,{"$f":"IF(N182=\"\",\"\",SUM($U$40:U182))","v":0}]
[null,12,144,"2038-03-15",13,0,0,0,0,0,{"$f":"IF(C183=\"\",\"\",SUM($J$40:J183))","v":0},null,12,144,"2038-03-15",13,0,0,0,0,0,{"$f":"IF(N183=\"\",\"\",SUM($U$40:U183))","v":0}]
[null,13,145,"2038-04-15",14,0,0,0,0,0,{"$f":"IF(C184=\"\",\"\",SUM($J$40:J184))","v":0},null,13,145,"2038-04-15",14,0,0,0,0,0,{"$f":"IF(N184=\"\",\"\",SUM($U$40:U184))","v":0}]
[null,13,146,"2038-05-15",14,0,0,0,0,0,{"$f":"IF(C185=\"\",\"\",SUM($J$40:J185))","v":0},null,13,146,"2038-05-15",14,0,0,0,0,0,{"$f":"IF(N185=\"\",\"\",SUM($U$40:U185))","v":0}]
[null,13,147,"2038-06-15",14,0,0,0,0,0,{"$f":"IF(C186=\"\",\"\",SUM($J$40:J186))","v":0},null,13,147,"2038-06-15",14,0,0,0,0,0,{"$f":"IF(N186=\"\",\"\",SUM($U$40:U186))","v":0}]
[null,13,148,"2038-07-15",14,0,0,0,0,0,{"$f":"IF(C187=\"\",\"\",SUM($J$40:J187))","v":0},null,13,148,"2038-07-15",14,0,0,0,0,0,{"$f":"IF(N187=\"\",\"\",SUM($U$40:U187))","v":0}]
[null,13,149,"2038-08-15",14,0,0,0,0,0,{"$f":"IF(C188=\"\",\"\",SUM($J$40:J188))","v":0},null,13,149,"2038-08-15",14,0,0,0,0,0,{"$f":"IF(N188=\"\",\"\",SUM($U$40:U188))","v":0}]
[null,13,150,"2038-09-15",14,0,0,0,0,0,{"$f":"IF(C189=\"\",\"\",SUM($J$40:J189))","v":0},null,13,150,"2038-09-15",14,0,0,0,0,0,{"$f":"IF(N189=\"\",\"\",SUM($U$40:U189))","v":0}]
[null,13,151,"2038-10-15",14,0,0,0,0,0,{"$f":"IF(C190=\"\",\"\",SUM($J$40:J190))","v":0},null,13,151,"2038-10-15",14,0,0,0,0,0,{"$f":"IF(N190=\"\",\"\",SUM($U$40:U190))","v":0}]
[null,13,152,"2038-11-15",14,0,0,0,0,0,{"$f":"IF(C191=\"\",\"\",SUM($J$40:J191))","v":0},null,13,152,"2038-11-15",14,0,0,0,0,0,{"$f":"IF(N191=\"\",\"\",SUM($U$40:U191))","v":0}]
[null,13,153,"2038-12-15",14,0,0,0,0,0,{"$f":"IF(C192=\"\",\"\",SUM($J$40:J192))","v":0},null,13,153,"2038-12-15",14,0,0,0,0,0,{"$f":"IF(N192=\"\",\"\",SUM($U$40:U192))","v":0}]
[null,13,154,"2039-01-15",14,0,0,0,0,0,{"$f":"IF(C193=\"\",\"\",SUM($J$40:J193))","v":0},null,13,154,"2039-01-15",14,0,0,0,0,0,{"$f":"IF(N193=\"\",\"\",SUM($U$40:U193))","v":0}]
[null,13,155,"2039-02-15",14,0,0,0,0,0,{"$f":"IF(C194=\"\",\"\",SUM($J$40:J194))","v":0},null,13,155,"2039-02-15",14,0,0,0,0,0,{"$f":"IF(N194=\"\",\"\",SUM($U$40:U194))","v":0}]
[null,13,156,"2039-03-15",14,0,0,0,0,0,{"$f":"IF(C195=\"\",\"\",SUM($J$40:J195))","v":0},null,13,156,"2039-03-15",14,0,0,0,0,0,{"$f":"IF(N195=\"\",\"\",SUM($U$40:U195))","v":0}]
[null,14,157,"2039-04-15",15,0,0,0,0,0,{"$f":"IF(C196=\"\",\"\",SUM($J$40:J196))","v":0},null,14,157,"2039-04-15",15,0,0,0,0,0,{"$f":"IF(N196=\"\",\"\",SUM($U$40:U196))","v":0}]
[null,14,158,"2039-05-15",15,0,0,0,0,0,{"$f":"IF(C197=\"\",\"\",SUM($J$40:J197))","v":0},null,14,158,"2039-05-15",15,0,0,0,0,0,{"$f":"IF(N197=\"\",\"\",SUM($U$40:U197))","v":0}]
[null,14,159,"2039-06-15",15,0,0,0,0,0,{"$f":"IF(C198=\"\",\"\",SUM($J$40:J198))","v":0},null,14,159,"2039-06-15",15,0,0,0,0,0,{"$f":"IF(N198=\"\",\"\",SUM($U$40:U198))","v":0}]
[null,14,160,"2039-07-15",15,0,0,0,0,0,{"$f":"IF(C199=\"\",\"\",SUM($J$40:J199))","v":0},null,14,160,"2039-07-15",15,0,0,0,0,0,{"$f":"IF(N199=\"\",\"\",SUM($U$40:U199))","v":0}]
[null,14,161,"2039-08-15",15,0,0,0,0,0,{"$f":"IF(C200=\"\",\"\",SUM($J$40:J200))","v":0},null,14,161,"2039-08-15",15,0,0,0,0,0,{"$f":"IF(N200=\"\",\"\",SUM($U$40:U200))","v":0}]
[null,14,162,"2039-09-15",15,0,0,0,0,0,{"$f":"IF(C201=\"\",\"\",SUM($J$40:J201))","v":0},null,14,162,"2039-09-15",15,0,0,0,0,0,{"$f":"IF(N201=\"\",\"\",SUM($U$40:U201))","v":0}]
[null,14,163,"2039-10-15",15,0,0,0,0,0,{"$f":"IF(C202=\"\",\"\",SUM($J$40:J202))","v":0},null,14,163,"2039-10-15",15,0,0,0,0,0,{"$f":"IF(N202=\"\",\"\",SUM($U$40:U202))","v":0}]
[null,14,164,"2039-11-15",15,0,0,0,0,0,{"$f":"IF(C203=\"\",\"\",SUM($J$40:J203))","v":0},null,14,164,"2039-11-15",15,0,0,0,0,0,{"$f":"IF(N203=\"\",\"\",SUM($U$40:U203))","v":0}]
[null,14,165,"2039-12-15",15,0,0,0,0,0,{"$f":"IF(C204=\"\",\"\",SUM($J$40:J204))","v":0},null,14,165,"2039-12-15",15,0,0,0,0,0,{"$f":"IF(N204=\"\",\"\",SUM($U$40:U204))","v":0}]
[null,14,166,"2040-01-15",15,0,0,0,0,0,{"$f":"IF(C205=\"\",\"\",SUM($J$40:J205))","v":0},null,14,166,"2040-01-15",15,0,0,0,0,0,{"$f":"IF(N205=\"\",\"\",SUM($U$40:U205))","v":0}]
[null,14,167,"2040-02-15",15,0,0,0,0,0,{"$f":"IF(C206=\"\",\"\",SUM($J$40:J206))","v":0},null,14,167,"2040-02-15",15,0,0,0,0,0,{"$f":"IF(N206=\"\",\"\",SUM($U$40:U206))","v":0}]
[null,14,168,"2040-03-15",15,0,0,0,0,0,{"$f":"IF(C207=\"\",\"\",SUM($J$40:J207))","v":0},null,14,168,"2040-03-15",15,0,0,0,0,0,{"$f":"IF(N207=\"\",\"\",SUM($U$40:U207))","v":0}]
[null,15,169,"2040-04-15",16,0,0,0,0,0,{"$f":"IF(C208=\"\",\"\",SUM($J$40:J208))","v":0},null,15,169,"2040-04-15",16,0,0,0,0,0,{"$f":"IF(N208=\"\",\"\",SUM($U$40:U208))","v":0}]
[null,15,170,"2040-05-15",16,0,0,0,0,0,{"$f":"IF(C209=\"\",\"\",SUM($J$40:J209))","v":0},null,15,170,"2040-05-15",16,0,0,0,0,0,{"$f":"IF(N209=\"\",\"\",SUM($U$40:U209))","v":0}]
[null,15,171,"2040-06-15",16,0,0,0,0,0,{"$f":"IF(C210=\"\",\"\",SUM($J$40:J210))","v":0},null,15,171,"2040-06-15",16,0,0,0,0,0,{"$f":"IF(N210=\"\",\"\",SUM($U$40:U210))","v":0}]
[null,15,172,"2040-07-15",16,0,0,0,0,0,{"$f":"IF(C211=\"\",\"\",SUM($J$40:J211))","v":0},null,15,172,"2040-07-15",16,0,0,0,0,0,{"$f":"IF(N211=\"\",\"\",SUM($U$40:U211))","v":0}]
[null,15,173,"2040-08-15",16,0,0,0,0,0,{"$f":"IF(C212=\"\",\"\",SUM($J$40:J212))","v":0},null,15,173,"2040-08-15",16,0,0,0,0,0,{"$f":"IF(N212=\"\",\"\",SUM($U$40:U212))","v":0}]
[null,15,174,"2040-09-15",16,0,0,0,0,0,{"$f":"IF(C213=\"\",\"\",SUM($J$40:J213))","v":0},null,15,174,"2040-09-15",16,0,0,0,0,0,{"$f":"IF(N213=\"\",\"\",SUM($U$40:U213))","v":0}]
[null,15,175,"2040-10-15",16,0,0,0,0,0,{"$f":"IF(C214=\"\",\"\",SUM($J$40:J214))","v":0},null,15,175,"2040-10-15",16,0,0,0,0,0,{"$f":"IF(N214=\"\",\"\",SUM($U$40:U214))","v":0}]
[null,15,176,"2040-11-15",16,0,0,0,0,0,{"$f":"IF(C215=\"\",\"\",SUM($J$40:J215))","v":0},null,15,176,"2040-11-15",16,0,0,0,0,0,{"$f":"IF(N215=\"\",\"\",SUM($U$40:U215))","v":0}]
[null,15,177,"2040-12-15",16,0,0,0,0,0,{"$f":"IF(C216=\"\",\"\",SUM($J$40:J216))","v":0},null,15,177,"2040-12-15",16,0,0,0,0,0,{"$f":"IF(N216=\"\",\"\",SUM($U$40:U216))","v":0}]
[null,15,178,"2041-01-15",16,0,0,0,0,0,{"$f":"IF(C217=\"\",\"\",SUM($J$40:J217))","v":0},null,15,178,"2041-01-15",16,0,0,0,0,0,{"$f":"IF(N217=\"\",\"\",SUM($U$40:U217))","v":0}]
[null,15,179,"2041-02-15",16,0,0,0,0,0,{"$f":"IF(C218=\"\",\"\",SUM($J$40:J218))","v":0},null,15,179,"2041-02-15",16,0,0,0,0,0,{"$f":"IF(N218=\"\",\"\",SUM($U$40:U218))","v":0}]
[null,15,180,"2041-03-15",16,0,0,0,0,0,{"$f":"IF(C219=\"\",\"\",SUM($J$40:J219))","v":0},null,15,180,"2041-03-15",16,0,0,0,0,0,{"$f":"IF(N219=\"\",\"\",SUM($U$40:U219))","v":0}]
[null,16,181,"2041-04-15",17,0,0,0,0,0,{"$f":"IF(C220=\"\",\"\",SUM($J$40:J220))","v":0},null,16,181,"2041-04-15",17,0,0,0,0,0,{"$f":"IF(N220=\"\",\"\",SUM($U$40:U220))","v":0}]
[null,16,182,"2041-05-15",17,0,0,0,0,0,{"$f":"IF(C221=\"\",\"\",SUM($J$40:J221))","v":0},null,16,182,"2041-05-15",17,0,0,0,0,0,{"$f":"IF(N221=\"\",\"\",SUM($U$40:U221))","v":0}]
[null,16,183,"2041-06-15",17,0,0,0,0,0,{"$f":"IF(C222=\"\",\"\",SUM($J$40:J222))","v":0},null,16,183,"2041-06-15",17,0,0,0,0,0,{"$f":"IF(N222=\"\",\"\",SUM($U$40:U222))","v":0}]
[null,16,184,"2041-07-15",17,0,0,0,0,0,{"$f":"IF(C223=\"\",\"\",SUM($J$40:J223))","v":0},null,16,184,"2041-07-15",17,0,0,0,0,0,{"$f":"IF(N223=\"\",\"\",SUM($U$40:U223))","v":0}]
[null,16,185,"2041-08-15",17,0,0,0,0,0,{"$f":"IF(C224=\"\",\"\",SUM($J$40:J224))","v":0},null,16,185,"2041-08-15",17,0,0,0,0,0,{"$f":"IF(N224=\"\",\"\",SUM($U$40:U224))","v":0}]
[null,16,186,"2041-09-15",17,0,0,0,0,0,{"$f":"IF(C225=\"\",\"\",SUM($J$40:J225))","v":0},null,16,186,"2041-09-15",17,0,0,0,0,0,{"$f":"IF(N225=\"\",\"\",SUM($U$40:U225))","v":0}]
[null,16,187,"2041-10-15",17,0,0,0,0,0,{"$f":"IF(C226=\"\",\"\",SUM($J$40:J226))","v":0},null,16,187,"2041-10-15",17,0,0,0,0,0,{"$f":"IF(N226=\"\",\"\",SUM($U$40:U226))","v":0}]
[null,16,188,"2041-11-15",17,0,0,0,0,0,{"$f":"IF(C227=\"\",\"\",SUM($J$40:J227))","v":0},null,16,188,"2041-11-15",17,0,0,0,0,0,{"$f":"IF(N227=\"\",\"\",SUM($U$40:U227))","v":0}]
[null,16,189,"2041-12-15",17,0,0,0,0,0,{"$f":"IF(C228=\"\",\"\",SUM($J$40:J228))","v":0},null,16,189,"2041-12-15",17,0,0,0,0,0,{"$f":"IF(N228=\"\",\"\",SUM($U$40:U228))","v":0}]
[null,16,190,"2042-01-15",17,0,0,0,0,0,{"$f":"IF(C229=\"\",\"\",SUM($J$40:J229))","v":0},null,16,190,"2042-01-15",17,0,0,0,0,0,{"$f":"IF(N229=\"\",\"\",SUM($U$40:U229))","v":0}]
[null,16,191,"2042-02-15",17,0,0,0,0,0,{"$f":"IF(C230=\"\",\"\",SUM($J$40:J230))","v":0},null,16,191,"2042-02-15",17,0,0,0,0,0,{"$f":"IF(N230=\"\",\"\",SUM($U$40:U230))","v":0}]
[null,16,192,"2042-03-15",17,0,0,0,0,0,{"$f":"IF(C231=\"\",\"\",SUM($J$40:J231))","v":0},null,16,192,"2042-03-15",17,0,0,0,0,0,{"$f":"IF(N231=\"\",\"\",SUM($U$40:U231))","v":0}]
[null,17,193,"2042-04-15",18,0,{"$f":"IF(C232=\"\",\"\",$D$17)","v":0},0,0,{"$f":"IF(C232=\"\",\"\",($D$15/12)*F232)","v":0},{"$f":"IF(C232=\"\",\"\",SUM($J$40:J232))","v":0},null,17,193,"2042-04-15",18,0,{"$f":"IF(N232=\"\",\"\",$D$17)","v":0},0,0,{"$f":"IF(N232=\"\",\"\",($D$15/12)*Q232)","v":0},{"$f":"IF(N232=\"\",\"\",SUM($U$40:U232))","v":0}]
[null,{"$f":"IFERROR(INT((C233-1)/12)+1,\"\")","v":17},{"$f":"IF(C232>=No_of_pymts,\"\",C232+1)","v":194},{"$f":"IF(C233=\"\",\"\",EDATE(Loan_start_date,C233))","v":"2042-05-15"},18,0,0,0,0,0,{"$f":"IF(C233=\"\",\"\",SUM($J$40:J233))","v":0},null,{"$f":"IFERROR(INT((N233-1)/12)+1,\"\")","v":17},{"$f":"IF(N232>=No_of_pymts,\"\",N232+1)","v":194},{"$f":"IF(N233=\"\",\"\",EDATE(Loan_start_date,N233))","v":"2042-05-15"},{"$f":"IF($N233=\"\",\"\",IF($E$6=\"\",$M233+1,INT(($O233-$E$6)/365)))","v":18},0,0,0,0,0,{"$f":"IF(N233=\"\",\"\",SUM($U$40:U233))","v":0}]
[null,17,195,"2042-06-15",{"$f":"IF($C234=\"\",\"\",IF($D$6=\"\",$B234+1,INT(($D234-$D$6)/365.25)))","v":18},{"$f":"IF(C234=\"\",\"\",H233)","v":0},0,{"$f":"IF(C234=\"\",\"\",IF(G234=F234,0,(F234-I234)))","v":0},{"$f":"IF(C234=\"\",\"\",G234-J234)","v":0},0,{"$f":"IF(C234=\"\",\"\",SUM($J$40:J234))","v":0},null,17,195,"2042-06-15",18,{"$f":"IF(N234=\"\",\"\",S233)","v":0},0,{"$f":"IF(N234=\"\",\"\",IF(R234=Q234,0,(Q234-T234)))","v":0},{"$f":"IF(N234=\"\",\"\",R234-U234)","v":0},0,{"$f":"IF(N234=\"\",\"\",SUM($U$40:U234))","v":0}]
[null,17,196,"2042-07-15",18,0,0,0,0,0,{"$f":"IF(C235=\"\",\"\",SUM($J$40:J235))","v":0},null,17,196,"2042-07-15",18,0,0,0,0,0,{"$f":"IF(N235=\"\",\"\",SUM($U$40:U235))","v":0}]
[null,17,197,"2042-08-15",18,0,0,0,0,0,{"$f":"IF(C236=\"\",\"\",SUM($J$40:J236))","v":0},null,17,197,"2042-08-15",18,0,0,0,0,0,{"$f":"IF(N236=\"\",\"\",SUM($U$40:U236))","v":0}]
[null,17,198,"2042-09-15",18,0,0,0,0,0,{"$f":"IF(C237=\"\",\"\",SUM($J$40:J237))","v":0},null,17,198,"2042-09-15",18,0,0,0,0,0,{"$f":"IF(N237=\"\",\"\",SUM($U$40:U237))","v":0}]
[null,17,199,"2042-10-15",18,0,0,0,0,0,{"$f":"IF(C238=\"\",\"\",SUM($J$40:J238))","v":0},null,17,199,"2042-10-15",18,0,0,0,0,0,{"$f":"IF(N238=\"\",\"\",SUM($U$40:U238))","v":0}]
[null,17,200,"2042-11-15",18,0,0,0,0,0,{"$f":"IF(C239=\"\",\"\",SUM($J$40:J239))","v":0},null,17,200,"2042-11-15",18,0,0,0,0,0,{"$f":"IF(N239=\"\",\"\",SUM($U$40:U239))","v":0}]
[null,17,201,"2042-12-15",18,0,0,0,0,0,{"$f":"IF(C240=\"\",\"\",SUM($J$40:J240))","v":0},null,17,201,"2042-12-15",18,0,0,0,0,0,{"$f":"IF(N240=\"\",\"\",SUM($U$40:U240))","v":0}]
[null,17,202,"2043-01-15",18,0,0,0,0,0,{"$f":"IF(C241=\"\",\"\",SUM($J$40:J241))","v":0},null,17,202,"2043-01-15",18,0,0,0,0,0,{"$f":"IF(N241=\"\",\"\",SUM($U$40:U241))","v":0}]
[null,17,203,"2043-02-15",18,0,0,0,0,0,{"$f":"IF(C242=\"\",\"\",SUM($J$40:J242))","v":0},null,17,203,"2043-02-15",18,0,0,0,0,0,{"$f":"IF(N242=\"\",\"\",SUM($U$40:U242))","v":0}]
[null,17,204,"2043-03-15",18,0,0,0,0,0,{"$f":"IF(C243=\"\",\"\",SUM($J$40:J243))","v":0},null,17,204,"2043-03-15",18,0,0,0,0,0,{"$f":"IF(N243=\"\",\"\",SUM($U$40:U243))","v":0}]
[null,18,205,"2043-04-15",19,0,0,0,0,0,{"$f":"IF(C244=\"\",\"\",SUM($J$40:J244))","v":0},null,18,205,"2043-04-15",19,0,0,0,0,0,{"$f":"IF(N244=\"\",\"\",SUM($U$40:U244))","v":0}]
[null,18,206,"2043-05-15",19,0,0,0,0,0,{"$f":"IF(C245=\"\",\"\",SUM($J$40:J245))","v":0},null,18,206,"2043-05-15",19,0,0,0,0,0,{"$f":"IF(N245=\"\",\"\",SUM($U$40:U245))","v":0}]
[null,18,207,"2043-06-15",19,0,0,0,0,0,{"$f":"IF(C246=\"\",\"\",SUM($J$40:J246))","v":0},null,18,207,"2043-06-15",19,0,0,0,0,0,{"$f":"IF(N246=\"\",\"\",SUM($U$40:U246))","v":0}]
[null,18,208,"2043-07-15",19,0,0,0,0,0,{"$f":"IF(C247=\"\",\"\",SUM($J$40:J247))","v":0},null,18,208,"2043-07-15",19,0,0,0,0,0,{"$f":"IF(N247=\"\",\"\",SUM($U$40:U247))","v":0}]
[null,18,209,"2043-08-15",19,0,0,0,0,0,{"$f":"IF(C248=\"\",\"\",SUM($J$40:J248))","v":0},null,18,209,"2043-08-15",19,0,0,0,0,0,{"$f":"IF(N248=\"\",\"\",SUM($U$40:U248))","v":0}]
[null,18,210,"2043-09-15",19,0,0,0,0,0,{"$f":"IF(C249=\"\",\"\",SUM($J$40:J249))","v":0},null,18,210,"2043-09-15",19,0,0,0,0,0,{"$f":"IF(N249=\"\",\"\",SUM($U$40:U249))","v":0}]
[null,18,211,"2043-10-15",19,0,0,0,0,0,{"$f":"IF(C250=\"\",\"\",SUM($J$40:J250))","v":0},null,18,211,"2043-10-15",19,0,0,0,0,0,{"$f":"IF(N250=\"\",\"\",SUM($U$40:U250))","v":0}]
[null,18,212,"2043-11-15",19,0,0,0,0,0,{"$f":"IF(C251=\"\",\"\",SUM($J$40:J251))","v":0},null,18,212,"2043-11-15",19,0,0,0,0,0,{"$f":"IF(N251=\"\",\"\",SUM($U$40:U251))","v":0}]
[null,18,213,"2043-12-15",19,0,0,0,0,0,{"$f":"IF(C252=\"\",\"\",SUM($J$40:J252))","v":0},null,18,213,"2043-12-15",19,0,0,0,0,0,{"$f":"IF(N252=\"\",\"\",SUM($U$40:U252))","v":0}]
[null,18,214,"2044-01-15",19,0,0,0,0,0,{"$f":"IF(C253=\"\",\"\",SUM($J$40:J253))","v":0},null,18,214,"2044-01-15",19,0,0,0,0,0,{"$f":"IF(N253=\"\",\"\",SUM($U$40:U253))","v":0}]
[null,18,215,"2044-02-15",19,0,0,0,0,0,{"$f":"IF(C254=\"\",\"\",SUM($J$40:J254))","v":0},null,18,215,"2044-02-15",19,0,0,0,0,0,{"$f":"IF(N254=\"\",\"\",SUM($U$40:U254))","v":0}]
[null,18,216,"2044-03-15",19,0,0,0,0,0,{"$f":"IF(C255=\"\",\"\",SUM($J$40:J255))","v":0},null,18,216,"2044-03-15",19,0,0,0,0,0,{"$f":"IF(N255=\"\",\"\",SUM($U$40:U255))","v":0}]
[null,19,217,"2044-04-15",20,0,0,0,0,0,{"$f":"IF(C256=\"\",\"\",SUM($J$40:J256))","v":0},null,19,217,"2044-04-15",20,0,0,0,0,0,{"$f":"IF(N256=\"\",\"\",SUM($U$40:U256))","v":0}]
[null,19,218,"2044-05-15",20,0,0,0,0,0,{"$f":"IF(C257=\"\",\"\",SUM($J$40:J257))","v":0},null,19,218,"2044-05-15",20,0,0,0,0,0,{"$f":"IF(N257=\"\",\"\",SUM($U$40:U257))","v":0}]
[null,19,219,"2044-06-15",20,0,0,0,0,0,{"$f":"IF(C258=\"\",\"\",SUM($J$40:J258))","v":0},null,19,219,"2044-06-15",20,0,0,0,0,0,{"$f":"IF(N258=\"\",\"\",SUM($U$40:U258))","v":0}]
[null,19,220,"2044-07-15",20,0,0,0,0,0,{"$f":"IF(C259=\"\",\"\",SUM($J$40:J259))","v":0},null,19,220,"2044-07-15",20,0,0,0,0,0,{"$f":"IF(N259=\"\",\"\",SUM($U$40:U259))","v":0}]
[null,19,221,"2044-08-15",20,0,0,0,0,0,{"$f":"IF(C260=\"\",\"\",SUM($J$40:J260))","v":0},null,19,221,"2044-08-15",20,0,0,0,0,0,{"$f":"IF(N260=\"\",\"\",SUM($U$40:U260))","v":0}]
[null,19,222,"2044-09-15",20,0,0,0,0,0,{"$f":"IF(C261=\"\",\"\",SUM($J$40:J261))","v":0},null,19,222,"2044-09-15",20,0,0,0,0,0,{"$f":"IF(N261=\"\",\"\",SUM($U$40:U261))","v":0}]
[null,19,223,"2044-10-15",20,0,0,0,0,0,{"$f":"IF(C262=\"\",\"\",SUM($J$40:J262))","v":0},null,19,223,"2044-10-15",20,0,0,0,0,0,{"$f":"IF(N262=\"\",\"\",SUM($U$40:U262))","v":0}]
[null,19,224,"2044-11-15",20,0,0,0,0,0,{"$f":"IF(C263=\"\",\"\",SUM($J$40:J263))","v":0},null,19,224,"2044-11-15",20,0,0,0,0,0,{"$f":"IF(N263=\"\",\"\",SUM($U$40:U263))","v":0}]
[null,19,225,"2044-12-15",20,0,0,0,0,0,{"$f":"IF(C264=\"\",\"\",SUM($J$40:J264))","v":0},null,19,225,"2044-12-15",20,0,0,0,0,0,{"$f":"IF(N264=\"\",\"\",SUM($U$40:U264))","v":0}]
[null,19,226,"2045-01-15",20,0,0,0,0,0,{"$f":"IF(C265=\"\",\"\",SUM($J$40:J265))","v":0},null,19,226,"2045-01-15",20,0,0,0,0,0,{"$f":"IF(N265=\"\",\"\",SUM($U$40:U265))","v":0}]
[null,19,227,"2045-02-15",20,0,0,0,0,0,{"$f":"IF(C266=\"\",\"\",SUM($J$40:J266))","v":0},null,19,227,"2045-02-15",20,0,0,0,0,0,{"$f":"IF(N266=\"\",\"\",SUM($U$40:U266))","v":0}]
[null,19,228,"2045-03-15",20,0,0,0,0,0,{"$f":"IF(C267=\"\",\"\",SUM($J$40:J267))","v":0},null,19,228,"2045-03-15",20,0,0,0,0,0,{"$f":"IF(N267=\"\",\"\",SUM($U$40:U267))","v":0}]
[null,20,229,"2045-04-15",21,0,0,0,0,0,{"$f":"IF(C268=\"\",\"\",SUM($J$40:J268))","v":0},null,20,229,"2045-04-15",21,0,0,0,0,0,{"$f":"IF(N268=\"\",\"\",SUM($U$40:U268))","v":0}]
[null,20,230,"2045-05-15",21,0,0,0,0,0,{"$f":"IF(C269=\"\",\"\",SUM($J$40:J269))","v":0},null,20,230,"2045-05-15",21,0,0,0,0,0,{"$f":"IF(N269=\"\",\"\",SUM($U$40:U269))","v":0}]
[null,20,231,"2045-06-15",21,0,0,0,0,0,{"$f":"IF(C270=\"\",\"\",SUM($J$40:J270))","v":0},null,20,231,"2045-06-15",21,0,0,0,0,0,{"$f":"IF(N270=\"\",\"\",SUM($U$40:U270))","v":0}]
[null,20,232,"2045-07-15",21,0,0,0,0,0,{"$f":"IF(C271=\"\",\"\",SUM($J$40:J271))","v":0},null,20,232,"2045-07-15",21,0,0,0,0,0,{"$f":"IF(N271=\"\",\"\",SUM($U$40:U271))","v":0}]
[null,20,233,"2045-08-15",21,0,0,0,0,0,{"$f":"IF(C272=\"\",\"\",SUM($J$40:J272))","v":0},null,20,233,"2045-08-15",21,0,0,0,0,0,{"$f":"IF(N272=\"\",\"\",SUM($U$40:U272))","v":0}]
[null,20,234,"2045-09-15",21,0,0,0,0,0,{"$f":"IF(C273=\"\",\"\",SUM($J$40:J273))","v":0},null,20,234,"2045-09-15",21,0,0,0,0,0,{"$f":"IF(N273=\"\",\"\",SUM($U$40:U273))","v":0}]
[null,20,235,"2045-10-15",21,0,0,0,0,0,{"$f":"IF(C274=\"\",\"\",SUM($J$40:J274))","v":0},null,20,235,"2045-10-15",21,0,0,0,0,0,{"$f":"IF(N274=\"\",\"\",SUM($U$40:U274))","v":0}]
[null,20,236,"2045-11-15",21,0,0,0,0,0,{"$f":"IF(C275=\"\",\"\",SUM($J$40:J275))","v":0},null,20,236,"2045-11-15",21,0,0,0,0,0,{"$f":"IF(N275=\"\",\"\",SUM($U$40:U275))","v":0}]
[null,20,237,"2045-12-15",21,0,0,0,0,0,{"$f":"IF(C276=\"\",\"\",SUM($J$40:J276))","v":0},null,20,237,"2045-12-15",21,0,0,0,0,0,{"$f":"IF(N276=\"\",\"\",SUM($U$40:U276))","v":0}]
[null,20,238,"2046-01-15",21,0,0,0,0,0,{"$f":"IF(C277=\"\",\"\",SUM($J$40:J277))","v":0},null,20,238,"2046-01-15",21,0,0,0,0,0,{"$f":"IF(N277=\"\",\"\",SUM($U$40:U277))","v":0}]
[null,20,239,"2046-02-15",21,0,0,0,0,0,{"$f":"IF(C278=\"\",\"\",SUM($J$40:J278))","v":0},null,20,239,"2046-02-15",21,0,0,0,0,0,{"$f":"IF(N278=\"\",\"\",SUM($U$40:U278))","v":0}]
[null,20,240,"2046-03-15",21,0,0,0,0,0,{"$f":"IF(C279=\"\",\"\",SUM($J$40:J279))","v":0},null,20,240,"2046-03-15",21,0,0,0,0,0,{"$f":"IF(N279=\"\",\"\",SUM($U$40:U279))","v":0}]
[null,21,241,"2046-04-15",22,0,0,0,0,0,{"$f":"IF(C280=\"\",\"\",SUM($J$40:J280))","v":0},null,21,241,"2046-04-15",22,0,0,0,0,0,{"$f":"IF(N280=\"\",\"\",SUM($U$40:U280))","v":0}]
[null,21,242,"2046-05-15",22,0,0,0,0,0,{"$f":"IF(C281=\"\",\"\",SUM($J$40:J281))","v":0},null,21,242,"2046-05-15",22,0,0,0,0,0,{"$f":"IF(N281=\"\",\"\",SUM($U$40:U281))","v":0}]
[null,21,243,"2046-06-15",22,0,0,0,0,0,{"$f":"IF(C282=\"\",\"\",SUM($J$40:J282))","v":0},null,21,243,"2046-06-15",22,0,0,0,0,0,{"$f":"IF(N282=\"\",\"\",SUM($U$40:U282))","v":0}]
[null,21,244,"2046-07-15",22,0,0,0,0,0,{"$f":"IF(C283=\"\",\"\",SUM($J$40:J283))","v":0},null,21,244,"2046-07-15",22,0,0,0,0,0,{"$f":"IF(N283=\"\",\"\",SUM($U$40:U283))","v":0}]
[null,21,245,"2046-08-15",22,0,0,0,0,0,{"$f":"IF(C284=\"\",\"\",SUM($J$40:J284))","v":0},null,21,245,"2046-08-15",22,0,0,0,0,0,{"$f":"IF(N284=\"\",\"\",SUM($U$40:U284))","v":0}]
[null,21,246,"2046-09-15",22,0,0,0,0,0,{"$f":"IF(C285=\"\",\"\",SUM($J$40:J285))","v":0},null,21,246,"2046-09-15",22,0,0,0,0,0,{"$f":"IF(N285=\"\",\"\",SUM($U$40:U285))","v":0}]
[null,21,247,"2046-10-15",22,0,0,0,0,0,{"$f":"IF(C286=\"\",\"\",SUM($J$40:J286))","v":0},null,21,247,"2046-10-15",22,0,0,0,0,0,{"$f":"IF(N286=\"\",\"\",SUM($U$40:U286))","v":0}]
[null,21,248,"2046-11-15",22,0,0,0,0,0,{"$f":"IF(C287=\"\",\"\",SUM($J$40:J287))","v":0},null,21,248,"2046-11-15",22,0,0,0,0,0,{"$f":"IF(N287=\"\",\"\",SUM($U$40:U287))","v":0}]
[null,21,249,"2046-12-15",22,0,0,0,0,0,{"$f":"IF(C288=\"\",\"\",SUM($J$40:J288))","v":0},null,21,249,"2046-12-15",22,0,0,0,0,0,{"$f":"IF(N288=\"\",\"\",SUM($U$40:U288))","v":0}]
[null,21,250,"2047-01-15",22,0,0,0,0,0,{"$f":"IF(C289=\"\",\"\",SUM($J$40:J289))","v":0},null,21,250,"2047-01-15",22,0,0,0,0,0,{"$f":"IF(N289=\"\",\"\",SUM($U$40:U289))","v":0}]
[null,21,251,"2047-02-15",22,0,0,0,0,0,{"$f":"IF(C290=\"\",\"\",SUM($J$40:J290))","v":0},null,21,251,"2047-02-15",22,0,0,0,0,0,{"$f":"IF(N290=\"\",\"\",SUM($U$40:U290))","v":0}]
[null,21,252,"2047-03-15",22,0,0,0,0,0,{"$f":"IF(C291=\"\",\"\",SUM($J$40:J291))","v":0},null,21,252,"2047-03-15",22,0,0,0,0,0,{"$f":"IF(N291=\"\",\"\",SUM($U$40:U291))","v":0}]
[null,22,253,"2047-04-15",23,0,0,0,0,0,{"$f":"IF(C292=\"\",\"\",SUM($J$40:J292))","v":0},null,22,253,"2047-04-15",23,0,0,0,0,0,{"$f":"IF(N292=\"\",\"\",SUM($U$40:U292))","v":0}]
[null,22,254,"2047-05-15",23,0,0,0,0,0,{"$f":"IF(C293=\"\",\"\",SUM($J$40:J293))","v":0},null,22,254,"2047-05-15",23,0,0,0,0,0,{"$f":"IF(N293=\"\",\"\",SUM($U$40:U293))","v":0}]
[null,22,255,"2047-06-15",23,0,0,0,0,0,{"$f":"IF(C294=\"\",\"\",SUM($J$40:J294))","v":0},null,22,255,"2047-06-15",23,0,0,0,0,0,{"$f":"IF(N294=\"\",\"\",SUM($U$40:U294))","v":0}]
[null,22,256,"2047-07-15",23,0,0,0,0,0,{"$f":"IF(C295=\"\",\"\",SUM($J$40:J295))","v":0},null,22,256,"2047-07-15",23,0,0,0,0,0,{"$f":"IF(N295=\"\",\"\",SUM($U$40:U295))","v":0}]
[null,22,257,"2047-08-15",23,0,{"$f":"IF(C296=\"\",\"\",$D$17)","v":0},0,0,{"$f":"IF(C296=\"\",\"\",($D$15/12)*F296)","v":0},{"$f":"IF(C296=\"\",\"\",SUM($J$40:J296))","v":0},null,22,257,"2047-08-15",23,0,{"$f":"IF(N296=\"\",\"\",$D$17)","v":0},0,0,{"$f":"IF(N296=\"\",\"\",($D$15/12)*Q296)","v":0},{"$f":"IF(N296=\"\",\"\",SUM($U$40:U296))","v":0}]
[null,{"$f":"IFERROR(INT((C297-1)/12)+1,\"\")","v":22},{"$f":"IF(C296>=No_of_pymts,\"\",C296+1)","v":258},{"$f":"IF(C297=\"\",\"\",EDATE(Loan_start_date,C297))","v":"2047-09-15"},23,0,0,0,0,0,{"$f":"IF(C297=\"\",\"\",SUM($J$40:J297))","v":0},null,{"$f":"IFERROR(INT((N297-1)/12)+1,\"\")","v":22},{"$f":"IF(N296>=No_of_pymts,\"\",N296+1)","v":258},{"$f":"IF(N297=\"\",\"\",EDATE(Loan_start_date,N297))","v":"2047-09-15"},{"$f":"IF($N297=\"\",\"\",IF($E$6=\"\",$M297+1,INT(($O297-$E$6)/365)))","v":23},0,0,0,0,0,{"$f":"IF(N297=\"\",\"\",SUM($U$40:U297))","v":0}]
[null,22,259,"2047-10-15",{"$f":"IF($C298=\"\",\"\",IF($D$6=\"\",$B298+1,INT(($D298-$D$6)/365.25)))","v":23},{"$f":"IF(C298=\"\",\"\",H297)","v":0},0,{"$f":"IF(C298=\"\",\"\",IF(G298=F298,0,(F298-I298)))","v":0},{"$f":"IF(C298=\"\",\"\",G298-J298)","v":0},0,{"$f":"IF(C298=\"\",\"\",SUM($J$40:J298))","v":0},null,22,259,"2047-10-15",23,{"$f":"IF(N298=\"\",\"\",S297)","v":0},0,{"$f":"IF(N298=\"\",\"\",IF(R298=Q298,0,(Q298-T298)))","v":0},{"$f":"IF(N298=\"\",\"\",R298-U298)","v":0},0,{"$f":"IF(N298=\"\",\"\",SUM($U$40:U298))","v":0}]
[null,22,260,"2047-11-15",23,0,0,0,0,0,{"$f":"IF(C299=\"\",\"\",SUM($J$40:J299))","v":0},null,22,260,"2047-11-15",23,0,0,0,0,0,{"$f":"IF(N299=\"\",\"\",SUM($U$40:U299))","v":0}]
[null,22,261,"2047-12-15",23,0,0,0,0,0,{"$f":"IF(C300=\"\",\"\",SUM($J$40:J300))","v":0},null,22,261,"2047-12-15",23,0,0,0,0,0,{"$f":"IF(N300=\"\",\"\",SUM($U$40:U300))","v":0}]
[null,22,262,"2048-01-15",23,0,0,0,0,0,{"$f":"IF(C301=\"\",\"\",SUM($J$40:J301))","v":0},null,22,262,"2048-01-15",23,0,0,0,0,0,{"$f":"IF(N301=\"\",\"\",SUM($U$40:U301))","v":0}]
[null,22,263,"2048-02-15",23,0,0,0,0,0,{"$f":"IF(C302=\"\",\"\",SUM($J$40:J302))","v":0},null,22,263,"2048-02-15",23,0,0,0,0,0,{"$f":"IF(N302=\"\",\"\",SUM($U$40:U302))","v":0}]
[null,22,264,"2048-03-15",23,0,0,0,0,0,{"$f":"IF(C303=\"\",\"\",SUM($J$40:J303))","v":0},null,22,264,"2048-03-15",23,0,0,0,0,0,{"$f":"IF(N303=\"\",\"\",SUM($U$40:U303))","v":0}]
[null,23,265,"2048-04-15",24,0,0,0,0,0,{"$f":"IF(C304=\"\",\"\",SUM($J$40:J304))","v":0},null,23,265,"2048-04-15",24,0,0,0,0,0,{"$f":"IF(N304=\"\",\"\",SUM($U$40:U304))","v":0}]
[null,23,266,"2048-05-15",24,0,0,0,0,0,{"$f":"IF(C305=\"\",\"\",SUM($J$40:J305))","v":0},null,23,266,"2048-05-15",24,0,0,0,0,0,{"$f":"IF(N305=\"\",\"\",SUM($U$40:U305))","v":0}]
[null,23,267,"2048-06-15",24,0,0,0,0,0,{"$f":"IF(C306=\"\",\"\",SUM($J$40:J306))","v":0},null,23,267,"2048-06-15",24,0,0,0,0,0,{"$f":"IF(N306=\"\",\"\",SUM($U$40:U306))","v":0}]
[null,23,268,"2048-07-15",24,0,0,0,0,0,{"$f":"IF(C307=\"\",\"\",SUM($J$40:J307))","v":0},null,23,268,"2048-07-15",24,0,0,0,0,0,{"$f":"IF(N307=\"\",\"\",SUM($U$40:U307))","v":0}]
[null,23,269,"2048-08-15",24,0,0,0,0,0,{"$f":"IF(C308=\"\",\"\",SUM($J$40:J308))","v":0},null,23,269,"2048-08-15",24,0,0,0,0,0,{"$f":"IF(N308=\"\",\"\",SUM($U$40:U308))","v":0}]
[null,23,270,"2048-09-15",24,0,0,0,0,0,{"$f":"IF(C309=\"\",\"\",SUM($J$40:J309))","v":0},null,23,270,"2048-09-15",24,0,0,0,0,0,{"$f":"IF(N309=\"\",\"\",SUM($U$40:U309))","v":0}]
[null,23,271,"2048-10-15",24,0,0,0,0,0,{"$f":"IF(C310=\"\",\"\",SUM($J$40:J310))","v":0},null,23,271,"2048-10-15",24,0,0,0,0,0,{"$f":"IF(N310=\"\",\"\",SUM($U$40:U310))","v":0}]
[null,23,272,"2048-11-15",24,0,0,0,0,0,{"$f":"IF(C311=\"\",\"\",SUM($J$40:J311))","v":0},null,23,272,"2048-11-15",24,0,0,0,0,0,{"$f":"IF(N311=\"\",\"\",SUM($U$40:U311))","v":0}]
[null,23,273,"2048-12-15",24,0,0,0,0,0,{"$f":"IF(C312=\"\",\"\",SUM($J$40:J312))","v":0},null,23,273,"2048-12-15",24,0,0,0,0,0,{"$f":"IF(N312=\"\",\"\",SUM($U$40:U312))","v":0}]
[null,23,274,"2049-01-15",24,0,0,0,0,0,{"$f":"IF(C313=\"\",\"\",SUM($J$40:J313))","v":0},null,23,274,"2049-01-15",24,0,0,0,0,0,{"$f":"IF(N313=\"\",\"\",SUM($U$40:U313))","v":0}]
[null,23,275,"2049-02-15",24,0,0,0,0,0,{"$f":"IF(C314=\"\",\"\",SUM($J$40:J314))","v":0},null,23,275,"2049-02-15",24,0,0,0,0,0,{"$f":"IF(N314=\"\",\"\",SUM($U$40:U314))","v":0}]
[null,23,276,"2049-03-15",24,0,0,0,0,0,{"$f":"IF(C315=\"\",\"\",SUM($J$40:J315))","v":0},null,23,276,"2049-03-15",24,0,0,0,0,0,{"$f":"IF(N315=\"\",\"\",SUM($U$40:U315))","v":0}]
[null,24,277,"2049-04-15",25,0,0,0,0,0,{"$f":"IF(C316=\"\",\"\",SUM($J$40:J316))","v":0},null,24,277,"2049-04-15",25,0,0,0,0,0,{"$f":"IF(N316=\"\",\"\",SUM($U$40:U316))","v":0}]
[null,24,278,"2049-05-15",25,0,0,0,0,0,{"$f":"IF(C317=\"\",\"\",SUM($J$40:J317))","v":0},null,24,278,"2049-05-15",25,0,0,0,0,0,{"$f":"IF(N317=\"\",\"\",SUM($U$40:U317))","v":0}]
[null,24,279,"2049-06-15",25,0,0,0,0,0,{"$f":"IF(C318=\"\",\"\",SUM($J$40:J318))","v":0},null,24,279,"2049-06-15",25,0,0,0,0,0,{"$f":"IF(N318=\"\",\"\",SUM($U$40:U318))","v":0}]
[null,24,280,"2049-07-15",25,0,0,0,0,0,{"$f":"IF(C319=\"\",\"\",SUM($J$40:J319))","v":0},null,24,280,"2049-07-15",25,0,0,0,0,0,{"$f":"IF(N319=\"\",\"\",SUM($U$40:U319))","v":0}]
[null,24,281,"2049-08-15",25,0,0,0,0,0,{"$f":"IF(C320=\"\",\"\",SUM($J$40:J320))","v":0},null,24,281,"2049-08-15",25,0,0,0,0,0,{"$f":"IF(N320=\"\",\"\",SUM($U$40:U320))","v":0}]
[null,24,282,"2049-09-15",25,0,0,0,0,0,{"$f":"IF(C321=\"\",\"\",SUM($J$40:J321))","v":0},null,24,282,"2049-09-15",25,0,0,0,0,0,{"$f":"IF(N321=\"\",\"\",SUM($U$40:U321))","v":0}]
[null,24,283,"2049-10-15",25,0,0,0,0,0,{"$f":"IF(C322=\"\",\"\",SUM($J$40:J322))","v":0},null,24,283,"2049-10-15",25,0,0,0,0,0,{"$f":"IF(N322=\"\",\"\",SUM($U$40:U322))","v":0}]
[null,24,284,"2049-11-15",25,0,0,0,0,0,{"$f":"IF(C323=\"\",\"\",SUM($J$40:J323))","v":0},null,24,284,"2049-11-15",25,0,0,0,0,0,{"$f":"IF(N323=\"\",\"\",SUM($U$40:U323))","v":0}]
[null,24,285,"2049-12-15",25,0,0,0,0,0,{"$f":"IF(C324=\"\",\"\",SUM($J$40:J324))","v":0},null,24,285,"2049-12-15",25,0,0,0,0,0,{"$f":"IF(N324=\"\",\"\",SUM($U$40:U324))","v":0}]
[null,24,286,"2050-01-15",25,0,0,0,0,0,{"$f":"IF(C325=\"\",\"\",SUM($J$40:J325))","v":0},null,24,286,"2050-01-15",25,0,0,0,0,0,{"$f":"IF(N325=\"\",\"\",SUM($U$40:U325))","v":0}]
[null,24,287,"2050-02-15",25,0,0,0,0,0,{"$f":"IF(C326=\"\",\"\",SUM($J$40:J326))","v":0},null,24,287,"2050-02-15",25,0,0,0,0,0,{"$f":"IF(N326=\"\",\"\",SUM($U$40:U326))","v":0}]
[null,24,288,"2050-03-15",25,0,0,0,0,0,{"$f":"IF(C327=\"\",\"\",SUM($J$40:J327))","v":0},null,24,288,"2050-03-15",25,0,0,0,0,0,{"$f":"IF(N327=\"\",\"\",SUM($U$40:U327))","v":0}]
[null,25,289,"2050-04-15",26,0,0,0,0,0,{"$f":"IF(C328=\"\",\"\",SUM($J$40:J328))","v":0},null,25,289,"2050-04-15",26,0,0,0,0,0,{"$f":"IF(N328=\"\",\"\",SUM($U$40:U328))","v":0}]
[null,25,290,"2050-05-15",26,0,0,0,0,0,{"$f":"IF(C329=\"\",\"\",SUM($J$40:J329))","v":0},null,25,290,"2050-05-15",26,0,0,0,0,0,{"$f":"IF(N329=\"\",\"\",SUM($U$40:U329))","v":0}]
[null,25,291,"2050-06-15",26,0,0,0,0,0,{"$f":"IF(C330=\"\",\"\",SUM($J$40:J330))","v":0},null,25,291,"2050-06-15",26,0,0,0,0,0,{"$f":"IF(N330=\"\",\"\",SUM($U$40:U330))","v":0}]
[null,25,292,"2050-07-15",26,0,0,0,0,0,{"$f":"IF(C331=\"\",\"\",SUM($J$40:J331))","v":0},null,25,292,"2050-07-15",26,0,0,0,0,0,{"$f":"IF(N331=\"\",\"\",SUM($U$40:U331))","v":0}]
[null,25,293,"2050-08-15",26,0,0,0,0,0,{"$f":"IF(C332=\"\",\"\",SUM($J$40:J332))","v":0},null,25,293,"2050-08-15",26,0,0,0,0,0,{"$f":"IF(N332=\"\",\"\",SUM($U$40:U332))","v":0}]
[null,25,294,"2050-09-15",26,0,0,0,0,0,{"$f":"IF(C333=\"\",\"\",SUM($J$40:J333))","v":0},null,25,294,"2050-09-15",26,0,0,0,0,0,{"$f":"IF(N333=\"\",\"\",SUM($U$40:U333))","v":0}]
[null,25,295,"2050-10-15",26,0,0,0,0,0,{"$f":"IF(C334=\"\",\"\",SUM($J$40:J334))","v":0},null,25,295,"2050-10-15",26,0,0,0,0,0,{"$f":"IF(N334=\"\",\"\",SUM($U$40:U334))","v":0}]
[null,25,296,"2050-11-15",26,0,0,0,0,0,{"$f":"IF(C335=\"\",\"\",SUM($J$40:J335))","v":0},null,25,296,"2050-11-15",26,0,0,0,0,0,{"$f":"IF(N335=\"\",\"\",SUM($U$40:U335))","v":0}]
[null,25,297,"2050-12-15",26,0,0,0,0,0,{"$f":"IF(C336=\"\",\"\",SUM($J$40:J336))","v":0},null,25,297,"2050-12-15",26,0,0,0,0,0,{"$f":"IF(N336=\"\",\"\",SUM($U$40:U336))","v":0}]
[null,25,298,"2051-01-15",26,0,0,0,0,0,{"$f":"IF(C337=\"\",\"\",SUM($J$40:J337))","v":0},null,25,298,"2051-01-15",26,0,0,0,0,0,{"$f":"IF(N337=\"\",\"\",SUM($U$40:U337))","v":0}]
[null,25,299,"2051-02-15",26,0,0,0,0,0,{"$f":"IF(C338=\"\",\"\",SUM($J$40:J338))","v":0},null,25,299,"2051-02-15",26,0,0,0,0,0,{"$f":"IF(N338=\"\",\"\",SUM($U$40:U338))","v":0}]
[null,25,300,"2051-03-15",26,0,0,0,0,0,{"$f":"IF(C339=\"\",\"\",SUM($J$40:J339))","v":0},null,25,300,"2051-03-15",26,0,0,0,0,0,{"$f":"IF(N339=\"\",\"\",SUM($U$40:U339))","v":0}]
[null,26,301,"2051-04-15",27,0,0,0,0,0,{"$f":"IF(C340=\"\",\"\",SUM($J$40:J340))","v":0},null,26,301,"2051-04-15",27,0,0,0,0,0,{"$f":"IF(N340=\"\",\"\",SUM($U$40:U340))","v":0}]
[null,26,302,"2051-05-15",27,0,0,0,0,0,{"$f":"IF(C341=\"\",\"\",SUM($J$40:J341))","v":0},null,26,302,"2051-05-15",27,0,0,0,0,0,{"$f":"IF(N341=\"\",\"\",SUM($U$40:U341))","v":0}]
[null,26,303,"2051-06-15",27,0,0,0,0,0,{"$f":"IF(C342=\"\",\"\",SUM($J$40:J342))","v":0},null,26,303,"2051-06-15",27,0,0,0,0,0,{"$f":"IF(N342=\"\",\"\",SUM($U$40:U342))","v":0}]
[null,26,304,"2051-07-15",27,0,0,0,0,0,{"$f":"IF(C343=\"\",\"\",SUM($J$40:J343))","v":0},null,26,304,"2051-07-15",27,0,0,0,0,0,{"$f":"IF(N343=\"\",\"\",SUM($U$40:U343))","v":0}]
[null,26,305,"2051-08-15",27,0,0,0,0,0,{"$f":"IF(C344=\"\",\"\",SUM($J$40:J344))","v":0},null,26,305,"2051-08-15",27,0,0,0,0,0,{"$f":"IF(N344=\"\",\"\",SUM($U$40:U344))","v":0}]
[null,26,306,"2051-09-15",27,0,0,0,0,0,{"$f":"IF(C345=\"\",\"\",SUM($J$40:J345))","v":0},null,26,306,"2051-09-15",27,0,0,0,0,0,{"$f":"IF(N345=\"\",\"\",SUM($U$40:U345))","v":0}]
[null,26,307,"2051-10-15",27,0,0,0,0,0,{"$f":"IF(C346=\"\",\"\",SUM($J$40:J346))","v":0},null,26,307,"2051-10-15",27,0,0,0,0,0,{"$f":"IF(N346=\"\",\"\",SUM($U$40:U346))","v":0}]
[null,26,308,"2051-11-15",27,0,0,0,0,0,{"$f":"IF(C347=\"\",\"\",SUM($J$40:J347))","v":0},null,26,308,"2051-11-15",27,0,0,0,0,0,{"$f":"IF(N347=\"\",\"\",SUM($U$40:U347))","v":0}]
[null,26,309,"2051-12-15",27,0,0,0,0,0,{"$f":"IF(C348=\"\",\"\",SUM($J$40:J348))","v":0},null,26,309,"2051-12-15",27,0,0,0,0,0,{"$f":"IF(N348=\"\",\"\",SUM($U$40:U348))","v":0}]
[null,26,310,"2052-01-15",27,0,0,0,0,0,{"$f":"IF(C349=\"\",\"\",SUM($J$40:J349))","v":0},null,26,310,"2052-01-15",27,0,0,0,0,0,{"$f":"IF(N349=\"\",\"\",SUM($U$40:U349))","v":0}]
[null,26,311,"2052-02-15",27,0,0,0,0,0,{"$f":"IF(C350=\"\",\"\",SUM($J$40:J350))","v":0},null,26,311,"2052-02-15",27,0,0,0,0,0,{"$f":"IF(N350=\"\",\"\",SUM($U$40:U350))","v":0}]
[null,26,312,"2052-03-15",27,0,0,0,0,0,{"$f":"IF(C351=\"\",\"\",SUM($J$40:J351))","v":0},null,26,312,"2052-03-15",27,0,0,0,0,0,{"$f":"IF(N351=\"\",\"\",SUM($U$40:U351))","v":0}]
[null,27,313,"2052-04-15",28,0,0,0,0,0,{"$f":"IF(C352=\"\",\"\",SUM($J$40:J352))","v":0},null,27,313,"2052-04-15",28,0,0,0,0,0,{"$f":"IF(N352=\"\",\"\",SUM($U$40:U352))","v":0}]
[null,27,314,"2052-05-15",28,0,0,0,0,0,{"$f":"IF(C353=\"\",\"\",SUM($J$40:J353))","v":0},null,27,314,"2052-05-15",28,0,0,0,0,0,{"$f":"IF(N353=\"\",\"\",SUM($U$40:U353))","v":0}]
[null,27,315,"2052-06-15",28,0,0,0,0,0,{"$f":"IF(C354=\"\",\"\",SUM($J$40:J354))","v":0},null,27,315,"2052-06-15",28,0,0,0,0,0,{"$f":"IF(N354=\"\",\"\",SUM($U$40:U354))","v":0}]
[null,27,316,"2052-07-15",28,0,0,0,0,0,{"$f":"IF(C355=\"\",\"\",SUM($J$40:J355))","v":0},null,27,316,"2052-07-15",28,0,0,0,0,0,{"$f":"IF(N355=\"\",\"\",SUM($U$40:U355))","v":0}]
[null,27,317,"2052-08-15",28,0,0,0,0,0,{"$f":"IF(C356=\"\",\"\",SUM($J$40:J356))","v":0},null,27,317,"2052-08-15",28,0,0,0,0,0,{"$f":"IF(N356=\"\",\"\",SUM($U$40:U356))","v":0}]
[null,27,318,"2052-09-15",28,0,0,0,0,0,{"$f":"IF(C357=\"\",\"\",SUM($J$40:J357))","v":0},null,27,318,"2052-09-15",28,0,0,0,0,0,{"$f":"IF(N357=\"\",\"\",SUM($U$40:U357))","v":0}]
[null,27,319,"2052-10-15",28,0,0,0,0,0,{"$f":"IF(C358=\"\",\"\",SUM($J$40:J358))","v":0},null,27,319,"2052-10-15",28,0,0,0,0,0,{"$f":"IF(N358=\"\",\"\",SUM($U$40:U358))","v":0}]
[null,27,320,"2052-11-15",28,0,0,0,0,0,{"$f":"IF(C359=\"\",\"\",SUM($J$40:J359))","v":0},null,27,320,"2052-11-15",28,0,0,0,0,0,{"$f":"IF(N359=\"\",\"\",SUM($U$40:U359))","v":0}]
[null,27,321,"2052-12-15",28,0,{"$f":"IF(C360=\"\",\"\",$D$17)","v":0},0,0,{"$f":"IF(C360=\"\",\"\",($D$15/12)*F360)","v":0},{"$f":"IF(C360=\"\",\"\",SUM($J$40:J360))","v":0},null,27,321,"2052-12-15",28,0,{"$f":"IF(N360=\"\",\"\",$D$17)","v":0},0,0,{"$f":"IF(N360=\"\",\"\",($D$15/12)*Q360)","v":0},{"$f":"IF(N360=\"\",\"\",SUM($U$40:U360))","v":0}]
[null,{"$f":"IFERROR(INT((C361-1)/12)+1,\"\")","v":27},{"$f":"IF(C360>=No_of_pymts,\"\",C360+1)","v":322},{"$f":"IF(C361=\"\",\"\",EDATE(Loan_start_date,C361))","v":"2053-01-15"},28,0,0,0,0,0,{"$f":"IF(C361=\"\",\"\",SUM($J$40:J361))","v":0},null,{"$f":"IFERROR(INT((N361-1)/12)+1,\"\")","v":27},{"$f":"IF(N360>=No_of_pymts,\"\",N360+1)","v":322},{"$f":"IF(N361=\"\",\"\",EDATE(Loan_start_date,N361))","v":"2053-01-15"},{"$f":"IF($N361=\"\",\"\",IF($E$6=\"\",$M361+1,INT(($O361-$E$6)/365)))","v":28},0,0,0,0,0,{"$f":"IF(N361=\"\",\"\",SUM($U$40:U361))","v":0}]
[null,27,323,"2053-02-15",{"$f":"IF($C362=\"\",\"\",IF($D$6=\"\",$B362+1,INT(($D362-$D$6)/365.25)))","v":28},{"$f":"IF(C362=\"\",\"\",H361)","v":0},0,{"$f":"IF(C362=\"\",\"\",IF(G362=F362,0,(F362-I362)))","v":0},{"$f":"IF(C362=\"\",\"\",G362-J362)","v":0},0,{"$f":"IF(C362=\"\",\"\",SUM($J$40:J362))","v":0},null,27,323,"2053-02-15",28,{"$f":"IF(N362=\"\",\"\",S361)","v":0},0,{"$f":"IF(N362=\"\",\"\",IF(R362=Q362,0,(Q362-T362)))","v":0},{"$f":"IF(N362=\"\",\"\",R362-U362)","v":0},0,{"$f":"IF(N362=\"\",\"\",SUM($U$40:U362))","v":0}]
[null,27,324,"2053-03-15",28,0,0,0,0,0,{"$f":"IF(C363=\"\",\"\",SUM($J$40:J363))","v":0},null,27,324,"2053-03-15",28,0,0,0,0,0,{"$f":"IF(N363=\"\",\"\",SUM($U$40:U363))","v":0}]
[null,28,325,"2053-04-15",29,0,0,0,0,0,{"$f":"IF(C364=\"\",\"\",SUM($J$40:J364))","v":0},null,28,325,"2053-04-15",29,0,0,0,0,0,{"$f":"IF(N364=\"\",\"\",SUM($U$40:U364))","v":0}]
[null,28,326,"2053-05-15",29,0,0,0,0,0,{"$f":"IF(C365=\"\",\"\",SUM($J$40:J365))","v":0},null,28,326,"2053-05-15",29,0,0,0,0,0,{"$f":"IF(N365=\"\",\"\",SUM($U$40:U365))","v":0}]
[null,28,327,"2053-06-15",29,0,0,0,0,0,{"$f":"IF(C366=\"\",\"\",SUM($J$40:J366))","v":0},null,28,327,"2053-06-15",29,0,0,0,0,0,{"$f":"IF(N366=\"\",\"\",SUM($U$40:U366))","v":0}]
[null,28,328,"2053-07-15",29,0,0,0,0,0,{"$f":"IF(C367=\"\",\"\",SUM($J$40:J367))","v":0},null,28,328,"2053-07-15",29,0,0,0,0,0,{"$f":"IF(N367=\"\",\"\",SUM($U$40:U367))","v":0}]
[null,28,329,"2053-08-15",29,0,0,0,0,0,{"$f":"IF(C368=\"\",\"\",SUM($J$40:J368))","v":0},null,28,329,"2053-08-15",29,0,0,0,0,0,{"$f":"IF(N368=\"\",\"\",SUM($U$40:U368))","v":0}]
[null,28,330,"2053-09-15",29,0,0,0,0,0,{"$f":"IF(C369=\"\",\"\",SUM($J$40:J369))","v":0},null,28,330,"2053-09-15",29,0,0,0,0,0,{"$f":"IF(N369=\"\",\"\",SUM($U$40:U369))","v":0}]
[null,28,331,"2053-10-15",29,0,0,0,0,0,{"$f":"IF(C370=\"\",\"\",SUM($J$40:J370))","v":0},null,28,331,"2053-10-15",29,0,0,0,0,0,{"$f":"IF(N370=\"\",\"\",SUM($U$40:U370))","v":0}]
[null,28,332,"2053-11-15",29,0,0,0,0,0,{"$f":"IF(C371=\"\",\"\",SUM($J$40:J371))","v":0},null,28,332,"2053-11-15",29,0,0,0,0,0,{"$f":"IF(N371=\"\",\"\",SUM($U$40:U371))","v":0}]
[null,28,333,"2053-12-15",29,0,0,0,0,0,{"$f":"IF(C372=\"\",\"\",SUM($J$40:J372))","v":0},null,28,333,"2053-12-15",29,0,0,0,0,0,{"$f":"IF(N372=\"\",\"\",SUM($U$40:U372))","v":0}]
[null,28,334,"2054-01-15",29,0,0,0,0,0,{"$f":"IF(C373=\"\",\"\",SUM($J$40:J373))","v":0},null,28,334,"2054-01-15",29,0,0,0,0,0,{"$f":"IF(N373=\"\",\"\",SUM($U$40:U373))","v":0}]
[null,28,335,"2054-02-15",29,0,0,0,0,0,{"$f":"IF(C374=\"\",\"\",SUM($J$40:J374))","v":0},null,28,335,"2054-02-15",29,0,0,0,0,0,{"$f":"IF(N374=\"\",\"\",SUM($U$40:U374))","v":0}]
[null,28,336,"2054-03-15",29,0,0,0,0,0,{"$f":"IF(C375=\"\",\"\",SUM($J$40:J375))","v":0},null,28,336,"2054-03-15",29,0,0,0,0,0,{"$f":"IF(N375=\"\",\"\",SUM($U$40:U375))","v":0}]
[null,29,337,"2054-04-15",30,0,0,0,0,0,{"$f":"IF(C376=\"\",\"\",SUM($J$40:J376))","v":0},null,29,337,"2054-04-15",30,0,0,0,0,0,{"$f":"IF(N376=\"\",\"\",SUM($U$40:U376))","v":0}]
[null,29,338,"2054-05-15",30,0,0,0,0,0,{"$f":"IF(C377=\"\",\"\",SUM($J$40:J377))","v":0},null,29,338,"2054-05-15",30,0,0,0,0,0,{"$f":"IF(N377=\"\",\"\",SUM($U$40:U377))","v":0}]
[null,29,339,"2054-06-15",30,0,0,0,0,0,{"$f":"IF(C378=\"\",\"\",SUM($J$40:J378))","v":0},null,29,339,"2054-06-15",30,0,0,0,0,0,{"$f":"IF(N378=\"\",\"\",SUM($U$40:U378))","v":0}]
[null,29,340,"2054-07-15",30,0,0,0,0,0,{"$f":"IF(C379=\"\",\"\",SUM($J$40:J379))","v":0},null,29,340,"2054-07-15",30,0,0,0,0,0,{"$f":"IF(N379=\"\",\"\",SUM($U$40:U379))","v":0}]
[null,29,341,"2054-08-15",30,0,0,0,0,0,{"$f":"IF(C380=\"\",\"\",SUM($J$40:J380))","v":0},null,29,341,"2054-08-15",30,0,0,0,0,0,{"$f":"IF(N380=\"\",\"\",SUM($U$40:U380))","v":0}]
[null,29,342,"2054-09-15",30,0,0,0,0,0,{"$f":"IF(C381=\"\",\"\",SUM($J$40:J381))","v":0},null,29,342,"2054-09-15",30,0,0,0,0,0,{"$f":"IF(N381=\"\",\"\",SUM($U$40:U381))","v":0}]
[null,29,343,"2054-10-15",30,0,0,0,0,0,{"$f":"IF(C382=\"\",\"\",SUM($J$40:J382))","v":0},null,29,343,"2054-10-15",30,0,0,0,0,0,{"$f":"IF(N382=\"\",\"\",SUM($U$40:U382))","v":0}]
[null,29,344,"2054-11-15",30,0,0,0,0,0,{"$f":"IF(C383=\"\",\"\",SUM($J$40:J383))","v":0},null,29,344,"2054-11-15",30,0,0,0,0,0,{"$f":"IF(N383=\"\",\"\",SUM($U$40:U383))","v":0}]
[null,29,345,"2054-12-15",30,0,0,0,0,0,{"$f":"IF(C384=\"\",\"\",SUM($J$40:J384))","v":0},null,29,345,"2054-12-15",30,0,0,0,0,0,{"$f":"IF(N384=\"\",\"\",SUM($U$40:U384))","v":0}]
[null,29,346,"2055-01-15",30,0,0,0,0,0,{"$f":"IF(C385=\"\",\"\",SUM($J$40:J385))","v":0},null,29,346,"2055-01-15",30,0,0,0,0,0,{"$f":"IF(N385=\"\",\"\",SUM($U$40:U385))","v":0}]
[null,29,347,"2055-02-15",30,0,0,0,0,0,{"$f":"IF(C386=\"\",\"\",SUM($J$40:J386))","v":0},null,29,347,"2055-02-15",30,0,0,0,0,0,{"$f":"IF(N386=\"\",\"\",SUM($U$40:U386))","v":0}]
[null,29,348,"2055-03-15",30,0,0,0,0,0,{"$f":"IF(C387=\"\",\"\",SUM($J$40:J387))","v":0},null,29,348,"2055-03-15",30,0,0,0,0,0,{"$f":"IF(N387=\"\",\"\",SUM($U$40:U387))","v":0}]
[null,30,349,"2055-04-15",31,0,0,0,0,0,{"$f":"IF(C388=\"\",\"\",SUM($J$40:J388))","v":0},null,30,349,"2055-04-15",31,0,0,0,0,0,{"$f":"IF(N388=\"\",\"\",SUM($U$40:U388))","v":0}]
[null,30,350,"2055-05-15",31,0,0,0,0,0,{"$f":"IF(C389=\"\",\"\",SUM($J$40:J389))","v":0},null,30,350,"2055-05-15",31,0,0,0,0,0,{"$f":"IF(N389=\"\",\"\",SUM($U$40:U389))","v":0}]
[null,30,351,"2055-06-15",31,0,0,0,0,0,{"$f":"IF(C390=\"\",\"\",SUM($J$40:J390))","v":0},null,30,351,"2055-06-15",31,0,0,0,0,0,{"$f":"IF(N390=\"\",\"\",SUM($U$40:U390))","v":0}]
[null,30,352,"2055-07-15",31,0,0,0,0,0,{"$f":"IF(C391=\"\",\"\",SUM($J$40:J391))","v":0},null,30,352,"2055-07-15",31,0,0,0,0,0,{"$f":"IF(N391=\"\",\"\",SUM($U$40:U391))","v":0}]
[null,30,353,"2055-08-15",31,0,0,0,0,0,{"$f":"IF(C392=\"\",\"\",SUM($J$40:J392))","v":0},null,30,353,"2055-08-15",31,0,0,0,0,0,{"$f":"IF(N392=\"\",\"\",SUM($U$40:U392))","v":0}]
[null,30,354,"2055-09-15",31,0,0,0,0,0,{"$f":"IF(C393=\"\",\"\",SUM($J$40:J393))","v":0},null,30,354,"2055-09-15",31,0,0,0,0,0,{"$f":"IF(N393=\"\",\"\",SUM($U$40:U393))","v":0}]
[null,30,355,"2055-10-15",31,0,0,0,0,0,{"$f":"IF(C394=\"\",\"\",SUM($J$40:J394))","v":0},null,30,355,"2055-10-15",31,0,0,0,0,0,{"$f":"IF(N394=\"\",\"\",SUM($U$40:U394))","v":0}]
[null,30,356,"2055-11-15",31,0,0,0,0,0,{"$f":"IF(C395=\"\",\"\",SUM($J$40:J395))","v":0},null,30,356,"2055-11-15",31,0,0,0,0,0,{"$f":"IF(N395=\"\",\"\",SUM($U$40:U395))","v":0}]
[null,30,357,"2055-12-15",31,0,0,0,0,0,{"$f":"IF(C396=\"\",\"\",SUM($J$40:J396))","v":0},null,30,357,"2055-12-15",31,0,0,0,0,0,{"$f":"IF(N396=\"\",\"\",SUM($U$40:U396))","v":0}]
[null,30,358,"2056-01-15",31,0,0,0,0,0,{"$f":"IF(C397=\"\",\"\",SUM($J$40:J397))","v":0},null,30,358,"2056-01-15",31,0,0,0,0,0,{"$f":"IF(N397=\"\",\"\",SUM($U$40:U397))","v":0}]
[null,30,359,"2056-02-15",31,0,0,0,0,0,{"$f":"IF(C398=\"\",\"\",SUM($J$40:J398))","v":0},null,30,359,"2056-02-15",31,0,0,0,0,0,{"$f":"IF(N398=\"\",\"\",SUM($U$40:U398))","v":0}]
[null,30,360,"2056-03-15",31,0,0,0,0,0,{"$f":"IF(C399=\"\",\"\",SUM($J$40:J399))","v":0},null,30,360,"2056-03-15",31,0,0,0,0,0,{"$f":"IF(N399=\"\",\"\",SUM($U$40:U399))","v":0}]
[null,"","","","","",null,"","","",{"$f":"IF(C400=\"\",\"\",SUM($J$40:J400))","v":""},null,"","","","","",null,"","","",{"$f":"IF(N400=\"\",\"\",SUM($U$40:U400))","v":""}]
[]
[]
[null,null,"Payment Number","Contribution date","Age of Applicant","Initial balance","Income","Monthly contribution","Contribution tax","EOM balance",null,null,null,"Payment Number","Contribution date","Age of Applicant","Initial balance","Income","Monthly contribution","Contribution tax","EOM balance"]
[null,null,1,{"$f":"EDATE(Loan_start_date,C404)","v":"2026-04-15"},{"$f":"IF(Applic1_DOB=\"\",1,INT((Loan_start_date-Applic1_DOB)/365.25))","v":1},{"$f":"Current_super_balance1","v":0},{"$f":"IF(E404=\"\",0,Applic1_assessable_income)","v":0},{"$f":"G404*Employer_contribution_rate/12","v":0},{"$f":"H404*Super_Contribution_Tax","v":0},{"$f":"F404+H404-I404","v":0},null,null,null,1,{"$f":"EDATE(Loan_start_date,N404)","v":"2026-04-15"},{"$f":"IF(Applic2_DOB=\"\",1,INT((Loan_start_date-Applic2_DOB)/365.25))","v":1},{"$f":"Current_super_balance2","v":0},{"$f":"IF(P404=\"\",0,Applic2_assessable_income)","v":0},{"$f":"R404*Employer_contribution_rate/12","v":0},{"$f":"S404*Super_Contribution_Tax","v":0},{"$f":"Q404+S404-T404","v":0}]
[null,null,{"$f":"IF(C404>=No_of_pymts,\"\",C404+1)","v":2},{"$f":"IF(C405=\"\",\"\",EDATE(Loan_start_date,C405))","v":"2026-05-15"},{"$f":"IF($C405=\"\",\"\",INT(($D405-Applic1_DOB)/365.25))","v":{"$error":"#VALUE!"}},{"$f":"J404","v":0},{"$error":"#VALUE!"},{"$error":"#VALUE!"},{"$error":"#VALUE!"},{"$f":"F405+H405-I405","v":{"$error":"#VALUE!"}},null,null,null,{"$f":"IF(N404>=No_of_pymts,\"\",N404+1)","v":2},{"$f":"IF(N405=\"\",\"\",EDATE(Loan_start_date,N405))","v":"2026-05-15"},{"$f":"IF(Applic2_DOB=\"\",1,INT((O405-Applic2_DOB)/365.25))","v":1},{"$f":"U404","v":0},0,0,0,{"$f":"Q405+S405-T405","v":0}]
[null,null,3,"2026-06-15",{"$error":"#VALUE!"},{"$f":"J405","v":{"$error":"#VALUE!"}},{"$error":"#VALUE!"},{"$error":"#VALUE!"},{"$error":"#VALUE!"},{"$error":"#VALUE!"},null,null,null,3,"2026-06-15",1,{"$f":"U405","v":0},0,0,0,{"$f":"Q406+S406-T406","v":0}]
[null,null,4,"2026-07-15",{"$error":"#VALUE!"},{"$error":"#VALUE!"},{"$error":"#VALUE!"},{"$error":"#VALUE!"},{"$error":"#VALUE!"},{"$error":"#VALUE!"},null,null,null,4,"2026-07-15",1,0,0,0,0,0]
[null,null,5,"2026-08-15",{"$error":"#VALUE!"},{"$error":"#VALUE!"},{"$error":"#VALUE!"},{"$error":"#VALUE!"},{"$error":"#VALUE!"},{"$error":"#VALUE!"},null,null,null,5,"2026-08-15",1,0,0,0,0,0]
[null,null,6,"2026-09-15",{"$error":"#VALUE!"},{"$error":"#VALUE!"},{"$error":"#VALUE!"},{"$error":"#VALUE!"},{"$error":"#VALUE!"},{"$error":"#VALUE!"},null,null,null,6,"2026-09-15",1,0,0,0,0,0]
[null,null,7,"2026-10-15",{"$error":"#VALUE!"},{"$error":"#VALUE!"},{"$error":"#VALUE!"},{"$error":"#VALUE!"},{"$error":"#VALUE!"},{"$error":"#VALUE!"},null,null,null,7,"2026-10-15",1,0,0,0,0,0]
[null,null,8,"2026-11-15",{"$error":"#VALUE!"},{"$error":"#VALUE!"},{"$error":"#VALUE!"},{"$error":"#VALUE!"},{"$error":"#VALUE!"},{"$error":"#VALUE!"},null,null,null,8,"2026-11-15",1,0,0,0,0,0]
[null,null,9,"2026-12-15",{"$error":"#VALUE!"},{"$error":"#VALUE!"},{"$error":"#VALUE!"},{"$error":"#VALUE!"},{"$error":"#VALUE!"},{"$error":"#VALUE!"},null,null,null,9,"2026-12-15",1,0,0,0,0,0]
[null,null,10,"2027-01-15",{"$error":"#VALUE!"},{"$error":"#VALUE!"},{"$error":"#VALUE!"},{"$error":"#VALUE!"},{"$error":"#VALUE!"},{"$error":"#VALUE!"},null,null,null,10,"2027-01-15",1,0,0,0,0,0]
[null,null,11,"2027-02-15",{"$error":"#VALUE!"},{"$error":"#VALUE!"},{"$error":"#VALUE!"},{"$error":"#VALUE!"},{"$error":"#VALUE!"},{"$error":"#VALUE!"},null,null,null,11,"2027-02-15",1,0,0,0,0,0]
[null,null,12,"2027-03-15",{"$error":"#VALUE!"},{"$error":"#VALUE!"},{"$error":"#VALUE!"},{"$error":"#VALUE!"},{"$error":"#VALUE!"},{"$error":"#VALUE!"},null,null,null,12,"2027-03-15",1,0,0,0,0,0]
[null,null,13,"2027-04-15",{"$error":"#VALUE!"},{"$error":"#VALUE!"},{"$error":"#VALUE!"},{"$error":"#VALUE!"},{"$error":"#VALUE!"},{"$error":"#VALUE!"},null,null,null,13,"2027-04-15",1,0,0,0,0,0]
[null,null,14,"2027-05-15",{"$error":"#VALUE!"},{"$error":"#VALUE!"},{"$error":"#VALUE!"},{"$error":"#VALUE!"},{"$error":"#VALUE!"},{"$error":"#VALUE!"},null,null,null,14,"2027-05-15",1,0,0,0,0,0]
[null,null,15,"2027-06-15",{"$error":"#VALUE!"},{"$error":"#VALUE!"},{"$error":"#VALUE!"},{"$error":"#VALUE!"},{"$error":"#VALUE!"},{"$error":"#VALUE!"},null,null,null,15,"2027-06-15",1,0,0,0,0,0]
[null,null,16,"2027-07-15",{"$error":"#VALUE!"},{"$error":"#VALUE!"},{"$error":"#VALUE!"},{"$error":"#VALUE!"},{"$error":"#VALUE!"},{"$error":"#VALUE!"},null,null,null,16,"2027-07-15",1,0,0,0,0,0]
[null,null,17,"2027-08-15",{"$error":"#VALUE!"},{"$error":"#VALUE!"},{"$error":"#VALUE!"},{"$error":"#VALUE!"},{"$error":"#VALUE!"},{"$error":"#VALUE!"},null,null,null,17,"2027-08-15",1,0,0,0,0,0]
[null,null,18,"2027-09-15",{"$error":"#VALUE!"},{"$error":"#VALUE!"},{"$error":"#VALUE!"},{"$error":"#VALUE!"},{"$error":"#VALUE!"},{"$error":"#VALUE!"},null,null,null,18,"2027-09-15",1,0,0,0,0,0]
[null,null,19,"2027-10-15",{"$error":"#VALUE!"},{"$error":"#VALUE!"},{"$error":"#VALUE!"},{"$error":"#VALUE!"},{"$error":"#VALUE!"},{"$error":"#VALUE!"},null,null,null,19,"2027-10-15",1,0,0,0,0,0]
[null,null,20,"2027-11-15",{"$error":"#VALUE!"},{"$error":"#VALUE!"},{"$error":"#VALUE!"},{"$error":"#VALUE!"},{"$error":"#VALUE!"},{"$error":"#VALUE!"},null,null,null,20,"2027-11-15",1,0,0,0,0,0]
[null,null,21,"2027-12-15",{"$error":"#VALUE!"},{"$error":"#VALUE!"},{"$error":"#VALUE!"},{"$error":"#VALUE!"},{"$error":"#VALUE!"},{"$error":"#VALUE!"},null,null,null,21,"2027-12-15",1,0,0,0,0,0]
[null,null,22,"2028-01-15",{"$error":"#VALUE!"},{"$error":"#VALUE!"},{"$error":"#VALUE!"},{"$error":"#VALUE!"},{"$error":"#VALUE!"},{"$error":"#VALUE!"},null,null,null,22,"2028-01-15",1,0,0,0,0,0]
[null,null,23,"2028-02-15",{"$error":"#VALUE!"},{"$error":"#VALUE!"},{"$error":"#VALUE!"},{"$error":"#VALUE!"},{"$error":"#VALUE!"},{"$error":"#VALUE!"},null,null,null,23,"2028-02-15",1,0,0,0,0,0]
[null,null,24,"2028-03-15",{"$error":"#VALUE!"},{"$error":"#VALUE!"},{"$error":"#VALUE!"},{"$error":"#VALUE!"},{"$error":"#VALUE!"},{"$error":"#VALUE!"},null,null,null,24,"2028-03-15",1,0,0,0,0,0]
[null,null,25,"2028-04-15",{"$error":"#VALUE!"},{"$error":"#VALUE!"},{"$error":"#VALUE!"},{"$error":"#VALUE!"},{"$error":"#VALUE!"},{"$error":"#VALUE!"},null,null,null,25,"2028-04-15",1,0,0,0,0,0]
[null,null,26,"2028-05-15",{"$error":"#VALUE!"},{"$error":"#VALUE!"},{"$error":"#VALUE!"},{"$error":"#VALUE!"},{"$error":"#VALUE!"},{"$error":"#VALUE!"},null,null,null,26,"2028-05-15",1,0,0,0,0,0]
[null,null,27,"2028-06-15",{"$error":"#VALUE!"},{"$error":"#VALUE!"},{"$error":"#VALUE!"},{"$error":"#VALUE!"},{"$error":"#VALUE!"},{"$error":"#VALUE!"},null,null,null,27,"2028-06-15",1,0,0,0,0,0]
[null,null,28,"2028-07-15",{"$error":"#VALUE!"},{"$error":"#VALUE!"},{"$error":"#VALUE!"},{"$error":"#VALUE!"},{"$error":"#VALUE!"},{"$error":"#VALUE!"},null,null,null,28,"2028-07-15",1,0,0,0,0,0]
[null,null,29,"2028-08-15",{"$error":"#VALUE!"},{"$error":"#VALUE!"},{"$error":"#VALUE!"},{"$error":"#VALUE!"},{"$error":"#VALUE!"},{"$error":"#VALUE!"},null,null,null,29,"2028-08-15",1,0,0,0,0,0]
[null,null,30,"2028-09-15",{"$error":"#VALUE!"},{"$error":"#VALUE!"},{"$error":"#VALUE!"},{"$error":"#VALUE!"},{"$error":"#VALUE!"},{"$error":"#VALUE!"},null,null,null,30,"2028-09-15",1,0,0,0,0,0]
[null,null,31,"2028-10-15",{"$error":"#VALUE!"},{"$error":"#VALUE!"},{"$error":"#VALUE!"},{"$error":"#VALUE!"},{"$error":"#VALUE!"},{"$error":"#VALUE!"},null,null,null,31,"2028-10-15",1,0,0,0,0,0]
[null,null,32,"2028-11-15",{"$error":"#VALUE!"},{"$error":"#VALUE!"},{"$error":"#VALUE!"},{"$error":"#VALUE!"},{"$error":"#VALUE!"},{"$error":"#VALUE!"},null,null,null,32,"2028-11-15",1,0,0,0,0,0]
[null,null,33,"2028-12-15",{"$error":"#VALUE!"},{"$error":"#VALUE!"},{"$error":"#VALUE!"},{"$error":"#VALUE!"},{"$error":"#VALUE!"},{"$error":"#VALUE!"},null,null,null,33,"2028-12-15",1,0,0,0,0,0]
[null,null,34,"2029-01-15",{"$error":"#VALUE!"},{"$error":"#VALUE!"},{"$error":"#VALUE!"},{"$error":"#VALUE!"},{"$error":"#VALUE!"},{"$error":"#VALUE!"},null,null,null,34,"2029-01-15",1,0,0,0,0,0]
[null,null,35,"2029-02-15",{"$error":"#VALUE!"},{"$error":"#VALUE!"},{"$error":"#VALUE!"},{"$error":"#VALUE!"},{"$error":"#VALUE!"},{"$error":"#VALUE!"},null,null,null,35,"2029-02-15",1,0,0,0,0,0]
[null,null,36,"2029-03-15",{"$error":"#VALUE!"},{"$error":"#VALUE!"},{"$error":"#VALUE!"},{"$error":"#VALUE!"},{"$error":"#VALUE!"},{"$error":"#VALUE!"},null,null,null,36,"2029-03-15",1,0,0,0,0,0]
[null,null,37,"2029-04-15",{"$error":"#VALUE!"},{"$error":"#VALUE!"},{"$error":"#VALUE!"},{"$error":"#VALUE!"},{"$error":"#VALUE!"},{"$error":"#VALUE!"},null,null,null,37,"2029-04-15",1,0,0,0,0,0]
[null,null,38,"2029-05-15",{"$error":"#VALUE!"},{"$error":"#VALUE!"},{"$error":"#VALUE!"},{"$error":"#VALUE!"},{"$error":"#VALUE!"},{"$error":"#VALUE!"},null,null,null,38,"2029-05-15",1,0,0,0,0,0]
[null,null,39,"2029-06-15",{"$error":"#VALUE!"},{"$error":"#VALUE!"},{"$error":"#VALUE!"},{"$error":"#VALUE!"},{"$error":"#VALUE!"},{"$error":"#VALUE!"},null,null,null,39,"2029-06-15",1,0,0,0,0,0]
[null,null,40,"2029-07-15",{"$error":"#VALUE!"},{"$error":"#VALUE!"},{"$error":"#VALUE!"},{"$error":"#VALUE!"},{"$error":"#VALUE!"},{"$error":"#VALUE!"},null,null,null,40,"2029-07-15",1,0,0,0,0,0]
[null,null,41,"2029-08-15",{"$error":"#VALUE!"},{"$error":"#VALUE!"},{"$error":"#VALUE!"},{"$error":"#VALUE!"},{"$error":"#VALUE!"},{"$error":"#VALUE!"},null,null,null,41,"2029-08-15",1,0,0,0,0,0]
[null,null,42,"2029-09-15",{"$error":"#VALUE!"},{"$error":"#VALUE!"},{"$error":"#VALUE!"},{"$error":"#VALUE!"},{"$error":"#VALUE!"},{"$error":"#VALUE!"},null,null,null,42,"2029-09-15",1,0,0,0,0,0]
[null,null,43,"2029-10-15",{"$error":"#VALUE!"},{"$error":"#VALUE!"},{"$error":"#VALUE!"},{"$error":"#VALUE!"},{"$error":"#VALUE!"},{"$error":"#VALUE!"},null,null,null,43,"2029-10-15",1,0,0,0,0,0]
[null,null,44,"2029-11-15",{"$error":"#VALUE!"},{"$error":"#VALUE!"},{"$error":"#VALUE!"},{"$error":"#VALUE!"},{"$error":"#VALUE!"},{"$error":"#VALUE!"},null,null,null,44,"2029-11-15",1,0,0,0,0,0]
[null,null,45,"2029-12-15",{"$error":"#VALUE!"},{"$error":"#VALUE!"},{"$error":"#VALUE!"},{"$error":"#VALUE!"},{"$error":"#VALUE!"},{"$error":"#VALUE!"},null,null,null,45,"2029-12-15",1,0,0,0,0,0]
[null,null,46,"2030-01-15",{"$error":"#VALUE!"},{"$error":"#VALUE!"},{"$error":"#VALUE!"},{"$error":"#VALUE!"},{"$error":"#VALUE!"},{"$error":"#VALUE!"},null,null,null,46,"2030-01-15",1,0,0,0,0,0]
[null,null,47,"2030-02-15",{"$error":"#VALUE!"},{"$error":"#VALUE!"},{"$error":"#VALUE!"},{"$error":"#VALUE!"},{"$error":"#VALUE!"},{"$error":"#VALUE!"},null,null,null,47,"2030-02-15",1,0,0,0,0,0]
[null,null,48,"2030-03-15",{"$error":"#VALUE!"},{"$error":"#VALUE!"},{"$error":"#VALUE!"},{"$error":"#VALUE!"},{"$error":"#VALUE!"},{"$error":"#VALUE!"},null,null,null,48,"2030-03-15",1,0,0,0,0,0]
[null,null,49,"2030-04-15",{"$error":"#VALUE!"},{"$error":"#VALUE!"},{"$error":"#VALUE!"},{"$error":"#VALUE!"},{"$error":"#VALUE!"},{"$error":"#VALUE!"},null,null,null,49,"2030-04-15",1,0,0,0,0,0]
[null,null,50,"2030-05-15",{"$error":"#VALUE!"},{"$error":"#VALUE!"},{"$error":"#VALUE!"},{"$error":"#VALUE!"},{"$error":"#VALUE!"},{"$error":"#VALUE!"},null,null,null,50,"2030-05-15",1,0,0,0,0,0]
[null,null,51,"2030-06-15",{"$error":"#VALUE!"},{"$error":"#VALUE!"},{"$error":"#VALUE!"},{"$error":"#VALUE!"},{"$error":"#VALUE!"},{"$error":"#VALUE!"},null,null,null,51,"2030-06-15",1,0,0,0,0,0]
[null,null,52,"2030-07-15",{"$error":"#VALUE!"},{"$error":"#VALUE!"},{"$error":"#VALUE!"},{"$error":"#VALUE!"},{"$error":"#VALUE!"},{"$error":"#VALUE!"},null,null,null,52,"2030-07-15",1,0,0,0,0,0]
[null,null,53,"2030-08-15",{"$error":"#VALUE!"},{"$error":"#VALUE!"},{"$error":"#VALUE!"},{"$error":"#VALUE!"},{"$error":"#VALUE!"},{"$error":"#VALUE!"},null,null,null,53,"2030-08-15",1,0,0,0,0,0]
[null,null,54,"2030-09-15",{"$error":"#VALUE!"},{"$error":"#VALUE!"},{"$error":"#VALUE!"},{"$error":"#VALUE!"},{"$error":"#VALUE!"},{"$error":"#VALUE!"},null,null,null,54,"2030-09-15",1,0,0,0,0,0]
[null,null,55,"2030-10-15",{"$error":"#VALUE!"},{"$error":"#VALUE!"},{"$error":"#VALUE!"},{"$error":"#VALUE!"},{"$error":"#VALUE!"},{"$error":"#VALUE!"},null,null,null,55,"2030-10-15",1,0,0,0,0,0]
[null,null,56,"2030-11-15",{"$error":"#VALUE!"},{"$error":"#VALUE!"},{"$error":"#VALUE!"},{"$error":"#VALUE!"},{"$error":"#VALUE!"},{"$error":"#VALUE!"},null,null,null,56,"2030-11-15",1,0,0,0,0,0]
[null,null,57,"2030-12-15",{"$error":"#VALUE!"},{"$error":"#VALUE!"},{"$error":"#VALUE!"},{"$error":"#VALUE!"},{"$error":"#VALUE!"},{"$error":"#VALUE!"},null,null,null,57,"2030-12-15",1,0,0,0,0,0]
[null,null,58,"2031-01-15",{"$error":"#VALUE!"},{"$error":"#VALUE!"},{"$error":"#VALUE!"},{"$error":"#VALUE!"},{"$error":"#VALUE!"},{"$error":"#VALUE!"},null,null,null,58,"2031-01-15",1,0,0,0,0,0]
[null,null,59,"2031-02-15",{"$error":"#VALUE!"},{"$error":"#VALUE!"},{"$error":"#VALUE!"},{"$error":"#VALUE!"},{"$error":"#VALUE!"},{"$error":"#VALUE!"},null,null,null,59,"2031-02-15",1,0,0,0,0,0]
[null,null,60,"2031-03-15",{"$error":"#VALUE!"},{"$error":"#VALUE!"},{"$error":"#VALUE!"},{"$error":"#VALUE!"},{"$error":"#VALUE!"},{"$error":"#VALUE!"},null,null,null,60,"2031-03-15",1,0,0,0,0,0]
[null,null,61,"2031-04-15",{"$error":"#VALUE!"},{"$error":"#VALUE!"},{"$error":"#VALUE!"},{"$error":"#VALUE!"},{"$error":"#VALUE!"},{"$error":"#VALUE!"},null,null,null,61,"2031-04-15",1,0,0,0,0,0]
[null,null,62,"2031-05-15",{"$error":"#VALUE!"},{"$error":"#VALUE!"},{"$error":"#VALUE!"},{"$error":"#VALUE!"},{"$error":"#VALUE!"},{"$error":"#VALUE!"},null,null,null,62,"2031-05-15",1,0,0,0,0,0]
[null,null,63,"2031-06-15",{"$error":"#VALUE!"},{"$error":"#VALUE!"},{"$error":"#VALUE!"},{"$error":"#VALUE!"},{"$error":"#VALUE!"},{"$error":"#VALUE!"},null,null,null,63,"2031-06-15",1,0,0,0,0,0]
[null,null,64,"2031-07-15",{"$error":"#VALUE!"},{"$error":"#VALUE!"},{"$error":"#VALUE!"},{"$error":"#VALUE!"},{"$error":"#VALUE!"},{"$error":"#VALUE!"},null,null,null,64,"2031-07-15",1,0,0,0,0,0]
[null,null,65,"2031-08-15",{"$error":"#VALUE!"},{"$error":"#VALUE!"},{"$f":"IF(E468=\"\",0,Applic1_assessable_income)","v":{"$error":"#VALUE!"}},{"$f":"G468*Employer_contribution_rate/12","v":{"$error":"#VALUE!"}},{"$f":"H468*Super_Contribution_Tax","v":{"$error":"#VALUE!"}},{"$error":"#VALUE!"},null,null,null,65,"2031-08-15",1,0,{"$f":"IF(P468=\"\",0,Applic2_assessable_income)","v":0},{"$f":"R468*Employer_contribution_rate/12","v":0},{"$f":"S468*Super_Contribution_Tax","v":0},0]
[null,null,{"$f":"IF(C468>=No_of_pymts,\"\",C468+1)","v":66},{"$f":"IF(C469=\"\",\"\",EDATE(Loan_start_date,C469))","v":"2031-09-15"},{"$f":"IF($C469=\"\",\"\",INT(($D469-Applic1_DOB)/365.25))","v":{"$error":"#VALUE!"}},{"$error":"#VALUE!"},{"$error":"#VALUE!"},{"$error":"#VALUE!"},{"$error":"#VALUE!"},{"$f":"F469+H469-I469","v":{"$error":"#VALUE!"}},null,null,null,{"$f":"IF(N468>=No_of_pymts,\"\",N468+1)","v":66},{"$f":"IF(N469=\"\",\"\",EDATE(Loan_start_date,N469))","v":"2031-09-15"},{"$f":"IF(Applic2_DOB=\"\",1,INT((O469-Applic2_DOB)/365.25))","v":1},0,0,0,0,0]
[null,null,67,"2031-10-15",{"$error":"#VALUE!"},{"$f":"J469","v":{"$error":"#VALUE!"}},{"$error":"#VALUE!"},{"$error":"#VALUE!"},{"$error":"#VALUE!"},{"$error":"#VALUE!"},null,null,null,67,"2031-10-15",1,{"$f":"U469","v":0},0,0,0,{"$f":"Q470+S470-T470","v":0}]
[null,null,68,"2031-11-15",{"$error":"#VALUE!"},{"$error":"#VALUE!"},{"$error":"#VALUE!"},{"$error":"#VALUE!"},{"$error":"#VALUE!"},{"$error":"#VALUE!"},null,null,null,68,"2031-11-15",1,0,0,0,0,0]
[null,null,69,"2031-12-15",{"$error":"#VALUE!"},{"$error":"#VALUE!"},{"$error":"#VALUE!"},{"$error":"#VALUE!"},{"$error":"#VALUE!"},{"$error":"#VALUE!"},null,null,null,69,"2031-12-15",1,0,0,0,0,0]
[null,null,70,"2032-01-15",{"$error":"#VALUE!"},{"$error":"#VALUE!"},{"$error":"#VALUE!"},{"$error":"#VALUE!"},{"$error":"#VALUE!"},{"$error":"#VALUE!"},null,null,null,70,"2032-01-15",1,0,0,0,0,0]
[null,null,71,"2032-02-15",{"$error":"#VALUE!"},{"$error":"#VALUE!"},{"$error":"#VALUE!"},{"$error":"#VALUE!"},{"$error":"#VALUE!"},{"$error":"#VALUE!"},null,null,null,71,"2032-02-15",1,0,0,0,0,0]
[null,null,72,"2032-03-15",{"$error":"#VALUE!"},{"$error":"#VALUE!"},{"$error":"#VALUE!"},{"$error":"#VALUE!"},{"$error":"#VALUE!"},{"$error":"#VALUE!"},null,null,null,72,"2032-03-15",1,0,0,0,0,0]
[null,null,73,"2032-04-15",{"$error":"#VALUE!"},{"$error":"#VALUE!"},{"$error":"#VALUE!"},{"$error":"#VALUE!"},{"$error":"#VALUE!"},{"$error":"#VALUE!"},null,null,null,73,"2032-04-15",1,0,0,0,0,0]
[null,null,74,"2032-05-15",{"$error":"#VALUE!"},{"$error":"#VALUE!"},{"$error":"#VALUE!"},{"$error":"#VALUE!"},{"$error":"#VALUE!"},{"$error":"#VALUE!"},null,null,null,74,"2032-05-15",1,0,0,0,0,0]
[null,null,75,"2032-06-15",{"$error":"#VALUE!"},{"$error":"#VALUE!"},{"$error":"#VALUE!"},{"$error":"#VALUE!"},{"$error":"#VALUE!"},{"$error":"#VALUE!"},null,null,null,75,"2032-06-15",1,0,0,0,0,0]
[null,null,76,"2032-07-15",{"$error":"#VALUE!"},{"$error":"#VALUE!"},{"$error":"#VALUE!"},{"$error":"#VALUE!"},{"$error":"#VALUE!"},{"$error":"#VALUE!"},null,null,null,76,"2032-07-15",1,0,0,0,0,0]
[null,null,77,"2032-08-15",{"$error":"#VALUE!"},{"$error":"#VALUE!"},{"$error":"#VALUE!"},{"$error":"#VALUE!"},{"$error":"#VALUE!"},{"$error":"#VALUE!"},null,null,null,77,"2032-08-15",1,0,0,0,0,0]
[null,null,78,"2032-09-15",{"$error":"#VALUE!"},{"$error":"#VALUE!"},{"$error":"#VALUE!"},{"$error":"#VALUE!"},{"$error":"#VALUE!"},{"$error":"#VALUE!"},null,null,null,78,"2032-09-15",1,0,0,0,0,0]
[null,null,79,"2032-10-15",{"$error":"#VALUE!"},{"$error":"#VALUE!"},{"$error":"#VALUE!"},{"$error":"#VALUE!"},{"$error":"#VALUE!"},{"$error":"#VALUE!"},null,null,null,79,"2032-10-15",1,0,0,0,0,0]
[null,null,80,"2032-11-15",{"$error":"#VALUE!"},{"$error":"#VALUE!"},{"$error":"#VALUE!"},{"$error":"#VALUE!"},{"$error":"#VALUE!"},{"$error":"#VALUE!"},null,null,null,80,"2032-11-15",1,0,0,0,0,0]
[null,null,81,"2032-12-15",{"$error":"#VALUE!"},{"$error":"#VALUE!"},{"$error":"#VALUE!"},{"$error":"#VALUE!"},{"$error":"#VALUE!"},{"$error":"#VALUE!"},null,null,null,81,"2032-12-15",1,0,0,0,0,0]
[null,null,82,"2033-01-15",{"$error":"#VALUE!"},{"$error":"#VALUE!"},{"$error":"#VALUE!"},{"$error":"#VALUE!"},{"$error":"#VALUE!"},{"$error":"#VALUE!"},null,null,null,82,"2033-01-15",1,0,0,0,0,0]
[null,null,83,"2033-02-15",{"$error":"#VALUE!"},{"$error":"#VALUE!"},{"$error":"#VALUE!"},{"$error":"#VALUE!"},{"$error":"#VALUE!"},{"$error":"#VALUE!"},null,null,null,83,"2033-02-15",1,0,0,0,0,0]
[null,null,84,"2033-03-15",{"$error":"#VALUE!"},{"$error":"#VALUE!"},{"$error":"#VALUE!"},{"$error":"#VALUE!"},{"$error":"#VALUE!"},{"$error":"#VALUE!"},null,null,null,84,"2033-03-15",1,0,0,0,0,0]
[null,null,85,"2033-04-15",{"$error":"#VALUE!"},{"$error":"#VALUE!"},{"$error":"#VALUE!"},{"$error":"#VALUE!"},{"$error":"#VALUE!"},{"$error":"#VALUE!"},null,null,null,85,"2033-04-15",1,0,0,0,0,0]
[null,null,86,"2033-05-15",{"$error":"#VALUE!"},{"$error":"#VALUE!"},{"$error":"#VALUE!"},{"$error":"#VALUE!"},{"$error":"#VALUE!"},{"$error":"#VALUE!"},null,null,null,86,"2033-05-15",1,0,0,0,0,0]
[null,null,87,"2033-06-15",{"$error":"#VALUE!"},{"$error":"#VALUE!"},{"$error":"#VALUE!"},{"$error":"#VALUE!"},{"$error":"#VALUE!"},{"$error":"#VALUE!"},null,null,null,87,"2033-06-15",1,0,0,0,0,0]
[null,null,88,"2033-07-15",{"$error":"#VALUE!"},{"$error":"#VALUE!"},{"$error":"#VALUE!"},{"$error":"#VALUE!"},{"$error":"#VALUE!"},{"$error":"#VALUE!"},null,null,null,88,"2033-07-15",1,0,0,0,0,0]
[null,null,89,"2033-08-15",{"$error":"#VALUE!"},{"$error":"#VALUE!"},{"$error":"#VALUE!"},{"$error":"#VALUE!"},{"$error":"#VALUE!"},{"$error":"#VALUE!"},null,null,null,89,"2033-08-15",1,0,0,0,0,0]
[null,null,90,"2033-09-15",{"$error":"#VALUE!"},{"$error":"#VALUE!"},{"$error":"#VALUE!"},{"$error":"#VALUE!"},{"$error":"#VALUE!"},{"$error":"#VALUE!"},null,null,null,90,"2033-09-15",1,0,0,0,0,0]
[null,null,91,"2033-10-15",{"$error":"#VALUE!"},{"$error":"#VALUE!"},{"$error":"#VALUE!"},{"$error":"#VALUE!"},{"$error":"#VALUE!"},{"$error":"#VALUE!"},null,null,null,91,"2033-10-15",1,0,0,0,0,0]
[null,null,92,"2033-11-15",{"$error":"#VALUE!"},{"$error":"#VALUE!"},{"$error":"#VALUE!"},{"$error":"#VALUE!"},{"$error":"#VALUE!"},{"$error":"#VALUE!"},null,null,null,92,"2033-11-15",1,0,0,0,0,0]
[null,null,93,"2033-12-15",{"$error":"#VALUE!"},{"$error":"#VALUE!"},{"$error":"#VALUE!"},{"$error":"#VALUE!"},{"$error":"#VALUE!"},{"$error":"#VALUE!"},null,null,null,93,"2033-12-15",1,0,0,0,0,0]
[null,null,94,"2034-01-15",{"$error":"#VALUE!"},{"$error":"#VALUE!"},{"$error":"#VALUE!"},{"$error":"#VALUE!"},{"$error":"#VALUE!"},{"$error":"#VALUE!"},null,null,null,94,"2034-01-15",1,0,0,0,0,0]
[null,null,95,"2034-02-15",{"$error":"#VALUE!"},{"$error":"#VALUE!"},{"$error":"#VALUE!"},{"$error":"#VALUE!"},{"$error":"#VALUE!"},{"$error":"#VALUE!"},null,null,null,95,"2034-02-15",1,0,0,0,0,0]
[null,null,96,"2034-03-15",{"$error":"#VALUE!"},{"$error":"#VALUE!"},{"$error":"#VALUE!"},{"$error":"#VALUE!"},{"$error":"#VALUE!"},{"$error":"#VALUE!"},null,null,null,96,"2034-03-15",1,0,0,0,0,0]
[null,null,97,"2034-04-15",{"$error":"#VALUE!"},{"$error":"#VALUE!"},{"$error":"#VALUE!"},{"$error":"#VALUE!"},{"$error":"#VALUE!"},{"$error":"#VALUE!"},null,null,null,97,"2034-04-15",1,0,0,0,0,0]
[null,null,98,"2034-05-15",{"$error":"#VALUE!"},{"$error":"#VALUE!"},{"$error":"#VALUE!"},{"$error":"#VALUE!"},{"$error":"#VALUE!"},{"$error":"#VALUE!"},null,null,null,98,"2034-05-15",1,0,0,0,0,0]
[null,null,99,"2034-06-15",{"$error":"#VALUE!"},{"$error":"#VALUE!"},{"$error":"#VALUE!"},{"$error":"#VALUE!"},{"$error":"#VALUE!"},{"$error":"#VALUE!"},null,null,null,99,"2034-06-15",1,0,0,0,0,0]
[null,null,100,"2034-07-15",{"$error":"#VALUE!"},{"$error":"#VALUE!"},{"$error":"#VALUE!"},{"$error":"#VALUE!"},{"$error":"#VALUE!"},{"$error":"#VALUE!"},null,null,null,100,"2034-07-15",1,0,0,0,0,0]
[null,null,101,"2034-08-15",{"$error":"#VALUE!"},{"$error":"#VALUE!"},{"$error":"#VALUE!"},{"$error":"#VALUE!"},{"$error":"#VALUE!"},{"$error":"#VALUE!"},null,null,null,101,"2034-08-15",1,0,0,0,0,0]
[null,null,102,"2034-09-15",{"$error":"#VALUE!"},{"$error":"#VALUE!"},{"$error":"#VALUE!"},{"$error":"#VALUE!"},{"$error":"#VALUE!"},{"$error":"#VALUE!"},null,null,null,102,"2034-09-15",1,0,0,0,0,0]
[null,null,103,"2034-10-15",{"$error":"#VALUE!"},{"$error":"#VALUE!"},{"$error":"#VALUE!"},{"$error":"#VALUE!"},{"$error":"#VALUE!"},{"$error":"#VALUE!"},null,null,null,103,"2034-10-15",1,0,0,0,0,0]
[null,null,104,"2034-11-15",{"$error":"#VALUE!"},{"$error":"#VALUE!"},{"$error":"#VALUE!"},{"$error":"#VALUE!"},{"$error":"#VALUE!"},{"$error":"#VALUE!"},null,null,null,104,"2034-11-15",1,0,0,0,0,0]
[null,null,105,"2034-12-15",{"$error":"#VALUE!"},{"$error":"#VALUE!"},{"$error":"#VALUE!"},{"$error":"#VALUE!"},{"$error":"#VALUE!"},{"$error":"#VALUE!"},null,null,null,105,"2034-12-15",1,0,0,0,0,0]
[null,null,106,"2035-01-15",{"$error":"#VALUE!"},{"$error":"#VALUE!"},{"$error":"#VALUE!"},{"$error":"#VALUE!"},{"$error":"#VALUE!"},{"$error":"#VALUE!"},null,null,null,106,"2035-01-15",1,0,0,0,0,0]
[null,null,107,"2035-02-15",{"$error":"#VALUE!"},{"$error":"#VALUE!"},{"$error":"#VALUE!"},{"$error":"#VALUE!"},{"$error":"#VALUE!"},{"$error":"#VALUE!"},null,null,null,107,"2035-02-15",1,0,0,0,0,0]
[null,null,108,"2035-03-15",{"$error":"#VALUE!"},{"$error":"#VALUE!"},{"$error":"#VALUE!"},{"$error":"#VALUE!"},{"$error":"#VALUE!"},{"$error":"#VALUE!"},null,null,null,108,"2035-03-15",1,0,0,0,0,0]
[null,null,109,"2035-04-15",{"$error":"#VALUE!"},{"$error":"#VALUE!"},{"$error":"#VALUE!"},{"$error":"#VALUE!"},{"$error":"#VALUE!"},{"$error":"#VALUE!"},null,null,null,109,"2035-04-15",1,0,0,0,0,0]
[null,null,110,"2035-05-15",{"$error":"#VALUE!"},{"$error":"#VALUE!"},{"$error":"#VALUE!"},{"$error":"#VALUE!"},{"$error":"#VALUE!"},{"$error":"#VALUE!"},null,null,null,110,"2035-05-15",1,0,0,0,0,0]
[null,null,111,"2035-06-15",{"$error":"#VALUE!"},{"$error":"#VALUE!"},{"$error":"#VALUE!"},{"$error":"#VALUE!"},{"$error":"#VALUE!"},{"$error":"#VALUE!"},null,null,null,111,"2035-06-15",1,0,0,0,0,0]
[null,null,112,"2035-07-15",{"$error":"#VALUE!"},{"$error":"#VALUE!"},{"$error":"#VALUE!"},{"$error":"#VALUE!"},{"$error":"#VALUE!"},{"$error":"#VALUE!"},null,null,null,112,"2035-07-15",1,0,0,0,0,0]
[null,null,113,"2035-08-15",{"$error":"#VALUE!"},{"$error":"#VALUE!"},{"$error":"#VALUE!"},{"$error":"#VALUE!"},{"$error":"#VALUE!"},{"$error":"#VALUE!"},null,null,null,113,"2035-08-15",1,0,0,0,0,0]
[null,null,114,"2035-09-15",{"$error":"#VALUE!"},{"$error":"#VALUE!"},{"$error":"#VALUE!"},{"$error":"#VALUE!"},{"$error":"#VALUE!"},{"$error":"#VALUE!"},null,null,null,114,"2035-09-15",1,0,0,0,0,0]
[null,null,115,"2035-10-15",{"$error":"#VALUE!"},{"$error":"#VALUE!"},{"$error":"#VALUE!"},{"$error":"#VALUE!"},{"$error":"#VALUE!"},{"$error":"#VALUE!"},null,null,null,115,"2035-10-15",1,0,0,0,0,0]
[null,null,116,"2035-11-15",{"$error":"#VALUE!"},{"$error":"#VALUE!"},{"$error":"#VALUE!"},{"$error":"#VALUE!"},{"$error":"#VALUE!"},{"$error":"#VALUE!"},null,null,null,116,"2035-11-15",1,0,0,0,0,0]
[null,null,117,"2035-12-15",{"$error":"#VALUE!"},{"$error":"#VALUE!"},{"$error":"#VALUE!"},{"$error":"#VALUE!"},{"$error":"#VALUE!"},{"$error":"#VALUE!"},null,null,null,117,"2035-12-15",1,0,0,0,0,0]
[null,null,118,"2036-01-15",{"$error":"#VALUE!"},{"$error":"#VALUE!"},{"$error":"#VALUE!"},{"$error":"#VALUE!"},{"$error":"#VALUE!"},{"$error":"#VALUE!"},null,null,null,118,"2036-01-15",1,0,0,0,0,0]
[null,null,119,"2036-02-15",{"$error":"#VALUE!"},{"$error":"#VALUE!"},{"$error":"#VALUE!"},{"$error":"#VALUE!"},{"$error":"#VALUE!"},{"$error":"#VALUE!"},null,null,null,119,"2036-02-15",1,0,0,0,0,0]
[null,null,120,"2036-03-15",{"$error":"#VALUE!"},{"$error":"#VALUE!"},{"$error":"#VALUE!"},{"$error":"#VALUE!"},{"$error":"#VALUE!"},{"$error":"#VALUE!"},null,null,null,120,"2036-03-15",1,0,0,0,0,0]
[null,null,121,"2036-04-15",{"$error":"#VALUE!"},{"$error":"#VALUE!"},{"$error":"#VALUE!"},{"$error":"#VALUE!"},{"$error":"#VALUE!"},{"$error":"#VALUE!"},null,null,null,121,"2036-04-15",1,0,0,0,0,0]
[null,null,122,"2036-05-15",{"$error":"#VALUE!"},{"$error":"#VALUE!"},{"$error":"#VALUE!"},{"$error":"#VALUE!"},{"$error":"#VALUE!"},{"$error":"#VALUE!"},null,null,null,122,"2036-05-15",1,0,0,0,0,0]
[null,null,123,"2036-06-15",{"$error":"#VALUE!"},{"$error":"#VALUE!"},{"$error":"#VALUE!"},{"$error":"#VALUE!"},{"$error":"#VALUE!"},{"$error":"#VALUE!"},null,null,null,123,"2036-06-15",1,0,0,0,0,0]
[null,null,124,"2036-07-15",{"$error":"#VALUE!"},{"$error":"#VALUE!"},{"$error":"#VALUE!"},{"$error":"#VALUE!"},{"$error":"#VALUE!"},{"$error":"#VALUE!"},null,null,null,124,"2036-07-15",1,0,0,0,0,0]
[null,null,125,"2036-08-15",{"$error":"#VALUE!"},{"$error":"#VALUE!"},{"$error":"#VALUE!"},{"$error":"#VALUE!"},{"$error":"#VALUE!"},{"$error":"#VALUE!"},null,null,null,125,"2036-08-15",1,0,0,0,0,0]
[null,null,126,"2036-09-15",{"$error":"#VALUE!"},{"$error":"#VALUE!"},{"$error":"#VALUE!"},{"$error":"#VALUE!"},{"$error":"#VALUE!"},{"$error":"#VALUE!"},null,null,null,126,"2036-09-15",1,0,0,0,0,0]
[null,null,127,"2036-10-15",{"$error":"#VALUE!"},{"$error":"#VALUE!"},{"$error":"#VALUE!"},{"$error":"#VALUE!"},{"$error":"#VALUE!"},{"$error":"#VALUE!"},null,null,null,127,"2036-10-15",1,0,0,0,0,0]
[null,null,128,"2036-11-15",{"$error":"#VALUE!"},{"$error":"#VALUE!"},{"$error":"#VALUE!"},{"$error":"#VALUE!"},{"$error":"#VALUE!"},{"$error":"#VALUE!"},null,null,null,128,"2036-11-15",1,0,0,0,0,0]
[null,null,129,"2036-12-15",{"$error":"#VALUE!"},{"$error":"#VALUE!"},{"$f":"IF(E532=\"\",0,Applic1_assessable_income)","v":{"$error":"#VALUE!"}},{"$f":"G532*Employer_contribution_rate/12","v":{"$error":"#VALUE!"}},{"$f":"H532*Super_Contribution_Tax","v":{"$error":"#VALUE!"}},{"$error":"#VALUE!"},null,null,null,129,"2036-12-15",1,0,{"$f":"IF(P532=\"\",0,Applic2_assessable_income)","v":0},{"$f":"R532*Employer_contribution_rate/12","v":0},{"$f":"S532*Super_Contribution_Tax","v":0},0]
[null,null,{"$f":"IF(C532>=No_of_pymts,\"\",C532+1)","v":130},{"$f":"IF(C533=\"\",\"\",EDATE(Loan_start_date,C533))","v":"2037-01-15"},{"$f":"IF($C533=\"\",\"\",INT(($D533-Applic1_DOB)/365.25))","v":{"$error":"#VALUE!"}},{"$error":"#VALUE!"},{"$error":"#VALUE!"},{"$error":"#VALUE!"},{"$error":"#VALUE!"},{"$f":"F533+H533-I533","v":{"$error":"#VALUE!"}},null,null,null,{"$f":"IF(N532>=No_of_pymts,\"\",N532+1)","v":130},{"$f":"IF(N533=\"\",\"\",EDATE(Loan_start_date,N533))","v":"2037-01-15"},{"$f":"IF(Applic2_DOB=\"\",1,INT((O533-Applic2_DOB)/365.25))","v":1},0,0,0,0,0]
[null,null,131,"2037-02-15",{"$error":"#VALUE!"},{"$f":"J533","v":{"$error":"#VALUE!"}},{"$error":"#VALUE!"},{"$error":"#VALUE!"},{"$error":"#VALUE!"},{"$error":"#VALUE!"},null,null,null,131,"2037-02-15",1,{"$f":"U533","v":0},0,0,0,{"$f":"Q534+S534-T534","v":0}]
[null,null,132,"2037-03-15",{"$error":"#VALUE!"},{"$error":"#VALUE!"},{"$error":"#VALUE!"},{"$error":"#VALUE!"},{"$error":"#VALUE!"},{"$error":"#VALUE!"},null,null,null,132,"2037-03-15",1,0,0,0,0,0]
[null,null,133,"2037-04-15",{"$error":"#VALUE!"},{"$error":"#VALUE!"},{"$error":"#VALUE!"},{"$error":"#VALUE!"},{"$error":"#VALUE!"},{"$error":"#VALUE!"},null,null,null,133,"2037-04-15",1,0,0,0,0,0]
[null,null,134,"2037-05-15",{"$error":"#VALUE!"},{"$error":"#VALUE!"},{"$error":"#VALUE!"},{"$error":"#VALUE!"},{"$error":"#VALUE!"},{"$error":"#VALUE!"},null,null,null,134,"2037-05-15",1,0,0,0,0,0]
[null,null,135,"2037-06-15",{"$error":"#VALUE!"},{"$error":"#VALUE!"},{"$error":"#VALUE!"},{"$error":"#VALUE!"},{"$error":"#VALUE!"},{"$error":"#VALUE!"},null,null,null,135,"2037-06-15",1,0,0,0,0,0]
[null,null,136,"2037-07-15",{"$error":"#VALUE!"},{"$error":"#VALUE!"},{"$error":"#VALUE!"},{"$error":"#VALUE!"},{"$error":"#VALUE!"},{"$error":"#VALUE!"},null,null,null,136,"2037-07-15",1,0,0,0,0,0]
[null,null,137,"2037-08-15",{"$error":"#VALUE!"},{"$error":"#VALUE!"},{"$error":"#VALUE!"},{"$error":"#VALUE!"},{"$error":"#VALUE!"},{"$error":"#VALUE!"},null,null,null,137,"2037-08-15",1,0,0,0,0,0]
[null,null,138,"2037-09-15",{"$error":"#VALUE!"},{"$error":"#VALUE!"},{"$error":"#VALUE!"},{"$error":"#VALUE!"},{"$error":"#VALUE!"},{"$error":"#VALUE!"},null,null,null,138,"2037-09-15",1,0,0,0,0,0]
[null,null,139,"2037-10-15",{"$error":"#VALUE!"},{"$error":"#VALUE!"},{"$error":"#VALUE!"},{"$error":"#VALUE!"},{"$error":"#VALUE!"},{"$error":"#VALUE!"},null,null,null,139,"2037-10-15",1,0,0,0,0,0]
[null,null,140,"2037-11-15",{"$error":"#VALUE!"},{"$error":"#VALUE!"},{"$error":"#VALUE!"},{"$error":"#VALUE!"},{"$error":"#VALUE!"},{"$error":"#VALUE!"},null,null,null,140,"2037-11-15",1,0,0,0,0,0]
[null,null,141,"2037-12-15",{"$error":"#VALUE!"},{"$error":"#VALUE!"},{"$error":"#VALUE!"},{"$error":"#VALUE!"},{"$error":"#VALUE!"},{"$error":"#VALUE!"},null,null,null,141,"2037-12-15",1,0,0,0,0,0]
[null,null,142,"2038-01-15",{"$error":"#VALUE!"},{"$error":"#VALUE!"},{"$error":"#VALUE!"},{"$error":"#VALUE!"},{"$error":"#VALUE!"},{"$error":"#VALUE!"},null,null,null,142,"2038-01-15",1,0,0,0,0,0]
[null,null,143,"2038-02-15",{"$error":"#VALUE!"},{"$error":"#VALUE!"},{"$error":"#VALUE!"},{"$error":"#VALUE!"},{"$error":"#VALUE!"},{"$error":"#VALUE!"},null,null,null,143,"2038-02-15",1,0,0,0,0,0]
[null,null,144,"2038-03-15",{"$error":"#VALUE!"},{"$error":"#VALUE!"},{"$error":"#VALUE!"},{"$error":"#VALUE!"},{"$error":"#VALUE!"},{"$error":"#VALUE!"},null,null,null,144,"2038-03-15",1,0,0,0,0,0]
[null,null,145,"2038-04-15",{"$error":"#VALUE!"},{"$error":"#VALUE!"},{"$error":"#VALUE!"},{"$error":"#VALUE!"},{"$error":"#VALUE!"},{"$error":"#VALUE!"},null,null,null,145,"2038-04-15",1,0,0,0,0,0]
[null,null,146,"2038-05-15",{"$error":"#VALUE!"},{"$error":"#VALUE!"},{"$error":"#VALUE!"},{"$error":"#VALUE!"},{"$error":"#VALUE!"},{"$error":"#VALUE!"},null,null,null,146,"2038-05-15",1,0,0,0,0,0]
[null,null,147,"2038-06-15",{"$error":"#VALUE!"},{"$error":"#VALUE!"},{"$error":"#VALUE!"},{"$error":"#VALUE!"},{"$error":"#VALUE!"},{"$error":"#VALUE!"},null,null,null,147,"2038-06-15",1,0,0,0,0,0]
[null,null,148,"2038-07-15",{"$error":"#VALUE!"},{"$error":"#VALUE!"},{"$error":"#VALUE!"},{"$error":"#VALUE!"},{"$error":"#VALUE!"},{"$error":"#VALUE!"},null,null,null,148,"2038-07-15",1,0,0,0,0,0]
[null,null,149,"2038-08-15",{"$error":"#VALUE!"},{"$error":"#VALUE!"},{"$error":"#VALUE!"},{"$error":"#VALUE!"},{"$error":"#VALUE!"},{"$error":"#VALUE!"},null,null,null,149,"2038-08-15",1,0,0,0,0,0]
[null,null,150,"2038-09-15",{"$error":"#VALUE!"},{"$error":"#VALUE!"},{"$error":"#VALUE!"},{"$error":"#VALUE!"},{"$error":"#VALUE!"},{"$error":"#VALUE!"},null,null,null,150,"2038-09-15",1,0,0,0,0,0]
[null,null,151,"2038-10-15",{"$error":"#VALUE!"},{"$error":"#VALUE!"},{"$error":"#VALUE!"},{"$error":"#VALUE!"},{"$error":"#VALUE!"},{"$error":"#VALUE!"},null,null,null,151,"2038-10-15",1,0,0,0,0,0]
[null,null,152,"2038-11-15",{"$error":"#VALUE!"},{"$error":"#VALUE!"},{"$error":"#VALUE!"},{"$error":"#VALUE!"},{"$error":"#VALUE!"},{"$error":"#VALUE!"},null,null,null,152,"2038-11-15",1,0,0,0,0,0]
[null,null,153,"2038-12-15",{"$error":"#VALUE!"},{"$error":"#VALUE!"},{"$error":"#VALUE!"},{"$error":"#VALUE!"},{"$error":"#VALUE!"},{"$error":"#VALUE!"},null,null,null,153,"2038-12-15",1,0,0,0,0,0]
[null,null,154,"2039-01-15",{"$error":"#VALUE!"},{"$error":"#VALUE!"},{"$error":"#VALUE!"},{"$error":"#VALUE!"},{"$error":"#VALUE!"},{"$error":"#VALUE!"},null,null,null,154,"2039-01-15",1,0,0,0,0,0]
[null,null,155,"2039-02-15",{"$error":"#VALUE!"},{"$error":"#VALUE!"},{"$error":"#VALUE!"},{"$error":"#VALUE!"},{"$error":"#VALUE!"},{"$error":"#VALUE!"},null,null,null,155,"2039-02-15",1,0,0,0,0,0]
[null,null,156,"2039-03-15",{"$error":"#VALUE!"},{"$error":"#VALUE!"},{"$error":"#VALUE!"},{"$error":"#VALUE!"},{"$error":"#VALUE!"},{"$error":"#VALUE!"},null,null,null,156,"2039-03-15",1,0,0,0,0,0]
[null,null,157,"2039-04-15",{"$error":"#VALUE!"},{"$error":"#VALUE!"},{"$error":"#VALUE!"},{"$error":"#VALUE!"},{"$error":"#VALUE!"},{"$error":"#VALUE!"},null,null,null,157,"2039-04-15",1,0,0,0,0,0]
[null,null,158,"2039-05-15",{"$error":"#VALUE!"},{"$error":"#VALUE!"},{"$error":"#VALUE!"},{"$error":"#VALUE!"},{"$error":"#VALUE!"},{"$error":"#VALUE!"},null,null,null,158,"2039-05-15",1,0,0,0,0,0]
[null,null,159,"2039-06-15",{"$error":"#VALUE!"},{"$error":"#VALUE!"},{"$error":"#VALUE!"},{"$error":"#VALUE!"},{"$error":"#VALUE!"},{"$error":"#VALUE!"},null,null,null,159,"2039-06-15",1,0,0,0,0,0]
[null,null,160,"2039-07-15",{"$error":"#VALUE!"},{"$error":"#VALUE!"},{"$error":"#VALUE!"},{"$error":"#VALUE!"},{"$error":"#VALUE!"},{"$error":"#VALUE!"},null,null,null,160,"2039-07-15",1,0,0,0,0,0]
[null,null,161,"2039-08-15",{"$error":"#VALUE!"},{"$error":"#VALUE!"},{"$error":"#VALUE!"},{"$error":"#VALUE!"},{"$error":"#VALUE!"},{"$error":"#VALUE!"},null,null,null,161,"2039-08-15",1,0,0,0,0,0]
[null,null,162,"2039-09-15",{"$error":"#VALUE!"},{"$error":"#VALUE!"},{"$error":"#VALUE!"},{"$error":"#VALUE!"},{"$error":"#VALUE!"},{"$error":"#VALUE!"},null,null,null,162,"2039-09-15",1,0,0,0,0,0]
[null,null,163,"2039-10-15",{"$error":"#VALUE!"},{"$error":"#VALUE!"},{"$error":"#VALUE!"},{"$error":"#VALUE!"},{"$error":"#VALUE!"},{"$error":"#VALUE!"},null,null,null,163,"2039-10-15",1,0,0,0,0,0]
[null,null,164,"2039-11-15",{"$error":"#VALUE!"},{"$error":"#VALUE!"},{"$error":"#VALUE!"},{"$error":"#VALUE!"},{"$error":"#VALUE!"},{"$error":"#VALUE!"},null,null,null,164,"2039-11-15",1,0,0,0,0,0]
[null,null,165,"2039-12-15",{"$error":"#VALUE!"},{"$error":"#VALUE!"},{"$error":"#VALUE!"},{"$error":"#VALUE!"},{"$error":"#VALUE!"},{"$error":"#VALUE!"},null,null,null,165,"2039-12-15",1,0,0,0,0,0]
[null,null,166,"2040-01-15",{"$error":"#VALUE!"},{"$error":"#VALUE!"},{"$error":"#VALUE!"},{"$error":"#VALUE!"},{"$error":"#VALUE!"},{"$error":"#VALUE!"},null,null,null,166,"2040-01-15",1,0,0,0,0,0]
[null,null,167,"2040-02-15",{"$error":"#VALUE!"},{"$error":"#VALUE!"},{"$error":"#VALUE!"},{"$error":"#VALUE!"},{"$error":"#VALUE!"},{"$error":"#VALUE!"},null,null,null,167,"2040-02-15",1,0,0,0,0,0]
[null,null,168,"2040-03-15",{"$error":"#VALUE!"},{"$error":"#VALUE!"},{"$error":"#VALUE!"},{"$error":"#VALUE!"},{"$error":"#VALUE!"},{"$error":"#VALUE!"},null,null,null,168,"2040-03-15",1,0,0,0,0,0]
[null,null,169,"2040-04-15",{"$error":"#VALUE!"},{"$error":"#VALUE!"},{"$error":"#VALUE!"},{"$error":"#VALUE!"},{"$error":"#VALUE!"},{"$error":"#VALUE!"},null,null,null,169,"2040-04-15",1,0,0,0,0,0]
[null,null,170,"2040-05-15",{"$error":"#VALUE!"},{"$error":"#VALUE!"},{"$error":"#VALUE!"},{"$error":"#VALUE!"},{"$error":"#VALUE!"},{"$error":"#VALUE!"},null,null,null,170,"2040-05-15",1,0,0,0,0,0]
[null,null,171,"2040-06-15",{"$error":"#VALUE!"},{"$error":"#VALUE!"},{"$error":"#VALUE!"},{"$error":"#VALUE!"},{"$error":"#VALUE!"},{"$error":"#VALUE!"},null,null,null,171,"2040-06-15",1,0,0,0,0,0]
[null,null,172,"2040-07-15",{"$error":"#VALUE!"},{"$error":"#VALUE!"},{"$error":"#VALUE!"},{"$error":"#VALUE!"},{"$error":"#VALUE!"},{"$error":"#VALUE!"},null,null,null,172,"2040-07-15",1,0,0,0,0,0]
[null,null,173,"2040-08-15",{"$error":"#VALUE!"},{"$error":"#VALUE!"},{"$error":"#VALUE!"},{"$error":"#VALUE!"},{"$error":"#VALUE!"},{"$error":"#VALUE!"},null,null,null,173,"2040-08-15",1,0,0,0,0,0]
[null,null,174,"2040-09-15",{"$error":"#VALUE!"},{"$error":"#VALUE!"},{"$error":"#VALUE!"},{"$error":"#VALUE!"},{"$error":"#VALUE!"},{"$error":"#VALUE!"},null,null,null,174,"2040-09-15",1,0,0,0,0,0]
[null,null,175,"2040-10-15",{"$error":"#VALUE!"},{"$error":"#VALUE!"},{"$error":"#VALUE!"},{"$error":"#VALUE!"},{"$error":"#VALUE!"},{"$error":"#VALUE!"},null,null,null,175,"2040-10-15",1,0,0,0,0,0]
[null,null,176,"2040-11-15",{"$error":"#VALUE!"},{"$error":"#VALUE!"},{"$error":"#VALUE!"},{"$error":"#VALUE!"},{"$error":"#VALUE!"},{"$error":"#VALUE!"},null,null,null,176,"2040-11-15",1,0,0,0,0,0]
[null,null,177,"2040-12-15",{"$error":"#VALUE!"},{"$error":"#VALUE!"},{"$error":"#VALUE!"},{"$error":"#VALUE!"},{"$error":"#VALUE!"},{"$error":"#VALUE!"},null,null,null,177,"2040-12-15",1,0,0,0,0,0]
[null,null,178,"2041-01-15",{"$error":"#VALUE!"},{"$error":"#VALUE!"},{"$error":"#VALUE!"},{"$error":"#VALUE!"},{"$error":"#VALUE!"},{"$error":"#VALUE!"},null,null,null,178,"2041-01-15",1,0,0,0,0,0]
[null,null,179,"2041-02-15",{"$error":"#VALUE!"},{"$error":"#VALUE!"},{"$error":"#VALUE!"},{"$error":"#VALUE!"},{"$error":"#VALUE!"},{"$error":"#VALUE!"},null,null,null,179,"2041-02-15",1,0,0,0,0,0]
[null,null,180,"2041-03-15",{"$error":"#VALUE!"},{"$error":"#VALUE!"},{"$error":"#VALUE!"},{"$error":"#VALUE!"},{"$error":"#VALUE!"},{"$error":"#VALUE!"},null,null,null,180,"2041-03-15",1,0,0,0,0,0]
[null,null,181,"2041-04-15",{"$error":"#VALUE!"},{"$error":"#VALUE!"},{"$error":"#VALUE!"},{"$error":"#VALUE!"},{"$error":"#VALUE!"},{"$error":"#VALUE!"},null,null,null,181,"2041-04-15",1,0,0,0,0,0]
[null,null,182,"2041-05-15",{"$error":"#VALUE!"},{"$error":"#VALUE!"},{"$error":"#VALUE!"},{"$error":"#VALUE!"},{"$error":"#VALUE!"},{"$error":"#VALUE!"},null,null,null,182,"2041-05-15",1,0,0,0,0,0]
[null,null,183,"2041-06-15",{"$error":"#VALUE!"},{"$error":"#VALUE!"},{"$error":"#VALUE!"},{"$error":"#VALUE!"},{"$error":"#VALUE!"},{"$error":"#VALUE!"},null,null,null,183,"2041-06-15",1,0,0,0,0,0]
[null,null,184,"2041-07-15",{"$error":"#VALUE!"},{"$error":"#VALUE!"},{"$error":"#VALUE!"},{"$error":"#VALUE!"},{"$error":"#VALUE!"},{"$error":"#VALUE!"},null,null,null,184,"2041-07-15",1,0,0,0,0,0]
[null,null,185,"2041-08-15",{"$error":"#VALUE!"},{"$error":"#VALUE!"},{"$error":"#VALUE!"},{"$error":"#VALUE!"},{"$error":"#VALUE!"},{"$error":"#VALUE!"},null,null,null,185,"2041-08-15",1,0,0,0,0,0]
[null,null,186,"2041-09-15",{"$error":"#VALUE!"},{"$error":"#VALUE!"},{"$error":"#VALUE!"},{"$error":"#VALUE!"},{"$error":"#VALUE!"},{"$error":"#VALUE!"},null,null,null,186,"2041-09-15",1,0,0,0,0,0]
[null,null,187,"2041-10-15",{"$error":"#VALUE!"},{"$error":"#VALUE!"},{"$error":"#VALUE!"},{"$error":"#VALUE!"},{"$error":"#VALUE!"},{"$error":"#VALUE!"},null,null,null,187,"2041-10-15",1,0,0,0,0,0]
[null,null,188,"2041-11-15",{"$error":"#VALUE!"},{"$error":"#VALUE!"},{"$error":"#VALUE!"},{"$error":"#VALUE!"},{"$error":"#VALUE!"},{"$error":"#VALUE!"},null,null,null,188,"2041-11-15",1,0,0,0,0,0]
[null,null,189,"2041-12-15",{"$error":"#VALUE!"},{"$error":"#VALUE!"},{"$error":"#VALUE!"},{"$error":"#VALUE!"},{"$error":"#VALUE!"},{"$error":"#VALUE!"},null,null,null,189,"2041-12-15",1,0,0,0,0,0]
[null,null,190,"2042-01-15",{"$error":"#VALUE!"},{"$error":"#VALUE!"},{"$error":"#VALUE!"},{"$error":"#VALUE!"},{"$error":"#VALUE!"},{"$error":"#VALUE!"},null,null,null,190,"2042-01-15",1,0,0,0,0,0]
[null,null,191,"2042-02-15",{"$error":"#VALUE!"},{"$error":"#VALUE!"},{"$error":"#VALUE!"},{"$error":"#VALUE!"},{"$error":"#VALUE!"},{"$error":"#VALUE!"},null,null,null,191,"2042-02-15",1,0,0,0,0,0]
[null,null,192,"2042-03-15",{"$error":"#VALUE!"},{"$error":"#VALUE!"},{"$error":"#VALUE!"},{"$error":"#VALUE!"},{"$error":"#VALUE!"},{"$error":"#VALUE!"},null,null,null,192,"2042-03-15",1,0,0,0,0,0]
[null,null,193,"2042-04-15",{"$error":"#VALUE!"},{"$error":"#VALUE!"},{"$f":"IF(E596=\"\",0,Applic1_assessable_income)","v":{"$error":"#VALUE!"}},{"$f":"G596*Employer_contribution_rate/12","v":{"$error":"#VALUE!"}},{"$f":"H596*Super_Contribution_Tax","v":{"$error":"#VALUE!"}},{"$error":"#VALUE!"},null,null,null,193,"2042-04-15",1,0,{"$f":"IF(P596=\"\",0,Applic2_assessable_income)","v":0},{"$f":"R596*Employer_contribution_rate/12","v":0},{"$f":"S596*Super_Contribution_Tax","v":0},0]
[null,null,{"$f":"IF(C596>=No_of_pymts,\"\",C596+1)","v":194},{"$f":"IF(C597=\"\",\"\",EDATE(Loan_start_date,C597))","v":"2042-05-15"},{"$f":"IF($C597=\"\",\"\",INT(($D597-Applic1_DOB)/365.25))","v":{"$error":"#VALUE!"}},{"$error":"#VALUE!"},{"$error":"#VALUE!"},{"$error":"#VALUE!"},{"$error":"#VALUE!"},{"$f":"F597+H597-I597","v":{"$error":"#VALUE!"}},null,null,null,{"$f":"IF(N596>=No_of_pymts,\"\",N596+1)","v":194},{"$f":"IF(N597=\"\",\"\",EDATE(Loan_start_date,N597))","v":"2042-05-15"},{"$f":"IF(Applic2_DOB=\"\",1,INT((O597-Applic2_DOB)/365.25))","v":1},0,0,0,0,0]
[null,null,195,"2042-06-15",{"$error":"#VALUE!"},{"$f":"J597","v":{"$error":"#VALUE!"}},{"$error":"#VALUE!"},{"$error":"#VALUE!"},{"$error":"#VALUE!"},{"$error":"#VALUE!"},null,null,null,195,"2042-06-15",1,{"$f":"U597","v":0},0,0,0,{"$f":"Q598+S598-T598","v":0}]
[null,null,196,"2042-07-15",{"$error":"#VALUE!"},{"$error":"#VALUE!"},{"$error":"#VALUE!"},{"$error":"#VALUE!"},{"$error":"#VALUE!"},{"$error":"#VALUE!"},null,null,null,196,"2042-07-15",1,0,0,0,0,0]
[null,null,197,"2042-08-15",{"$error":"#VALUE!"},{"$error":"#VALUE!"},{"$error":"#VALUE!"},{"$error":"#VALUE!"},{"$error":"#VALUE!"},{"$error":"#VALUE!"},null,null,null,197,"2042-08-15",1,0,0,0,0,0]
[null,null,198,"2042-09-15",{"$error":"#VALUE!"},{"$error":"#VALUE!"},{"$error":"#VALUE!"},{"$error":"#VALUE!"},{"$error":"#VALUE!"},{"$error":"#VALUE!"},null,null,null,198,"2042-09-15",1,0,0,0,0,0]
[null,null,199,"2042-10-15",{"$error":"#VALUE!"},{"$error":"#VALUE!"},{"$error":"#VALUE!"},{"$error":"#VALUE!"},{"$error":"#VALUE!"},{"$error":"#VALUE!"},null,null,null,199,"2042-10-15",1,0,0,0,0,0]
[null,null,200,"2042-11-15",{"$error":"#VALUE!"},{"$error":"#VALUE!"},{"$error":"#VALUE!"},{"$error":"#VALUE!"},{"$error":"#VALUE!"},{"$error":"#VALUE!"},null,null,null,200,"2042-11-15",1,0,0,0,0,0]
[null,null,201,"2042-12-15",{"$error":"#VALUE!"},{"$error":"#VALUE!"},{"$error":"#VALUE!"},{"$error":"#VALUE!"},{"$error":"#VALUE!"},{"$error":"#VALUE!"},null,null,null,201,"2042-12-15",1,0,0,0,0,0]
[null,null,202,"2043-01-15",{"$error":"#VALUE!"},{"$error":"#VALUE!"},{"$error":"#VALUE!"},{"$error":"#VALUE!"},{"$error":"#VALUE!"},{"$error":"#VALUE!"},null,null,null,202,"2043-01-15",1,0,0,0,0,0]
[null,null,203,"2043-02-15",{"$error":"#VALUE!"},{"$error":"#VALUE!"},{"$error":"#VALUE!"},{"$error":"#VALUE!"},{"$error":"#VALUE!"},{"$error":"#VALUE!"},null,null,null,203,"2043-02-15",1,0,0,0,0,0]
[null,null,204,"2043-03-15",{"$error":"#VALUE!"},{"$error":"#VALUE!"},{"$error":"#VALUE!"},{"$error":"#VALUE!"},{"$error":"#VALUE!"},{"$error":"#VALUE!"},null,null,null,204,"2043-03-15",1,0,0,0,0,0]
[null,null,205,"2043-04-15",{"$error":"#VALUE!"},{"$error":"#VALUE!"},{"$error":"#VALUE!"},{"$error":"#VALUE!"},{"$error":"#VALUE!"},{"$error":"#VALUE!"},null,null,null,205,"2043-04-15",1,0,0,0,0,0]
[null,null,206,"2043-05-15",{"$error":"#VALUE!"},{"$error":"#VALUE!"},{"$error":"#VALUE!"},{"$error":"#VALUE!"},{"$error":"#VALUE!"},{"$error":"#VALUE!"},null,null,null,206,"2043-05-15",1,0,0,0,0,0]
[null,null,207,"2043-06-15",{"$error":"#VALUE!"},{"$error":"#VALUE!"},{"$error":"#VALUE!"},{"$error":"#VALUE!"},{"$error":"#VALUE!"},{"$error":"#VALUE!"},null,null,null,207,"2043-06-15",1,0,0,0,0,0]
[null,null,208,"2043-07-15",{"$error":"#VALUE!"},{"$error":"#VALUE!"},{"$error":"#VALUE!"},{"$error":"#VALUE!"},{"$error":"#VALUE!"},{"$error":"#VALUE!"},null,null,null,208,"2043-07-15",1,0,0,0,0,0]
[null,null,209,"2043-08-15",{"$error":"#VALUE!"},{"$error":"#VALUE!"},{"$error":"#VALUE!"},{"$error":"#VALUE!"},{"$error":"#VALUE!"},{"$error":"#VALUE!"},null,null,null,209,"2043-08-15",1,0,0,0,0,0]
[null,null,210,"2043-09-15",{"$error":"#VALUE!"},{"$error":"#VALUE!"},{"$error":"#VALUE!"},{"$error":"#VALUE!"},{"$error":"#VALUE!"},{"$error":"#VALUE!"},null,null,null,210,"2043-09-15",1,0,0,0,0,0]
[null,null,211,"2043-10-15",{"$error":"#VALUE!"},{"$error":"#VALUE!"},{"$error":"#VALUE!"},{"$error":"#VALUE!"},{"$error":"#VALUE!"},{"$error":"#VALUE!"},null,null,null,211,"2043-10-15",1,0,0,0,0,0]
[null,null,212,"2043-11-15",{"$error":"#VALUE!"},{"$error":"#VALUE!"},{"$error":"#VALUE!"},{"$error":"#VALUE!"},{"$error":"#VALUE!"},{"$error":"#VALUE!"},null,null,null,212,"2043-11-15",1,0,0,0,0,0]
[null,null,213,"2043-12-15",{"$error":"#VALUE!"},{"$error":"#VALUE!"},{"$error":"#VALUE!"},{"$error":"#VALUE!"},{"$error":"#VALUE!"},{"$error":"#VALUE!"},null,null,null,213,"2043-12-15",1,0,0,0,0,0]
[null,null,214,"2044-01-15",{"$error":"#VALUE!"},{"$error":"#VALUE!"},{"$error":"#VALUE!"},{"$error":"#VALUE!"},{"$error":"#VALUE!"},{"$error":"#VALUE!"},null,null,null,214,"2044-01-15",1,0,0,0,0,0]
[null,null,215,"2044-02-15",{"$error":"#VALUE!"},{"$error":"#VALUE!"},{"$error":"#VALUE!"},{"$error":"#VALUE!"},{"$error":"#VALUE!"},{"$error":"#VALUE!"},null,null,null,215,"2044-02-15",1,0,0,0,0,0]
[null,null,216,"2044-03-15",{"$error":"#VALUE!"},{"$error":"#VALUE!"},{"$error":"#VALUE!"},{"$error":"#VALUE!"},{"$error":"#VALUE!"},{"$error":"#VALUE!"},null,null,null,216,"2044-03-15",1,0,0,0,0,0]
[null,null,217,"2044-04-15",{"$error":"#VALUE!"},{"$error":"#VALUE!"},{"$error":"#VALUE!"},{"$error":"#VALUE!"},{"$error":"#VALUE!"},{"$error":"#VALUE!"},null,null,null,217,"2044-04-15",1,0,0,0,0,0]
[null,null,218,"2044-05-15",{"$error":"#VALUE!"},{"$error":"#VALUE!"},{"$error":"#VALUE!"},{"$error":"#VALUE!"},{"$error":"#VALUE!"},{"$error":"#VALUE!"},null,null,null,218,"2044-05-15",1,0,0,0,0,0]
[null,null,219,"2044-06-15",{"$error":"#VALUE!"},{"$error":"#VALUE!"},{"$error":"#VALUE!"},{"$error":"#VALUE!"},{"$error":"#VALUE!"},{"$error":"#VALUE!"},null,null,null,219,"2044-06-15",1,0,0,0,0,0]
[null,null,220,"2044-07-15",{"$error":"#VALUE!"},{"$error":"#VALUE!"},{"$error":"#VALUE!"},{"$error":"#VALUE!"},{"$error":"#VALUE!"},{"$error":"#VALUE!"},null,null,null,220,"2044-07-15",1,0,0,0,0,0]
[null,null,221,"2044-08-15",{"$error":"#VALUE!"},{"$error":"#VALUE!"},{"$error":"#VALUE!"},{"$error":"#VALUE!"},{"$error":"#VALUE!"},{"$error":"#VALUE!"},null,null,null,221,"2044-08-15",1,0,0,0,0,0]
[null,null,222,"2044-09-15",{"$error":"#VALUE!"},{"$error":"#VALUE!"},{"$error":"#VALUE!"},{"$error":"#VALUE!"},{"$error":"#VALUE!"},{"$error":"#VALUE!"},null,null,null,222,"2044-09-15",1,0,0,0,0,0]
[null,null,223,"2044-10-15",{"$error":"#VALUE!"},{"$error":"#VALUE!"},{"$error":"#VALUE!"},{"$error":"#VALUE!"},{"$error":"#VALUE!"},{"$error":"#VALUE!"},null,null,null,223,"2044-10-15",1,0,0,0,0,0]
[null,null,224,"2044-11-15",{"$error":"#VALUE!"},{"$error":"#VALUE!"},{"$error":"#VALUE!"},{"$error":"#VALUE!"},{"$error":"#VALUE!"},{"$error":"#VALUE!"},null,null,null,224,"2044-11-15",1,0,0,0,0,0]
[null,null,225,"2044-12-15",{"$error":"#VALUE!"},{"$error":"#VALUE!"},{"$error":"#VALUE!"},{"$error":"#VALUE!"},{"$error":"#VALUE!"},{"$error":"#VALUE!"},null,null,null,225,"2044-12-15",1,0,0,0,0,0]
[null,null,226,"2045-01-15",{"$error":"#VALUE!"},{"$error":"#VALUE!"},{"$error":"#VALUE!"},{"$error":"#VALUE!"},{"$error":"#VALUE!"},{"$error":"#VALUE!"},null,null,null,226,"2045-01-15",1,0,0,0,0,0]
[null,null,227,"2045-02-15",{"$error":"#VALUE!"},{"$error":"#VALUE!"},{"$error":"#VALUE!"},{"$error":"#VALUE!"},{"$error":"#VALUE!"},{"$error":"#VALUE!"},null,null,null,227,"2045-02-15",1,0,0,0,0,0]
[null,null,228,"2045-03-15",{"$error":"#VALUE!"},{"$error":"#VALUE!"},{"$error":"#VALUE!"},{"$error":"#VALUE!"},{"$error":"#VALUE!"},{"$error":"#VALUE!"},null,null,null,228,"2045-03-15",1,0,0,0,0,0]
[null,null,229,"2045-04-15",{"$error":"#VALUE!"},{"$error":"#VALUE!"},{"$error":"#VALUE!"},{"$error":"#VALUE!"},{"$error":"#VALUE!"},{"$error":"#VALUE!"},null,null,null,229,"2045-04-15",1,0,0,0,0,0]
[null,null,230,"2045-05-15",{"$error":"#VALUE!"},{"$error":"#VALUE!"},{"$error":"#VALUE!"},{"$error":"#VALUE!"},{"$error":"#VALUE!"},{"$error":"#VALUE!"},null,null,null,230,"2045-05-15",1,0,0,0,0,0]
[null,null,231,"2045-06-15",{"$error":"#VALUE!"},{"$error":"#VALUE!"},{"$error":"#VALUE!"},{"$error":"#VALUE!"},{"$error":"#VALUE!"},{"$error":"#VALUE!"},null,null,null,231,"2045-06-15",1,0,0,0,0,0]
[null,null,232,"2045-07-15",{"$error":"#VALUE!"},{"$error":"#VALUE!"},{"$error":"#VALUE!"},{"$error":"#VALUE!"},{"$error":"#VALUE!"},{"$error":"#VALUE!"},null,null,null,232,"2045-07-15",1,0,0,0,0,0]
[null,null,233,"2045-08-15",{"$error":"#VALUE!"},{"$error":"#VALUE!"},{"$error":"#VALUE!"},{"$error":"#VALUE!"},{"$error":"#VALUE!"},{"$error":"#VALUE!"},null,null,null,233,"2045-08-15",1,0,0,0,0,0]
[null,null,234,"2045-09-15",{"$error":"#VALUE!"},{"$error":"#VALUE!"},{"$error":"#VALUE!"},{"$error":"#VALUE!"},{"$error":"#VALUE!"},{"$error":"#VALUE!"},null,null,null,234,"2045-09-15",1,0,0,0,0,0]
[null,null,235,"2045-10-15",{"$error":"#VALUE!"},{"$error":"#VALUE!"},{"$error":"#VALUE!"},{"$error":"#VALUE!"},{"$error":"#VALUE!"},{"$error":"#VALUE!"},null,null,null,235,"2045-10-15",1,0,0,0,0,0]
[null,null,236,"2045-11-15",{"$error":"#VALUE!"},{"$error":"#VALUE!"},{"$error":"#VALUE!"},{"$error":"#VALUE!"},{"$error":"#VALUE!"},{"$error":"#VALUE!"},null,null,null,236,"2045-11-15",1,0,0,0,0,0]
[null,null,237,"2045-12-15",{"$error":"#VALUE!"},{"$error":"#VALUE!"},{"$error":"#VALUE!"},{"$error":"#VALUE!"},{"$error":"#VALUE!"},{"$error":"#VALUE!"},null,null,null,237,"2045-12-15",1,0,0,0,0,0]
[null,null,238,"2046-01-15",{"$error":"#VALUE!"},{"$error":"#VALUE!"},{"$error":"#VALUE!"},{"$error":"#VALUE!"},{"$error":"#VALUE!"},{"$error":"#VALUE!"},null,null,null,238,"2046-01-15",1,0,0,0,0,0]
[null,null,239,"2046-02-15",{"$error":"#VALUE!"},{"$error":"#VALUE!"},{"$error":"#VALUE!"},{"$error":"#VALUE!"},{"$error":"#VALUE!"},{"$error":"#VALUE!"},null,null,null,239,"2046-02-15",1,0,0,0,0,0]
[null,null,240,"2046-03-15",{"$error":"#VALUE!"},{"$error":"#VALUE!"},{"$error":"#VALUE!"},{"$error":"#VALUE!"},{"$error":"#VALUE!"},{"$error":"#VALUE!"},null,null,null,240,"2046-03-15",1,0,0,0,0,0]
[null,null,241,"2046-04-15",{"$error":"#VALUE!"},{"$error":"#VALUE!"},{"$error":"#VALUE!"},{"$error":"#VALUE!"},{"$error":"#VALUE!"},{"$error":"#VALUE!"},null,null,null,241,"2046-04-15",1,0,0,0,0,0]
[null,null,242,"2046-05-15",{"$error":"#VALUE!"},{"$error":"#VALUE!"},{"$error":"#VALUE!"},{"$error":"#VALUE!"},{"$error":"#VALUE!"},{"$error":"#VALUE!"},null,null,null,242,"2046-05-15",1,0,0,0,0,0]
[null,null,243,"2046-06-15",{"$error":"#VALUE!"},{"$error":"#VALUE!"},{"$error":"#VALUE!"},{"$error":"#VALUE!"},{"$error":"#VALUE!"},{"$error":"#VALUE!"},null,null,null,243,"2046-06-15",1,0,0,0,0,0]
[null,null,244,"2046-07-15",{"$error":"#VALUE!"},{"$error":"#VALUE!"},{"$error":"#VALUE!"},{"$error":"#VALUE!"},{"$error":"#VALUE!"},{"$error":"#VALUE!"},null,null,null,244,"2046-07-15",1,0,0,0,0,0]
[null,null,245,"2046-08-15",{"$error":"#VALUE!"},{"$error":"#VALUE!"},{"$error":"#VALUE!"},{"$error":"#VALUE!"},{"$error":"#VALUE!"},{"$error":"#VALUE!"},null,null,null,245,"2046-08-15",1,0,0,0,0,0]
[null,null,246,"2046-09-15",{"$error":"#VALUE!"},{"$error":"#VALUE!"},{"$error":"#VALUE!"},{"$error":"#VALUE!"},{"$error":"#VALUE!"},{"$error":"#VALUE!"},null,null,null,246,"2046-09-15",1,0,0,0,0,0]
[null,null,247,"2046-10-15",{"$error":"#VALUE!"},{"$error":"#VALUE!"},{"$error":"#VALUE!"},{"$error":"#VALUE!"},{"$error":"#VALUE!"},{"$error":"#VALUE!"},null,null,null,247,"2046-10-15",1,0,0,0,0,0]
[null,null,248,"2046-11-15",{"$error":"#VALUE!"},{"$error":"#VALUE!"},{"$error":"#VALUE!"},{"$error":"#VALUE!"},{"$error":"#VALUE!"},{"$error":"#VALUE!"},null,null,null,248,"2046-11-15",1,0,0,0,0,0]
[null,null,249,"2046-12-15",{"$error":"#VALUE!"},{"$error":"#VALUE!"},{"$error":"#VALUE!"},{"$error":"#VALUE!"},{"$error":"#VALUE!"},{"$error":"#VALUE!"},null,null,null,249,"2046-12-15",1,0,0,0,0,0]
[null,null,250,"2047-01-15",{"$error":"#VALUE!"},{"$error":"#VALUE!"},{"$error":"#VALUE!"},{"$error":"#VALUE!"},{"$error":"#VALUE!"},{"$error":"#VALUE!"},null,null,null,250,"2047-01-15",1,0,0,0,0,0]
[null,null,251,"2047-02-15",{"$error":"#VALUE!"},{"$error":"#VALUE!"},{"$error":"#VALUE!"},{"$error":"#VALUE!"},{"$error":"#VALUE!"},{"$error":"#VALUE!"},null,null,null,251,"2047-02-15",1,0,0,0,0,0]
[null,null,252,"2047-03-15",{"$error":"#VALUE!"},{"$error":"#VALUE!"},{"$error":"#VALUE!"},{"$error":"#VALUE!"},{"$error":"#VALUE!"},{"$error":"#VALUE!"},null,null,null,252,"2047-03-15",1,0,0,0,0,0]
[null,null,253,"2047-04-15",{"$error":"#VALUE!"},{"$error":"#VALUE!"},{"$error":"#VALUE!"},{"$error":"#VALUE!"},{"$error":"#VALUE!"},{"$error":"#VALUE!"},null,null,null,253,"2047-04-15",1,0,0,0,0,0]
[null,null,254,"2047-05-15",{"$error":"#VALUE!"},{"$error":"#VALUE!"},{"$error":"#VALUE!"},{"$error":"#VALUE!"},{"$error":"#VALUE!"},{"$error":"#VALUE!"},null,null,null,254,"2047-05-15",1,0,0,0,0,0]
[null,null,255,"2047-06-15",{"$error":"#VALUE!"},{"$error":"#VALUE!"},{"$error":"#VALUE!"},{"$error":"#VALUE!"},{"$error":"#VALUE!"},{"$error":"#VALUE!"},null,null,null,255,"2047-06-15",1,0,0,0,0,0]
[null,null,256,"2047-07-15",{"$error":"#VALUE!"},{"$error":"#VALUE!"},{"$error":"#VALUE!"},{"$error":"#VALUE!"},{"$error":"#VALUE!"},{"$error":"#VALUE!"},null,null,null,256,"2047-07-15",1,0,0,0,0,0]
[null,null,257,"2047-08-15",{"$error":"#VALUE!"},{"$error":"#VALUE!"},{"$f":"IF(E660=\"\",0,Applic1_assessable_income)","v":{"$error":"#VALUE!"}},{"$f":"G660*Employer_contribution_rate/12","v":{"$error":"#VALUE!"}},{"$f":"H660*Super_Contribution_Tax","v":{"$error":"#VALUE!"}},{"$error":"#VALUE!"},null,null,null,257,"2047-08-15",1,0,{"$f":"IF(P660=\"\",0,Applic2_assessable_income)","v":0},{"$f":"R660*Employer_contribution_rate/12","v":0},{"$f":"S660*Super_Contribution_Tax","v":0},0]
[null,null,{"$f":"IF(C660>=No_of_pymts,\"\",C660+1)","v":258},{"$f":"IF(C661=\"\",\"\",EDATE(Loan_start_date,C661))","v":"2047-09-15"},{"$f":"IF($C661=\"\",\"\",INT(($D661-Applic1_DOB)/365.25))","v":{"$error":"#VALUE!"}},{"$error":"#VALUE!"},{"$error":"#VALUE!"},{"$error":"#VALUE!"},{"$error":"#VALUE!"},{"$f":"F661+H661-I661","v":{"$error":"#VALUE!"}},null,null,null,{"$f":"IF(N660>=No_of_pymts,\"\",N660+1)","v":258},{"$f":"IF(N661=\"\",\"\",EDATE(Loan_start_date,N661))","v":"2047-09-15"},{"$f":"IF(Applic2_DOB=\"\",1,INT((O661-Applic2_DOB)/365.25))","v":1},0,0,0,0,0]
[null,null,259,"2047-10-15",{"$error":"#VALUE!"},{"$f":"J661","v":{"$error":"#VALUE!"}},{"$error":"#VALUE!"},{"$error":"#VALUE!"},{"$error":"#VALUE!"},{"$error":"#VALUE!"},null,null,null,259,"2047-10-15",1,{"$f":"U661","v":0},0,0,0,{"$f":"Q662+S662-T662","v":0}]
[null,null,260,"2047-11-15",{"$error":"#VALUE!"},{"$error":"#VALUE!"},{"$error":"#VALUE!"},{"$error":"#VALUE!"},{"$error":"#VALUE!"},{"$error":"#VALUE!"},null,null,null,260,"2047-11-15",1,0,0,0,0,0]
[null,null,261,"2047-12-15",{"$error":"#VALUE!"},{"$error":"#VALUE!"},{"$error":"#VALUE!"},{"$error":"#VALUE!"},{"$error":"#VALUE!"},{"$error":"#VALUE!"},null,null,null,261,"2047-12-15",1,0,0,0,0,0]
[null,null,262,"2048-01-15",{"$error":"#VALUE!"},{"$error":"#VALUE!"},{"$error":"#VALUE!"},{"$error":"#VALUE!"},{"$error":"#VALUE!"},{"$error":"#VALUE!"},null,null,null,262,"2048-01-15",1,0,0,0,0,0]
[null,null,263,"2048-02-15",{"$error":"#VALUE!"},{"$error":"#VALUE!"},{"$error":"#VALUE!"},{"$error":"#VALUE!"},{"$error":"#VALUE!"},{"$error":"#VALUE!"},null,null,null,263,"2048-02-15",1,0,0,0,0,0]
[null,null,264,"2048-03-15",{"$error":"#VALUE!"},{"$error":"#VALUE!"},{"$error":"#VALUE!"},{"$error":"#VALUE!"},{"$error":"#VALUE!"},{"$error":"#VALUE!"},null,null,null,264,"2048-03-15",1,0,0,0,0,0]
[null,null,265,"2048-04-15",{"$error":"#VALUE!"},{"$error":"#VALUE!"},{"$error":"#VALUE!"},{"$error":"#VALUE!"},{"$error":"#VALUE!"},{"$error":"#VALUE!"},null,null,null,265,"2048-04-15",1,0,0,0,0,0]
[null,null,266,"2048-05-15",{"$error":"#VALUE!"},{"$error":"#VALUE!"},{"$error":"#VALUE!"},{"$error":"#VALUE!"},{"$error":"#VALUE!"},{"$error":"#VALUE!"},null,null,null,266,"2048-05-15",1,0,0,0,0,0]
[null,null,267,"2048-06-15",{"$error":"#VALUE!"},{"$error":"#VALUE!"},{"$error":"#VALUE!"},{"$error":"#VALUE!"},{"$error":"#VALUE!"},{"$error":"#VALUE!"},null,null,null,267,"2048-06-15",1,0,0,0,0,0]
[null,null,268,"2048-07-15",{"$error":"#VALUE!"},{"$error":"#VALUE!"},{"$error":"#VALUE!"},{"$error":"#VALUE!"},{"$error":"#VALUE!"},{"$error":"#VALUE!"},null,null,null,268,"2048-07-15",1,0,0,0,0,0]
[null,null,269,"2048-08-15",{"$error":"#VALUE!"},{"$error":"#VALUE!"},{"$error":"#VALUE!"},{"$error":"#VALUE!"},{"$error":"#VALUE!"},{"$error":"#VALUE!"},null,null,null,269,"2048-08-15",1,0,0,0,0,0]
[null,null,270,"2048-09-15",{"$error":"#VALUE!"},{"$error":"#VALUE!"},{"$error":"#VALUE!"},{"$error":"#VALUE!"},{"$error":"#VALUE!"},{"$error":"#VALUE!"},null,null,null,270,"2048-09-15",1,0,0,0,0,0]
[null,null,271,"2048-10-15",{"$error":"#VALUE!"},{"$error":"#VALUE!"},{"$error":"#VALUE!"},{"$error":"#VALUE!"},{"$error":"#VALUE!"},{"$error":"#VALUE!"},null,null,null,271,"2048-10-15",1,0,0,0,0,0]
[null,null,272,"2048-11-15",{"$error":"#VALUE!"},{"$error":"#VALUE!"},{"$error":"#VALUE!"},{"$error":"#VALUE!"},{"$error":"#VALUE!"},{"$error":"#VALUE!"},null,null,null,272,"2048-11-15",1,0,0,0,0,0]
[null,null,273,"2048-12-15",{"$error":"#VALUE!"},{"$error":"#VALUE!"},{"$error":"#VALUE!"},{"$error":"#VALUE!"},{"$error":"#VALUE!"},{"$error":"#VALUE!"},null,null,null,273,"2048-12-15",1,0,0,0,0,0]
[null,null,274,"2049-01-15",{"$error":"#VALUE!"},{"$error":"#VALUE!"},{"$error":"#VALUE!"},{"$error":"#VALUE!"},{"$error":"#VALUE!"},{"$error":"#VALUE!"},null,null,null,274,"2049-01-15",1,0,0,0,0,0]
[null,null,275,"2049-02-15",{"$error":"#VALUE!"},{"$error":"#VALUE!"},{"$error":"#VALUE!"},{"$error":"#VALUE!"},{"$error":"#VALUE!"},{"$error":"#VALUE!"},null,null,null,275,"2049-02-15",1,0,0,0,0,0]
[null,null,276,"2049-03-15",{"$error":"#VALUE!"},{"$error":"#VALUE!"},{"$error":"#VALUE!"},{"$error":"#VALUE!"},{"$error":"#VALUE!"},{"$error":"#VALUE!"},null,null,null,276,"2049-03-15",1,0,0,0,0,0]
[null,null,277,"2049-04-15",{"$error":"#VALUE!"},{"$error":"#VALUE!"},{"$error":"#VALUE!"},{"$error":"#VALUE!"},{"$error":"#VALUE!"},{"$error":"#VALUE!"},null,null,null,277,"2049-04-15",1,0,0,0,0,0]
[null,null,278,"2049-05-15",{"$error":"#VALUE!"},{"$error":"#VALUE!"},{"$error":"#VALUE!"},{"$error":"#VALUE!"},{"$error":"#VALUE!"},{"$error":"#VALUE!"},null,null,null,278,"2049-05-15",1,0,0,0,0,0]
[null,null,279,"2049-06-15",{"$error":"#VALUE!"},{"$error":"#VALUE!"},{"$error":"#VALUE!"},{"$error":"#VALUE!"},{"$error":"#VALUE!"},{"$error":"#VALUE!"},null,null,null,279,"2049-06-15",1,0,0,0,0,0]
[null,null,280,"2049-07-15",{"$error":"#VALUE!"},{"$error":"#VALUE!"},{"$error":"#VALUE!"},{"$error":"#VALUE!"},{"$error":"#VALUE!"},{"$error":"#VALUE!"},null,null,null,280,"2049-07-15",1,0,0,0,0,0]
[null,null,281,"2049-08-15",{"$error":"#VALUE!"},{"$error":"#VALUE!"},{"$error":"#VALUE!"},{"$error":"#VALUE!"},{"$error":"#VALUE!"},{"$error":"#VALUE!"},null,null,null,281,"2049-08-15",1,0,0,0,0,0]
[null,null,282,"2049-09-15",{"$error":"#VALUE!"},{"$error":"#VALUE!"},{"$error":"#VALUE!"},{"$error":"#VALUE!"},{"$error":"#VALUE!"},{"$error":"#VALUE!"},null,null,null,282,"2049-09-15",1,0,0,0,0,0]
[null,null,283,"2049-10-15",{"$error":"#VALUE!"},{"$error":"#VALUE!"},{"$error":"#VALUE!"},{"$error":"#VALUE!"},{"$error":"#VALUE!"},{"$error":"#VALUE!"},null,null,null,283,"2049-10-15",1,0,0,0,0,0]
[null,null,284,"2049-11-15",{"$error":"#VALUE!"},{"$error":"#VALUE!"},{"$error":"#VALUE!"},{"$error":"#VALUE!"},{"$error":"#VALUE!"},{"$error":"#VALUE!"},null,null,null,284,"2049-11-15",1,0,0,0,0,0]
[null,null,285,"2049-12-15",{"$error":"#VALUE!"},{"$error":"#VALUE!"},{"$error":"#VALUE!"},{"$error":"#VALUE!"},{"$error":"#VALUE!"},{"$error":"#VALUE!"},null,null,null,285,"2049-12-15",1,0,0,0,0,0]
[null,null,286,"2050-01-15",{"$error":"#VALUE!"},{"$error":"#VALUE!"},{"$error":"#VALUE!"},{"$error":"#VALUE!"},{"$error":"#VALUE!"},{"$error":"#VALUE!"},null,null,null,286,"2050-01-15",1,0,0,0,0,0]
[null,null,287,"2050-02-15",{"$error":"#VALUE!"},{"$error":"#VALUE!"},{"$error":"#VALUE!"},{"$error":"#VALUE!"},{"$error":"#VALUE!"},{"$error":"#VALUE!"},null,null,null,287,"2050-02-15",1,0,0,0,0,0]
[null,null,288,"2050-03-15",{"$error":"#VALUE!"},{"$error":"#VALUE!"},{"$error":"#VALUE!"},{"$error":"#VALUE!"},{"$error":"#VALUE!"},{"$error":"#VALUE!"},null,null,null,288,"2050-03-15",1,0,0,0,0,0]
[null,null,289,"2050-04-15",{"$error":"#VALUE!"},{"$error":"#VALUE!"},{"$error":"#VALUE!"},{"$error":"#VALUE!"},{"$error":"#VALUE!"},{"$error":"#VALUE!"},null,null,null,289,"2050-04-15",1,0,0,0,0,0]
[null,null,290,"2050-05-15",{"$error":"#VALUE!"},{"$error":"#VALUE!"},{"$error":"#VALUE!"},{"$error":"#VALUE!"},{"$error":"#VALUE!"},{"$error":"#VALUE!"},null,null,null,290,"2050-05-15",1,0,0,0,0,0]
[null,null,291,"2050-06-15",{"$error":"#VALUE!"},{"$error":"#VALUE!"},{"$error":"#VALUE!"},{"$error":"#VALUE!"},{"$error":"#VALUE!"},{"$error":"#VALUE!"},null,null,null,291,"2050-06-15",1,0,0,0,0,0]
[null,null,292,"2050-07-15",{"$error":"#VALUE!"},{"$error":"#VALUE!"},{"$error":"#VALUE!"},{"$error":"#VALUE!"},{"$error":"#VALUE!"},{"$error":"#VALUE!"},null,null,null,292,"2050-07-15",1,0,0,0,0,0]
[null,null,293,"2050-08-15",{"$error":"#VALUE!"},{"$error":"#VALUE!"},{"$error":"#VALUE!"},{"$error":"#VALUE!"},{"$error":"#VALUE!"},{"$error":"#VALUE!"},null,null,null,293,"2050-08-15",1,0,0,0,0,0]
[null,null,294,"2050-09-15",{"$error":"#VALUE!"},{"$error":"#VALUE!"},{"$error":"#VALUE!"},{"$error":"#VALUE!"},{"$error":"#VALUE!"},{"$error":"#VALUE!"},null,null,null,294,"2050-09-15",1,0,0,0,0,0]
[null,null,295,"2050-10-15",{"$error":"#VALUE!"},{"$error":"#VALUE!"},{"$error":"#VALUE!"},{"$error":"#VALUE!"},{"$error":"#VALUE!"},{"$error":"#VALUE!"},null,null,null,295,"2050-10-15",1,0,0,0,0,0]
[null,null,296,"2050-11-15",{"$error":"#VALUE!"},{"$error":"#VALUE!"},{"$error":"#VALUE!"},{"$error":"#VALUE!"},{"$error":"#VALUE!"},{"$error":"#VALUE!"},null,null,null,296,"2050-11-15",1,0,0,0,0,0]
[null,null,297,"2050-12-15",{"$error":"#VALUE!"},{"$error":"#VALUE!"},{"$error":"#VALUE!"},{"$error":"#VALUE!"},{"$error":"#VALUE!"},{"$error":"#VALUE!"},null,null,null,297,"2050-12-15",1,0,0,0,0,0]
[null,null,298,"2051-01-15",{"$error":"#VALUE!"},{"$error":"#VALUE!"},{"$error":"#VALUE!"},{"$error":"#VALUE!"},{"$error":"#VALUE!"},{"$error":"#VALUE!"},null,null,null,298,"2051-01-15",1,0,0,0,0,0]
[null,null,299,"2051-02-15",{"$error":"#VALUE!"},{"$error":"#VALUE!"},{"$error":"#VALUE!"},{"$error":"#VALUE!"},{"$error":"#VALUE!"},{"$error":"#VALUE!"},null,null,null,299,"2051-02-15",1,0,0,0,0,0]
[null,null,300,"2051-03-15",{"$error":"#VALUE!"},{"$error":"#VALUE!"},{"$error":"#VALUE!"},{"$error":"#VALUE!"},{"$error":"#VALUE!"},{"$error":"#VALUE!"},null,null,null,300,"2051-03-15",1,0,0,0,0,0]
[null,null,301,"2051-04-15",{"$error":"#VALUE!"},{"$error":"#VALUE!"},{"$error":"#VALUE!"},{"$error":"#VALUE!"},{"$error":"#VALUE!"},{"$error":"#VALUE!"},null,null,null,301,"2051-04-15",1,0,0,0,0,0]
[null,null,302,"2051-05-15",{"$error":"#VALUE!"},{"$error":"#VALUE!"},{"$error":"#VALUE!"},{"$error":"#VALUE!"},{"$error":"#VALUE!"},{"$error":"#VALUE!"},null,null,null,302,"2051-05-15",1,0,0,0,0,0]
[null,null,303,"2051-06-15",{"$error":"#VALUE!"},{"$error":"#VALUE!"},{"$error":"#VALUE!"},{"$error":"#VALUE!"},{"$error":"#VALUE!"},{"$error":"#VALUE!"},null,null,null,303,"2051-06-15",1,0,0,0,0,0]
[null,null,304,"2051-07-15",{"$error":"#VALUE!"},{"$error":"#VALUE!"},{"$error":"#VALUE!"},{"$error":"#VALUE!"},{"$error":"#VALUE!"},{"$error":"#VALUE!"},null,null,null,304,"2051-07-15",1,0,0,0,0,0]
[null,null,305,"2051-08-15",{"$error":"#VALUE!"},{"$error":"#VALUE!"},{"$error":"#VALUE!"},{"$error":"#VALUE!"},{"$error":"#VALUE!"},{"$error":"#VALUE!"},null,null,null,305,"2051-08-15",1,0,0,0,0,0]
[null,null,306,"2051-09-15",{"$error":"#VALUE!"},{"$error":"#VALUE!"},{"$error":"#VALUE!"},{"$error":"#VALUE!"},{"$error":"#VALUE!"},{"$error":"#VALUE!"},null,null,null,306,"2051-09-15",1,0,0,0,0,0]
[null,null,307,"2051-10-15",{"$error":"#VALUE!"},{"$error":"#VALUE!"},{"$error":"#VALUE!"},{"$error":"#VALUE!"},{"$error":"#VALUE!"},{"$error":"#VALUE!"},null,null,null,307,"2051-10-15",1,0,0,0,0,0]
[null,null,308,"2051-11-15",{"$error":"#VALUE!"},{"$error":"#VALUE!"},{"$error":"#VALUE!"},{"$error":"#VALUE!"},{"$error":"#VALUE!"},{"$error":"#VALUE!"},null,null,null,308,"2051-11-15",1,0,0,0,0,0]
[null,null,309,"2051-12-15",{"$error":"#VALUE!"},{"$error":"#VALUE!"},{"$error":"#VALUE!"},{"$error":"#VALUE!"},{"$error":"#VALUE!"},{"$error":"#VALUE!"},null,null,null,309,"2051-12-15",1,0,0,0,0,0]
[null,null,310,"2052-01-15",{"$error":"#VALUE!"},{"$error":"#VALUE!"},{"$error":"#VALUE!"},{"$error":"#VALUE!"},{"$error":"#VALUE!"},{"$error":"#VALUE!"},null,null,null,310,"2052-01-15",1,0,0,0,0,0]
[null,null,311,"2052-02-15",{"$error":"#VALUE!"},{"$error":"#VALUE!"},{"$error":"#VALUE!"},{"$error":"#VALUE!"},{"$error":"#VALUE!"},{"$error":"#VALUE!"},null,null,null,311,"2052-02-15",1,0,0,0,0,0]
[null,null,312,"2052-03-15",{"$error":"#VALUE!"},{"$error":"#VALUE!"},{"$error":"#VALUE!"},{"$error":"#VALUE!"},{"$error":"#VALUE!"},{"$error":"#VALUE!"},null,null,null,312,"2052-03-15",1,0,0,0,0,0]
[null,null,313,"2052-04-15",{"$error":"#VALUE!"},{"$error":"#VALUE!"},{"$error":"#VALUE!"},{"$error":"#VALUE!"},{"$error":"#VALUE!"},{"$error":"#VALUE!"},null,null,null,313,"2052-04-15",1,0,0,0,0,0]
[null,null,314,"2052-05-15",{"$error":"#VALUE!"},{"$error":"#VALUE!"},{"$error":"#VALUE!"},{"$error":"#VALUE!"},{"$error":"#VALUE!"},{"$error":"#VALUE!"},null,null,null,314,"2052-05-15",1,0,0,0,0,0]
[null,null,315,"2052-06-15",{"$error":"#VALUE!"},{"$error":"#VALUE!"},{"$error":"#VALUE!"},{"$error":"#VALUE!"},{"$error":"#VALUE!"},{"$error":"#VALUE!"},null,null,null,315,"2052-06-15",1,0,0,0,0,0]
[null,null,316,"2052-07-15",{"$error":"#VALUE!"},{"$error":"#VALUE!"},{"$error":"#VALUE!"},{"$error":"#VALUE!"},{"$error":"#VALUE!"},{"$error":"#VALUE!"},null,null,null,316,"2052-07-15",1,0,0,0,0,0]
[null,null,317,"2052-08-15",{"$error":"#VALUE!"},{"$error":"#VALUE!"},{"$error":"#VALUE!"},{"$error":"#VALUE!"},{"$error":"#VALUE!"},{"$error":"#VALUE!"},null,null,null,317,"2052-08-15",1,0,0,0,0,0]
[null,null,318,"2052-09-15",{"$error":"#VALUE!"},{"$error":"#VALUE!"},{"$error":"#VALUE!"},{"$error":"#VALUE!"},{"$error":"#VALUE!"},{"$error":"#VALUE!"},null,null,null,318,"2052-09-15",1,0,0,0,0,0]
[null,null,319,"2052-10-15",{"$error":"#VALUE!"},{"$error":"#VALUE!"},{"$error":"#VALUE!"},{"$error":"#VALUE!"},{"$error":"#VALUE!"},{"$error":"#VALUE!"},null,null,null,319,"2052-10-15",1,0,0,0,0,0]
[null,null,320,"2052-11-15",{"$error":"#VALUE!"},{"$error":"#VALUE!"},{"$error":"#VALUE!"},{"$error":"#VALUE!"},{"$error":"#VALUE!"},{"$error":"#VALUE!"},null,null,null,320,"2052-11-15",1,0,0,0,0,0]
[null,null,321,"2052-12-15",{"$error":"#VALUE!"},{"$error":"#VALUE!"},{"$f":"IF(E724=\"\",0,Applic1_assessable_income)","v":{"$error":"#VALUE!"}},{"$f":"G724*Employer_contribution_rate/12","v":{"$error":"#VALUE!"}},{"$f":"H724*Super_Contribution_Tax","v":{"$error":"#VALUE!"}},{"$error":"#VALUE!"},null,null,null,321,"2052-12-15",1,0,{"$f":"IF(P724=\"\",0,Applic2_assessable_income)","v":0},{"$f":"R724*Employer_contribution_rate/12","v":0},{"$f":"S724*Super_Contribution_Tax","v":0},0]
[null,null,{"$f":"IF(C724>=No_of_pymts,\"\",C724+1)","v":322},{"$f":"IF(C725=\"\",\"\",EDATE(Loan_start_date,C725))","v":"2053-01-15"},{"$f":"IF($C725=\"\",\"\",INT(($D725-Applic1_DOB)/365.25))","v":{"$error":"#VALUE!"}},{"$error":"#VALUE!"},{"$error":"#VALUE!"},{"$error":"#VALUE!"},{"$error":"#VALUE!"},{"$f":"F725+H725-I725","v":{"$error":"#VALUE!"}},null,null,null,{"$f":"IF(N724>=No_of_pymts,\"\",N724+1)","v":322},{"$f":"IF(N725=\"\",\"\",EDATE(Loan_start_date,N725))","v":"2053-01-15"},{"$f":"IF(Applic2_DOB=\"\",1,INT((O725-Applic2_DOB)/365.25))","v":1},0,0,0,0,0]
[null,null,323,"2053-02-15",{"$error":"#VALUE!"},{"$f":"J725","v":{"$error":"#VALUE!"}},{"$error":"#VALUE!"},{"$error":"#VALUE!"},{"$error":"#VALUE!"},{"$error":"#VALUE!"},null,null,null,323,"2053-02-15",1,{"$f":"U725","v":0},0,0,0,{"$f":"Q726+S726-T726","v":0}]
[null,null,324,"2053-03-15",{"$error":"#VALUE!"},{"$error":"#VALUE!"},{"$error":"#VALUE!"},{"$error":"#VALUE!"},{"$error":"#VALUE!"},{"$error":"#VALUE!"},null,null,null,324,"2053-03-15",1,0,0,0,0,0]
[null,null,325,"2053-04-15",{"$error":"#VALUE!"},{"$error":"#VALUE!"},{"$error":"#VALUE!"},{"$error":"#VALUE!"},{"$error":"#VALUE!"},{"$error":"#VALUE!"},null,null,null,325,"2053-04-15",1,0,0,0,0,0]
[null,null,326,"2053-05-15",{"$error":"#VALUE!"},{"$error":"#VALUE!"},{"$error":"#VALUE!"},{"$error":"#VALUE!"},{"$error":"#VALUE!"},{"$error":"#VALUE!"},null,null,null,326,"2053-05-15",1,0,0,0,0,0]
[null,null,327,"2053-06-15",{"$error":"#VALUE!"},{"$error":"#VALUE!"},{"$error":"#VALUE!"},{"$error":"#VALUE!"},{"$error":"#VALUE!"},{"$error":"#VALUE!"},null,null,null,327,"2053-06-15",1,0,0,0,0,0]
[null,null,328,"2053-07-15",{"$error":"#VALUE!"},{"$error":"#VALUE!"},{"$error":"#VALUE!"},{"$error":"#VALUE!"},{"$error":"#VALUE!"},{"$error":"#VALUE!"},null,null,null,328,"2053-07-15",1,0,0,0,0,0]
[null,null,329,"2053-08-15",{"$error":"#VALUE!"},{"$error":"#VALUE!"},{"$error":"#VALUE!"},{"$error":"#VALUE!"},{"$error":"#VALUE!"},{"$error":"#VALUE!"},null,null,null,329,"2053-08-15",1,0,0,0,0,0]
[null,null,330,"2053-09-15",{"$error":"#VALUE!"},{"$error":"#VALUE!"},{"$error":"#VALUE!"},{"$error":"#VALUE!"},{"$error":"#VALUE!"},{"$error":"#VALUE!"},null,null,null,330,"2053-09-15",1,0,0,0,0,0]
[null,null,331,"2053-10-15",{"$error":"#VALUE!"},{"$error":"#VALUE!"},{"$error":"#VALUE!"},{"$error":"#VALUE!"},{"$error":"#VALUE!"},{"$error":"#VALUE!"},null,null,null,331,"2053-10-15",1,0,0,0,0,0]
[null,null,332,"2053-11-15",{"$error":"#VALUE!"},{"$error":"#VALUE!"},{"$error":"#VALUE!"},{"$error":"#VALUE!"},{"$error":"#VALUE!"},{"$error":"#VALUE!"},null,null,null,332,"2053-11-15",1,0,0,0,0,0]
[null,null,333,"2053-12-15",{"$error":"#VALUE!"},{"$error":"#VALUE!"},{"$error":"#VALUE!"},{"$error":"#VALUE!"},{"$error":"#VALUE!"},{"$error":"#VALUE!"},null,null,null,333,"2053-12-15",1,0,0,0,0,0]
[null,null,334,"2054-01-15",{"$error":"#VALUE!"},{"$error":"#VALUE!"},{"$error":"#VALUE!"},{"$error":"#VALUE!"},{"$error":"#VALUE!"},{"$error":"#VALUE!"},null,null,null,334,"2054-01-15",1,0,0,0,0,0]
[null,null,335,"2054-02-15",{"$error":"#VALUE!"},{"$error":"#VALUE!"},{"$error":"#VALUE!"},{"$error":"#VALUE!"},{"$error":"#VALUE!"},{"$error":"#VALUE!"},null,null,null,335,"2054-02-15",1,0,0,0,0,0]
[null,null,336,"2054-03-15",{"$error":"#VALUE!"},{"$error":"#VALUE!"},{"$error":"#VALUE!"},{"$error":"#VALUE!"},{"$error":"#VALUE!"},{"$error":"#VALUE!"},null,null,null,336,"2054-03-15",1,0,0,0,0,0]
[null,null,337,"2054-04-15",{"$error":"#VALUE!"},{"$error":"#VALUE!"},{"$error":"#VALUE!"},{"$error":"#VALUE!"},{"$error":"#VALUE!"},{"$error":"#VALUE!"},null,null,null,337,"2054-04-15",1,0,0,0,0,0]
[null,null,338,"2054-05-15",{"$error":"#VALUE!"},{"$error":"#VALUE!"},{"$error":"#VALUE!"},{"$error":"#VALUE!"},{"$error":"#VALUE!"},{"$error":"#VALUE!"},null,null,null,338,"2054-05-15",1,0,0,0,0,0]
[null,null,339,"2054-06-15",{"$error":"#VALUE!"},{"$error":"#VALUE!"},{"$error":"#VALUE!"},{"$error":"#VALUE!"},{"$error":"#VALUE!"},{"$error":"#VALUE!"},null,null,null,339,"2054-06-15",1,0,0,0,0,0]
[null,null,340,"2054-07-15",{"$error":"#VALUE!"},{"$error":"#VALUE!"},{"$error":"#VALUE!"},{"$error":"#VALUE!"},{"$error":"#VALUE!"},{"$error":"#VALUE!"},null,null,null,340,"2054-07-15",1,0,0,0,0,0]
[null,null,341,"2054-08-15",{"$error":"#VALUE!"},{"$error":"#VALUE!"},{"$error":"#VALUE!"},{"$error":"#VALUE!"},{"$error":"#VALUE!"},{"$error":"#VALUE!"},null,null,null,341,"2054-08-15",1,0,0,0,0,0]
[null,null,342,"2054-09-15",{"$error":"#VALUE!"},{"$error":"#VALUE!"},{"$error":"#VALUE!"},{"$error":"#VALUE!"},{"$error":"#VALUE!"},{"$error":"#VALUE!"},null,null,null,342,"2054-09-15",1,0,0,0,0,0]
[null,null,343,"2054-10-15",{"$error":"#VALUE!"},{"$error":"#VALUE!"},{"$error":"#VALUE!"},{"$error":"#VALUE!"},{"$error":"#VALUE!"},{"$error":"#VALUE!"},null,null,null,343,"2054-10-15",1,0,0,0,0,0]
[null,null,344,"2054-11-15",{"$error":"#VALUE!"},{"$error":"#VALUE!"},{"$error":"#VALUE!"},{"$error":"#VALUE!"},{"$error":"#VALUE!"},{"$error":"#VALUE!"},null,null,null,344,"2054-11-15",1,0,0,0,0,0]
[null,null,345,"2054-12-15",{"$error":"#VALUE!"},{"$error":"#VALUE!"},{"$error":"#VALUE!"},{"$error":"#VALUE!"},{"$error":"#VALUE!"},{"$error":"#VALUE!"},null,null,null,345,"2054-12-15",1,0,0,0,0,0]
[null,null,346,"2055-01-15",{"$error":"#VALUE!"},{"$error":"#VALUE!"},{"$error":"#VALUE!"},{"$error":"#VALUE!"},{"$error":"#VALUE!"},{"$error":"#VALUE!"},null,null,null,346,"2055-01-15",1,0,0,0,0,0]
[null,null,347,"2055-02-15",{"$error":"#VALUE!"},{"$error":"#VALUE!"},{"$error":"#VALUE!"},{"$error":"#VALUE!"},{"$error":"#VALUE!"},{"$error":"#VALUE!"},null,null,null,347,"2055-02-15",1,0,0,0,0,0]
[null,null,348,"2055-03-15",{"$error":"#VALUE!"},{"$error":"#VALUE!"},{"$error":"#VALUE!"},{"$error":"#VALUE!"},{"$error":"#VALUE!"},{"$error":"#VALUE!"},null,null,null,348,"2055-03-15",1,0,0,0,0,0]
[null,null,349,"2055-04-15",{"$error":"#VALUE!"},{"$error":"#VALUE!"},{"$error":"#VALUE!"},{"$error":"#VALUE!"},{"$error":"#VALUE!"},{"$error":"#VALUE!"},null,null,null,349,"2055-04-15",1,0,0,0,0,0]
[null,null,350,"2055-05-15",{"$error":"#VALUE!"},{"$error":"#VALUE!"},{"$error":"#VALUE!"},{"$error":"#VALUE!"},{"$error":"#VALUE!"},{"$error":"#VALUE!"},null,null,null,350,"2055-05-15",1,0,0,0,0,0]
[null,null,351,"2055-06-15",{"$error":"#VALUE!"},{"$error":"#VALUE!"},{"$error":"#VALUE!"},{"$error":"#VALUE!"},{"$error":"#VALUE!"},{"$error":"#VALUE!"},null,null,null,351,"2055-06-15",1,0,0,0,0,0]
[null,null,352,"2055-07-15",{"$error":"#VALUE!"},{"$error":"#VALUE!"},{"$error":"#VALUE!"},{"$error":"#VALUE!"},{"$error":"#VALUE!"},{"$error":"#VALUE!"},null,null,null,352,"2055-07-15",1,0,0,0,0,0]
[null,null,353,"2055-08-15",{"$error":"#VALUE!"},{"$error":"#VALUE!"},{"$error":"#VALUE!"},{"$error":"#VALUE!"},{"$error":"#VALUE!"},{"$error":"#VALUE!"},null,null,null,353,"2055-08-15",1,0,0,0,0,0]
[null,null,354,"2055-09-15",{"$error":"#VALUE!"},{"$error":"#VALUE!"},{"$error":"#VALUE!"},{"$error":"#VALUE!"},{"$error":"#VALUE!"},{"$error":"#VALUE!"},null,null,null,354,"2055-09-15",1,0,0,0,0,0]
[null,null,355,"2055-10-15",{"$error":"#VALUE!"},{"$error":"#VALUE!"},{"$error":"#VALUE!"},{"$error":"#VALUE!"},{"$error":"#VALUE!"},{"$error":"#VALUE!"},null,null,null,355,"2055-10-15",1,0,0,0,0,0]
[null,null,356,"2055-11-15",{"$error":"#VALUE!"},{"$error":"#VALUE!"},{"$error":"#VALUE!"},{"$error":"#VALUE!"},{"$error":"#VALUE!"},{"$error":"#VALUE!"},null,null,null,356,"2055-11-15",1,0,0,0,0,0]
[null,null,357,"2055-12-15",{"$error":"#VALUE!"},{"$error":"#VALUE!"},{"$error":"#VALUE!"},{"$error":"#VALUE!"},{"$error":"#VALUE!"},{"$error":"#VALUE!"},null,null,null,357,"2055-12-15",1,0,0,0,0,0]
[null,null,358,"2056-01-15",{"$error":"#VALUE!"},{"$error":"#VALUE!"},{"$error":"#VALUE!"},{"$error":"#VALUE!"},{"$error":"#VALUE!"},{"$error":"#VALUE!"},null,null,null,358,"2056-01-15",1,0,0,0,0,0]
[null,null,359,"2056-02-15",{"$error":"#VALUE!"},{"$error":"#VALUE!"},{"$error":"#VALUE!"},{"$error":"#VALUE!"},{"$error":"#VALUE!"},{"$error":"#VALUE!"},null,null,null,359,"2056-02-15",1,0,0,0,0,0]
[null,null,360,"2056-03-15",{"$error":"#VALUE!"},{"$error":"#VALUE!"},{"$error":"#VALUE!"},{"$error":"#VALUE!"},{"$error":"#VALUE!"},{"$error":"#VALUE!"},null,null,null,360,"2056-03-15",1,0,0,0,0,0]

{"sheet":"Downsizing strategy","index":2,"n_rows":22,"n_cols":3,"rows_kept":22,"cut":false,"hidden":false,"merged":[[1,1,1,2],[3,1,3,2],[6,1,6,2],[9,1,9,2],[12,1,12,2]]}
[]
[null,"Downsizing property calculation (based upon oldest applicant retiring)"]
[null,"Valuation (proposed security)",{"$f":"'Online Assessment tool'!$B$41","v":0}]
[null,"Less"]
[null,"Sales commission",2.5000000000000001E-2]
[null,"Net sale proceeds",{"$f":"C3-(C3*C5)","v":0}]
[null,"Less"]
[null,{"$f":"'Retirement age summary'!B29","v":"Estimated loan balance at applicant's retirement"},{"$f":"'Retirement age summary'!$D$29","v":0}]
[null,"Proceeds from sale of property",{"$f":"Net_proceeds-C8","v":0}]
[null,"Add"]
[null,"Forecast discounted superannuation balance",{"$f":"'Retirement age summary'!$D$34","v":0}]
[null,"Total available funds",{"$f":"SUM(C9:C11)","v":0}]
[null,"Less"]
[null,"Conservative minimum median house price",{"$f":"Admin_LAM_variables!D39","v":510000}]
[null,"Surplus/shortfall",{"$f":"IF(ISBLANK(Security_property_value),\"\",C12-C14)","v":-510000}]
[]
[null,{"$f":"IF(Security_property_value=0,\"\",IF('Downsizing strategy'!C15<0,\"Fail! Downsizing strategy not acceptable\",\"Pass! Downsizing strategy is suitable\"))","v":""}]
[]
[]
[null,null,"House"]
[null,null,"Unit"]
[null,null,{"$f":"IF(#REF!=C20,\"H\",IF(#REF!=C21,\"U\"))","v":{"$error":"#REF!"}}]

{"sheet":"Admin_RAC_Lookup","index":3,"n_rows":6,"n_cols":2,"rows_kept":6,"cut":false,"hidden":true,"merged":[]}
["Field","Parameter"]
["Super contribution tax",0.15]
["Employer super contribution",0.115]
["Minimum equity",425000]
["Sales Commission",3.5000000000000003E-2]
["Policy Retirement Age",75]

{"sheet":"Admin_Amortisation","index":4,"n_rows":375,"n_cols":8,"rows_kept":375,"cut":false,"hidden":true,"merged":[[7,1,7,3],[9,1,9,3],[10,1,10,3],[11,1,11,3],[12,1,12,3],[6,1,6,3],[1,1,1,7],[4,1,4,3],[4,5,4,7],[5,1,5,3],[5,5,5,7]]}
[]
[null,"Loan Repayment Calculator"]
[]
[null,null,null,null,"Enter values"]
[null,"Loan amount",null,null,{"$f":"Loan_req","v":0}]
[null,"Annual interest rate",null,null,{"$f":"'Online Assessment tool'!I40","v":7.0999999999999994E-2}]
[null,"Loan period in years",null,null,{"$f":"'Online Assessment tool'!F40/12","v":30}]
[null,"Start date of loan",null,null,{"$f":"'Online Assessment tool'!J2","v":"2026-03-15T22:47:06.820"}]
[]
[null,"Scheduled monthly payment",null,null,400]
[null,"Scheduled number of payments",null,null,{"$f":"IF(Values_Entered,Loan_Years*12,\"\")","v":""}]
[null,"Actual number of payments",null,null,{"$f":"IF(Values_Entered,Number_of_Payments,\"\")","v":""}]
[null,"Total interest",null,null,{"$f":"IF(Values_Entered,SUMIF(Beg_Bal,\">0\",Int),\"\")","v":""}]
[]
[null,"No.","Payment Date","Beginning Balance","Scheduled Payment","Principal","Interest","Ending Balance"]
[null,{"$f":"IF(Values_Entered,1,\"\")","v":""},{"$f":"IF(Pay_Num<>\"\",Loan_Start,\"\")","v":""},{"$f":"IF(Values_Entered,Loan_Amount,\"\")","v":""},{"$f":"IF(Pay_Num<>\"\",Scheduled_Monthly_Payment,\"\")","v":""},{"$f":"IF(Pay_Num<>\"\",Sched_Pay-Int,\"\")","v":""},{"$f":"IF(Pay_Num<>\"\",Beg_Bal*Interest_Rate/12,\"\")","v":""},{"$f":"IF(Pay_Num<>\"\",Beg_Bal-Princ,\"\")","v":""}]
[null,{"$f":"IF(Values_Entered,B16+1,\"\")","v":""},{"$f":"IF(Pay_Num<>\"\",DATE(YEAR(C16),MONTH(C16)+1,DAY(C16)),\"\")","v":""},{"$f":"IF(Pay_Num<>\"\",H16,\"\")","v":""},{"$f":"IF(Pay_Num<>\"\",Scheduled_Monthly_Payment,\"\")","v":""},"",{"$f":"IF(Pay_Num<>\"\",Beg_Bal*Interest_Rate/12,\"\")","v":""},{"$f":"IF(Pay_Num<>\"\",Beg_Bal-Princ,\"\")","v":""}]
[null,"","",{"$f":"IF(Pay_Num<>\"\",H17,\"\")","v":""},{"$f":"IF(Pay_Num<>\"\",Scheduled_Monthly_Payment,\"\")","v":""},"",{"$f":"IF(Pay_Num<>\"\",Beg_Bal*Interest_Rate/12,\"\")","v":""},""]
[null,"","","","","","",""]
[null,"","","","","","",""]
[null,"","",{"$f":"IF(Pay_Num<>\"\",H20,\"\")","v":""},"","","",""]
[null,"","","","","","",""]
[null,"","",{"$f":"IF(Pay_Num<>\"\",H22,\"\")","v":""},"","","",""]
[null,"","","","","","",""]
[null,"","","","","","",""]
[null,"","","","","","",""]
[null,"","","","","","",""]
[null,{"$f":"IF(Values_Entered,B27+1,\"\")","v":""},{"$f":"IF(Pay_Num<>\"\",DATE(YEAR(C27),MONTH(C27)+1,DAY(C27)),\"\")","v":""},{"$f":"IF(Pay_Num<>\"\",H27,\"\")","v":""},"","","",""]
[null,"","","","","","",""]
[null,"","","","","","",""]
[null,"","","","","","",""]
[null,"","","","","","",""]
[null,"","","","","","",""]
[null,"","","","","","",""]
[null,"","","","","","",""]
[null,"","","","","","",""]
[null,"","","","","","",""]
[null,"","","","","","",""]
[null,"","","","","","",""]
[null,{"$f":"IF(Values_Entered,B39+1,\"\")","v":""},{"$f":"IF(Pay_Num<>\"\",DATE(YEAR(C39),MONTH(C39)+1,DAY(C39)),\"\")","v":""},{"$f":"IF(Pay_Num<>\"\",H39,\"\")","v":""},"","","",""]
[null,"","","","","","",""]
[null,"","","","","","",""]
[null,"","","","","","",""]
[null,"","","","","","",""]
[null,"","","","","","",""]
[null,"","","","","","",""]
[null,"","","","","","",""]
[null,"","","","","","",""]
[null,"","","","","","",""]
[null,"","","","","","",""]
[null,"","","","","","",""]
[null,{"$f":"IF(Values_Entered,B51+1,\"\")","v":""},{"$f":"IF(Pay_Num<>\"\",DATE(YEAR(C51),MONTH(C51)+1,DAY(C51)),\"\")","v":""},{"$f":"IF(Pay_Num<>\"\",H51,\"\")","v":""},"","","",""]
[null,"","","","","","",""]
[null,"","","","","","",""]
[null,"","","","","","",""]
[null,"","","","","","",""]
[null,"","","","","","",""]
[null,"","","","","","",""]
[null,"","","","","","",""]
[null,"","","","","","",""]
[null,"","","","","","",""]
[null,"","","","","","",""]
[null,"","","","","","",""]
[null,"","","","","","",""]
[null,"","","","","","",""]
[null,"","","","","","",""]
[null,"","","","","","",""]
[null,"","","","","","",""]
[null,"","","","","","",""]
[null,"","","","","","",""]
[null,"","","","","","",""]
[null,"","","","","","",""]
[null,"","","","","","",""]
[null,"","","","","","",""]
[null,"","","","","","",""]
[null,"","","","","","",""]
[null,"","","","","","",""]
[null,"","","","","","",""]
[null,"","","","","","",""]
[null,"","","","",{"$f":"IF(Pay_Num<>\"\",Sched_Pay-Int,\"\")","v":""},"",""]
[null,{"$f":"IF(Values_Entered,B80+1,\"\")","v":""},{"$f":"IF(Pay_Num<>\"\",DATE(YEAR(C80),MONTH(C80)+1,DAY(C80)),\"\")","v":""},"","","","",{"$f":"IF(Pay_Num<>\"\",Beg_Bal-Princ,\"\")","v":""}]
[null,"","",{"$f":"IF(Pay_Num<>\"\",H81,\"\")","v":""},{"$f":"IF(Pay_Num<>\"\",Scheduled_Monthly_Payment,\"\")","v":""},"",{"$f":"IF(Pay_Num<>\"\",Beg_Bal*Interest_Rate/12,\"\")","v":""},""]
[null,"","","","","","",""]
[null,"","","","","","",""]
[null,"","","","","","",""]
[null,"","","","","","",""]
[null,"","","","","","",""]
[null,"","","","","","",""]
[null,"","","","","","",""]
[null,"","","","","","",""]
[null,"","","","","","",""]
[null,"","","","","","",""]
[null,"","","","","","",""]
[null,"","","","","","",""]
[null,"","","","","","",""]
[null,"","","","","","",""]
[null,"","","","","","",""]
[null,"","","","","","",""]
[null,"","","","","","",""]
[null,"","","","","","",""]
[null,"","","","","","",""]
[null,"","","","","","",""]
[null,"","","","","","",""]
[null,"","","","","","",""]
[null,"","","","","","",""]
[null,"","","","","","",""]
[null,"","","","","","",""]
[null,"","","","","","",""]
[null,"","","","","","",""]
[null,"","","","","","",""]
[null,"","","","","","",""]
[null,"","","","","","",""]
[null,"","","","","","",""]
[null,"","","","","","",""]
[null,"","","","","","",""]
[null,"","","","","","",""]
[null,"","","","","","",""]
[null,"","","","","","",""]
[null,"","","","","","",""]
[null,"","","","","","",""]
[null,"","","","","","",""]
[null,"","","","","","",""]
[null,"","","","","","",""]
[null,"","","","","","",""]
[null,"","","","","","",""]
[null,"","","","","","",""]
[null,"","","","","","",""]
[null,"","","","","","",""]
[null,"","","","","","",""]
[null,"","","","","","",""]
[null,"","","","","","",""]
[null,"","","","","","",""]
[null,"","","","","","",""]
[null,"","","","","","",""]
[null,"","","","","","",""]
[null,"","","","","","",""]
[null,"","","","","","",""]
[null,"","","","","","",""]
[null,"","","","","","",""]
[null,"","","","","","",""]
[null,"","","","","","",""]
[null,"","","","","","",""]
[null,"","","","","","",""]
[null,"","","","",{"$f":"IF(Pay_Num<>\"\",Sched_Pay-Int,\"\")","v":""},"",""]
[null,{"$f":"IF(Values_Entered,B144+1,\"\")","v":""},{"$f":"IF(Pay_Num<>\"\",DATE(YEAR(C144),MONTH(C144)+1,DAY(C144)),\"\")","v":""},"","","","",{"$f":"IF(Pay_Num<>\"\",Beg_Bal-Princ,\"\")","v":""}]
[null,"","",{"$f":"IF(Pay_Num<>\"\",H145,\"\")","v":""},{"$f":"IF(Pay_Num<>\"\",Scheduled_Monthly_Payment,\"\")","v":""},"",{"$f":"IF(Pay_Num<>\"\",Beg_Bal*Interest_Rate/12,\"\")","v":""},""]
[null,"","","","","","",""]
[null,"","","","","","",""]
[null,"","","","","","",""]
[null,"","","","","","",""]
[null,"","","","","","",""]
[null,"","","","","","",""]
[null,"","","","","","",""]
[null,"","","","","","",""]
[null,"","","","","","",""]
[null,"","","","","","",""]
[null,"","","","","","",""]
[null,"","","","","","",""]
[null,"","","","","","",""]
[null,"","","","","","",""]
[null,"","","","","","",""]
[null,"","","","","","",""]
[null,"","","","","","",""]
[null,"","","","","","",""]
[null,"","","","","","",""]
[null,"","","","","","",""]
[null,"","","","","","",""]
[null,"","","","","","",""]
[null,"","","","","","",""]
[null,"","","","","","",""]
[null,"","","","","","",""]
[null,"","","","","","",""]
[null,"","","","","","",""]
[null,"","","","","","",""]
[null,"","","","","","",""]
[null,"","","","","","",""]
[null,"","","","","","",""]
[null,"","","","","","",""]
[null,"","","","","","",""]
[null,"","","","","","",""]
[null,"","","","","","",""]
[null,"","","","","","",""]
[null,"","","","","","",""]
[null,"","","","","","",""]
[null,"","","","","","",""]
[null,"","","","","","",""]
[null,"","","","","","",""]
[null,"","","","","","",""]
[null,"","","","","","",""]
[null,"","","","","","",""]
[null,"","","","","","",""]
[null,"","","","","","",""]
[null,"","","","","","",""]
[null,"","","","","","",""]
[null,"","","","","","",""]
[null,"","","","","","",""]
[null,"","","","","","",""]
[null,"","","","","","",""]
[null,"","","","","","",""]
[null,"","","","","","",""]
[null,"","","","","","",""]
[null,"","","","","","",""]
[null,"","","","","","",""]
[null,"","","","","","",""]
[null,"","","","","","",""]
[null,"","","","","","",""]
[null,"","","","","","",""]
[null,"","","","",{"$f":"IF(Pay_Num<>\"\",Sched_Pay-Int,\"\")","v":""},"",""]
[null,{"$f":"IF(Values_Entered,B208+1,\"\")","v":""},{"$f":"IF(Pay_Num<>\"\",DATE(YEAR(C208),MONTH(C208)+1,DAY(C208)),\"\")","v":""},"","","","",{"$f":"IF(Pay_Num<>\"\",Beg_Bal-Princ,\"\")","v":""}]
[null,"","",{"$f":"IF(Pay_Num<>\"\",H209,\"\")","v":""},{"$f":"IF(Pay_Num<>\"\",Scheduled_Monthly_Payment,\"\")","v":""},"",{"$f":"IF(Pay_Num<>\"\",Beg_Bal*Interest_Rate/12,\"\")","v":""},""]
[null,"","","","","","",""]
[null,"","","","","","",""]
[null,"","","","","","",""]
[null,"","","","","","",""]
[null,"","","","","","",""]
[null,"","","","","","",""]
[null,"","","","","","",""]
[null,"","","","","","",""]
[null,"","","","","","",""]
[null,"","","","","","",""]
[null,"","","","","","",""]
[null,"","","","","","",""]
[null,"","","","","","",""]
[null,"","","","","","",""]
[null,"","","","","","",""]
[null,"","","","","","",""]
[null,"","","","","","",""]
[null,"","","","","","",""]
[null,"","","","","","",""]
[null,"","","","","","",""]
[null,"","","","","","",""]
[null,"","","","","","",""]
[null,"","","","","","",""]
[null,"","","","","","",""]
[null,"","","","","","",""]
[null,"","","","","","",""]
[null,"","","","","","",""]
[null,"","","","","","",""]
[null,"","","","","","",""]
[null,"","","","","","",""]
[null,"","","","","","",""]
[null,"","","","","","",""]
[null,"","","","","","",""]
[null,"","","","","","",""]
[null,"","","","","","",""]
[null,"","","","","","",""]
[null,"","","","","","",""]
[null,"","","","","","",""]
[null,"","","","","","",""]
[null,"","","","","","",""]
[null,"","","","","","",""]
[null,"","","","","","",""]
[null,"","","","","","",""]
[null,"","","","","","",""]
[null,"","","","","","",""]
[null,"","","","","","",""]
[null,"","","","","","",""]
[null,"","","","","","",""]
[null,"","","","","","",""]
[null,"","","","","","",""]
[null,"","","","","","",""]
[null,"","","","","","",""]
[null,"","","","","","",""]
[null,"","","","","","",""]
[null,"","","","","","",""]
[null,"","","","","","",""]
[null,"","","","","","",""]
[null,"","","","","","",""]
[null,"","","","","","",""]
[null,"","","","","","",""]
[null,"","","","","","",""]
[null,"","","","",{"$f":"IF(Pay_Num<>\"\",Sched_Pay-Int,\"\")","v":""},"",""]
[null,{"$f":"IF(Values_Entered,B272+1,\"\")","v":""},{"$f":"IF(Pay_Num<>\"\",DATE(YEAR(C272),MONTH(C272)+1,DAY(C272)),\"\")","v":""},"","","","",{"$f":"IF(Pay_Num<>\"\",Beg_Bal-Princ,\"\")","v":""}]
[null,"","",{"$f":"IF(Pay_Num<>\"\",H273,\"\")","v":""},{"$f":"IF(Pay_Num<>\"\",Scheduled_Monthly_Payment,\"\")","v":""},"",{"$f":"IF(Pay_Num<>\"\",Beg_Bal*Interest_Rate/12,\"\")","v":""},""]
[null,"","","","","","",""]
[null,"","","","","","",""]
[null,"","","","","","",""]
[null,"","","","","","",""]
[null,"","","","","","",""]
[null,"","","","","","",""]
[null,"","","","","","",""]
[null,"","","","","","",""]
[null,"","","","","","",""]
[null,"","","","","","",""]
[null,"","","","","","",""]
[null,"","","","","","",""]
[null,"","","","","","",""]
[null,"","","","","","",""]
[null,"","","","","","",""]
[null,"","","","","","",""]
[null,"","","","","","",""]
[null,"","","","","","",""]
[null,"","","","","","",""]
[null,"","","","","","",""]
[null,"","","","","","",""]
[null,"","","","","","",""]
[null,"","","","","","",""]
[null,"","","","","","",""]
[null,"","","","","","",""]
[null,"","","","","","",""]
[null,"","","","","","",""]
[null,"","","","","","",""]
[null,"","","","","","",""]
[null,"","","","","","",""]
[null,"","","","","","",""]
[null,"","","","","","",""]
[null,"","","","","","",""]
[null,"","","","","","",""]
[null,"","","","","","",""]
[null,"","","","","","",""]
[null,"","","","","","",""]
[null,"","","","","","",""]
[null,"","","","","","",""]
[null,"","","","","","",""]
[null,"","","","","","",""]
[null,"","","","","","",""]
[null,"","","","","","",""]
[null,"","","","","","",""]
[null,"","","","","","",""]
[null,"","","","","","",""]
[null,"","","","","","",""]
[null,"","","","","","",""]
[null,"","","","","","",""]
[null,"","","","","","",""]
[null,"","","","","","",""]
[null,"","","","","","",""]
[null,"","","","","","",""]
[null,"","","","","","",""]
[null,"","","","","","",""]
[null,"","","","","","",""]
[null,"","","","","","",""]
[null,"","","","","","",""]
[null,"","","","","","",""]
[null,"","","","","","",""]
[null,"","","","","","",""]
[null,"","","","",{"$f":"IF(Pay_Num<>\"\",Sched_Pay-Int,\"\")","v":""},"",""]
[null,{"$f":"IF(Values_Entered,B336+1,\"\")","v":""},{"$f":"IF(Pay_Num<>\"\",DATE(YEAR(C336),MONTH(C336)+1,DAY(C336)),\"\")","v":""},"","","","",{"$f":"IF(Pay_Num<>\"\",Beg_Bal-Princ,\"\")","v":""}]
[null,"","",{"$f":"IF(Pay_Num<>\"\",H337,\"\")","v":""},{"$f":"IF(Pay_Num<>\"\",Scheduled_Monthly_Payment,\"\")","v":""},"",{"$f":"IF(Pay_Num<>\"\",Beg_Bal*Interest_Rate/12,\"\")","v":""},""]
[null,"","","","","","",""]
[null,"","","","","","",""]
[null,"","","","","","",""]
[null,"","","","","","",""]
[null,"","","","","","",""]
[null,"","","","","","",""]
[null,"","","","","","",""]
[null,"","","","","","",""]
[null,"","","","","","",""]
[null,"","","","","","",""]
[null,"","","","","","",""]
[null,"","","","","","",""]
[null,"","","","","","",""]
[null,"","","","","","",""]
[null,"","","","","","",""]
[null,"","","","","","",""]
[null,"","","","","","",""]
[null,"","","","","","",""]
[null,"","","","","","",""]
[null,"","","","","","",""]
[null,"","","","","","",""]
[null,"","","","","","",""]
[null,"","","","","","",""]
[null,"","","","","","",""]
[null,"","","","","","",""]
[null,"","","","","","",""]
[null,"","","","","","",""]
[null,"","","","","","",""]
[null,"","","","","","",""]
[null,"","","","","","",""]
[null,"","","","","","",""]
[null,"","","","","","",""]
[null,"","","","","","",""]
[null,"","","","","","",""]
[null,"","","","","","",""]
[null,"","","","","","",""]
[null,"","","","","","",""]

{"sheet":"Admin_Suburbs","index":5,"n_rows":1848,"n_cols":6,"rows_kept":1848,"cut":false,"hidden":true,"merged":[]}
["SuburbUpperCase","Postcode","Type","Council","Region ","Income region"]
["ABBA RIVER",6280,"SHIRE OF","BUSSELTON","South West",{"$f":"VLOOKUP(E2,Admin_lookup!$A$2:$B$14,2,FALSE)","v":"Regional"}]
["ABBEY",6280,"SHIRE OF","BUSSELTON","South West",{"$f":"VLOOKUP(E3,Admin_lookup!$A$2:$B$14,2,FALSE)","v":"Regional"}]
["ACTON PARK",6280,"SHIRE OF","BUSSELTON","South West",{"$f":"VLOOKUP(E4,Admin_lookup!$A$2:$B$14,2,FALSE)","v":"Regional"}]
["ADAMSVALE",6375,"SHIRE OF","CORRIGIN","Wheatbelt",{"$f":"VLOOKUP(E5,Admin_lookup!$A$2:$B$14,2,FALSE)","v":"Regional"}]
["AJANA",6532,"SHIRE OF","CHAPMAN VALLEY","Mid-West",{"$f":"VLOOKUP(E6,Admin_lookup!$A$2:$B$14,2,FALSE)","v":"Regional"}]
["ALBANY",6330,"CITY OF","ALBANY","Great Southern",{"$f":"VLOOKUP(E7,Admin_lookup!$A$2:$B$14,2,FALSE)","v":"Regional"}]
["ALBANY DC",6331,"CITY OF","ALBANY","Great Southern",{"$f":"VLOOKUP(E8,Admin_lookup!$A$2:$B$14,2,FALSE)","v":"Regional"}]
["ALBANY PO BOXES 5000-6000",6332,"CITY OF","ALBANY","Great Southern",{"$f":"VLOOKUP(E9,Admin_lookup!$A$2:$B$14,2,FALSE)","v":"Regional"}]
["ALDERSYDE",6306,"SHIRE OF","BROOKTON","Wheatbelt",{"$f":"VLOOKUP(E10,Admin_lookup!$A$2:$B$14,2,FALSE)","v":"Regional"}]
["ALEXANDER HEIGHTS",6064,"CITY OF","WANNEROO","Perth",{"$f":"VLOOKUP(E11,Admin_lookup!$A$2:$B$14,2,FALSE)","v":"Metro"}]
["ALEXANDRA BRIDGE",6288,"SHIRE OF","AUGUSTA-MARGARET RIVER","South West",{"$f":"VLOOKUP(E12,Admin_lookup!$A$2:$B$14,2,FALSE)","v":"Regional"}]
["ALFRED COVE",6154,"CITY OF","MELVILLE","Perth",{"$f":"VLOOKUP(E13,Admin_lookup!$A$2:$B$14,2,FALSE)","v":"Metro"}]
["ALKIMOS",6038,"CITY OF","WANNEROO","Perth",{"$f":"VLOOKUP(E14,Admin_lookup!$A$2:$B$14,2,FALSE)","v":"Metro"}]
["ALLANOOKA",6525,"SHIRE OF","IRWIN","Mid-West",{"$f":"VLOOKUP(E15,Admin_lookup!$A$2:$B$14,2,FALSE)","v":"Regional"}]
["ALLANSON",6225,"SHIRE OF","COLLIE","South West",{"$f":"VLOOKUP(E16,Admin_lookup!$A$2:$B$14,2,FALSE)","v":"Regional"}]
["ALMA",6535,"SHIRE OF","NORTHAMPTON","Mid-West",{"$f":"VLOOKUP(E17,Admin_lookup!$A$2:$B$14,2,FALSE)","v":"Regional"}]
["AMBANIA",6632,"SHIRE OF","MULLEWA","Mid-West",{"$f":"VLOOKUP(E18,Admin_lookup!$A$2:$B$14,2,FALSE)","v":"Regional"}]
["AMBERGATE",6280,"SHIRE OF","BUSSELTON","South West",{"$f":"VLOOKUP(E19,Admin_lookup!$A$2:$B$14,2,FALSE)","v":"Regional"}]
["AMELUP",6338,"SHIRE OF","GNOWANGERUP","Great Southern",{"$f":"VLOOKUP(E20,Admin_lookup!$A$2:$B$14,2,FALSE)","v":"Regional"}]
["ANGELO RIVER",6642,"SHIRE OF","MEEKATHARRA","Mid-West",{"$f":"VLOOKUP(E21,Admin_lookup!$A$2:$B$14,2,FALSE)","v":"Regional"}]
["ANKETELL",6167,"TOWN OF","KWINANA","Perth",{"$f":"VLOOKUP(E22,Admin_lookup!$A$2:$B$14,2,FALSE)","v":"Metro"}]
["ANNIEBROOK",6280,"SHIRE OF","BUSSELTON","South West",{"$f":"VLOOKUP(E23,Admin_lookup!$A$2:$B$14,2,FALSE)","v":"Regional"}]
["ANTONYMYRE",6714,"SHIRE OF","ROEBOURNE","Pilbara",{"$f":"VLOOKUP(E24,Admin_lookup!$A$2:$B$14,2,FALSE)","v":"Pilbara"}]
["APPLECROSS",6153,"CITY OF","MELVILLE","Perth",{"$f":"VLOOKUP(E25,Admin_lookup!$A$2:$B$14,2,FALSE)","v":"Metro"}]
["APPLECROSS NORTH",6153,"CITY OF","MELVILLE","Perth",{"$f":"VLOOKUP(E26,Admin_lookup!$A$2:$B$14,2,FALSE)","v":"Metro"}]
["APPLECROSS PO BOXES",6953,"CITY OF","PERTH","Perth",{"$f":"VLOOKUP(E27,Admin_lookup!$A$2:$B$14,2,FALSE)","v":"Metro"}]
["ARDATH",6419,"SHIRE OF","BRUCE ROCK","Wheatbelt",{"$f":"VLOOKUP(E28,Admin_lookup!$A$2:$B$14,2,FALSE)","v":"Regional"}]
["ARDROSS",6153,"CITY OF","MELVILLE","Perth",{"$f":"VLOOKUP(E29,Admin_lookup!$A$2:$B$14,2,FALSE)","v":"Metro"}]
["ARGYLE",6239,"SHIRE OF","DONNYBROOK-BALINGUP","South West",{"$f":"VLOOKUP(E30,Admin_lookup!$A$2:$B$14,2,FALSE)","v":"Regional"}]
["ARMADALE",6112,"CITY OF","ARMADALE","Perth",{"$f":"VLOOKUP(E31,Admin_lookup!$A$2:$B$14,2,FALSE)","v":"Metro"}]
["ARMADALE PO BOXES",6992,"CITY OF","PERTH","Perth",{"$f":"VLOOKUP(E32,Admin_lookup!$A$2:$B$14,2,FALSE)","v":"Metro"}]
["ARRINO",6519,"SHIRE OF","THREE SPRINGS","Mid-West",{"$f":"VLOOKUP(E33,Admin_lookup!$A$2:$B$14,2,FALSE)","v":"Regional"}]
["ARROWSMITH",6525,"SHIRE OF","IRWIN","Mid-West",{"$f":"VLOOKUP(E34,Admin_lookup!$A$2:$B$14,2,FALSE)","v":"Regional"}]
["ARROWSMITH EAST",6519,"SHIRE OF","THREE SPRINGS","Mid-West",{"$f":"VLOOKUP(E35,Admin_lookup!$A$2:$B$14,2,FALSE)","v":"Regional"}]
["ARTHUR RIVER",6315,"SHIRE OF","WAGIN","Wheatbelt",{"$f":"VLOOKUP(E36,Admin_lookup!$A$2:$B$14,2,FALSE)","v":"Regional"}]
["ASCOT",6104,"CITY OF","BELMONT","Perth",{"$f":"VLOOKUP(E37,Admin_lookup!$A$2:$B$14,2,FALSE)","v":"Metro"}]
["ASHBY",6065,"CITY OF","WANNEROO","Perth",{"$f":"VLOOKUP(E38,Admin_lookup!$A$2:$B$14,2,FALSE)","v":"Metro"}]
["ASHENDON",6111,"CITY OF","ARMADALE","Perth",{"$f":"VLOOKUP(E39,Admin_lookup!$A$2:$B$14,2,FALSE)","v":"Metro"}]
["ASHFIELD",6054,"CITY OF","SWAN","Perth",{"$f":"VLOOKUP(E40,Admin_lookup!$A$2:$B$14,2,FALSE)","v":"Metro"}]
["ATTADALE",6156,"CITY OF","MELVILLE","Perth",{"$f":"VLOOKUP(E41,Admin_lookup!$A$2:$B$14,2,FALSE)","v":"Metro"}]
["ATWELL",6164,"CITY OF","COCKBURN","Perth",{"$f":"VLOOKUP(E42,Admin_lookup!$A$2:$B$14,2,FALSE)","v":"Metro"}]
["AUBIN GROVE",6164,"CITY OF","COCKBURN","Perth",{"$f":"VLOOKUP(E43,Admin_lookup!$A$2:$B$14,2,FALSE)","v":"Metro"}]
["AUGUSTA",6290,"SHIRE OF","AUGUSTA-MARGARET RIVER","South West",{"$f":"VLOOKUP(E44,Admin_lookup!$A$2:$B$14,2,FALSE)","v":"Regional"}]
["AUSTRALIND",6233,"SHIRE OF","HARVEY","South West",{"$f":"VLOOKUP(E45,Admin_lookup!$A$2:$B$14,2,FALSE)","v":"Regional"}]
["AVELEY",6069,"CITY OF","SWAN","Perth",{"$f":"VLOOKUP(E46,Admin_lookup!$A$2:$B$14,2,FALSE)","v":"Metro"}]
["AVON VALLEY NATIONAL PARK",6084,"CITY OF","SWAN","Perth",{"$f":"VLOOKUP(E47,Admin_lookup!$A$2:$B$14,2,FALSE)","v":"Metro"}]
["BAANDEE",6412,"SHIRE OF","KELLERBERRIN","Wheatbelt",{"$f":"VLOOKUP(E48,Admin_lookup!$A$2:$B$14,2,FALSE)","v":"Regional"}]
["BABAKIN",6428,"SHIRE OF","BRUCE ROCK","Wheatbelt",{"$f":"VLOOKUP(E49,Admin_lookup!$A$2:$B$14,2,FALSE)","v":"Regional"}]
["BABBAGE ISLAND",6701,"SHIRE OF","CARNARVON","Gascoyne",{"$f":"VLOOKUP(E50,Admin_lookup!$A$2:$B$14,2,FALSE)","v":"Regional"}]
["BADGEBUP",6317,"SHIRE OF","KATANNING","Great Southern",{"$f":"VLOOKUP(E51,Admin_lookup!$A$2:$B$14,2,FALSE)","v":"Regional"}]
["BADGERIN ROCK",6475,"SHIRE OF","KOORDA","Wheatbelt",{"$f":"VLOOKUP(E52,Admin_lookup!$A$2:$B$14,2,FALSE)","v":"Regional"}]
["BADGIN",6302,"SHIRE OF","YORK","Wheatbelt",{"$f":"VLOOKUP(E53,Admin_lookup!$A$2:$B$14,2,FALSE)","v":"Regional"}]
["BADGINGARRA",6521,"SHIRE OF","DANDARAGAN","Wheatbelt",{"$f":"VLOOKUP(E54,Admin_lookup!$A$2:$B$14,2,FALSE)","v":"Regional"}]
["BADJALING",6383,"SHIRE OF","QUAIRADING","Wheatbelt",{"$f":"VLOOKUP(E55,Admin_lookup!$A$2:$B$14,2,FALSE)","v":"Regional"}]
["BAILUP",6082,"SHIRE OF","MUNDARING","Perth",{"$f":"VLOOKUP(E56,Admin_lookup!$A$2:$B$14,2,FALSE)","v":"Metro"}]
["BAKERS HILL",6562,"SHIRE OF","NORTHAM","Wheatbelt",{"$f":"VLOOKUP(E57,Admin_lookup!$A$2:$B$14,2,FALSE)","v":"Regional"}]
["BALBARRUP",6258,"SHIRE OF","MANJIMUP","South West",{"$f":"VLOOKUP(E58,Admin_lookup!$A$2:$B$14,2,FALSE)","v":"Regional"}]
["BALCATTA",6021,"CITY OF","STIRLING","Perth",{"$f":"VLOOKUP(E59,Admin_lookup!$A$2:$B$14,2,FALSE)","v":"Metro"}]
["BALCATTA PO BOXES",6914,"CITY OF","PERTH","Perth",{"$f":"VLOOKUP(E60,Admin_lookup!$A$2:$B$14,2,FALSE)","v":"Metro"}]
["BALDIVIS",6171,"CITY OF","ROCKINGHAM","Perth",{"$f":"VLOOKUP(E61,Admin_lookup!$A$2:$B$14,2,FALSE)","v":"Metro"}]
["BALGA",6061,"CITY OF","STIRLING","Perth",{"$f":"VLOOKUP(E62,Admin_lookup!$A$2:$B$14,2,FALSE)","v":"Metro"}]
["BALINGUP",6253,"SHIRE OF","DONNYBROOK-BALINGUP","South West",{"$f":"VLOOKUP(E63,Admin_lookup!$A$2:$B$14,2,FALSE)","v":"Regional"}]
["BALKULING",6383,"SHIRE OF","QUAIRADING","Wheatbelt",{"$f":"VLOOKUP(E64,Admin_lookup!$A$2:$B$14,2,FALSE)","v":"Regional"}]
["BALLA BALLA",6714,"SHIRE OF","ROEBOURNE","Pilbara",{"$f":"VLOOKUP(E65,Admin_lookup!$A$2:$B$14,2,FALSE)","v":"Pilbara"}]
["BALLADONG",6302,"SHIRE OF","YORK","Wheatbelt",{"$f":"VLOOKUP(E66,Admin_lookup!$A$2:$B$14,2,FALSE)","v":"Regional"}]
["BALLADONIA",6443,"SHIRE OF","COOLGARDIE","Goldfields-Esperance",{"$f":"VLOOKUP(E67,Admin_lookup!$A$2:$B$14,2,FALSE)","v":"Regional"}]
["BALLAJURA",6066,"CITY OF","SWAN","Perth",{"$f":"VLOOKUP(E68,Admin_lookup!$A$2:$B$14,2,FALSE)","v":"Metro"}]
["BALLAYING",6315,"SHIRE OF","WAGIN","Wheatbelt",{"$f":"VLOOKUP(E69,Admin_lookup!$A$2:$B$14,2,FALSE)","v":"Regional"}]
["BALLIDU",6606,"SHIRE OF","WONGAN-BALLIDU","Wheatbelt",{"$f":"VLOOKUP(E70,Admin_lookup!$A$2:$B$14,2,FALSE)","v":"Regional"}]
["BALLY BALLY",6304,"SHIRE OF","BEVERLEY","Wheatbelt",{"$f":"VLOOKUP(E71,Admin_lookup!$A$2:$B$14,2,FALSE)","v":"Regional"}]
["BAMBUN",6503,"SHIRE OF","GINGIN","Wheatbelt",{"$f":"VLOOKUP(E72,Admin_lookup!$A$2:$B$14,2,FALSE)","v":"Regional"}]
["BANDY CREEK",6450,"SHIRE OF","ESPERANCE","Goldfields-Esperance",{"$f":"VLOOKUP(E73,Admin_lookup!$A$2:$B$14,2,FALSE)","v":"Regional"}]
["BANDYA",6440,"SHIRE OF","LAVERTON","Goldfields-Esperance",{"$f":"VLOOKUP(E74,Admin_lookup!$A$2:$B$14,2,FALSE)","v":"Regional"}]
["BANJUP",6164,"CITY OF","COCKBURN","Perth",{"$f":"VLOOKUP(E75,Admin_lookup!$A$2:$B$14,2,FALSE)","v":"Metro"}]
["BANKSIA GROVE",6031,"CITY OF","WANNEROO","Perth",{"$f":"VLOOKUP(E76,Admin_lookup!$A$2:$B$14,2,FALSE)","v":"Metro"}]
["BANKSIADALE",6213,"SHIRE OF","MURRAY","Peel",{"$f":"VLOOKUP(E77,Admin_lookup!$A$2:$B$14,2,FALSE)","v":"Regional"}]
["BANNISTER",6390,"SHIRE OF","Wandering","Wheatbelt",{"$f":"VLOOKUP(E78,Admin_lookup!$A$2:$B$14,2,FALSE)","v":"Regional"}]
["BARBALIN",6479,"SHIRE OF","MUKINBUDIN","Wheatbelt",{"$f":"VLOOKUP(E79,Admin_lookup!$A$2:$B$14,2,FALSE)","v":"Regional"}]
["BARBERTON",6510,"SHIRE OF","MOORA","Wheatbelt",{"$f":"VLOOKUP(E80,Admin_lookup!$A$2:$B$14,2,FALSE)","v":"Regional"}]
["BARRABUP",6275,"SHIRE OF","BUSSELTON","South West",{"$f":"VLOOKUP(E81,Admin_lookup!$A$2:$B$14,2,FALSE)","v":"Regional"}]
["BARRAGUP",6209,"SHIRE OF","MURRAY","Peel",{"$f":"VLOOKUP(E82,Admin_lookup!$A$2:$B$14,2,FALSE)","v":"Regional"}]
["BARROW ISLAND",6712,"SHIRE OF","ASHBURTON","Pilbara",{"$f":"VLOOKUP(E83,Admin_lookup!$A$2:$B$14,2,FALSE)","v":"Pilbara"}]
["BASKERVILLE",6056,"CITY OF","SWAN","Perth",{"$f":"VLOOKUP(E84,Admin_lookup!$A$2:$B$14,2,FALSE)","v":"Metro"}]
["BASSENDEAN",6054,"CITY OF","SWAN","Perth",{"$f":"VLOOKUP(E85,Admin_lookup!$A$2:$B$14,2,FALSE)","v":"Metro"}]
["BASSENDEAN DC",6054,"CITY OF","SWAN","Perth",{"$f":"VLOOKUP(E86,Admin_lookup!$A$2:$B$14,2,FALSE)","v":"Metro"}]
["BASSENDEAN DC PO BOXES",6942,"CITY OF","PERTH","Perth",{"$f":"VLOOKUP(E87,Admin_lookup!$A$2:$B$14,2,FALSE)","v":"Metro"}]
["BASSENDEAN PO BOXES",6934,"CITY OF","PERTH","Perth",{"$f":"VLOOKUP(E88,Admin_lookup!$A$2:$B$14,2,FALSE)","v":"Metro"}]
["BATEMAN",6150,"CITY OF","MELVILLE","Perth",{"$f":"VLOOKUP(E89,Admin_lookup!$A$2:$B$14,2,FALSE)","v":"Metro"}]
["BAUDIN",6284,"SHIRE OF","AUGUSTA-MARGARET RIVER","South West",{"$f":"VLOOKUP(E90,Admin_lookup!$A$2:$B$14,2,FALSE)","v":"Regional"}]
["BAYNTON",6714,"SHIRE OF","ROEBOURNE","Pilbara",{"$f":"VLOOKUP(E91,Admin_lookup!$A$2:$B$14,2,FALSE)","v":"Pilbara"}]
["BAYONET HEAD",6330,"CITY OF","ALBANY","Great Southern",{"$f":"VLOOKUP(E92,Admin_lookup!$A$2:$B$14,2,FALSE)","v":"Regional"}]
["BAYSWATER",6053,"CITY OF","BAYSWATER","Perth",{"$f":"VLOOKUP(E93,Admin_lookup!$A$2:$B$14,2,FALSE)","v":"Metro"}]
["BAYSWATER PO BOXES",6933,"CITY OF","PERTH","Perth",{"$f":"VLOOKUP(E94,Admin_lookup!$A$2:$B$14,2,FALSE)","v":"Metro"}]
["BEACHLANDS",6530,"CITY OF","GERALDTON-GREENOUGH","Mid-West",{"$f":"VLOOKUP(E95,Admin_lookup!$A$2:$B$14,2,FALSE)","v":"Regional"}]
["BEACON",6472,"SHIRE OF","MOUNT MARSHALL","Wheatbelt",{"$f":"VLOOKUP(E96,Admin_lookup!$A$2:$B$14,2,FALSE)","v":"Regional"}]
["BEACONSFIELD",6162,"CITY OF","FREMANTLE","Perth",{"$f":"VLOOKUP(E97,Admin_lookup!$A$2:$B$14,2,FALSE)","v":"Metro"}]
["BEADELL",6440,"SHIRE OF","LAVERTON","Goldfields-Esperance",{"$f":"VLOOKUP(E98,Admin_lookup!$A$2:$B$14,2,FALSE)","v":"Regional"}]
["BEAUFORT RIVER",6394,"SHIRE OF","KOJONUP","Great Southern",{"$f":"VLOOKUP(E99,Admin_lookup!$A$2:$B$14,2,FALSE)","v":"Regional"}]
["BEAUMONT",6450,"SHIRE OF","ESPERANCE","Goldfields-Esperance",{"$f":"VLOOKUP(E100,Admin_lookup!$A$2:$B$14,2,FALSE)","v":"Regional"}]
["BECKENHAM",6107,"CITY OF","CANNING","Perth",{"$f":"VLOOKUP(E101,Admin_lookup!$A$2:$B$14,2,FALSE)","v":"Metro"}]
["BEDFORD",6052,"CITY OF","STIRLING","Perth",{"$f":"VLOOKUP(E102,Admin_lookup!$A$2:$B$14,2,FALSE)","v":"Metro"}]
["BEDFORDALE",6112,"CITY OF","ARMADALE","Perth",{"$f":"VLOOKUP(E103,Admin_lookup!$A$2:$B$14,2,FALSE)","v":"Metro"}]
["BEECHBORO",6063,"CITY OF","SWAN","Perth",{"$f":"VLOOKUP(E104,Admin_lookup!$A$2:$B$14,2,FALSE)","v":"Metro"}]
["BEECHINA",6556,"CITY OF","SWAN","Perth",{"$f":"VLOOKUP(E105,Admin_lookup!$A$2:$B$14,2,FALSE)","v":"Metro"}]
["BEEDELUP",6260,"SHIRE OF","MANJIMUP","South West",{"$f":"VLOOKUP(E106,Admin_lookup!$A$2:$B$14,2,FALSE)","v":"Regional"}]
["BEELA",6224,"SHIRE OF","HARVEY","South West",{"$f":"VLOOKUP(E107,Admin_lookup!$A$2:$B$14,2,FALSE)","v":"Regional"}]
["BEELERUP",6239,"SHIRE OF","DONNYBROOK-BALINGUP","South West",{"$f":"VLOOKUP(E108,Admin_lookup!$A$2:$B$14,2,FALSE)","v":"Regional"}]
["BEELIAR",6164,"CITY OF","COCKBURN","Perth",{"$f":"VLOOKUP(E109,Admin_lookup!$A$2:$B$14,2,FALSE)","v":"Metro"}]
["BEENONG",6353,"SHIRE OF","DUMBLEYUNG","Wheatbelt",{"$f":"VLOOKUP(E110,Admin_lookup!$A$2:$B$14,2,FALSE)","v":"Regional"}]
["BEERMULLAH",6503,"SHIRE OF","GINGIN","Wheatbelt",{"$f":"VLOOKUP(E111,Admin_lookup!$A$2:$B$14,2,FALSE)","v":"Regional"}]
["BEJOORDING",6566,"SHIRE OF","TOODYAY","Wheatbelt",{"$f":"VLOOKUP(E112,Admin_lookup!$A$2:$B$14,2,FALSE)","v":"Regional"}]
["BELDON",6027,"CITY OF","JOONDALUP","Perth",{"$f":"VLOOKUP(E113,Admin_lookup!$A$2:$B$14,2,FALSE)","v":"Metro"}]
["BELHUS",6069,"CITY OF","SWAN","Perth",{"$f":"VLOOKUP(E114,Admin_lookup!$A$2:$B$14,2,FALSE)","v":"Metro"}]
["BELLEVUE",6056,"CITY OF","SWAN","Perth",{"$f":"VLOOKUP(E115,Admin_lookup!$A$2:$B$14,2,FALSE)","v":"Metro"}]
["BELMONT",6104,"CITY OF","BELMONT","Perth",{"$f":"VLOOKUP(E116,Admin_lookup!$A$2:$B$14,2,FALSE)","v":"Metro"}]
["BELMONT PO BOXES",6984,"CITY OF","PERTH","Perth",{"$f":"VLOOKUP(E117,Admin_lookup!$A$2:$B$14,2,FALSE)","v":"Metro"}]
["BENCUBBIN",6477,"SHIRE OF","MOUNT MARSHALL","Wheatbelt",{"$f":"VLOOKUP(E118,Admin_lookup!$A$2:$B$14,2,FALSE)","v":"Regional"}]
["BENGER",6223,"SHIRE OF","HARVEY","South West",{"$f":"VLOOKUP(E119,Admin_lookup!$A$2:$B$14,2,FALSE)","v":"Regional"}]
["BENJABERRING",6463,"SHIRE OF","WYALKATCHEM","Wheatbelt",{"$f":"VLOOKUP(E120,Admin_lookup!$A$2:$B$14,2,FALSE)","v":"Regional"}]
["BENJINUP",6255,"SHIRE OF","BRIDGETOWN-GREENBUSHES","South West",{"$f":"VLOOKUP(E121,Admin_lookup!$A$2:$B$14,2,FALSE)","v":"Regional"}]
["BENTLEY",6102,"TOWN OF","VICTORIA PARK","Perth",{"$f":"VLOOKUP(E122,Admin_lookup!$A$2:$B$14,2,FALSE)","v":"Metro"}]
["BENTLEY DC",6102,"TOWN OF","VICTORIA PARK","Perth",{"$f":"VLOOKUP(E123,Admin_lookup!$A$2:$B$14,2,FALSE)","v":"Metro"}]
["BENTLEY DC PO BOXES 1001-1316",6983,"CITY OF","PERTH","Perth",{"$f":"VLOOKUP(E124,Admin_lookup!$A$2:$B$14,2,FALSE)","v":"Metro"}]
["BENTLEY PO BOXES 1-772",6982,"CITY OF","PERTH","Perth",{"$f":"VLOOKUP(E125,Admin_lookup!$A$2:$B$14,2,FALSE)","v":"Metro"}]
["BENTLEY SOUTH",6102,"TOWN OF","VICTORIA PARK","Perth",{"$f":"VLOOKUP(E126,Admin_lookup!$A$2:$B$14,2,FALSE)","v":"Metro"}]
["BERESFORD",6530,"CITY OF","GERALDTON-GREENOUGH","Mid-West",{"$f":"VLOOKUP(E127,Admin_lookup!$A$2:$B$14,2,FALSE)","v":"Regional"}]
["BERKSHIRE VALLEY",6510,"SHIRE OF","MOORA","Wheatbelt",{"$f":"VLOOKUP(E128,Admin_lookup!$A$2:$B$14,2,FALSE)","v":"Regional"}]
["BERNIER ISLAND",6701,"SHIRE OF","CARNARVON","Gascoyne",{"$f":"VLOOKUP(E129,Admin_lookup!$A$2:$B$14,2,FALSE)","v":"Regional"}]
["BERTRAM",6167,"TOWN OF","KWINANA","Perth",{"$f":"VLOOKUP(E130,Admin_lookup!$A$2:$B$14,2,FALSE)","v":"Metro"}]
["BEVERLEY",6304,"SHIRE OF","BEVERLEY","Wheatbelt",{"$f":"VLOOKUP(E131,Admin_lookup!$A$2:$B$14,2,FALSE)","v":"Regional"}]
["BIBRA LAKE",6163,"CITY OF","COCKBURN","Perth",{"$f":"VLOOKUP(E132,Admin_lookup!$A$2:$B$14,2,FALSE)","v":"Metro"}]
["BIBRA LAKE DC",6163,"CITY OF","COCKBURN","Perth",{"$f":"VLOOKUP(E133,Admin_lookup!$A$2:$B$14,2,FALSE)","v":"Metro"}]
["BIBRA LAKE DC PO BOXES",6965,"CITY OF","PERTH","Perth",{"$f":"VLOOKUP(E134,Admin_lookup!$A$2:$B$14,2,FALSE)","v":"Metro"}]
["BICKLEY",6076,"SHIRE OF","KALAMUNDA","Perth",{"$f":"VLOOKUP(E135,Admin_lookup!$A$2:$B$14,2,FALSE)","v":"Metro"}]
["BICTON",6157,"CITY OF","MELVILLE","Perth",{"$f":"VLOOKUP(E136,Admin_lookup!$A$2:$B$14,2,FALSE)","v":"Metro"}]
["BIDDELIA",6260,"SHIRE OF","MANJIMUP","South West",{"$f":"VLOOKUP(E137,Admin_lookup!$A$2:$B$14,2,FALSE)","v":"Regional"}]
["BIG GROVE",6330,"CITY OF","ALBANY","Great Southern",{"$f":"VLOOKUP(E138,Admin_lookup!$A$2:$B$14,2,FALSE)","v":"Regional"}]
["BILBARIN",6375,"SHIRE OF","CORRIGIN","Wheatbelt",{"$f":"VLOOKUP(E139,Admin_lookup!$A$2:$B$14,2,FALSE)","v":"Regional"}]
["BILINGURR",6725,"SHIRE OF","BROOME","Kimberley",{"$f":"VLOOKUP(E140,Admin_lookup!$A$2:$B$14,2,FALSE)","v":"Kimberley"}]
["BIMBIJY",6472,"SHIRE OF","MOUNT MARSHALL","Wheatbelt",{"$f":"VLOOKUP(E141,Admin_lookup!$A$2:$B$14,2,FALSE)","v":"Regional"}]
["BINDI BINDI",6574,"SHIRE OF","MOORA","Wheatbelt",{"$f":"VLOOKUP(E142,Admin_lookup!$A$2:$B$14,2,FALSE)","v":"Regional"}]
["BINDOON",6502,"SHIRE OF","TOODYAY","Wheatbelt",{"$f":"VLOOKUP(E143,Admin_lookup!$A$2:$B$14,2,FALSE)","v":"Regional"}]
["BINDOON TRAINING AREA",6502,"SHIRE OF","TOODYAY","Wheatbelt",{"$f":"VLOOKUP(E144,Admin_lookup!$A$2:$B$14,2,FALSE)","v":"Regional"}]
["BINDULI",6430,"CITY OF","KALGOORLIE-BOULDER","Goldfields-Esperance",{"$f":"VLOOKUP(E145,Admin_lookup!$A$2:$B$14,2,FALSE)","v":"Regional"}]
["BINNINGUP",6233,"SHIRE OF","HARVEY","South West",{"$f":"VLOOKUP(E146,Admin_lookup!$A$2:$B$14,2,FALSE)","v":"Regional"}]
["BINNU",6532,"SHIRE OF","CHAPMAN VALLEY","Mid-West",{"$f":"VLOOKUP(E147,Admin_lookup!$A$2:$B$14,2,FALSE)","v":"Regional"}]
["BIRCHMONT",6214,"SHIRE OF","MURRAY","Peel",{"$f":"VLOOKUP(E148,Admin_lookup!$A$2:$B$14,2,FALSE)","v":"Regional"}]
["BLUFF POINT",6530,"CITY OF","GERALDTON-GREENOUGH","Mid-West",{"$f":"VLOOKUP(E149,Admin_lookup!$A$2:$B$14,2,FALSE)","v":"Regional"}]
["BLYTHEWOOD",6208,"SHIRE OF","MURRAY","Peel",{"$f":"VLOOKUP(E150,Admin_lookup!$A$2:$B$14,2,FALSE)","v":"Regional"}]
["BOALLIA",6280,"SHIRE OF","BUSSELTON","South West",{"$f":"VLOOKUP(E151,Admin_lookup!$A$2:$B$14,2,FALSE)","v":"Regional"}]
["BOBALONG",6320,"SHIRE OF","BROOMEHILL-TAMBELLUP","Great Southern",{"$f":"VLOOKUP(E152,Admin_lookup!$A$2:$B$14,2,FALSE)","v":"Regional"}]
["BODALLIN",6424,"SHIRE OF","YILGARN","Wheatbelt",{"$f":"VLOOKUP(E153,Admin_lookup!$A$2:$B$14,2,FALSE)","v":"Regional"}]
["BODDINGTON",6390,"SHIRE OF","BODDINGTON","Peel",{"$f":"VLOOKUP(E154,Admin_lookup!$A$2:$B$14,2,FALSE)","v":"Regional"}]
["BOILUP",6394,"SHIRE OF","KOJONUP","Great Southern",{"$f":"VLOOKUP(E155,Admin_lookup!$A$2:$B$14,2,FALSE)","v":"Regional"}]
["BOKAL",6392,"SHIRE OF","WILLIAMS","Wheatbelt",{"$f":"VLOOKUP(E156,Admin_lookup!$A$2:$B$14,2,FALSE)","v":"Regional"}]
["BOLGART",6568,"SHIRE OF","VICTORIA PLAINS","Wheatbelt",{"$f":"VLOOKUP(E157,Admin_lookup!$A$2:$B$14,2,FALSE)","v":"Regional"}]
["BONNIE ROCK",6479,"SHIRE OF","MUKINBUDIN","Wheatbelt",{"$f":"VLOOKUP(E158,Admin_lookup!$A$2:$B$14,2,FALSE)","v":"Regional"}]
["BONNIEFIELD",6525,"SHIRE OF","IRWIN","Mid-West",{"$f":"VLOOKUP(E159,Admin_lookup!$A$2:$B$14,2,FALSE)","v":"Regional"}]
["BOODARIE",6722,"TOWN OF","PORT HEDLAND","Pilbara",{"$f":"VLOOKUP(E160,Admin_lookup!$A$2:$B$14,2,FALSE)","v":"Pilbara"}]
["BOODAROCKIN",6423,"SHIRE OF","WESTONIA","Wheatbelt",{"$f":"VLOOKUP(E161,Admin_lookup!$A$2:$B$14,2,FALSE)","v":"Regional"}]
["BOOKARA",6525,"SHIRE OF","IRWIN","Mid-West",{"$f":"VLOOKUP(E162,Admin_lookup!$A$2:$B$14,2,FALSE)","v":"Regional"}]
["BOOLADING",6392,"SHIRE OF","WILLIAMS","Wheatbelt",{"$f":"VLOOKUP(E163,Admin_lookup!$A$2:$B$14,2,FALSE)","v":"Regional"}]
["BOONANARRING",6503,"SHIRE OF","GINGIN","Wheatbelt",{"$f":"VLOOKUP(E164,Admin_lookup!$A$2:$B$14,2,FALSE)","v":"Regional"}]
["BOORABBIN",6429,"SHIRE OF","COOLGARDIE","Goldfields-Esperance",{"$f":"VLOOKUP(E165,Admin_lookup!$A$2:$B$14,2,FALSE)","v":"Regional"}]
["BOORAGOON",6154,"CITY OF","MELVILLE","Perth",{"$f":"VLOOKUP(E166,Admin_lookup!$A$2:$B$14,2,FALSE)","v":"Metro"}]
["BOORAGOON PO BOXES",6954,"CITY OF","PERTH","Perth",{"$f":"VLOOKUP(E167,Admin_lookup!$A$2:$B$14,2,FALSE)","v":"Metro"}]
["BOORALAMING",6475,"SHIRE OF","KOORDA","Wheatbelt",{"$f":"VLOOKUP(E168,Admin_lookup!$A$2:$B$14,2,FALSE)","v":"Regional"}]
["BOORARA",6431,"SHIRE OF","NGAANYATJARRAKU","Goldfields-Esperance",{"$f":"VLOOKUP(E169,Admin_lookup!$A$2:$B$14,2,FALSE)","v":"Regional"}]
["BOORARA BROOK",6262,"SHIRE OF","MANJIMUP","South West",{"$f":"VLOOKUP(E170,Admin_lookup!$A$2:$B$14,2,FALSE)","v":"Regional"}]
["BOOTENAL",6532,"SHIRE OF","CHAPMAN VALLEY","Mid-West",{"$f":"VLOOKUP(E171,Admin_lookup!$A$2:$B$14,2,FALSE)","v":"Regional"}]
["BOOTHENDARRA",6521,"SHIRE OF","DANDARAGAN","Wheatbelt",{"$f":"VLOOKUP(E172,Admin_lookup!$A$2:$B$14,2,FALSE)","v":"Regional"}]
["BORANUP",6286,"SHIRE OF","AUGUSTA-MARGARET RIVER","South West",{"$f":"VLOOKUP(E173,Admin_lookup!$A$2:$B$14,2,FALSE)","v":"Regional"}]
["BORDEN",6338,"SHIRE OF","GNOWANGERUP","Great Southern",{"$f":"VLOOKUP(E174,Admin_lookup!$A$2:$B$14,2,FALSE)","v":"Regional"}]
["BORDERDALE",6320,"SHIRE OF","BROOMEHILL-TAMBELLUP","Great Southern",{"$f":"VLOOKUP(E175,Admin_lookup!$A$2:$B$14,2,FALSE)","v":"Regional"}]
["BORNHOLM",6330,"CITY OF","ALBANY","Great Southern",{"$f":"VLOOKUP(E176,Admin_lookup!$A$2:$B$14,2,FALSE)","v":"Regional"}]
["BOSCABEL",6394,"SHIRE OF","KOJONUP","Great Southern",{"$f":"VLOOKUP(E177,Admin_lookup!$A$2:$B$14,2,FALSE)","v":"Regional"}]
["BOULDER",6432,"CITY OF","KALGOORLIE-BOULDER","Goldfields-Esperance",{"$f":"VLOOKUP(E178,Admin_lookup!$A$2:$B$14,2,FALSE)","v":"Regional"}]
["BOUNDAIN",6312,"SHIRE OF","NARROGIN","Wheatbelt",{"$f":"VLOOKUP(E179,Admin_lookup!$A$2:$B$14,2,FALSE)","v":"Regional"}]
["BOUVARD",6211,"CITY OF","MANDURAH","Peel",{"$f":"VLOOKUP(E180,Admin_lookup!$A$2:$B$14,2,FALSE)","v":"Regional"}]
["BOVELL",6280,"SHIRE OF","BUSSELTON","South West",{"$f":"VLOOKUP(E181,Admin_lookup!$A$2:$B$14,2,FALSE)","v":"Regional"}]
["BOW BRIDGE",6333,"SHIRE OF","DENMARK","Great Southern",{"$f":"VLOOKUP(E182,Admin_lookup!$A$2:$B$14,2,FALSE)","v":"Regional"}]
["BOWELLING",6225,"SHIRE OF","WEST ARTHUR","Wheatbelt",{"$f":"VLOOKUP(E183,Admin_lookup!$A$2:$B$14,2,FALSE)","v":"Regional"}]
["BOWES",6535,"SHIRE OF","NORTHAMPTON","Mid-West",{"$f":"VLOOKUP(E184,Admin_lookup!$A$2:$B$14,2,FALSE)","v":"Regional"}]
["BOWGADA",6623,"SHIRE OF","MORAWA","Mid-West",{"$f":"VLOOKUP(E185,Admin_lookup!$A$2:$B$14,2,FALSE)","v":"Regional"}]
["BOXWOOD HILL",6338,"SHIRE OF","GNOWANGERUP","Great Southern",{"$f":"VLOOKUP(E186,Admin_lookup!$A$2:$B$14,2,FALSE)","v":"Regional"}]
["BOYA",6056,"CITY OF","SWAN","Perth",{"$f":"VLOOKUP(E187,Admin_lookup!$A$2:$B$14,2,FALSE)","v":"Metro"}]
["BOYANUP",6237,"SHIRE OF","CAPEL","South West",{"$f":"VLOOKUP(E188,Admin_lookup!$A$2:$B$14,2,FALSE)","v":"Regional"}]
["BOYATUP",6450,"SHIRE OF","ESPERANCE","Goldfields-Esperance",{"$f":"VLOOKUP(E189,Admin_lookup!$A$2:$B$14,2,FALSE)","v":"Regional"}]
["BOYERINE",6316,"SHIRE OF","WOODANILLING","Great Southern",{"$f":"VLOOKUP(E190,Admin_lookup!$A$2:$B$14,2,FALSE)","v":"Regional"}]
["BOYUP BROOK",6244,"SHIRE OF","Boyup Brook","South West",{"$f":"VLOOKUP(E191,Admin_lookup!$A$2:$B$14,2,FALSE)","v":"Regional"}]
["BRABHAM",6055,"CITY OF","SWAN","Perth",{"$f":"VLOOKUP(E192,Admin_lookup!$A$2:$B$14,2,FALSE)","v":"Metro"}]
["BRAMLEY",6285,"SHIRE OF","AUGUSTA-MARGARET RIVER","South West",{"$f":"VLOOKUP(E193,Admin_lookup!$A$2:$B$14,2,FALSE)","v":"Regional"}]
["BRAZIER",6251,"SHIRE OF","DONNYBROOK-BALINGUP","South West",{"$f":"VLOOKUP(E194,Admin_lookup!$A$2:$B$14,2,FALSE)","v":"Regional"}]
["BREERA",6503,"SHIRE OF","GINGIN","Wheatbelt",{"$f":"VLOOKUP(E195,Admin_lookup!$A$2:$B$14,2,FALSE)","v":"Regional"}]
["BREMER BAY",6338,"SHIRE OF","GNOWANGERUP","Great Southern",{"$f":"VLOOKUP(E196,Admin_lookup!$A$2:$B$14,2,FALSE)","v":"Regional"}]
["BRENTWOOD",6153,"CITY OF","MELVILLE","Perth",{"$f":"VLOOKUP(E197,Admin_lookup!$A$2:$B$14,2,FALSE)","v":"Metro"}]
["BRETON BAY",6043,"SHIRE OF","GINGIN","Wheatbelt",{"$f":"VLOOKUP(E198,Admin_lookup!$A$2:$B$14,2,FALSE)","v":"Regional"}]
["BRIDGETOWN",6255,"SHIRE OF","BRIDGETOWN-GREENBUSHES","South West",{"$f":"VLOOKUP(E199,Admin_lookup!$A$2:$B$14,2,FALSE)","v":"Regional"}]
["BRIGADOON",6069,"CITY OF","SWAN","Perth",{"$f":"VLOOKUP(E200,Admin_lookup!$A$2:$B$14,2,FALSE)","v":"Metro"}]
["BRINGO",6532,"SHIRE OF","CHAPMAN VALLEY","Mid-West",{"$f":"VLOOKUP(E201,Admin_lookup!$A$2:$B$14,2,FALSE)","v":"Regional"}]
["BROADWATER",6280,"SHIRE OF","BUSSELTON","South West",{"$f":"VLOOKUP(E202,Admin_lookup!$A$2:$B$14,2,FALSE)","v":"Regional"}]
["BROADWAY NEDLANDS",6009,"CITY OF","NEDLANDS","Perth",{"$f":"VLOOKUP(E203,Admin_lookup!$A$2:$B$14,2,FALSE)","v":"Metro"}]
["BROADWOOD",6430,"CITY OF","KALGOORLIE-BOULDER","Goldfields-Esperance",{"$f":"VLOOKUP(E204,Admin_lookup!$A$2:$B$14,2,FALSE)","v":"Regional"}]
["BROCKMAN",6701,"SHIRE OF","CARNARVON","Gascoyne",{"$f":"VLOOKUP(E205,Admin_lookup!$A$2:$B$14,2,FALSE)","v":"Regional"}]
["BROKE",6398,"SHIRE OF","MANJIMUP","South West",{"$f":"VLOOKUP(E206,Admin_lookup!$A$2:$B$14,2,FALSE)","v":"Regional"}]
["BROOKDALE",6112,"CITY OF","ARMADALE","Perth",{"$f":"VLOOKUP(E207,Admin_lookup!$A$2:$B$14,2,FALSE)","v":"Metro"}]
["BROOKHAMPTON",6239,"SHIRE OF","DONNYBROOK-BALINGUP","South West",{"$f":"VLOOKUP(E208,Admin_lookup!$A$2:$B$14,2,FALSE)","v":"Regional"}]
["BROOKTON",6306,"SHIRE OF","BROOKTON","Wheatbelt",{"$f":"VLOOKUP(E209,Admin_lookup!$A$2:$B$14,2,FALSE)","v":"Regional"}]
["BROOME",6725,"SHIRE OF","BROOME","Kimberley",{"$f":"VLOOKUP(E210,Admin_lookup!$A$2:$B$14,2,FALSE)","v":"Kimberley"}]
["BROOMEHILL",6318,"SHIRE OF","BROOMEHILL-TAMBELLUP","Great Southern",{"$f":"VLOOKUP(E211,Admin_lookup!$A$2:$B$14,2,FALSE)","v":"Regional"}]
["BROOMEHILL EAST",6318,"SHIRE OF","BROOMEHILL-TAMBELLUP","Great Southern",{"$f":"VLOOKUP(E212,Admin_lookup!$A$2:$B$14,2,FALSE)","v":"Regional"}]
["BROOMEHILL VILLAGE",6318,"SHIRE OF","BROOMEHILL-TAMBELLUP","Great Southern",{"$f":"VLOOKUP(E213,Admin_lookup!$A$2:$B$14,2,FALSE)","v":"Regional"}]
["BROOMEHILL WEST",6318,"SHIRE OF","BROOMEHILL-TAMBELLUP","Great Southern",{"$f":"VLOOKUP(E214,Admin_lookup!$A$2:$B$14,2,FALSE)","v":"Regional"}]
["BROWN HILL",6431,"SHIRE OF","NGAANYATJARRAKU","Goldfields-Esperance",{"$f":"VLOOKUP(E215,Admin_lookup!$A$2:$B$14,2,FALSE)","v":"Regional"}]
["BROWN RANGE",6701,"SHIRE OF","CARNARVON","Gascoyne",{"$f":"VLOOKUP(E216,Admin_lookup!$A$2:$B$14,2,FALSE)","v":"Regional"}]
["BRUCE ROCK",6418,"SHIRE OF","BRUCE ROCK","Wheatbelt",{"$f":"VLOOKUP(E217,Admin_lookup!$A$2:$B$14,2,FALSE)","v":"Regional"}]
["BRUNSWICK",6224,"SHIRE OF","HARVEY","South West",{"$f":"VLOOKUP(E218,Admin_lookup!$A$2:$B$14,2,FALSE)","v":"Regional"}]
["BUCKINGHAM",6225,"SHIRE OF","COLLIE","South West",{"$f":"VLOOKUP(E219,Admin_lookup!$A$2:$B$14,2,FALSE)","v":"Regional"}]
["BUCKLAND",6401,"SHIRE OF","GOOMALLING","Wheatbelt",{"$f":"VLOOKUP(E220,Admin_lookup!$A$2:$B$14,2,FALSE)","v":"Regional"}]
["BULGARRA",6714,"SHIRE OF","ROEBOURNE","Pilbara",{"$f":"VLOOKUP(E221,Admin_lookup!$A$2:$B$14,2,FALSE)","v":"Pilbara"}]
["BULL CREEK",6149,"CITY OF","MELVILLE","Perth",{"$f":"VLOOKUP(E222,Admin_lookup!$A$2:$B$14,2,FALSE)","v":"Metro"}]
["BULLABULLING",6429,"SHIRE OF","COOLGARDIE","Goldfields-Esperance",{"$f":"VLOOKUP(E223,Admin_lookup!$A$2:$B$14,2,FALSE)","v":"Regional"}]
["BULLARING",6373,"SHIRE OF","CORRIGIN","Wheatbelt",{"$f":"VLOOKUP(E224,Admin_lookup!$A$2:$B$14,2,FALSE)","v":"Regional"}]
["BULLER",6532,"SHIRE OF","CHAPMAN VALLEY","Mid-West",{"$f":"VLOOKUP(E225,Admin_lookup!$A$2:$B$14,2,FALSE)","v":"Regional"}]
["BULLFINCH",6484,"SHIRE OF","YILGARN","Wheatbelt",{"$f":"VLOOKUP(E226,Admin_lookup!$A$2:$B$14,2,FALSE)","v":"Regional"}]
["BULLOCK HILLS",6317,"SHIRE OF","KATANNING","Great Southern",{"$f":"VLOOKUP(E227,Admin_lookup!$A$2:$B$14,2,FALSE)","v":"Regional"}]
["BULLSBROOK",6084,"CITY OF","SWAN","Perth",{"$f":"VLOOKUP(E228,Admin_lookup!$A$2:$B$14,2,FALSE)","v":"Metro"}]
["BULONG",6431,"SHIRE OF","NGAANYATJARRAKU","Goldfields-Esperance",{"$f":"VLOOKUP(E229,Admin_lookup!$A$2:$B$14,2,FALSE)","v":"Regional"}]
["BULYEE",6306,"SHIRE OF","BROOKTON","Wheatbelt",{"$f":"VLOOKUP(E230,Admin_lookup!$A$2:$B$14,2,FALSE)","v":"Regional"}]
["BUNBURY",6230,"CITY OF","BUNBURY","South West",{"$f":"VLOOKUP(E231,Admin_lookup!$A$2:$B$14,2,FALSE)","v":"Regional"}]
["BUNBURY PO BOXES",6231,"CITY OF","BUNBURY","South West",{"$f":"VLOOKUP(E232,Admin_lookup!$A$2:$B$14,2,FALSE)","v":"Regional"}]
["BUNDANOON",6522,"SHIRE OF","MINGENEW","Mid-West",{"$f":"VLOOKUP(E233,Admin_lookup!$A$2:$B$14,2,FALSE)","v":"Regional"}]
["BUNICHE",6353,"SHIRE OF","DUMBLEYUNG","Wheatbelt",{"$f":"VLOOKUP(E234,Admin_lookup!$A$2:$B$14,2,FALSE)","v":"Regional"}]
["BUNJIL",6623,"SHIRE OF","MORAWA","Mid-West",{"$f":"VLOOKUP(E235,Admin_lookup!$A$2:$B$14,2,FALSE)","v":"Regional"}]
["BUNTINE",6613,"SHIRE OF","DALWALLINU","Wheatbelt",{"$f":"VLOOKUP(E236,Admin_lookup!$A$2:$B$14,2,FALSE)","v":"Regional"}]
["BURAKIN",6467,"SHIRE OF","WONGAN-BALLIDU","Wheatbelt",{"$f":"VLOOKUP(E237,Admin_lookup!$A$2:$B$14,2,FALSE)","v":"Regional"}]
["BURAMINYA",6452,"SHIRE OF","ESPERANCE","Goldfields-Esperance",{"$f":"VLOOKUP(E238,Admin_lookup!$A$2:$B$14,2,FALSE)","v":"Regional"}]
["BUREKUP",6227,"SHIRE OF","DARDANUP","South West",{"$f":"VLOOKUP(E239,Admin_lookup!$A$2:$B$14,2,FALSE)","v":"Regional"}]
["BURGES",6302,"SHIRE OF","YORK","Wheatbelt",{"$f":"VLOOKUP(E240,Admin_lookup!$A$2:$B$14,2,FALSE)","v":"Regional"}]
["BURLONG",6401,"SHIRE OF","GOOMALLING","Wheatbelt",{"$f":"VLOOKUP(E241,Admin_lookup!$A$2:$B$14,2,FALSE)","v":"Regional"}]
["BURMA ROAD",6532,"SHIRE OF","CHAPMAN VALLEY","Mid-West",{"$f":"VLOOKUP(E242,Admin_lookup!$A$2:$B$14,2,FALSE)","v":"Regional"}]
["BURNS BEACH",6028,"CITY OF","JOONDALUP","Perth",{"$f":"VLOOKUP(E243,Admin_lookup!$A$2:$B$14,2,FALSE)","v":"Metro"}]
["BURNSIDE",6285,"SHIRE OF","AUGUSTA-MARGARET RIVER","South West",{"$f":"VLOOKUP(E244,Admin_lookup!$A$2:$B$14,2,FALSE)","v":"Regional"}]
["BURRACOPPIN",6421,"SHIRE OF","WESTONIA","Wheatbelt",{"$f":"VLOOKUP(E245,Admin_lookup!$A$2:$B$14,2,FALSE)","v":"Regional"}]
["BURRAN ROCK",6490,"SHIRE OF","NUNGARIN","Wheatbelt",{"$f":"VLOOKUP(E246,Admin_lookup!$A$2:$B$14,2,FALSE)","v":"Regional"}]
["BURRUP",6714,"SHIRE OF","ROEBOURNE","Pilbara",{"$f":"VLOOKUP(E247,Admin_lookup!$A$2:$B$14,2,FALSE)","v":"Pilbara"}]
["BURSWOOD",6100,"TOWN OF","VICTORIA PARK","Perth",{"$f":"VLOOKUP(E248,Admin_lookup!$A$2:$B$14,2,FALSE)","v":"Metro"}]
["BUSSELTON",6280,"SHIRE OF","BUSSELTON","South West",{"$f":"VLOOKUP(E249,Admin_lookup!$A$2:$B$14,2,FALSE)","v":"Regional"}]
["BUTLER",6036,"CITY OF","WANNEROO","Perth",{"$f":"VLOOKUP(E250,Admin_lookup!$A$2:$B$14,2,FALSE)","v":"Metro"}]
["BYFORD",6122,"SHIRE OF","SERPENTINE-JARRAHDALE","Peel",{"$f":"VLOOKUP(E251,Admin_lookup!$A$2:$B$14,2,FALSE)","v":"Regional"}]
["CABLE BEACH",6726,"SHIRE OF","BROOME","Kimberley",{"$f":"VLOOKUP(E252,Admin_lookup!$A$2:$B$14,2,FALSE)","v":"Kimberley"}]
["CADOUX",6466,"SHIRE OF","WONGAN-BALLIDU","Wheatbelt",{"$f":"VLOOKUP(E253,Admin_lookup!$A$2:$B$14,2,FALSE)","v":"Regional"}]
["CAIGUNA",6443,"SHIRE OF","COOLGARDIE","Goldfields-Esperance",{"$f":"VLOOKUP(E254,Admin_lookup!$A$2:$B$14,2,FALSE)","v":"Regional"}]
["CALINGIRI",6569,"SHIRE OF","VICTORIA PLAINS","Wheatbelt",{"$f":"VLOOKUP(E255,Admin_lookup!$A$2:$B$14,2,FALSE)","v":"Regional"}]
["CALISTA",6167,"TOWN OF","KWINANA","Perth",{"$f":"VLOOKUP(E256,Admin_lookup!$A$2:$B$14,2,FALSE)","v":"Metro"}]
["CALJIE",6302,"SHIRE OF","YORK","Wheatbelt",{"$f":"VLOOKUP(E257,Admin_lookup!$A$2:$B$14,2,FALSE)","v":"Regional"}]
["CALLCUP",6260,"SHIRE OF","MANJIMUP","South West",{"$f":"VLOOKUP(E258,Admin_lookup!$A$2:$B$14,2,FALSE)","v":"Regional"}]
["CAMBALLIN",6728,"SHIRE OF","DERBY-WEST KIMBERLEY","Kimberley",{"$f":"VLOOKUP(E259,Admin_lookup!$A$2:$B$14,2,FALSE)","v":"Kimberley"}]
["CAMBRIDGE GULF",6743,"SHIRE OF","HALLS CREEK","Kimberley",{"$f":"VLOOKUP(E260,Admin_lookup!$A$2:$B$14,2,FALSE)","v":"Kimberley"}]
["CAMILLO",6111,"CITY OF","ARMADALE","Perth",{"$f":"VLOOKUP(E261,Admin_lookup!$A$2:$B$14,2,FALSE)","v":"Metro"}]
["CANCANNING",6315,"SHIRE OF","WAGIN","Wheatbelt",{"$f":"VLOOKUP(E262,Admin_lookup!$A$2:$B$14,2,FALSE)","v":"Regional"}]
["CANE",6710,"SHIRE OF","ASHBURTON","Pilbara",{"$f":"VLOOKUP(E263,Admin_lookup!$A$2:$B$14,2,FALSE)","v":"Pilbara"}]
["CANNA",6627,"SHIRE OF","MORAWA","Mid-West",{"$f":"VLOOKUP(E264,Admin_lookup!$A$2:$B$14,2,FALSE)","v":"Regional"}]
["CANNING BRIDGE APPLECROSS",6153,"CITY OF","MELVILLE","Perth",{"$f":"VLOOKUP(E265,Admin_lookup!$A$2:$B$14,2,FALSE)","v":"Metro"}]
["CANNING MILLS",6111,"CITY OF","ARMADALE","Perth",{"$f":"VLOOKUP(E266,Admin_lookup!$A$2:$B$14,2,FALSE)","v":"Metro"}]
["CANNING VALE",6155,"CITY OF","CANNING","Perth",{"$f":"VLOOKUP(E267,Admin_lookup!$A$2:$B$14,2,FALSE)","v":"Metro"}]
["CANNING VALE DC",6155,"CITY OF","CANNING","Perth",{"$f":"VLOOKUP(E268,Admin_lookup!$A$2:$B$14,2,FALSE)","v":"Metro"}]
["CANNING VALE DC PO BOXES",6970,"CITY OF","PERTH","Perth",{"$f":"VLOOKUP(E269,Admin_lookup!$A$2:$B$14,2,FALSE)","v":"Metro"}]
["CANNING VALE EAST",6155,"CITY OF","CANNING","Perth",{"$f":"VLOOKUP(E270,Admin_lookup!$A$2:$B$14,2,FALSE)","v":"Metro"}]
["CANNING VALE SOUTH",6155,"CITY OF","CANNING","Perth",{"$f":"VLOOKUP(E271,Admin_lookup!$A$2:$B$14,2,FALSE)","v":"Metro"}]
["CANNINGTON",6107,"CITY OF","CANNING","Perth",{"$f":"VLOOKUP(E272,Admin_lookup!$A$2:$B$14,2,FALSE)","v":"Metro"}]
["CANNINGTON LVR",6980,"CITY OF","PERTH","Perth",{"$f":"VLOOKUP(E273,Admin_lookup!$A$2:$B$14,2,FALSE)","v":"Metro"}]
["CANNINGTON PO BOXES",6987,"CITY OF","PERTH","Perth",{"$f":"VLOOKUP(E274,Admin_lookup!$A$2:$B$14,2,FALSE)","v":"Metro"}]
["CAPE ARID",6452,"SHIRE OF","ESPERANCE","Goldfields-Esperance",{"$f":"VLOOKUP(E275,Admin_lookup!$A$2:$B$14,2,FALSE)","v":"Regional"}]
["CAPE BURNEY",6532,"SHIRE OF","CHAPMAN VALLEY","Mid-West",{"$f":"VLOOKUP(E276,Admin_lookup!$A$2:$B$14,2,FALSE)","v":"Regional"}]
["CAPE LE GRAND",6450,"SHIRE OF","ESPERANCE","Goldfields-Esperance",{"$f":"VLOOKUP(E277,Admin_lookup!$A$2:$B$14,2,FALSE)","v":"Regional"}]
["CAPE RANGE NATIONAL PARK",6707,"SHIRE OF","EXMOUTH","Gascoyne",{"$f":"VLOOKUP(E278,Admin_lookup!$A$2:$B$14,2,FALSE)","v":"Regional"}]
["CAPEL",6271,"SHIRE OF","CAPEL","South West",{"$f":"VLOOKUP(E279,Admin_lookup!$A$2:$B$14,2,FALSE)","v":"Regional"}]
["CAPEL RIVER",6271,"SHIRE OF","CAPEL","South West",{"$f":"VLOOKUP(E280,Admin_lookup!$A$2:$B$14,2,FALSE)","v":"Regional"}]
["CAPRICORN",6642,"SHIRE OF","MEEKATHARRA","Mid-West",{"$f":"VLOOKUP(E281,Admin_lookup!$A$2:$B$14,2,FALSE)","v":"Regional"}]
["CARABAN",6041,"SHIRE OF","GINGIN","Wheatbelt",{"$f":"VLOOKUP(E282,Admin_lookup!$A$2:$B$14,2,FALSE)","v":"Regional"}]
["CARABOODA",6033,"CITY OF","WANNEROO","Perth",{"$f":"VLOOKUP(E283,Admin_lookup!$A$2:$B$14,2,FALSE)","v":"Metro"}]
["CARANI",6566,"SHIRE OF","TOODYAY","Wheatbelt",{"$f":"VLOOKUP(E284,Admin_lookup!$A$2:$B$14,2,FALSE)","v":"Regional"}]
["CARBLA",6701,"SHIRE OF","CARNARVON","Gascoyne",{"$f":"VLOOKUP(E285,Admin_lookup!$A$2:$B$14,2,FALSE)","v":"Regional"}]
["CARBUNUP RIVER",6280,"SHIRE OF","BUSSELTON","South West",{"$f":"VLOOKUP(E286,Admin_lookup!$A$2:$B$14,2,FALSE)","v":"Regional"}]
["CARDIFF",6225,"SHIRE OF","COLLIE","South West",{"$f":"VLOOKUP(E287,Admin_lookup!$A$2:$B$14,2,FALSE)","v":"Regional"}]
["CARDUP",6122,"SHIRE OF","SERPENTINE-JARRAHDALE","Peel",{"$f":"VLOOKUP(E288,Admin_lookup!$A$2:$B$14,2,FALSE)","v":"Regional"}]
["CAREY PARK",6230,"CITY OF","BUNBURY","South West",{"$f":"VLOOKUP(E289,Admin_lookup!$A$2:$B$14,2,FALSE)","v":"Regional"}]
["CARINE",6020,"CITY OF","STIRLING","Perth",{"$f":"VLOOKUP(E290,Admin_lookup!$A$2:$B$14,2,FALSE)","v":"Metro"}]
["CARLISLE",6101,"TOWN OF","VICTORIA PARK","Perth",{"$f":"VLOOKUP(E291,Admin_lookup!$A$2:$B$14,2,FALSE)","v":"Metro"}]
["CARLISLE NORTH",6101,"TOWN OF","VICTORIA PARK","Perth",{"$f":"VLOOKUP(E292,Admin_lookup!$A$2:$B$14,2,FALSE)","v":"Metro"}]
["CARLISLE SOUTH",6101,"TOWN OF","VICTORIA PARK","Perth",{"$f":"VLOOKUP(E293,Admin_lookup!$A$2:$B$14,2,FALSE)","v":"Metro"}]
["CARLOTTA",6275,"SHIRE OF","BUSSELTON","South West",{"$f":"VLOOKUP(E294,Admin_lookup!$A$2:$B$14,2,FALSE)","v":"Regional"}]
["CARMEL",6076,"SHIRE OF","KALAMUNDA","Perth",{"$f":"VLOOKUP(E295,Admin_lookup!$A$2:$B$14,2,FALSE)","v":"Metro"}]
["CARNAMAH",6517,"SHIRE OF","CARNAMAH","Mid-West",{"$f":"VLOOKUP(E296,Admin_lookup!$A$2:$B$14,2,FALSE)","v":"Regional"}]
["CARNARVON",6701,"SHIRE OF","CARNARVON","Gascoyne",{"$f":"VLOOKUP(E297,Admin_lookup!$A$2:$B$14,2,FALSE)","v":"Regional"}]
["CARRABIN",6423,"SHIRE OF","WESTONIA","Wheatbelt",{"$f":"VLOOKUP(E298,Admin_lookup!$A$2:$B$14,2,FALSE)","v":"Regional"}]
["CARRAMAR",6031,"CITY OF","WANNEROO","Perth",{"$f":"VLOOKUP(E299,Admin_lookup!$A$2:$B$14,2,FALSE)","v":"Metro"}]
["CARRARANG",6532,"SHIRE OF","CHAPMAN VALLEY","Mid-West",{"$f":"VLOOKUP(E300,Admin_lookup!$A$2:$B$14,2,FALSE)","v":"Regional"}]
["CARROLUP",6317,"SHIRE OF","KATANNING","Great Southern",{"$f":"VLOOKUP(E301,Admin_lookup!$A$2:$B$14,2,FALSE)","v":"Regional"}]
["CARTMETICUP",6316,"SHIRE OF","WOODANILLING","Great Southern",{"$f":"VLOOKUP(E302,Admin_lookup!$A$2:$B$14,2,FALSE)","v":"Regional"}]
["CASCADE",6450,"SHIRE OF","ESPERANCE","Goldfields-Esperance",{"$f":"VLOOKUP(E303,Admin_lookup!$A$2:$B$14,2,FALSE)","v":"Regional"}]
["CASTLETOWN",6450,"SHIRE OF","ESPERANCE","Goldfields-Esperance",{"$f":"VLOOKUP(E304,Admin_lookup!$A$2:$B$14,2,FALSE)","v":"Regional"}]
["CASUARINA",6167,"TOWN OF","KWINANA","Perth",{"$f":"VLOOKUP(E305,Admin_lookup!$A$2:$B$14,2,FALSE)","v":"Metro"}]
["CATABY",6507,"SHIRE OF","DANDARAGAN","Wheatbelt",{"$f":"VLOOKUP(E306,Admin_lookup!$A$2:$B$14,2,FALSE)","v":"Regional"}]
["CATTERICK",6255,"SHIRE OF","BRIDGETOWN-GREENBUSHES","South West",{"$f":"VLOOKUP(E307,Admin_lookup!$A$2:$B$14,2,FALSE)","v":"Regional"}]
["CAVERSHAM",6055,"CITY OF","SWAN","Perth",{"$f":"VLOOKUP(E308,Admin_lookup!$A$2:$B$14,2,FALSE)","v":"Metro"}]
["CENTENNIAL PARK",6330,"CITY OF","ALBANY","Great Southern",{"$f":"VLOOKUP(E309,Admin_lookup!$A$2:$B$14,2,FALSE)","v":"Regional"}]
["CERVANTES",6511,"SHIRE OF","DANDARAGAN","Wheatbelt",{"$f":"VLOOKUP(E310,Admin_lookup!$A$2:$B$14,2,FALSE)","v":"Regional"}]
["CHADWICK",6450,"SHIRE OF","ESPERANCE","Goldfields-Esperance",{"$f":"VLOOKUP(E311,Admin_lookup!$A$2:$B$14,2,FALSE)","v":"Regional"}]
["CHAMPION LAKES",6111,"CITY OF","ARMADALE","Perth",{"$f":"VLOOKUP(E312,Admin_lookup!$A$2:$B$14,2,FALSE)","v":"Metro"}]
["CHANDLER",6490,"SHIRE OF","NUNGARIN","Wheatbelt",{"$f":"VLOOKUP(E313,Admin_lookup!$A$2:$B$14,2,FALSE)","v":"Regional"}]
["CHANGERUP",6394,"SHIRE OF","KOJONUP","Great Southern",{"$f":"VLOOKUP(E314,Admin_lookup!$A$2:$B$14,2,FALSE)","v":"Regional"}]
["CHANNYBEARUP",6260,"SHIRE OF","MANJIMUP","South West",{"$f":"VLOOKUP(E315,Admin_lookup!$A$2:$B$14,2,FALSE)","v":"Regional"}]
["CHAPMAN HILL",6280,"SHIRE OF","BUSSELTON","South West",{"$f":"VLOOKUP(E316,Admin_lookup!$A$2:$B$14,2,FALSE)","v":"Regional"}]
["CHARLEY CREEK",6239,"SHIRE OF","DONNYBROOK-BALINGUP","South West",{"$f":"VLOOKUP(E317,Admin_lookup!$A$2:$B$14,2,FALSE)","v":"Regional"}]
["CHERRY TREE POOL",6395,"SHIRE OF","KOJONUP","Great Southern",{"$f":"VLOOKUP(E318,Admin_lookup!$A$2:$B$14,2,FALSE)","v":"Regional"}]
["CHEYNES",6328,"CITY OF","ALBANY","Great Southern",{"$f":"VLOOKUP(E319,Admin_lookup!$A$2:$B$14,2,FALSE)","v":"Regional"}]
["CHICHESTER",6751,"SHIRE OF","ASHBURTON","Pilbara",{"$f":"VLOOKUP(E320,Admin_lookup!$A$2:$B$14,2,FALSE)","v":"Pilbara"}]
["CHIDLOW",6556,"CITY OF","SWAN","Perth",{"$f":"VLOOKUP(E321,Admin_lookup!$A$2:$B$14,2,FALSE)","v":"Metro"}]
["CHITTERING",6084,"SHIRE OF","CHITTERING","Wheatbelt",{"$f":"VLOOKUP(E322,Admin_lookup!$A$2:$B$14,2,FALSE)","v":"Regional"}]
["CHOWERUP",6244,"SHIRE OF","WEST ARTHUR","Wheatbelt",{"$f":"VLOOKUP(E323,Admin_lookup!$A$2:$B$14,2,FALSE)","v":"Regional"}]
["CHRISTMAS ISLAND",6798,"CHRISTMAS ISLAND","CHRISTMAS ISLAND","Christmas Island",{"$f":"VLOOKUP(E324,Admin_lookup!$A$2:$B$14,2,FALSE)","v":"Not applicable"}]
["CHURCHLANDS",6018,"CITY OF","STIRLING","Perth",{"$f":"VLOOKUP(E325,Admin_lookup!$A$2:$B$14,2,FALSE)","v":"Metro"}]
["CITY BEACH",6015,"TOWN OF","CAMBRIDGE","Perth",{"$f":"VLOOKUP(E326,Admin_lookup!$A$2:$B$14,2,FALSE)","v":"Metro"}]
["CITY DELIVERY CENTRE",6000,"CITY OF","PERTH","Perth",{"$f":"VLOOKUP(E327,Admin_lookup!$A$2:$B$14,2,FALSE)","v":"Metro"}]
["CLACKLINE",6564,"SHIRE OF","NORTHAM","Wheatbelt",{"$f":"VLOOKUP(E328,Admin_lookup!$A$2:$B$14,2,FALSE)","v":"Regional"}]
["CLAREMONT",6010,"CITY OF","NEDLANDS","Perth",{"$f":"VLOOKUP(E329,Admin_lookup!$A$2:$B$14,2,FALSE)","v":"Metro"}]
["CLAREMONT NORTH",6010,"CITY OF","NEDLANDS","Perth",{"$f":"VLOOKUP(E330,Admin_lookup!$A$2:$B$14,2,FALSE)","v":"Metro"}]
["CLAREMONT PO BOXES",6910,"CITY OF","PERTH","Perth",{"$f":"VLOOKUP(E331,Admin_lookup!$A$2:$B$14,2,FALSE)","v":"Metro"}]
["CLARKSON",6030,"CITY OF","WANNEROO","Perth",{"$f":"VLOOKUP(E332,Admin_lookup!$A$2:$B$14,2,FALSE)","v":"Metro"}]
["CLEARY",6472,"SHIRE OF","MOUNT MARSHALL","Wheatbelt",{"$f":"VLOOKUP(E333,Admin_lookup!$A$2:$B$14,2,FALSE)","v":"Regional"}]
["CLEAVERVILLE",6714,"SHIRE OF","ROEBOURNE","Pilbara",{"$f":"VLOOKUP(E334,Admin_lookup!$A$2:$B$14,2,FALSE)","v":"Pilbara"}]
["CLIFTON",6211,"CITY OF","MANDURAH","Peel",{"$f":"VLOOKUP(E335,Admin_lookup!$A$2:$B$14,2,FALSE)","v":"Regional"}]
["CLOISTERS SQUARE",6850,"CITY OF","PERTH","Perth",{"$f":"VLOOKUP(E336,Admin_lookup!$A$2:$B$14,2,FALSE)","v":"Metro"}]
["CLOVERDALE",6105,"CITY OF","BELMONT","Perth",{"$f":"VLOOKUP(E337,Admin_lookup!$A$2:$B$14,2,FALSE)","v":"Metro"}]
["CLOVERDALE PO BOXES",6985,"CITY OF","PERTH","Perth",{"$f":"VLOOKUP(E338,Admin_lookup!$A$2:$B$14,2,FALSE)","v":"Metro"}]
["COBLININE",6317,"SHIRE OF","KATANNING","Great Southern",{"$f":"VLOOKUP(E339,Admin_lookup!$A$2:$B$14,2,FALSE)","v":"Regional"}]
["COBURN",6532,"SHIRE OF","CHAPMAN VALLEY","Mid-West",{"$f":"VLOOKUP(E340,Admin_lookup!$A$2:$B$14,2,FALSE)","v":"Regional"}]
["COCKATOO ISLAND",6731,"SHIRE OF","DERBY-WEST KIMBERLEY","Kimberley",{"$f":"VLOOKUP(E341,Admin_lookup!$A$2:$B$14,2,FALSE)","v":"Kimberley"}]
["COCKBURN CENTRAL",6164,"CITY OF","COCKBURN","Perth",{"$f":"VLOOKUP(E342,Admin_lookup!$A$2:$B$14,2,FALSE)","v":"Metro"}]
["COCKLEBIDDY",6443,"SHIRE OF","COOLGARDIE","Goldfields-Esperance",{"$f":"VLOOKUP(E343,Admin_lookup!$A$2:$B$14,2,FALSE)","v":"Regional"}]
["CODJATOTINE",6308,"SHIRE OF","PINGELLY","Wheatbelt",{"$f":"VLOOKUP(E344,Admin_lookup!$A$2:$B$14,2,FALSE)","v":"Regional"}]
["COLD HARBOUR",6302,"SHIRE OF","YORK","Wheatbelt",{"$f":"VLOOKUP(E345,Admin_lookup!$A$2:$B$14,2,FALSE)","v":"Regional"}]
["COLLANILLING",6315,"SHIRE OF","WAGIN","Wheatbelt",{"$f":"VLOOKUP(E346,Admin_lookup!$A$2:$B$14,2,FALSE)","v":"Regional"}]
["COLLEGE GROVE",6230,"CITY OF","BUNBURY","South West",{"$f":"VLOOKUP(E347,Admin_lookup!$A$2:$B$14,2,FALSE)","v":"Regional"}]
["COLLIE",6225,"SHIRE OF","COLLIE","South West",{"$f":"VLOOKUP(E348,Admin_lookup!$A$2:$B$14,2,FALSE)","v":"Regional"}]
["COLLIE BURN",6225,"SHIRE OF","COLLIE","South West",{"$f":"VLOOKUP(E349,Admin_lookup!$A$2:$B$14,2,FALSE)","v":"Regional"}]
["COLLINGWOOD HEIGHTS",6330,"CITY OF","ALBANY","Great Southern",{"$f":"VLOOKUP(E350,Admin_lookup!$A$2:$B$14,2,FALSE)","v":"Regional"}]
["COLLINGWOOD PARK",6330,"CITY OF","ALBANY","Great Southern",{"$f":"VLOOKUP(E351,Admin_lookup!$A$2:$B$14,2,FALSE)","v":"Regional"}]
["COLLINS",6260,"SHIRE OF","MANJIMUP","South West",{"$f":"VLOOKUP(E352,Admin_lookup!$A$2:$B$14,2,FALSE)","v":"Regional"}]
["COMMODINE",6311,"SHIRE OF","CUBALLING","Wheatbelt",{"$f":"VLOOKUP(E353,Admin_lookup!$A$2:$B$14,2,FALSE)","v":"Regional"}]
["COMO",6152,"CITY OF","SOUTH PERTH","Perth",{"$f":"VLOOKUP(E354,Admin_lookup!$A$2:$B$14,2,FALSE)","v":"Metro"}]
["COMO PO BOXES",6952,"CITY OF","PERTH","Perth",{"$f":"VLOOKUP(E355,Admin_lookup!$A$2:$B$14,2,FALSE)","v":"Metro"}]
["CONDINGUP",6450,"SHIRE OF","ESPERANCE","Goldfields-Esperance",{"$f":"VLOOKUP(E356,Admin_lookup!$A$2:$B$14,2,FALSE)","v":"Regional"}]
["CONNOLLY",6027,"CITY OF","JOONDALUP","Perth",{"$f":"VLOOKUP(E357,Admin_lookup!$A$2:$B$14,2,FALSE)","v":"Metro"}]
["CONTINE",6311,"SHIRE OF","CUBALLING","Wheatbelt",{"$f":"VLOOKUP(E358,Admin_lookup!$A$2:$B$14,2,FALSE)","v":"Regional"}]
["COODANUP",6210,"CITY OF","MANDURAH","Peel",{"$f":"VLOOKUP(E359,Admin_lookup!$A$2:$B$14,2,FALSE)","v":"Regional"}]
["COOGEE",6166,"CITY OF","COCKBURN","Perth",{"$f":"VLOOKUP(E360,Admin_lookup!$A$2:$B$14,2,FALSE)","v":"Metro"}]
["COOKERNUP",6220,"SHIRE OF","HARVEY","South West",{"$f":"VLOOKUP(E361,Admin_lookup!$A$2:$B$14,2,FALSE)","v":"Regional"}]
["COOLADAR HILL",6638,"SHIRE OF","MOUNT MAGNET","Mid-West",{"$f":"VLOOKUP(E362,Admin_lookup!$A$2:$B$14,2,FALSE)","v":"Regional"}]
["COOLBELLUP",6163,"CITY OF","COCKBURN","Perth",{"$f":"VLOOKUP(E363,Admin_lookup!$A$2:$B$14,2,FALSE)","v":"Metro"}]
["COOLBINIA",6050,"CITY OF","STIRLING","Perth",{"$f":"VLOOKUP(E364,Admin_lookup!$A$2:$B$14,2,FALSE)","v":"Metro"}]
["COOLCALALAYA",6532,"SHIRE OF","CHAPMAN VALLEY","Mid-West",{"$f":"VLOOKUP(E365,Admin_lookup!$A$2:$B$14,2,FALSE)","v":"Regional"}]
["COOLGARDIE",6429,"SHIRE OF","COOLGARDIE","Goldfields-Esperance",{"$f":"VLOOKUP(E366,Admin_lookup!$A$2:$B$14,2,FALSE)","v":"Regional"}]
["COOLJARLOO",6507,"SHIRE OF","DANDARAGAN","Wheatbelt",{"$f":"VLOOKUP(E367,Admin_lookup!$A$2:$B$14,2,FALSE)","v":"Regional"}]
["COOLOONGUP",6168,"CITY OF","ROCKINGHAM","Perth",{"$f":"VLOOKUP(E368,Admin_lookup!$A$2:$B$14,2,FALSE)","v":"Metro"}]
["COOLUP",6214,"SHIRE OF","MURRAY","Peel",{"$f":"VLOOKUP(E369,Admin_lookup!$A$2:$B$14,2,FALSE)","v":"Regional"}]
["COOMALBIDGUP",6450,"SHIRE OF","ESPERANCE","Goldfields-Esperance",{"$f":"VLOOKUP(E370,Admin_lookup!$A$2:$B$14,2,FALSE)","v":"Regional"}]
["COOMBERDALE",6512,"SHIRE OF","MOORA","Wheatbelt",{"$f":"VLOOKUP(E371,Admin_lookup!$A$2:$B$14,2,FALSE)","v":"Regional"}]
["COONABIDGEE",6503,"SHIRE OF","GINGIN","Wheatbelt",{"$f":"VLOOKUP(E372,Admin_lookup!$A$2:$B$14,2,FALSE)","v":"Regional"}]
["COONDLE",6566,"SHIRE OF","TOODYAY","Wheatbelt",{"$f":"VLOOKUP(E373,Admin_lookup!$A$2:$B$14,2,FALSE)","v":"Regional"}]
["COOROW",6515,"SHIRE OF","COOROW","Mid-West",{"$f":"VLOOKUP(E374,Admin_lookup!$A$2:$B$14,2,FALSE)","v":"Regional"}]
["COOYA POOYA",6714,"SHIRE OF","ROEBOURNE","Pilbara",{"$f":"VLOOKUP(E375,Admin_lookup!$A$2:$B$14,2,FALSE)","v":"Pilbara"}]
["COPLEY",6562,"SHIRE OF","NORTHAM","Wheatbelt",{"$f":"VLOOKUP(E376,Admin_lookup!$A$2:$B$14,2,FALSE)","v":"Regional"}]
["CORAL BAY",6701,"SHIRE OF","CARNARVON","Gascoyne",{"$f":"VLOOKUP(E377,Admin_lookup!$A$2:$B$14,2,FALSE)","v":"Regional"}]
["CORDERING",6393,"SHIRE OF","WEST ARTHUR","Wheatbelt",{"$f":"VLOOKUP(E378,Admin_lookup!$A$2:$B$14,2,FALSE)","v":"Regional"}]
["CORINTHIA",6426,"SHIRE OF","YILGARN","Wheatbelt",{"$f":"VLOOKUP(E379,Admin_lookup!$A$2:$B$14,2,FALSE)","v":"Regional"}]
["CORRIGIN",6375,"SHIRE OF","CORRIGIN","Wheatbelt",{"$f":"VLOOKUP(E380,Admin_lookup!$A$2:$B$14,2,FALSE)","v":"Regional"}]
["COSMO NEWBERY",6440,"SHIRE OF","LAVERTON","Goldfields-Esperance",{"$f":"VLOOKUP(E381,Admin_lookup!$A$2:$B$14,2,FALSE)","v":"Regional"}]
["COSSACK",6720,"SHIRE OF","ROEBOURNE","Pilbara",{"$f":"VLOOKUP(E382,Admin_lookup!$A$2:$B$14,2,FALSE)","v":"Pilbara"}]
["COTTESLOE",6011,"SHIRE OF","PEPPERMINT GROVE","Perth",{"$f":"VLOOKUP(E383,Admin_lookup!$A$2:$B$14,2,FALSE)","v":"Metro"}]
["COTTESLOE PO BOXES",6911,"CITY OF","PERTH","Perth",{"$f":"VLOOKUP(E384,Admin_lookup!$A$2:$B$14,2,FALSE)","v":"Metro"}]
["COURTENAY",6288,"SHIRE OF","AUGUSTA-MARGARET RIVER","South West",{"$f":"VLOOKUP(E385,Admin_lookup!$A$2:$B$14,2,FALSE)","v":"Regional"}]
["COWALELLUP",6336,"SHIRE OF","GNOWANGERUP","Great Southern",{"$f":"VLOOKUP(E386,Admin_lookup!$A$2:$B$14,2,FALSE)","v":"Regional"}]
["COWALLA",6503,"SHIRE OF","GINGIN","Wheatbelt",{"$f":"VLOOKUP(E387,Admin_lookup!$A$2:$B$14,2,FALSE)","v":"Regional"}]
["COWARAMUP",6284,"SHIRE OF","AUGUSTA-MARGARET RIVER","South West",{"$f":"VLOOKUP(E388,Admin_lookup!$A$2:$B$14,2,FALSE)","v":"Regional"}]
["COWCOWING",6485,"SHIRE OF","WYALKATCHEM","Wheatbelt",{"$f":"VLOOKUP(E389,Admin_lookup!$A$2:$B$14,2,FALSE)","v":"Regional"}]
["COYRECUP",6317,"SHIRE OF","KATANNING","Great Southern",{"$f":"VLOOKUP(E390,Admin_lookup!$A$2:$B$14,2,FALSE)","v":"Regional"}]
["CRAIGIE",6025,"CITY OF","JOONDALUP","Perth",{"$f":"VLOOKUP(E391,Admin_lookup!$A$2:$B$14,2,FALSE)","v":"Metro"}]
["CRAMPHORNE",6420,"SHIRE OF","MERREDIN","Wheatbelt",{"$f":"VLOOKUP(E392,Admin_lookup!$A$2:$B$14,2,FALSE)","v":"Regional"}]
["CRANBROOK",6321,"SHIRE OF","CRANBROOK","Great Southern",{"$f":"VLOOKUP(E393,Admin_lookup!$A$2:$B$14,2,FALSE)","v":"Regional"}]
["CRAWLEY",6009,"CITY OF","NEDLANDS","Perth",{"$f":"VLOOKUP(E394,Admin_lookup!$A$2:$B$14,2,FALSE)","v":"Metro"}]
["CROOKED BROOK",6236,"SHIRE OF","DARDANUP","South West",{"$f":"VLOOKUP(E395,Admin_lookup!$A$2:$B$14,2,FALSE)","v":"Regional"}]
["CROSSMAN",6390,"SHIRE OF","BODDINGTON","Peel",{"$f":"VLOOKUP(E396,Admin_lookup!$A$2:$B$14,2,FALSE)","v":"Regional"}]
["CROWEA",6258,"SHIRE OF","MANJIMUP","South West",{"$f":"VLOOKUP(E397,Admin_lookup!$A$2:$B$14,2,FALSE)","v":"Regional"}]
["CUBALLING",6311,"SHIRE OF","CUBALLING","Wheatbelt",{"$f":"VLOOKUP(E398,Admin_lookup!$A$2:$B$14,2,FALSE)","v":"Regional"}]
["CUBBINE",6383,"SHIRE OF","QUAIRADING","Wheatbelt",{"$f":"VLOOKUP(E399,Admin_lookup!$A$2:$B$14,2,FALSE)","v":"Regional"}]
["CUE",6640,"SHIRE OF","CUE","Mid-West",{"$f":"VLOOKUP(E400,Admin_lookup!$A$2:$B$14,2,FALSE)","v":"Regional"}]
["CULHAM",6566,"SHIRE OF","TOODYAY","Wheatbelt",{"$f":"VLOOKUP(E401,Admin_lookup!$A$2:$B$14,2,FALSE)","v":"Regional"}]
["CULLACABARDEE",6067,"CITY OF","SWAN","Perth",{"$f":"VLOOKUP(E402,Admin_lookup!$A$2:$B$14,2,FALSE)","v":"Metro"}]
["CULLALLA",6503,"SHIRE OF","GINGIN","Wheatbelt",{"$f":"VLOOKUP(E403,Admin_lookup!$A$2:$B$14,2,FALSE)","v":"Regional"}]
["CUNDEELEE",6434,"CITY OF","KALGOORLIE-BOULDER","Goldfields-Esperance",{"$f":"VLOOKUP(E404,Admin_lookup!$A$2:$B$14,2,FALSE)","v":"Regional"}]
["CUNDERDIN",6407,"SHIRE OF","CUNDERDIN","Wheatbelt",{"$f":"VLOOKUP(E405,Admin_lookup!$A$2:$B$14,2,FALSE)","v":"Regional"}]
["CUNDINUP",6275,"SHIRE OF","BUSSELTON","South West",{"$f":"VLOOKUP(E406,Admin_lookup!$A$2:$B$14,2,FALSE)","v":"Regional"}]
["CUNJARDINE",6401,"SHIRE OF","GOOMALLING","Wheatbelt",{"$f":"VLOOKUP(E407,Admin_lookup!$A$2:$B$14,2,FALSE)","v":"Regional"}]
["CURRAMBINE",6028,"CITY OF","JOONDALUP","Perth",{"$f":"VLOOKUP(E408,Admin_lookup!$A$2:$B$14,2,FALSE)","v":"Metro"}]
["CUTHBERT",6330,"CITY OF","ALBANY","Great Southern",{"$f":"VLOOKUP(E409,Admin_lookup!$A$2:$B$14,2,FALSE)","v":"Regional"}]
["DAADENNING CREEK",6410,"SHIRE OF","KELLERBERRIN","Wheatbelt",{"$f":"VLOOKUP(E410,Admin_lookup!$A$2:$B$14,2,FALSE)","v":"Regional"}]
["DAGGAR HILLS",6638,"SHIRE OF","MOUNT MAGNET","Mid-West",{"$f":"VLOOKUP(E411,Admin_lookup!$A$2:$B$14,2,FALSE)","v":"Regional"}]
["DAGLISH",6008,"CITY OF","SUBIACO","Perth",{"$f":"VLOOKUP(E412,Admin_lookup!$A$2:$B$14,2,FALSE)","v":"Metro"}]
["DALE",6304,"SHIRE OF","BEVERLEY","Wheatbelt",{"$f":"VLOOKUP(E413,Admin_lookup!$A$2:$B$14,2,FALSE)","v":"Regional"}]
["DALIAK",6302,"SHIRE OF","YORK","Wheatbelt",{"$f":"VLOOKUP(E414,Admin_lookup!$A$2:$B$14,2,FALSE)","v":"Regional"}]
["DALKEITH",6009,"CITY OF","NEDLANDS","Perth",{"$f":"VLOOKUP(E415,Admin_lookup!$A$2:$B$14,2,FALSE)","v":"Metro"}]
["DALWALLINU",6609,"SHIRE OF","DALWALLINU","Wheatbelt",{"$f":"VLOOKUP(E416,Admin_lookup!$A$2:$B$14,2,FALSE)","v":"Regional"}]
["DALYELLUP",6230,"CITY OF","BUNBURY","South West",{"$f":"VLOOKUP(E417,Admin_lookup!$A$2:$B$14,2,FALSE)","v":"Regional"}]
["DALYUP",6450,"SHIRE OF","ESPERANCE","Goldfields-Esperance",{"$f":"VLOOKUP(E418,Admin_lookup!$A$2:$B$14,2,FALSE)","v":"Regional"}]
["DAMPIER",6713,"SHIRE OF","ROEBOURNE","Pilbara",{"$f":"VLOOKUP(E419,Admin_lookup!$A$2:$B$14,2,FALSE)","v":"Pilbara"}]
["DAMPIER ARCHIPELAGO",6713,"SHIRE OF","ROEBOURNE","Pilbara",{"$f":"VLOOKUP(E420,Admin_lookup!$A$2:$B$14,2,FALSE)","v":"Pilbara"}]
["DAMPIER PENINSULA",6725,"SHIRE OF","BROOME","Kimberley",{"$f":"VLOOKUP(E421,Admin_lookup!$A$2:$B$14,2,FALSE)","v":"Kimberley"}]
["DANDANNING",6479,"SHIRE OF","MUKINBUDIN","Wheatbelt",{"$f":"VLOOKUP(E422,Admin_lookup!$A$2:$B$14,2,FALSE)","v":"Regional"}]
["DANDARAGAN",6507,"SHIRE OF","DANDARAGAN","Wheatbelt",{"$f":"VLOOKUP(E423,Admin_lookup!$A$2:$B$14,2,FALSE)","v":"Regional"}]
["DANGIN",6383,"SHIRE OF","QUAIRADING","Wheatbelt",{"$f":"VLOOKUP(E424,Admin_lookup!$A$2:$B$14,2,FALSE)","v":"Regional"}]
["DARCH",6065,"CITY OF","WANNEROO","Perth",{"$f":"VLOOKUP(E425,Admin_lookup!$A$2:$B$14,2,FALSE)","v":"Metro"}]
["DARDANUP",6236,"SHIRE OF","DARDANUP","South West",{"$f":"VLOOKUP(E426,Admin_lookup!$A$2:$B$14,2,FALSE)","v":"Regional"}]
["DARDANUP WEST",6236,"SHIRE OF","DARDANUP","South West",{"$f":"VLOOKUP(E427,Admin_lookup!$A$2:$B$14,2,FALSE)","v":"Regional"}]
["DARKAN",6392,"SHIRE OF","WILLIAMS","Wheatbelt",{"$f":"VLOOKUP(E428,Admin_lookup!$A$2:$B$14,2,FALSE)","v":"Regional"}]
["DARLING DOWNS",6122,"SHIRE OF","SERPENTINE-JARRAHDALE","Peel",{"$f":"VLOOKUP(E429,Admin_lookup!$A$2:$B$14,2,FALSE)","v":"Regional"}]
["DARLINGTON",6070,"SHIRE OF","MUNDARING","Perth",{"$f":"VLOOKUP(E430,Admin_lookup!$A$2:$B$14,2,FALSE)","v":"Metro"}]
["DARRADUP",6275,"SHIRE OF","BUSSELTON","South West",{"$f":"VLOOKUP(E431,Admin_lookup!$A$2:$B$14,2,FALSE)","v":"Regional"}]
["DARTMOOR",6532,"SHIRE OF","CHAPMAN VALLEY","Mid-West",{"$f":"VLOOKUP(E432,Admin_lookup!$A$2:$B$14,2,FALSE)","v":"Regional"}]
["DARTNALL",6320,"SHIRE OF","BROOMEHILL-TAMBELLUP","Great Southern",{"$f":"VLOOKUP(E433,Admin_lookup!$A$2:$B$14,2,FALSE)","v":"Regional"}]
["DATATINE",6317,"SHIRE OF","KATANNING","Great Southern",{"$f":"VLOOKUP(E434,Admin_lookup!$A$2:$B$14,2,FALSE)","v":"Regional"}]
["DAVENPORT",6230,"CITY OF","BUNBURY","South West",{"$f":"VLOOKUP(E435,Admin_lookup!$A$2:$B$14,2,FALSE)","v":"Regional"}]
["DAWESVILLE",6211,"CITY OF","MANDURAH","Peel",{"$f":"VLOOKUP(E436,Admin_lookup!$A$2:$B$14,2,FALSE)","v":"Regional"}]
["DAYTON",6055,"CITY OF","SWAN","Perth",{"$f":"VLOOKUP(E437,Admin_lookup!$A$2:$B$14,2,FALSE)","v":"Metro"}]
["DE GREY",6722,"TOWN OF","PORT HEDLAND","Pilbara",{"$f":"VLOOKUP(E438,Admin_lookup!$A$2:$B$14,2,FALSE)","v":"Pilbara"}]
["DEANMILL",6258,"SHIRE OF","MANJIMUP","South West",{"$f":"VLOOKUP(E439,Admin_lookup!$A$2:$B$14,2,FALSE)","v":"Regional"}]
["DEEPDALE",6532,"SHIRE OF","CHAPMAN VALLEY","Mid-West",{"$f":"VLOOKUP(E440,Admin_lookup!$A$2:$B$14,2,FALSE)","v":"Regional"}]
["DEEPDENE",6290,"SHIRE OF","AUGUSTA-MARGARET RIVER","South West",{"$f":"VLOOKUP(E441,Admin_lookup!$A$2:$B$14,2,FALSE)","v":"Regional"}]
["DENBARKER",6324,"SHIRE OF","PLANTAGENET","Great Southern",{"$f":"VLOOKUP(E442,Admin_lookup!$A$2:$B$14,2,FALSE)","v":"Regional"}]
["DENHAM",6537,"SHIRE OF","SHARK BAY","Gascoyne",{"$f":"VLOOKUP(E443,Admin_lookup!$A$2:$B$14,2,FALSE)","v":"Regional"}]
["DENMARK",6333,"SHIRE OF","DENMARK","Great Southern",{"$f":"VLOOKUP(E444,Admin_lookup!$A$2:$B$14,2,FALSE)","v":"Regional"}]
["DERBY",6728,"SHIRE OF","DERBY-WEST KIMBERLEY","Kimberley",{"$f":"VLOOKUP(E445,Admin_lookup!$A$2:$B$14,2,FALSE)","v":"Kimberley"}]
["DEVILS CREEK",6630,"SHIRE OF","MURCHISON","Mid-West",{"$f":"VLOOKUP(E446,Admin_lookup!$A$2:$B$14,2,FALSE)","v":"Regional"}]
["DEWARS POOL",6567,"SHIRE OF","TOODYAY","Wheatbelt",{"$f":"VLOOKUP(E447,Admin_lookup!$A$2:$B$14,2,FALSE)","v":"Regional"}]
["DIAMOND TREE",6258,"SHIRE OF","MANJIMUP","South West",{"$f":"VLOOKUP(E448,Admin_lookup!$A$2:$B$14,2,FALSE)","v":"Regional"}]
["DIANELLA",6059,"CITY OF","STIRLING","Perth",{"$f":"VLOOKUP(E449,Admin_lookup!$A$2:$B$14,2,FALSE)","v":"Metro"}]
["DINDILOA",6532,"SHIRE OF","CHAPMAN VALLEY","Mid-West",{"$f":"VLOOKUP(E450,Admin_lookup!$A$2:$B$14,2,FALSE)","v":"Regional"}]
["DINGUP",6258,"SHIRE OF","MANJIMUP","South West",{"$f":"VLOOKUP(E451,Admin_lookup!$A$2:$B$14,2,FALSE)","v":"Regional"}]
["DINNINUP",6244,"SHIRE OF","Boyup Brook","South West",{"$f":"VLOOKUP(E452,Admin_lookup!$A$2:$B$14,2,FALSE)","v":"Regional"}]
["DIRK HARTOG ISLAND",6537,"SHIRE OF","SHARK BAY","Gascoyne",{"$f":"VLOOKUP(E453,Admin_lookup!$A$2:$B$14,2,FALSE)","v":"Regional"}]
["DIXVALE",6258,"SHIRE OF","MANJIMUP","South West",{"$f":"VLOOKUP(E454,Admin_lookup!$A$2:$B$14,2,FALSE)","v":"Regional"}]
["DJUGUN",6725,"SHIRE OF","BROOME","Kimberley",{"$f":"VLOOKUP(E455,Admin_lookup!$A$2:$B$14,2,FALSE)","v":"Kimberley"}]
["DOG SWAMP",6060,"CITY OF","STIRLING","Perth",{"$f":"VLOOKUP(E456,Admin_lookup!$A$2:$B$14,2,FALSE)","v":"Metro"}]
["DONGARA",6525,"SHIRE OF","IRWIN","Mid-West",{"$f":"VLOOKUP(E457,Admin_lookup!$A$2:$B$14,2,FALSE)","v":"Regional"}]
["DONGOLOCKING",6315,"SHIRE OF","WAGIN","Wheatbelt",{"$f":"VLOOKUP(E458,Admin_lookup!$A$2:$B$14,2,FALSE)","v":"Regional"}]
["DONNELLY RIVER",6258,"SHIRE OF","MANJIMUP","South West",{"$f":"VLOOKUP(E459,Admin_lookup!$A$2:$B$14,2,FALSE)","v":"Regional"}]
["DONNYBROOK",6239,"SHIRE OF","DONNYBROOK-BALINGUP","South West",{"$f":"VLOOKUP(E460,Admin_lookup!$A$2:$B$14,2,FALSE)","v":"Regional"}]
["DOODENANNING",6383,"SHIRE OF","QUAIRADING","Wheatbelt",{"$f":"VLOOKUP(E461,Admin_lookup!$A$2:$B$14,2,FALSE)","v":"Regional"}]
["DOODLAKINE",6411,"SHIRE OF","KELLERBERRIN","Wheatbelt",{"$f":"VLOOKUP(E462,Admin_lookup!$A$2:$B$14,2,FALSE)","v":"Regional"}]
["DORRE ISLAND",6701,"SHIRE OF","CARNARVON","Gascoyne",{"$f":"VLOOKUP(E463,Admin_lookup!$A$2:$B$14,2,FALSE)","v":"Regional"}]
["DOUBLEVIEW",6018,"CITY OF","STIRLING","Perth",{"$f":"VLOOKUP(E464,Admin_lookup!$A$2:$B$14,2,FALSE)","v":"Metro"}]
["DOWERIN",6461,"SHIRE OF","DOWERIN","Wheatbelt",{"$f":"VLOOKUP(E465,Admin_lookup!$A$2:$B$14,2,FALSE)","v":"Regional"}]
["DROME",6330,"CITY OF","ALBANY","Great Southern",{"$f":"VLOOKUP(E466,Admin_lookup!$A$2:$B$14,2,FALSE)","v":"Regional"}]
["DRUMMOND COVE",6532,"SHIRE OF","CHAPMAN VALLEY","Mid-West",{"$f":"VLOOKUP(E467,Admin_lookup!$A$2:$B$14,2,FALSE)","v":"Regional"}]
["DRYANDRA",6311,"SHIRE OF","CUBALLING","Wheatbelt",{"$f":"VLOOKUP(E468,Admin_lookup!$A$2:$B$14,2,FALSE)","v":"Regional"}]
["DRYSDALE RIVER",6740,"SHIRE OF","WYNDHAM-EAST KIMBERLEY","Kimberley",{"$f":"VLOOKUP(E469,Admin_lookup!$A$2:$B$14,2,FALSE)","v":"Kimberley"}]
["DUDAWA",6519,"SHIRE OF","THREE SPRINGS","Mid-West",{"$f":"VLOOKUP(E470,Admin_lookup!$A$2:$B$14,2,FALSE)","v":"Regional"}]
["DUDININ",6363,"SHIRE OF","KULIN","Wheatbelt",{"$f":"VLOOKUP(E471,Admin_lookup!$A$2:$B$14,2,FALSE)","v":"Regional"}]
["DUDLEY PARK",6210,"CITY OF","MANDURAH","Peel",{"$f":"VLOOKUP(E472,Admin_lookup!$A$2:$B$14,2,FALSE)","v":"Regional"}]
["DUKIN",6475,"SHIRE OF","KOORDA","Wheatbelt",{"$f":"VLOOKUP(E473,Admin_lookup!$A$2:$B$14,2,FALSE)","v":"Regional"}]
["DULBELLING",6383,"SHIRE OF","QUAIRADING","Wheatbelt",{"$f":"VLOOKUP(E474,Admin_lookup!$A$2:$B$14,2,FALSE)","v":"Regional"}]
["DULYALBIN",6425,"SHIRE OF","YILGARN","Wheatbelt",{"$f":"VLOOKUP(E475,Admin_lookup!$A$2:$B$14,2,FALSE)","v":"Regional"}]
["DUMBARTON",6566,"SHIRE OF","TOODYAY","Wheatbelt",{"$f":"VLOOKUP(E476,Admin_lookup!$A$2:$B$14,2,FALSE)","v":"Regional"}]
["DUMBERNING",6312,"SHIRE OF","NARROGIN","Wheatbelt",{"$f":"VLOOKUP(E477,Admin_lookup!$A$2:$B$14,2,FALSE)","v":"Regional"}]
["DUMBLEYUNG",6350,"SHIRE OF","DUMBLEYUNG","Wheatbelt",{"$f":"VLOOKUP(E478,Admin_lookup!$A$2:$B$14,2,FALSE)","v":"Regional"}]
["DUNCRAIG",6023,"CITY OF","JOONDALUP","Perth",{"$f":"VLOOKUP(E479,Admin_lookup!$A$2:$B$14,2,FALSE)","v":"Metro"}]
["DUNDAS",6443,"SHIRE OF","COOLGARDIE","Goldfields-Esperance",{"$f":"VLOOKUP(E480,Admin_lookup!$A$2:$B$14,2,FALSE)","v":"Regional"}]
["DUNN ROCK",6355,"SHIRE OF","LAKE GRACE","Wheatbelt",{"$f":"VLOOKUP(E481,Admin_lookup!$A$2:$B$14,2,FALSE)","v":"Regional"}]
["DUNSBOROUGH",6281,"SHIRE OF","BUSSELTON","South West",{"$f":"VLOOKUP(E482,Admin_lookup!$A$2:$B$14,2,FALSE)","v":"Regional"}]
["DURACK",6743,"SHIRE OF","HALLS CREEK","Kimberley",{"$f":"VLOOKUP(E483,Admin_lookup!$A$2:$B$14,2,FALSE)","v":"Kimberley"}]
["DURANILLIN",6393,"SHIRE OF","WEST ARTHUR","Wheatbelt",{"$f":"VLOOKUP(E484,Admin_lookup!$A$2:$B$14,2,FALSE)","v":"Regional"}]
["DURAWAH",6532,"SHIRE OF","CHAPMAN VALLEY","Mid-West",{"$f":"VLOOKUP(E485,Admin_lookup!$A$2:$B$14,2,FALSE)","v":"Regional"}]
["DWARDA",6308,"SHIRE OF","PINGELLY","Wheatbelt",{"$f":"VLOOKUP(E486,Admin_lookup!$A$2:$B$14,2,FALSE)","v":"Regional"}]
["DWELLINGUP",6213,"SHIRE OF","MURRAY","Peel",{"$f":"VLOOKUP(E487,Admin_lookup!$A$2:$B$14,2,FALSE)","v":"Regional"}]
["EAGLE BAY",6281,"SHIRE OF","BUSSELTON","South West",{"$f":"VLOOKUP(E488,Admin_lookup!$A$2:$B$14,2,FALSE)","v":"Regional"}]
["EAST AUGUSTA",6290,"SHIRE OF","AUGUSTA-MARGARET RIVER","South West",{"$f":"VLOOKUP(E489,Admin_lookup!$A$2:$B$14,2,FALSE)","v":"Regional"}]
["EAST BALLIDU",6606,"SHIRE OF","WONGAN-BALLIDU","Wheatbelt",{"$f":"VLOOKUP(E490,Admin_lookup!$A$2:$B$14,2,FALSE)","v":"Regional"}]
["EAST BEVERLEY",6304,"SHIRE OF","BEVERLEY","Wheatbelt",{"$f":"VLOOKUP(E491,Admin_lookup!$A$2:$B$14,2,FALSE)","v":"Regional"}]
["EAST BOWES",6535,"SHIRE OF","NORTHAMPTON","Mid-West",{"$f":"VLOOKUP(E492,Admin_lookup!$A$2:$B$14,2,FALSE)","v":"Regional"}]
["EAST BUNBURY",6230,"CITY OF","BUNBURY","South West",{"$f":"VLOOKUP(E493,Admin_lookup!$A$2:$B$14,2,FALSE)","v":"Regional"}]
["EAST CANNINGTON",6107,"CITY OF","CANNING","Perth",{"$f":"VLOOKUP(E494,Admin_lookup!$A$2:$B$14,2,FALSE)","v":"Metro"}]
["EAST CARNARVON",6701,"SHIRE OF","CARNARVON","Gascoyne",{"$f":"VLOOKUP(E495,Admin_lookup!$A$2:$B$14,2,FALSE)","v":"Regional"}]
["EAST CHAPMAN",6532,"SHIRE OF","CHAPMAN VALLEY","Mid-West",{"$f":"VLOOKUP(E496,Admin_lookup!$A$2:$B$14,2,FALSE)","v":"Regional"}]
["EAST DAMBORING",6608,"SHIRE OF","DALWALLINU","Wheatbelt",{"$f":"VLOOKUP(E497,Admin_lookup!$A$2:$B$14,2,FALSE)","v":"Regional"}]
["EAST FREMANTLE",6158,"TOWN OF","EAST FREMANTLE","Perth",{"$f":"VLOOKUP(E498,Admin_lookup!$A$2:$B$14,2,FALSE)","v":"Metro"}]
["EAST LYONS RIVER",6705,"SHIRE OF","UPPER GASCOYNE","Gascoyne",{"$f":"VLOOKUP(E499,Admin_lookup!$A$2:$B$14,2,FALSE)","v":"Regional"}]
["EAST MUNGLINUP",6450,"SHIRE OF","ESPERANCE","Goldfields-Esperance",{"$f":"VLOOKUP(E500,Admin_lookup!$A$2:$B$14,2,FALSE)","v":"Regional"}]
["EAST MURCHISON",6640,"SHIRE OF","CUE","Mid-West",{"$f":"VLOOKUP(E501,Admin_lookup!$A$2:$B$14,2,FALSE)","v":"Regional"}]
["EAST NABAWA",6532,"SHIRE OF","CHAPMAN VALLEY","Mid-West",{"$f":"VLOOKUP(E502,Admin_lookup!$A$2:$B$14,2,FALSE)","v":"Regional"}]
["EAST NANNUP",6275,"SHIRE OF","BUSSELTON","South West",{"$f":"VLOOKUP(E503,Admin_lookup!$A$2:$B$14,2,FALSE)","v":"Regional"}]
["EAST NEWDEGATE",6355,"SHIRE OF","LAKE GRACE","Wheatbelt",{"$f":"VLOOKUP(E504,Admin_lookup!$A$2:$B$14,2,FALSE)","v":"Regional"}]
["EAST PERTH",6004,"CITY OF","PERTH","Perth",{"$f":"VLOOKUP(E505,Admin_lookup!$A$2:$B$14,2,FALSE)","v":"Metro"}]
["EAST PERTH PO BOXES 1-827 & 6002-6892",6892,"CITY OF","PERTH","Perth",{"$f":"VLOOKUP(E506,Admin_lookup!$A$2:$B$14,2,FALSE)","v":"Metro"}]
["EAST PINGELLY",6308,"SHIRE OF","PINGELLY","Wheatbelt",{"$f":"VLOOKUP(E507,Admin_lookup!$A$2:$B$14,2,FALSE)","v":"Regional"}]
["EAST POPANYINNING",6309,"SHIRE OF","CUBALLING","Wheatbelt",{"$f":"VLOOKUP(E508,Admin_lookup!$A$2:$B$14,2,FALSE)","v":"Regional"}]
["EAST ROCKINGHAM",6168,"CITY OF","ROCKINGHAM","Perth",{"$f":"VLOOKUP(E509,Admin_lookup!$A$2:$B$14,2,FALSE)","v":"Metro"}]
["EAST VICTORIA PARK",6101,"TOWN OF","VICTORIA PARK","Perth",{"$f":"VLOOKUP(E510,Admin_lookup!$A$2:$B$14,2,FALSE)","v":"Metro"}]
["EAST VICTORIA PARK PO BOXES",6981,"CITY OF","PERTH","Perth",{"$f":"VLOOKUP(E511,Admin_lookup!$A$2:$B$14,2,FALSE)","v":"Metro"}]
["EAST WICKEPIN",6370,"SHIRE OF","WICKEPIN","Wheatbelt",{"$f":"VLOOKUP(E512,Admin_lookup!$A$2:$B$14,2,FALSE)","v":"Regional"}]
["EAST YUNA",6532,"SHIRE OF","CHAPMAN VALLEY","Mid-West",{"$f":"VLOOKUP(E513,Admin_lookup!$A$2:$B$14,2,FALSE)","v":"Regional"}]
["EASTBROOK",6260,"SHIRE OF","MANJIMUP","South West",{"$f":"VLOOKUP(E514,Admin_lookup!$A$2:$B$14,2,FALSE)","v":"Regional"}]
["EATON",6232,"SHIRE OF","DARDANUP","South West",{"$f":"VLOOKUP(E515,Admin_lookup!$A$2:$B$14,2,FALSE)","v":"Regional"}]
["EDEN HILL",6054,"CITY OF","SWAN","Perth",{"$f":"VLOOKUP(E516,Admin_lookup!$A$2:$B$14,2,FALSE)","v":"Metro"}]
["EDGEWATER",6027,"CITY OF","JOONDALUP","Perth",{"$f":"VLOOKUP(E517,Admin_lookup!$A$2:$B$14,2,FALSE)","v":"Metro"}]
["EGANU",6515,"SHIRE OF","COOROW","Mid-West",{"$f":"VLOOKUP(E518,Admin_lookup!$A$2:$B$14,2,FALSE)","v":"Regional"}]
["EGLINTON",6034,"CITY OF","WANNEROO","Perth",{"$f":"VLOOKUP(E519,Admin_lookup!$A$2:$B$14,2,FALSE)","v":"Metro"}]
["EIGHTY MILE BEACH",6725,"SHIRE OF","BROOME","Kimberley",{"$f":"VLOOKUP(E520,Admin_lookup!$A$2:$B$14,2,FALSE)","v":"Kimberley"}]
["ELABBIN",6490,"SHIRE OF","NUNGARIN","Wheatbelt",{"$f":"VLOOKUP(E521,Admin_lookup!$A$2:$B$14,2,FALSE)","v":"Regional"}]
["ELACHBUTTING",6479,"SHIRE OF","MUKINBUDIN","Wheatbelt",{"$f":"VLOOKUP(E522,Admin_lookup!$A$2:$B$14,2,FALSE)","v":"Regional"}]
["ELGIN",6237,"SHIRE OF","CAPEL","South West",{"$f":"VLOOKUP(E523,Admin_lookup!$A$2:$B$14,2,FALSE)","v":"Regional"}]
["ELLEKER",6330,"CITY OF","ALBANY","Great Southern",{"$f":"VLOOKUP(E524,Admin_lookup!$A$2:$B$14,2,FALSE)","v":"Regional"}]
["ELLENBROOK",6069,"CITY OF","SWAN","Perth",{"$f":"VLOOKUP(E525,Admin_lookup!$A$2:$B$14,2,FALSE)","v":"Metro"}]
["ELLENBROOK EAST",6069,"CITY OF","SWAN","Perth",{"$f":"VLOOKUP(E526,Admin_lookup!$A$2:$B$14,2,FALSE)","v":"Metro"}]
["ELLENDALE",6532,"SHIRE OF","CHAPMAN VALLEY","Mid-West",{"$f":"VLOOKUP(E527,Admin_lookup!$A$2:$B$14,2,FALSE)","v":"Regional"}]
["EMBLETON",6062,"CITY OF","BAYSWATER","Perth",{"$f":"VLOOKUP(E528,Admin_lookup!$A$2:$B$14,2,FALSE)","v":"Metro"}]
["EMU FLAT",6431,"SHIRE OF","NGAANYATJARRAKU","Goldfields-Esperance",{"$f":"VLOOKUP(E529,Admin_lookup!$A$2:$B$14,2,FALSE)","v":"Regional"}]
["EMU POINT",6330,"CITY OF","ALBANY","Great Southern",{"$f":"VLOOKUP(E530,Admin_lookup!$A$2:$B$14,2,FALSE)","v":"Regional"}]
["ENEABBA",6518,"SHIRE OF","COOROW","Mid-West",{"$f":"VLOOKUP(E531,Admin_lookup!$A$2:$B$14,2,FALSE)","v":"Regional"}]
["ENNUIN",6484,"SHIRE OF","YILGARN","Wheatbelt",{"$f":"VLOOKUP(E532,Admin_lookup!$A$2:$B$14,2,FALSE)","v":"Regional"}]
["ERADU",6532,"SHIRE OF","CHAPMAN VALLEY","Mid-West",{"$f":"VLOOKUP(E533,Admin_lookup!$A$2:$B$14,2,FALSE)","v":"Regional"}]
["ERADU SOUTH",6532,"SHIRE OF","CHAPMAN VALLEY","Mid-West",{"$f":"VLOOKUP(E534,Admin_lookup!$A$2:$B$14,2,FALSE)","v":"Regional"}]
["ERSKINE",6210,"CITY OF","MANDURAH","Peel",{"$f":"VLOOKUP(E535,Admin_lookup!$A$2:$B$14,2,FALSE)","v":"Regional"}]
["ESPERANCE",6450,"SHIRE OF","ESPERANCE","Goldfields-Esperance",{"$f":"VLOOKUP(E536,Admin_lookup!$A$2:$B$14,2,FALSE)","v":"Regional"}]
["ETMILYN",6213,"SHIRE OF","MURRAY","Peel",{"$f":"VLOOKUP(E537,Admin_lookup!$A$2:$B$14,2,FALSE)","v":"Regional"}]
["EUCLA",6443,"SHIRE OF","COOLGARDIE","Goldfields-Esperance",{"$f":"VLOOKUP(E538,Admin_lookup!$A$2:$B$14,2,FALSE)","v":"Regional"}]
["EURARDY",6532,"SHIRE OF","CHAPMAN VALLEY","Mid-West",{"$f":"VLOOKUP(E539,Admin_lookup!$A$2:$B$14,2,FALSE)","v":"Regional"}]
["EWLYAMARTUP",6317,"SHIRE OF","KATANNING","Great Southern",{"$f":"VLOOKUP(E540,Admin_lookup!$A$2:$B$14,2,FALSE)","v":"Regional"}]
["EXMOUTH",6707,"SHIRE OF","EXMOUTH","Gascoyne",{"$f":"VLOOKUP(E541,Admin_lookup!$A$2:$B$14,2,FALSE)","v":"Regional"}]
["EXMOUTH GULF",6707,"SHIRE OF","EXMOUTH","Gascoyne",{"$f":"VLOOKUP(E542,Admin_lookup!$A$2:$B$14,2,FALSE)","v":"Regional"}]
["FAIRBRIDGE",6208,"SHIRE OF","MURRAY","Peel",{"$f":"VLOOKUP(E543,Admin_lookup!$A$2:$B$14,2,FALSE)","v":"Regional"}]
["FALCON",6210,"CITY OF","MANDURAH","Peel",{"$f":"VLOOKUP(E544,Admin_lookup!$A$2:$B$14,2,FALSE)","v":"Regional"}]
["FERGUSON",6236,"SHIRE OF","DARDANUP","South West",{"$f":"VLOOKUP(E545,Admin_lookup!$A$2:$B$14,2,FALSE)","v":"Regional"}]
["FERNDALE",6148,"CITY OF","CANNING","Perth",{"$f":"VLOOKUP(E546,Admin_lookup!$A$2:$B$14,2,FALSE)","v":"Metro"}]
["FEYSVILLE",6431,"SHIRE OF","NGAANYATJARRAKU","Goldfields-Esperance",{"$f":"VLOOKUP(E547,Admin_lookup!$A$2:$B$14,2,FALSE)","v":"Regional"}]
["FIMISTON",6432,"CITY OF","KALGOORLIE-BOULDER","Goldfields-Esperance",{"$f":"VLOOKUP(E548,Admin_lookup!$A$2:$B$14,2,FALSE)","v":"Regional"}]
["FINUCANE",6722,"TOWN OF","PORT HEDLAND","Pilbara",{"$f":"VLOOKUP(E549,Admin_lookup!$A$2:$B$14,2,FALSE)","v":"Pilbara"}]
["FITZGERALD",6337,"SHIRE OF","JERRAMUNGUP","Great Southern",{"$f":"VLOOKUP(E550,Admin_lookup!$A$2:$B$14,2,FALSE)","v":"Regional"}]
["FITZGERALD RIVER NATIONAL PARK",6346,"SHIRE OF","RAVENSTHORPE","Goldfields-Esperance",{"$f":"VLOOKUP(E551,Admin_lookup!$A$2:$B$14,2,FALSE)","v":"Regional"}]
["FITZROY CROSSING",6765,"SHIRE OF","DERBY-WEST KIMBERLEY","Kimberley",{"$f":"VLOOKUP(E552,Admin_lookup!$A$2:$B$14,2,FALSE)","v":"Kimberley"}]
["FLINT",6302,"SHIRE OF","YORK","Wheatbelt",{"$f":"VLOOKUP(E553,Admin_lookup!$A$2:$B$14,2,FALSE)","v":"Regional"}]
["FLOREAT",6014,"TOWN OF","CAMBRIDGE","Perth",{"$f":"VLOOKUP(E554,Admin_lookup!$A$2:$B$14,2,FALSE)","v":"Metro"}]
["FLOREAT FORUM",6014,"TOWN OF","CAMBRIDGE","Perth",{"$f":"VLOOKUP(E555,Admin_lookup!$A$2:$B$14,2,FALSE)","v":"Metro"}]
["FLYNN",6302,"SHIRE OF","YORK","Wheatbelt",{"$f":"VLOOKUP(E556,Admin_lookup!$A$2:$B$14,2,FALSE)","v":"Regional"}]
["FOREST GROVE",6286,"SHIRE OF","AUGUSTA-MARGARET RIVER","South West",{"$f":"VLOOKUP(E557,Admin_lookup!$A$2:$B$14,2,FALSE)","v":"Regional"}]
["FOREST HILL",6324,"SHIRE OF","PLANTAGENET","Great Southern",{"$f":"VLOOKUP(E558,Admin_lookup!$A$2:$B$14,2,FALSE)","v":"Regional"}]
["FORREST",6434,"CITY OF","KALGOORLIE-BOULDER","Goldfields-Esperance",{"$f":"VLOOKUP(E559,Admin_lookup!$A$2:$B$14,2,FALSE)","v":"Regional"}]
["FORREST BEACH",6271,"SHIRE OF","CAPEL","South West",{"$f":"VLOOKUP(E560,Admin_lookup!$A$2:$B$14,2,FALSE)","v":"Regional"}]
["FORRESTANIA",6359,"SHIRE OF","KONDININ","Wheatbelt",{"$f":"VLOOKUP(E561,Admin_lookup!$A$2:$B$14,2,FALSE)","v":"Regional"}]
["FORRESTDALE",6112,"CITY OF","ARMADALE","Perth",{"$f":"VLOOKUP(E562,Admin_lookup!$A$2:$B$14,2,FALSE)","v":"Metro"}]
["FORRESTFIELD",6058,"SHIRE OF","KALAMUNDA","Perth",{"$f":"VLOOKUP(E563,Admin_lookup!$A$2:$B$14,2,FALSE)","v":"Metro"}]
["FORTESCUE",6716,"SHIRE OF","ASHBURTON","Pilbara",{"$f":"VLOOKUP(E564,Admin_lookup!$A$2:$B$14,2,FALSE)","v":"Pilbara"}]
["FRANCOIS PERON NATIONAL PARK",6537,"SHIRE OF","SHARK BAY","Gascoyne",{"$f":"VLOOKUP(E565,Admin_lookup!$A$2:$B$14,2,FALSE)","v":"Regional"}]
["FRANKLAND RIVER",6396,"SHIRE OF","CRANBROOK","Great Southern",{"$f":"VLOOKUP(E566,Admin_lookup!$A$2:$B$14,2,FALSE)","v":"Regional"}]
["FRASER RANGE",6443,"SHIRE OF","COOLGARDIE","Goldfields-Esperance",{"$f":"VLOOKUP(E567,Admin_lookup!$A$2:$B$14,2,FALSE)","v":"Regional"}]
["FREMANTLE",6160,"CITY OF","FREMANTLE","Perth",{"$f":"VLOOKUP(E568,Admin_lookup!$A$2:$B$14,2,FALSE)","v":"Metro"}]
["FREMANTLE PO BOXES",6959,"CITY OF","PERTH","Perth",{"$f":"VLOOKUP(E569,Admin_lookup!$A$2:$B$14,2,FALSE)","v":"Metro"}]
["FRENCHMAN BAY",6330,"CITY OF","ALBANY","Great Southern",{"$f":"VLOOKUP(E570,Admin_lookup!$A$2:$B$14,2,FALSE)","v":"Regional"}]
["FURNISSDALE",6209,"SHIRE OF","MURRAY","Peel",{"$f":"VLOOKUP(E571,Admin_lookup!$A$2:$B$14,2,FALSE)","v":"Regional"}]
["GABALONG",6574,"SHIRE OF","MOORA","Wheatbelt",{"$f":"VLOOKUP(E572,Admin_lookup!$A$2:$B$14,2,FALSE)","v":"Regional"}]
["GABBADAH",6041,"SHIRE OF","GINGIN","Wheatbelt",{"$f":"VLOOKUP(E573,Admin_lookup!$A$2:$B$14,2,FALSE)","v":"Regional"}]
["GABBIN",6476,"SHIRE OF","MOUNT MARSHALL","Wheatbelt",{"$f":"VLOOKUP(E574,Admin_lookup!$A$2:$B$14,2,FALSE)","v":"Regional"}]
["GAIRDNER",6337,"SHIRE OF","JERRAMUNGUP","Great Southern",{"$f":"VLOOKUP(E575,Admin_lookup!$A$2:$B$14,2,FALSE)","v":"Regional"}]
["GAP RIDGE",6714,"SHIRE OF","ROEBOURNE","Pilbara",{"$f":"VLOOKUP(E576,Admin_lookup!$A$2:$B$14,2,FALSE)","v":"Pilbara"}]
["GARDEN ISLAND",6168,"CITY OF","ROCKINGHAM","Perth",{"$f":"VLOOKUP(E577,Admin_lookup!$A$2:$B$14,2,FALSE)","v":"Metro"}]
["GASCOYNE JUNCTION",6705,"SHIRE OF","UPPER GASCOYNE","Gascoyne",{"$f":"VLOOKUP(E578,Admin_lookup!$A$2:$B$14,2,FALSE)","v":"Regional"}]
["GASCOYNE RIVER",6705,"SHIRE OF","UPPER GASCOYNE","Gascoyne",{"$f":"VLOOKUP(E579,Admin_lookup!$A$2:$B$14,2,FALSE)","v":"Regional"}]
["GEEGULLY CREEK",6728,"SHIRE OF","DERBY-WEST KIMBERLEY","Kimberley",{"$f":"VLOOKUP(E580,Admin_lookup!$A$2:$B$14,2,FALSE)","v":"Kimberley"}]
["GELORUP",6230,"CITY OF","BUNBURY","South West",{"$f":"VLOOKUP(E581,Admin_lookup!$A$2:$B$14,2,FALSE)","v":"Regional"}]
["GEOGRAPHE",6280,"SHIRE OF","BUSSELTON","South West",{"$f":"VLOOKUP(E582,Admin_lookup!$A$2:$B$14,2,FALSE)","v":"Regional"}]
["GEORGINA",6532,"SHIRE OF","CHAPMAN VALLEY","Mid-West",{"$f":"VLOOKUP(E583,Admin_lookup!$A$2:$B$14,2,FALSE)","v":"Regional"}]
["GERALDTON",6530,"CITY OF","GERALDTON-GREENOUGH","Mid-West",{"$f":"VLOOKUP(E584,Admin_lookup!$A$2:$B$14,2,FALSE)","v":"Regional"}]
["GERALDTON DC",6530,"CITY OF","GERALDTON-GREENOUGH","Mid-West",{"$f":"VLOOKUP(E585,Admin_lookup!$A$2:$B$14,2,FALSE)","v":"Regional"}]
["GERALDTON PO BOXES",6531,"CITY OF","GERALDTON-GREENOUGH","Mid-West",{"$f":"VLOOKUP(E586,Admin_lookup!$A$2:$B$14,2,FALSE)","v":"Regional"}]
["GHOOLI",6426,"SHIRE OF","YILGARN","Wheatbelt",{"$f":"VLOOKUP(E587,Admin_lookup!$A$2:$B$14,2,FALSE)","v":"Regional"}]
["GIBB",6743,"SHIRE OF","HALLS CREEK","Kimberley",{"$f":"VLOOKUP(E588,Admin_lookup!$A$2:$B$14,2,FALSE)","v":"Kimberley"}]
["GIBSON",6448,"SHIRE OF","ESPERANCE","Goldfields-Esperance",{"$f":"VLOOKUP(E589,Admin_lookup!$A$2:$B$14,2,FALSE)","v":"Regional"}]
["GIBSON DESERT NORTH",872,"SHIRE OF","EAST PILBARA","Pilbara",{"$f":"VLOOKUP(E590,Admin_lookup!$A$2:$B$14,2,FALSE)","v":"Pilbara"}]
["GIBSON DESERT SOUTH",872,"Shire of","NGAANYATJARRAKU","Goldfields-Esperance",{"$f":"VLOOKUP(E591,Admin_lookup!$A$2:$B$14,2,FALSE)","v":"Regional"}]
["GIDGEGANNUP",6083,"CITY OF","SWAN","Perth",{"$f":"VLOOKUP(E592,Admin_lookup!$A$2:$B$14,2,FALSE)","v":"Metro"}]
["GILGERING",6302,"SHIRE OF","YORK","Wheatbelt",{"$f":"VLOOKUP(E593,Admin_lookup!$A$2:$B$14,2,FALSE)","v":"Regional"}]
["GILLIMANNING",6308,"SHIRE OF","PINGELLY","Wheatbelt",{"$f":"VLOOKUP(E594,Admin_lookup!$A$2:$B$14,2,FALSE)","v":"Regional"}]
["GILLINGARRA",6510,"SHIRE OF","MOORA","Wheatbelt",{"$f":"VLOOKUP(E595,Admin_lookup!$A$2:$B$14,2,FALSE)","v":"Regional"}]
["GILROYD",6701,"SHIRE OF","CARNARVON","Gascoyne",{"$f":"VLOOKUP(E596,Admin_lookup!$A$2:$B$14,2,FALSE)","v":"Regional"}]
["GINGERAH",6725,"SHIRE OF","BROOME","Kimberley",{"$f":"VLOOKUP(E597,Admin_lookup!$A$2:$B$14,2,FALSE)","v":"Kimberley"}]
["GINGIN",6503,"SHIRE OF","GINGIN","Wheatbelt",{"$f":"VLOOKUP(E598,Admin_lookup!$A$2:$B$14,2,FALSE)","v":"Regional"}]
["GINGINUP",6503,"SHIRE OF","GINGIN","Wheatbelt",{"$f":"VLOOKUP(E599,Admin_lookup!$A$2:$B$14,2,FALSE)","v":"Regional"}]
["GIRRAWHEEN",6064,"CITY OF","WANNEROO","Perth",{"$f":"VLOOKUP(E600,Admin_lookup!$A$2:$B$14,2,FALSE)","v":"Metro"}]
["GLEDHOW",6330,"CITY OF","ALBANY","Great Southern",{"$f":"VLOOKUP(E601,Admin_lookup!$A$2:$B$14,2,FALSE)","v":"Regional"}]
["GLEN FORREST",6071,"SHIRE OF","MUNDARING","Perth",{"$f":"VLOOKUP(E602,Admin_lookup!$A$2:$B$14,2,FALSE)","v":"Metro"}]
["GLEN IRIS",6230,"CITY OF","BUNBURY","South West",{"$f":"VLOOKUP(E603,Admin_lookup!$A$2:$B$14,2,FALSE)","v":"Regional"}]
["GLEN MERVYN",6239,"SHIRE OF","DONNYBROOK-BALINGUP","South West",{"$f":"VLOOKUP(E604,Admin_lookup!$A$2:$B$14,2,FALSE)","v":"Regional"}]
["GLENCOE",6316,"SHIRE OF","WOODANILLING","Great Southern",{"$f":"VLOOKUP(E605,Admin_lookup!$A$2:$B$14,2,FALSE)","v":"Regional"}]
["GLENDALOUGH",6016,"TOWN OF","VINCENT","Perth",{"$f":"VLOOKUP(E606,Admin_lookup!$A$2:$B$14,2,FALSE)","v":"Metro"}]
["GLENFIELD",6532,"SHIRE OF","CHAPMAN VALLEY","Mid-West",{"$f":"VLOOKUP(E607,Admin_lookup!$A$2:$B$14,2,FALSE)","v":"Regional"}]
["GLENLYNN",6256,"SHIRE OF","BRIDGETOWN-GREENBUSHES","South West",{"$f":"VLOOKUP(E608,Admin_lookup!$A$2:$B$14,2,FALSE)","v":"Regional"}]
["GLENORAN",6258,"SHIRE OF","MANJIMUP","South West",{"$f":"VLOOKUP(E609,Admin_lookup!$A$2:$B$14,2,FALSE)","v":"Regional"}]
["GLENTROMIE",6509,"SHIRE OF","VICTORIA PLAINS","Wheatbelt",{"$f":"VLOOKUP(E610,Admin_lookup!$A$2:$B$14,2,FALSE)","v":"Regional"}]
["GNANGARA",6065,"CITY OF","WANNEROO","Perth",{"$f":"VLOOKUP(E611,Admin_lookup!$A$2:$B$14,2,FALSE)","v":"Metro"}]
["GNARABUP",6285,"SHIRE OF","AUGUSTA-MARGARET RIVER","South West",{"$f":"VLOOKUP(E612,Admin_lookup!$A$2:$B$14,2,FALSE)","v":"Regional"}]
["GNOOREA",6714,"SHIRE OF","ROEBOURNE","Pilbara",{"$f":"VLOOKUP(E613,Admin_lookup!$A$2:$B$14,2,FALSE)","v":"Pilbara"}]
["GNOWANGERUP",6335,"SHIRE OF","GNOWANGERUP","Great Southern",{"$f":"VLOOKUP(E614,Admin_lookup!$A$2:$B$14,2,FALSE)","v":"Regional"}]
["GNOWELLEN",6328,"CITY OF","ALBANY","Great Southern",{"$f":"VLOOKUP(E615,Admin_lookup!$A$2:$B$14,2,FALSE)","v":"Regional"}]
["GOLDEN BAY",6174,"CITY OF","ROCKINGHAM","Perth",{"$f":"VLOOKUP(E616,Admin_lookup!$A$2:$B$14,2,FALSE)","v":"Metro"}]
["GOODE BEACH",6330,"CITY OF","ALBANY","Great Southern",{"$f":"VLOOKUP(E617,Admin_lookup!$A$2:$B$14,2,FALSE)","v":"Regional"}]
["GOODLANDS",6468,"SHIRE OF","DALWALLINU","Wheatbelt",{"$f":"VLOOKUP(E618,Admin_lookup!$A$2:$B$14,2,FALSE)","v":"Regional"}]
["GOOMALLING",6460,"SHIRE OF","GOOMALLING","Wheatbelt",{"$f":"VLOOKUP(E619,Admin_lookup!$A$2:$B$14,2,FALSE)","v":"Regional"}]
["GOOMARIN",6415,"SHIRE OF","MERREDIN","Wheatbelt",{"$f":"VLOOKUP(E620,Admin_lookup!$A$2:$B$14,2,FALSE)","v":"Regional"}]
["GOOSEBERRY HILL",6076,"SHIRE OF","KALAMUNDA","Perth",{"$f":"VLOOKUP(E621,Admin_lookup!$A$2:$B$14,2,FALSE)","v":"Metro"}]
["GORGE ROCK",6375,"SHIRE OF","CORRIGIN","Wheatbelt",{"$f":"VLOOKUP(E622,Admin_lookup!$A$2:$B$14,2,FALSE)","v":"Regional"}]
["GORRIE",6556,"CITY OF","SWAN","Perth",{"$f":"VLOOKUP(E623,Admin_lookup!$A$2:$B$14,2,FALSE)","v":"Metro"}]
["GOSNELLS",6110,"CITY OF","GOSNELLS","Perth",{"$f":"VLOOKUP(E624,Admin_lookup!$A$2:$B$14,2,FALSE)","v":"Metro"}]
["GOSNELLS PO BOXES",6990,"CITY OF","PERTH","Perth",{"$f":"VLOOKUP(E625,Admin_lookup!$A$2:$B$14,2,FALSE)","v":"Metro"}]
["GRACETOWN",6284,"SHIRE OF","AUGUSTA-MARGARET RIVER","South West",{"$f":"VLOOKUP(E626,Admin_lookup!$A$2:$B$14,2,FALSE)","v":"Regional"}]
["GRANVILLE",6503,"SHIRE OF","GINGIN","Wheatbelt",{"$f":"VLOOKUP(E627,Admin_lookup!$A$2:$B$14,2,FALSE)","v":"Regional"}]
["GRASS PATCH",6446,"SHIRE OF","ESPERANCE","Goldfields-Esperance",{"$f":"VLOOKUP(E628,Admin_lookup!$A$2:$B$14,2,FALSE)","v":"Regional"}]
["GRASS VALLEY",6403,"SHIRE OF","NORTHAM","Wheatbelt",{"$f":"VLOOKUP(E629,Admin_lookup!$A$2:$B$14,2,FALSE)","v":"Regional"}]
["GREEN HEAD",6514,"SHIRE OF","COOROW","Mid-West",{"$f":"VLOOKUP(E630,Admin_lookup!$A$2:$B$14,2,FALSE)","v":"Regional"}]
["GREEN RANGE",6328,"CITY OF","ALBANY","Great Southern",{"$f":"VLOOKUP(E631,Admin_lookup!$A$2:$B$14,2,FALSE)","v":"Regional"}]
["GREEN VALLEY",6330,"CITY OF","ALBANY","Great Southern",{"$f":"VLOOKUP(E632,Admin_lookup!$A$2:$B$14,2,FALSE)","v":"Regional"}]
["GREENBUSHES",6254,"SHIRE OF","BRIDGETOWN-GREENBUSHES","South West",{"$f":"VLOOKUP(E633,Admin_lookup!$A$2:$B$14,2,FALSE)","v":"Regional"}]
["GREENFIELDS",6210,"CITY OF","MANDURAH","Peel",{"$f":"VLOOKUP(E634,Admin_lookup!$A$2:$B$14,2,FALSE)","v":"Regional"}]
["GREENHILLS",6302,"SHIRE OF","YORK","Wheatbelt",{"$f":"VLOOKUP(E635,Admin_lookup!$A$2:$B$14,2,FALSE)","v":"Regional"}]
["GREENMOUNT",6056,"CITY OF","SWAN","Perth",{"$f":"VLOOKUP(E636,Admin_lookup!$A$2:$B$14,2,FALSE)","v":"Metro"}]
["GREENOUGH",6532,"SHIRE OF","CHAPMAN VALLEY","Mid-West",{"$f":"VLOOKUP(E637,Admin_lookup!$A$2:$B$14,2,FALSE)","v":"Regional"}]
["GREENWOOD",6024,"CITY OF","JOONDALUP","Perth",{"$f":"VLOOKUP(E638,Admin_lookup!$A$2:$B$14,2,FALSE)","v":"Metro"}]
["GREENWOOD PO BOXES",6924,"CITY OF","PERTH","Perth",{"$f":"VLOOKUP(E639,Admin_lookup!$A$2:$B$14,2,FALSE)","v":"Metro"}]
["GREENWOODS VALLEY",6405,"SHIRE OF","CUNDERDIN","Wheatbelt",{"$f":"VLOOKUP(E640,Admin_lookup!$A$2:$B$14,2,FALSE)","v":"Regional"}]
["GREGORY",6535,"SHIRE OF","NORTHAMPTON","Mid-West",{"$f":"VLOOKUP(E641,Admin_lookup!$A$2:$B$14,2,FALSE)","v":"Regional"}]
["GREY",6521,"SHIRE OF","DANDARAGAN","Wheatbelt",{"$f":"VLOOKUP(E642,Admin_lookup!$A$2:$B$14,2,FALSE)","v":"Regional"}]
["GREYS PLAIN",6701,"SHIRE OF","CARNARVON","Gascoyne",{"$f":"VLOOKUP(E643,Admin_lookup!$A$2:$B$14,2,FALSE)","v":"Regional"}]
["GRIMWADE",6253,"SHIRE OF","DONNYBROOK-BALINGUP","South West",{"$f":"VLOOKUP(E644,Admin_lookup!$A$2:$B$14,2,FALSE)","v":"Regional"}]
["GUILDERTON",6041,"SHIRE OF","GINGIN","Wheatbelt",{"$f":"VLOOKUP(E645,Admin_lookup!$A$2:$B$14,2,FALSE)","v":"Regional"}]
["GUILDFORD",6055,"CITY OF","SWAN","Perth",{"$f":"VLOOKUP(E646,Admin_lookup!$A$2:$B$14,2,FALSE)","v":"Metro"}]
["GUILDFORD PO BOXES",6935,"CITY OF","PERTH","Perth",{"$f":"VLOOKUP(E647,Admin_lookup!$A$2:$B$14,2,FALSE)","v":"Metro"}]
["GUNDARING",6315,"SHIRE OF","WAGIN","Wheatbelt",{"$f":"VLOOKUP(E648,Admin_lookup!$A$2:$B$14,2,FALSE)","v":"Regional"}]
["GUNYIDI",6513,"SHIRE OF","COOROW","Mid-West",{"$f":"VLOOKUP(E649,Admin_lookup!$A$2:$B$14,2,FALSE)","v":"Regional"}]
["GUTHA",6623,"SHIRE OF","MORAWA","Mid-West",{"$f":"VLOOKUP(E650,Admin_lookup!$A$2:$B$14,2,FALSE)","v":"Regional"}]
["GWAMBYGINE",6302,"SHIRE OF","YORK","Wheatbelt",{"$f":"VLOOKUP(E651,Admin_lookup!$A$2:$B$14,2,FALSE)","v":"Regional"}]
["GWELUP",6018,"CITY OF","STIRLING","Perth",{"$f":"VLOOKUP(E652,Admin_lookup!$A$2:$B$14,2,FALSE)","v":"Metro"}]
["GWELUP DC",6018,"CITY OF","STIRLING","Perth",{"$f":"VLOOKUP(E653,Admin_lookup!$A$2:$B$14,2,FALSE)","v":"Metro"}]
["GWINDINUP",6237,"SHIRE OF","CAPEL","South West",{"$f":"VLOOKUP(E654,Admin_lookup!$A$2:$B$14,2,FALSE)","v":"Regional"}]
["HACKETTS GULLY",6076,"SHIRE OF","KALAMUNDA","Perth",{"$f":"VLOOKUP(E655,Admin_lookup!$A$2:$B$14,2,FALSE)","v":"Metro"}]
["HALLS CREEK",6770,"SHIRE OF","HALLS CREEK","Kimberley",{"$f":"VLOOKUP(E656,Admin_lookup!$A$2:$B$14,2,FALSE)","v":"Kimberley"}]
["HALLS HEAD",6210,"CITY OF","MANDURAH","Peel",{"$f":"VLOOKUP(E657,Admin_lookup!$A$2:$B$14,2,FALSE)","v":"Regional"}]
["HAMEL",6215,"SHIRE OF","WAROONA","Peel",{"$f":"VLOOKUP(E658,Admin_lookup!$A$2:$B$14,2,FALSE)","v":"Regional"}]
["HAMELIN BAY",6288,"SHIRE OF","AUGUSTA-MARGARET RIVER","South West",{"$f":"VLOOKUP(E659,Admin_lookup!$A$2:$B$14,2,FALSE)","v":"Regional"}]
["HAMELIN POOL",6532,"SHIRE OF","CHAPMAN VALLEY","Mid-West",{"$f":"VLOOKUP(E660,Admin_lookup!$A$2:$B$14,2,FALSE)","v":"Regional"}]
["HAMERSLEY",6022,"CITY OF","STIRLING","Perth",{"$f":"VLOOKUP(E661,Admin_lookup!$A$2:$B$14,2,FALSE)","v":"Metro"}]
["HAMERSLEY RANGE",6716,"SHIRE OF","ASHBURTON","Pilbara",{"$f":"VLOOKUP(E662,Admin_lookup!$A$2:$B$14,2,FALSE)","v":"Pilbara"}]
["HAMILTON HILL",6163,"CITY OF","COCKBURN","Perth",{"$f":"VLOOKUP(E663,Admin_lookup!$A$2:$B$14,2,FALSE)","v":"Metro"}]
["HAMILTON HILL PO BOXES",6963,"CITY OF","PERTH","Perth",{"$f":"VLOOKUP(E664,Admin_lookup!$A$2:$B$14,2,FALSE)","v":"Metro"}]
["HAMMOND PARK",6164,"CITY OF","COCKBURN","Perth",{"$f":"VLOOKUP(E665,Admin_lookup!$A$2:$B$14,2,FALSE)","v":"Metro"}]
["HANNANS",6430,"CITY OF","KALGOORLIE-BOULDER","Goldfields-Esperance",{"$f":"VLOOKUP(E666,Admin_lookup!$A$2:$B$14,2,FALSE)","v":"Regional"}]
["HANNANS PO BOXES 8001-8300",6433,"CITY OF","KALGOORLIE-BOULDER","Goldfields-Esperance",{"$f":"VLOOKUP(E667,Admin_lookup!$A$2:$B$14,2,FALSE)","v":"Regional"}]
["HARRIS RIVER",6225,"SHIRE OF","COLLIE","South West",{"$f":"VLOOKUP(E668,Admin_lookup!$A$2:$B$14,2,FALSE)","v":"Regional"}]
["HARRISDALE",6112,"CITY OF","ARMADALE","Perth",{"$f":"VLOOKUP(E669,Admin_lookup!$A$2:$B$14,2,FALSE)","v":"Metro"}]
["HARRISMITH",6361,"SHIRE OF","WICKEPIN","Wheatbelt",{"$f":"VLOOKUP(E670,Admin_lookup!$A$2:$B$14,2,FALSE)","v":"Regional"}]
["HARVEY",6220,"SHIRE OF","HARVEY","South West",{"$f":"VLOOKUP(E671,Admin_lookup!$A$2:$B$14,2,FALSE)","v":"Regional"}]
["HASTINGS",6308,"SHIRE OF","PINGELLY","Wheatbelt",{"$f":"VLOOKUP(E672,Admin_lookup!$A$2:$B$14,2,FALSE)","v":"Regional"}]
["HAY",6333,"SHIRE OF","DENMARK","Great Southern",{"$f":"VLOOKUP(E673,Admin_lookup!$A$2:$B$14,2,FALSE)","v":"Regional"}]
["HAYNES",6112,"CITY OF","ARMADALE","Perth",{"$f":"VLOOKUP(E674,Admin_lookup!$A$2:$B$14,2,FALSE)","v":"Metro"}]
["HAZELMERE",6055,"CITY OF","SWAN","Perth",{"$f":"VLOOKUP(E675,Admin_lookup!$A$2:$B$14,2,FALSE)","v":"Metro"}]
["HAZELVALE",6333,"SHIRE OF","DENMARK","Great Southern",{"$f":"VLOOKUP(E676,Admin_lookup!$A$2:$B$14,2,FALSE)","v":"Regional"}]
["HEATHRIDGE",6027,"CITY OF","JOONDALUP","Perth",{"$f":"VLOOKUP(E677,Admin_lookup!$A$2:$B$14,2,FALSE)","v":"Metro"}]
["HELENA VALLEY",6056,"CITY OF","SWAN","Perth",{"$f":"VLOOKUP(E678,Admin_lookup!$A$2:$B$14,2,FALSE)","v":"Metro"}]
["HENDERSON",6166,"CITY OF","COCKBURN","Perth",{"$f":"VLOOKUP(E679,Admin_lookup!$A$2:$B$14,2,FALSE)","v":"Metro"}]
["HENLEY BROOK",6055,"CITY OF","SWAN","Perth",{"$f":"VLOOKUP(E680,Admin_lookup!$A$2:$B$14,2,FALSE)","v":"Metro"}]
["HENTY",6236,"SHIRE OF","DARDANUP","South West",{"$f":"VLOOKUP(E681,Admin_lookup!$A$2:$B$14,2,FALSE)","v":"Regional"}]
["HERDSMAN",6017,"CITY OF","STIRLING","Perth",{"$f":"VLOOKUP(E682,Admin_lookup!$A$2:$B$14,2,FALSE)","v":"Metro"}]
["HERNE HILL",6056,"CITY OF","SWAN","Perth",{"$f":"VLOOKUP(E683,Admin_lookup!$A$2:$B$14,2,FALSE)","v":"Metro"}]
["HERRON",6211,"CITY OF","MANDURAH","Peel",{"$f":"VLOOKUP(E684,Admin_lookup!$A$2:$B$14,2,FALSE)","v":"Regional"}]
["HESTER",6255,"SHIRE OF","BRIDGETOWN-GREENBUSHES","South West",{"$f":"VLOOKUP(E685,Admin_lookup!$A$2:$B$14,2,FALSE)","v":"Regional"}]
["HESTER BROOK",6255,"SHIRE OF","BRIDGETOWN-GREENBUSHES","South West",{"$f":"VLOOKUP(E686,Admin_lookup!$A$2:$B$14,2,FALSE)","v":"Regional"}]
["HICKETY",6532,"SHIRE OF","CHAPMAN VALLEY","Mid-West",{"$f":"VLOOKUP(E687,Admin_lookup!$A$2:$B$14,2,FALSE)","v":"Regional"}]
["HIGGINSVILLE",6443,"SHIRE OF","COOLGARDIE","Goldfields-Esperance",{"$f":"VLOOKUP(E688,Admin_lookup!$A$2:$B$14,2,FALSE)","v":"Regional"}]
["HIGH WYCOMBE",6057,"SHIRE OF","KALAMUNDA","Perth",{"$f":"VLOOKUP(E689,Admin_lookup!$A$2:$B$14,2,FALSE)","v":"Metro"}]
["HIGHBURY",6313,"SHIRE OF","NARROGIN","Wheatbelt",{"$f":"VLOOKUP(E690,Admin_lookup!$A$2:$B$14,2,FALSE)","v":"Regional"}]
["HIGHGATE",6003,"CITY OF","PERTH","Perth",{"$f":"VLOOKUP(E691,Admin_lookup!$A$2:$B$14,2,FALSE)","v":"Metro"}]
["HILBERT",6112,"CITY OF","ARMADALE","Perth",{"$f":"VLOOKUP(E692,Admin_lookup!$A$2:$B$14,2,FALSE)","v":"Metro"}]
["HILL RIVER",6521,"SHIRE OF","DANDARAGAN","Wheatbelt",{"$f":"VLOOKUP(E693,Admin_lookup!$A$2:$B$14,2,FALSE)","v":"Regional"}]
["HILLARYS",6025,"CITY OF","JOONDALUP","Perth",{"$f":"VLOOKUP(E694,Admin_lookup!$A$2:$B$14,2,FALSE)","v":"Metro"}]
["HILLARYS PO BOXES",6923,"CITY OF","PERTH","Perth",{"$f":"VLOOKUP(E695,Admin_lookup!$A$2:$B$14,2,FALSE)","v":"Metro"}]
["HILLMAN",6168,"CITY OF","ROCKINGHAM","Perth",{"$f":"VLOOKUP(E696,Admin_lookup!$A$2:$B$14,2,FALSE)","v":"Metro"}]
["HILLSIDE",6312,"SHIRE OF","NARROGIN","Wheatbelt",{"$f":"VLOOKUP(E697,Admin_lookup!$A$2:$B$14,2,FALSE)","v":"Regional"}]
["HILTON",6163,"CITY OF","COCKBURN","Perth",{"$f":"VLOOKUP(E698,Admin_lookup!$A$2:$B$14,2,FALSE)","v":"Metro"}]
["HINDMARSH",6462,"SHIRE OF","DOWERIN","Wheatbelt",{"$f":"VLOOKUP(E699,Admin_lookup!$A$2:$B$14,2,FALSE)","v":"Regional"}]
["HINES HILL",6413,"SHIRE OF","MERREDIN","Wheatbelt",{"$f":"VLOOKUP(E700,Admin_lookup!$A$2:$B$14,2,FALSE)","v":"Regional"}]
["HITHERGREEN",6280,"SHIRE OF","BUSSELTON","South West",{"$f":"VLOOKUP(E701,Admin_lookup!$A$2:$B$14,2,FALSE)","v":"Regional"}]
["HOCKING",6065,"CITY OF","WANNEROO","Perth",{"$f":"VLOOKUP(E702,Admin_lookup!$A$2:$B$14,2,FALSE)","v":"Metro"}]
["HODDYS WELL",6566,"SHIRE OF","TOODYAY","Wheatbelt",{"$f":"VLOOKUP(E703,Admin_lookup!$A$2:$B$14,2,FALSE)","v":"Regional"}]
["HOFFMAN",6220,"SHIRE OF","HARVEY","South West",{"$f":"VLOOKUP(E704,Admin_lookup!$A$2:$B$14,2,FALSE)","v":"Regional"}]
["HOLLETON",6426,"SHIRE OF","YILGARN","Wheatbelt",{"$f":"VLOOKUP(E705,Admin_lookup!$A$2:$B$14,2,FALSE)","v":"Regional"}]
["HOLMWOOD",6522,"SHIRE OF","MINGENEW","Mid-West",{"$f":"VLOOKUP(E706,Admin_lookup!$A$2:$B$14,2,FALSE)","v":"Regional"}]
["HOLT ROCK",6355,"SHIRE OF","LAKE GRACE","Wheatbelt",{"$f":"VLOOKUP(E707,Admin_lookup!$A$2:$B$14,2,FALSE)","v":"Regional"}]
["HOLYOAKE",6213,"SHIRE OF","MURRAY","Peel",{"$f":"VLOOKUP(E708,Admin_lookup!$A$2:$B$14,2,FALSE)","v":"Regional"}]
["HOME ISLAND COCOS (KEELING) ISLANDS",6799,"COCOS (KEELING) ISLANDS","COCOS (KEELING) ISLANDS","Cocos (Keeling) Islands",{"$f":"VLOOKUP(E709,Admin_lookup!$A$2:$B$14,2,FALSE)","v":"Not applicable"}]
["HOPE VALLEY",6165,"TOWN OF","KWINANA","Perth",{"$f":"VLOOKUP(E710,Admin_lookup!$A$2:$B$14,2,FALSE)","v":"Metro"}]
["HOPELAND",6125,"SHIRE OF","SERPENTINE-JARRAHDALE","Peel",{"$f":"VLOOKUP(E711,Admin_lookup!$A$2:$B$14,2,FALSE)","v":"Regional"}]
["HOPETOUN",6348,"SHIRE OF","RAVENSTHORPE","Goldfields-Esperance",{"$f":"VLOOKUP(E712,Admin_lookup!$A$2:$B$14,2,FALSE)","v":"Regional"}]
["HORROCKS",6535,"SHIRE OF","NORTHAMPTON","Mid-West",{"$f":"VLOOKUP(E713,Admin_lookup!$A$2:$B$14,2,FALSE)","v":"Regional"}]
["HOUTMAN ABROLHOS ISLANDS",6530,"CITY OF","GERALDTON-GREENOUGH","Mid-West",{"$f":"VLOOKUP(E714,Admin_lookup!$A$2:$B$14,2,FALSE)","v":"Regional"}]
["HOVEA",6071,"SHIRE OF","MUNDARING","Perth",{"$f":"VLOOKUP(E715,Admin_lookup!$A$2:$B$14,2,FALSE)","v":"Metro"}]
["HOWATHARRA",6532,"SHIRE OF","CHAPMAN VALLEY","Mid-West",{"$f":"VLOOKUP(E716,Admin_lookup!$A$2:$B$14,2,FALSE)","v":"Regional"}]
["HOWICK",6450,"SHIRE OF","ESPERANCE","Goldfields-Esperance",{"$f":"VLOOKUP(E717,Admin_lookup!$A$2:$B$14,2,FALSE)","v":"Regional"}]
["HULONGINE",6460,"SHIRE OF","GOOMALLING","Wheatbelt",{"$f":"VLOOKUP(E718,Admin_lookup!$A$2:$B$14,2,FALSE)","v":"Regional"}]
["HUNTINGDALE",6110,"CITY OF","GOSNELLS","Perth",{"$f":"VLOOKUP(E719,Admin_lookup!$A$2:$B$14,2,FALSE)","v":"Metro"}]
["HYDEN",6359,"SHIRE OF","KONDININ","Wheatbelt",{"$f":"VLOOKUP(E720,Admin_lookup!$A$2:$B$14,2,FALSE)","v":"Regional"}]
["IKEWA",6522,"SHIRE OF","MINGENEW","Mid-West",{"$f":"VLOOKUP(E721,Admin_lookup!$A$2:$B$14,2,FALSE)","v":"Regional"}]
["ILUKA",6028,"CITY OF","JOONDALUP","Perth",{"$f":"VLOOKUP(E722,Admin_lookup!$A$2:$B$14,2,FALSE)","v":"Metro"}]
["INDEE",6721,"TOWN OF","PORT HEDLAND","Pilbara",{"$f":"VLOOKUP(E723,Admin_lookup!$A$2:$B$14,2,FALSE)","v":"Pilbara"}]
["INGGARDA",6701,"SHIRE OF","CARNARVON","Gascoyne",{"$f":"VLOOKUP(E724,Admin_lookup!$A$2:$B$14,2,FALSE)","v":"Regional"}]
["INGLEHOPE",6213,"SHIRE OF","MURRAY","Peel",{"$f":"VLOOKUP(E725,Admin_lookup!$A$2:$B$14,2,FALSE)","v":"Regional"}]
["INGLEWOOD",6052,"CITY OF","STIRLING","Perth",{"$f":"VLOOKUP(E726,Admin_lookup!$A$2:$B$14,2,FALSE)","v":"Metro"}]
["INGLEWOOD PO BOXES",6932,"CITY OF","PERTH","Perth",{"$f":"VLOOKUP(E727,Admin_lookup!$A$2:$B$14,2,FALSE)","v":"Metro"}]
["INKPEN",6302,"SHIRE OF","YORK","Wheatbelt",{"$f":"VLOOKUP(E728,Admin_lookup!$A$2:$B$14,2,FALSE)","v":"Regional"}]
["INNALOO",6018,"CITY OF","STIRLING","Perth",{"$f":"VLOOKUP(E729,Admin_lookup!$A$2:$B$14,2,FALSE)","v":"Metro"}]
["INNALOO PO BOXES",6918,"CITY OF","PERTH","Perth",{"$f":"VLOOKUP(E730,Admin_lookup!$A$2:$B$14,2,FALSE)","v":"Metro"}]
["INNAWANGA",6751,"SHIRE OF","ASHBURTON","Pilbara",{"$f":"VLOOKUP(E731,Admin_lookup!$A$2:$B$14,2,FALSE)","v":"Pilbara"}]
["IRISHTOWN",6401,"SHIRE OF","GOOMALLING","Wheatbelt",{"$f":"VLOOKUP(E732,Admin_lookup!$A$2:$B$14,2,FALSE)","v":"Regional"}]
["IRWIN",6525,"SHIRE OF","IRWIN","Mid-West",{"$f":"VLOOKUP(E733,Admin_lookup!$A$2:$B$14,2,FALSE)","v":"Regional"}]
["ISRAELITE BAY",6452,"SHIRE OF","ESPERANCE","Goldfields-Esperance",{"$f":"VLOOKUP(E734,Admin_lookup!$A$2:$B$14,2,FALSE)","v":"Regional"}]
["ISSEKA",6535,"SHIRE OF","NORTHAMPTON","Mid-West",{"$f":"VLOOKUP(E735,Admin_lookup!$A$2:$B$14,2,FALSE)","v":"Regional"}]
["JACKITUP",6335,"SHIRE OF","GNOWANGERUP","Great Southern",{"$f":"VLOOKUP(E736,Admin_lookup!$A$2:$B$14,2,FALSE)","v":"Regional"}]
["JACUP",6337,"SHIRE OF","JERRAMUNGUP","Great Southern",{"$f":"VLOOKUP(E737,Admin_lookup!$A$2:$B$14,2,FALSE)","v":"Regional"}]
["JALBARRAGUP",6275,"SHIRE OF","BUSSELTON","South West",{"$f":"VLOOKUP(E738,Admin_lookup!$A$2:$B$14,2,FALSE)","v":"Regional"}]
["JALORAN",6315,"SHIRE OF","WAGIN","Wheatbelt",{"$f":"VLOOKUP(E739,Admin_lookup!$A$2:$B$14,2,FALSE)","v":"Regional"}]
["JANDABUP",6065,"CITY OF","WANNEROO","Perth",{"$f":"VLOOKUP(E740,Admin_lookup!$A$2:$B$14,2,FALSE)","v":"Metro"}]
["JANDAKOT",6164,"CITY OF","COCKBURN","Perth",{"$f":"VLOOKUP(E741,Admin_lookup!$A$2:$B$14,2,FALSE)","v":"Metro"}]
["JANE BROOK",6056,"CITY OF","SWAN","Perth",{"$f":"VLOOKUP(E742,Admin_lookup!$A$2:$B$14,2,FALSE)","v":"Metro"}]
["JARDEE",6258,"SHIRE OF","MANJIMUP","South West",{"$f":"VLOOKUP(E743,Admin_lookup!$A$2:$B$14,2,FALSE)","v":"Regional"}]
["JARRAHDALE",6124,"SHIRE OF","SERPENTINE-JARRAHDALE","Peel",{"$f":"VLOOKUP(E744,Admin_lookup!$A$2:$B$14,2,FALSE)","v":"Regional"}]
["JARRAHWOOD",6275,"SHIRE OF","BUSSELTON","South West",{"$f":"VLOOKUP(E745,Admin_lookup!$A$2:$B$14,2,FALSE)","v":"Regional"}]
["JELCOBINE",6306,"SHIRE OF","BROOKTON","Wheatbelt",{"$f":"VLOOKUP(E746,Admin_lookup!$A$2:$B$14,2,FALSE)","v":"Regional"}]
["JENNACUBBINE",6401,"SHIRE OF","GOOMALLING","Wheatbelt",{"$f":"VLOOKUP(E747,Admin_lookup!$A$2:$B$14,2,FALSE)","v":"Regional"}]
["JENNAPULLIN",6401,"SHIRE OF","GOOMALLING","Wheatbelt",{"$f":"VLOOKUP(E748,Admin_lookup!$A$2:$B$14,2,FALSE)","v":"Regional"}]
["JERDACUTTUP",6346,"SHIRE OF","RAVENSTHORPE","Goldfields-Esperance",{"$f":"VLOOKUP(E749,Admin_lookup!$A$2:$B$14,2,FALSE)","v":"Regional"}]
["JERRAMUNGUP",6337,"SHIRE OF","JERRAMUNGUP","Great Southern",{"$f":"VLOOKUP(E750,Admin_lookup!$A$2:$B$14,2,FALSE)","v":"Regional"}]
["JIBBERDING",6612,"SHIRE OF","DALWALLINU","Wheatbelt",{"$f":"VLOOKUP(E751,Admin_lookup!$A$2:$B$14,2,FALSE)","v":"Regional"}]
["JILAKIN",6365,"SHIRE OF","KULIN","Wheatbelt",{"$f":"VLOOKUP(E752,Admin_lookup!$A$2:$B$14,2,FALSE)","v":"Regional"}]
["JINDALEE",6036,"CITY OF","WANNEROO","Perth",{"$f":"VLOOKUP(E753,Admin_lookup!$A$2:$B$14,2,FALSE)","v":"Metro"}]
["JINDONG",6280,"SHIRE OF","BUSSELTON","South West",{"$f":"VLOOKUP(E754,Admin_lookup!$A$2:$B$14,2,FALSE)","v":"Regional"}]
["JINGALUP",6395,"SHIRE OF","KOJONUP","Great Southern",{"$f":"VLOOKUP(E755,Admin_lookup!$A$2:$B$14,2,FALSE)","v":"Regional"}]
["JITARNING",6365,"SHIRE OF","KULIN","Wheatbelt",{"$f":"VLOOKUP(E756,Admin_lookup!$A$2:$B$14,2,FALSE)","v":"Regional"}]
["JOLIMONT",6014,"TOWN OF","CAMBRIDGE","Perth",{"$f":"VLOOKUP(E757,Admin_lookup!$A$2:$B$14,2,FALSE)","v":"Metro"}]
["JOONDALUP",6027,"CITY OF","JOONDALUP","Perth",{"$f":"VLOOKUP(E758,Admin_lookup!$A$2:$B$14,2,FALSE)","v":"Metro"}]
["JOONDALUP DC",6027,"CITY OF","JOONDALUP","Perth",{"$f":"VLOOKUP(E759,Admin_lookup!$A$2:$B$14,2,FALSE)","v":"Metro"}]
["JOONDALUP DC PO BOXES",6919,"CITY OF","PERTH","Perth",{"$f":"VLOOKUP(E760,Admin_lookup!$A$2:$B$14,2,FALSE)","v":"Metro"}]
["JOONDANNA",6060,"CITY OF","STIRLING","Perth",{"$f":"VLOOKUP(E761,Admin_lookup!$A$2:$B$14,2,FALSE)","v":"Metro"}]
["JULIMAR",6567,"SHIRE OF","TOODYAY","Wheatbelt",{"$f":"VLOOKUP(E762,Admin_lookup!$A$2:$B$14,2,FALSE)","v":"Regional"}]
["JUNA DOWNS",6751,"SHIRE OF","ASHBURTON","Pilbara",{"$f":"VLOOKUP(E763,Admin_lookup!$A$2:$B$14,2,FALSE)","v":"Pilbara"}]
["JURIEN BAY",6516,"SHIRE OF","DANDARAGAN","Wheatbelt",{"$f":"VLOOKUP(E764,Admin_lookup!$A$2:$B$14,2,FALSE)","v":"Regional"}]
["KADATHINNI",6519,"SHIRE OF","THREE SPRINGS","Mid-West",{"$f":"VLOOKUP(E765,Admin_lookup!$A$2:$B$14,2,FALSE)","v":"Regional"}]
["KALAMUNDA",6076,"SHIRE OF","KALAMUNDA","Perth",{"$f":"VLOOKUP(E766,Admin_lookup!$A$2:$B$14,2,FALSE)","v":"Metro"}]
["KALAMUNDA PO BOXES",6926,"CITY OF","PERTH","Perth",{"$f":"VLOOKUP(E767,Admin_lookup!$A$2:$B$14,2,FALSE)","v":"Metro"}]
["KALANNIE",6468,"SHIRE OF","DALWALLINU","Wheatbelt",{"$f":"VLOOKUP(E768,Admin_lookup!$A$2:$B$14,2,FALSE)","v":"Regional"}]
["KALBARRI",6536,"SHIRE OF","NORTHAMPTON","Mid-West",{"$f":"VLOOKUP(E769,Admin_lookup!$A$2:$B$14,2,FALSE)","v":"Regional"}]
["KALBARRI NATIONAL PARK",6536,"SHIRE OF","NORTHAMPTON","Mid-West",{"$f":"VLOOKUP(E770,Admin_lookup!$A$2:$B$14,2,FALSE)","v":"Regional"}]
["KALGAN",6330,"CITY OF","ALBANY","Great Southern",{"$f":"VLOOKUP(E771,Admin_lookup!$A$2:$B$14,2,FALSE)","v":"Regional"}]
["KALGOORLIE",6430,"CITY OF","KALGOORLIE-BOULDER","Goldfields-Esperance",{"$f":"VLOOKUP(E772,Admin_lookup!$A$2:$B$14,2,FALSE)","v":"Regional"}]
["KALGOORLIE PO BOXES 1-1671 & 4000-5550",6433,"CITY OF","KALGOORLIE-BOULDER","Goldfields-Esperance",{"$f":"VLOOKUP(E773,Admin_lookup!$A$2:$B$14,2,FALSE)","v":"Regional"}]
["KALGUP",6280,"SHIRE OF","BUSSELTON","South West",{"$f":"VLOOKUP(E774,Admin_lookup!$A$2:$B$14,2,FALSE)","v":"Regional"}]
["KALLAROO",6025,"CITY OF","JOONDALUP","Perth",{"$f":"VLOOKUP(E775,Admin_lookup!$A$2:$B$14,2,FALSE)","v":"Metro"}]
["KALOORUP",6280,"SHIRE OF","BUSSELTON","South West",{"$f":"VLOOKUP(E776,Admin_lookup!$A$2:$B$14,2,FALSE)","v":"Regional"}]
["KALUMBURU",6740,"SHIRE OF","WYNDHAM-EAST KIMBERLEY","Kimberley",{"$f":"VLOOKUP(E777,Admin_lookup!$A$2:$B$14,2,FALSE)","v":"Kimberley"}]
["KAMBALDA EAST",6442,"SHIRE OF","COOLGARDIE","Goldfields-Esperance",{"$f":"VLOOKUP(E778,Admin_lookup!$A$2:$B$14,2,FALSE)","v":"Regional"}]
["KAMBALDA WEST",6442,"SHIRE OF","COOLGARDIE","Goldfields-Esperance",{"$f":"VLOOKUP(E779,Admin_lookup!$A$2:$B$14,2,FALSE)","v":"Regional"}]
["KANGAROO GULLY",6255,"SHIRE OF","BRIDGETOWN-GREENBUSHES","South West",{"$f":"VLOOKUP(E780,Admin_lookup!$A$2:$B$14,2,FALSE)","v":"Regional"}]
["KANOWNA",6431,"SHIRE OF","NGAANYATJARRAKU","Goldfields-Esperance",{"$f":"VLOOKUP(E781,Admin_lookup!$A$2:$B$14,2,FALSE)","v":"Regional"}]
["KARAKIN",6044,"SHIRE OF","DANDARAGAN","Wheatbelt",{"$f":"VLOOKUP(E782,Admin_lookup!$A$2:$B$14,2,FALSE)","v":"Regional"}]
["KARAWARA",6152,"CITY OF","SOUTH PERTH","Perth",{"$f":"VLOOKUP(E783,Admin_lookup!$A$2:$B$14,2,FALSE)","v":"Metro"}]
["KARDINYA",6163,"CITY OF","COCKBURN","Perth",{"$f":"VLOOKUP(E784,Admin_lookup!$A$2:$B$14,2,FALSE)","v":"Metro"}]
["KARIJINI",6751,"SHIRE OF","ASHBURTON","Pilbara",{"$f":"VLOOKUP(E785,Admin_lookup!$A$2:$B$14,2,FALSE)","v":"Pilbara"}]
["KARLGARIN",6358,"SHIRE OF","KONDININ","Wheatbelt",{"$f":"VLOOKUP(E786,Admin_lookup!$A$2:$B$14,2,FALSE)","v":"Regional"}]
["KARLKURLA",6430,"CITY OF","KALGOORLIE-BOULDER","Goldfields-Esperance",{"$f":"VLOOKUP(E787,Admin_lookup!$A$2:$B$14,2,FALSE)","v":"Regional"}]
["KARLONING",6479,"SHIRE OF","MUKINBUDIN","Wheatbelt",{"$f":"VLOOKUP(E788,Admin_lookup!$A$2:$B$14,2,FALSE)","v":"Regional"}]
["KARLOO",6530,"CITY OF","GERALDTON-GREENOUGH","Mid-West",{"$f":"VLOOKUP(E789,Admin_lookup!$A$2:$B$14,2,FALSE)","v":"Regional"}]
["KARNUP",6176,"CITY OF","ROCKINGHAM","Perth",{"$f":"VLOOKUP(E790,Admin_lookup!$A$2:$B$14,2,FALSE)","v":"Metro"}]
["KARRAGULLEN",6111,"CITY OF","ARMADALE","Perth",{"$f":"VLOOKUP(E791,Admin_lookup!$A$2:$B$14,2,FALSE)","v":"Metro"}]
["KARRAKATTA",6010,"CITY OF","NEDLANDS","Perth",{"$f":"VLOOKUP(E792,Admin_lookup!$A$2:$B$14,2,FALSE)","v":"Metro"}]
["KARRAKUP",6122,"SHIRE OF","SERPENTINE-JARRAHDALE","Peel",{"$f":"VLOOKUP(E793,Admin_lookup!$A$2:$B$14,2,FALSE)","v":"Regional"}]
["KARRAMINDIE",6429,"SHIRE OF","COOLGARDIE","Goldfields-Esperance",{"$f":"VLOOKUP(E794,Admin_lookup!$A$2:$B$14,2,FALSE)","v":"Regional"}]
["KARRANADGIN",6460,"SHIRE OF","GOOMALLING","Wheatbelt",{"$f":"VLOOKUP(E795,Admin_lookup!$A$2:$B$14,2,FALSE)","v":"Regional"}]
["KARRATHA",6714,"SHIRE OF","ROEBOURNE","Pilbara",{"$f":"VLOOKUP(E796,Admin_lookup!$A$2:$B$14,2,FALSE)","v":"Pilbara"}]
["KARRATHA INDUSTRIAL ESTATE",6714,"SHIRE OF","ROEBOURNE","Pilbara",{"$f":"VLOOKUP(E797,Admin_lookup!$A$2:$B$14,2,FALSE)","v":"Pilbara"}]
["KARRIDALE",6288,"SHIRE OF","AUGUSTA-MARGARET RIVER","South West",{"$f":"VLOOKUP(E798,Admin_lookup!$A$2:$B$14,2,FALSE)","v":"Regional"}]
["KARRINYUP",6018,"CITY OF","STIRLING","Perth",{"$f":"VLOOKUP(E799,Admin_lookup!$A$2:$B$14,2,FALSE)","v":"Metro"}]
["KARRINYUP PO BOXES",6921,"CITY OF","PERTH","Perth",{"$f":"VLOOKUP(E800,Admin_lookup!$A$2:$B$14,2,FALSE)","v":"Metro"}]
["KARROUN HILL",6472,"SHIRE OF","MOUNT MARSHALL","Wheatbelt",{"$f":"VLOOKUP(E801,Admin_lookup!$A$2:$B$14,2,FALSE)","v":"Regional"}]
["KATANNING",6317,"SHIRE OF","KATANNING","Great Southern",{"$f":"VLOOKUP(E802,Admin_lookup!$A$2:$B$14,2,FALSE)","v":"Regional"}]
["KATRINE",6566,"SHIRE OF","TOODYAY","Wheatbelt",{"$f":"VLOOKUP(E803,Admin_lookup!$A$2:$B$14,2,FALSE)","v":"Regional"}]
["KAURING",6302,"SHIRE OF","YORK","Wheatbelt",{"$f":"VLOOKUP(E804,Admin_lookup!$A$2:$B$14,2,FALSE)","v":"Regional"}]
["KEALY",6280,"SHIRE OF","BUSSELTON","South West",{"$f":"VLOOKUP(E805,Admin_lookup!$A$2:$B$14,2,FALSE)","v":"Regional"}]
["KEBARINGUP",6335,"SHIRE OF","GNOWANGERUP","Great Southern",{"$f":"VLOOKUP(E806,Admin_lookup!$A$2:$B$14,2,FALSE)","v":"Regional"}]
["KELLERBERRIN",6410,"SHIRE OF","KELLERBERRIN","Wheatbelt",{"$f":"VLOOKUP(E807,Admin_lookup!$A$2:$B$14,2,FALSE)","v":"Regional"}]
["KELMSCOTT",6111,"CITY OF","ARMADALE","Perth",{"$f":"VLOOKUP(E808,Admin_lookup!$A$2:$B$14,2,FALSE)","v":"Metro"}]
["KELMSCOTT DC",6111,"CITY OF","ARMADALE","Perth",{"$f":"VLOOKUP(E809,Admin_lookup!$A$2:$B$14,2,FALSE)","v":"Metro"}]
["KELMSCOTT DC PO BOXES 1001-1240",6997,"CITY OF","PERTH","Perth",{"$f":"VLOOKUP(E810,Admin_lookup!$A$2:$B$14,2,FALSE)","v":"Metro"}]
["KELMSCOTT PO BOXES 1-550",6991,"CITY OF","PERTH","Perth",{"$f":"VLOOKUP(E811,Admin_lookup!$A$2:$B$14,2,FALSE)","v":"Metro"}]
["KENDENUP",6323,"SHIRE OF","PLANTAGENET","Great Southern",{"$f":"VLOOKUP(E812,Admin_lookup!$A$2:$B$14,2,FALSE)","v":"Regional"}]
["KENMARE",6316,"SHIRE OF","WOODANILLING","Great Southern",{"$f":"VLOOKUP(E813,Admin_lookup!$A$2:$B$14,2,FALSE)","v":"Regional"}]
["KENNEDY RANGE",6701,"SHIRE OF","CARNARVON","Gascoyne",{"$f":"VLOOKUP(E814,Admin_lookup!$A$2:$B$14,2,FALSE)","v":"Regional"}]
["KENSINGTON",6151,"CITY OF","SOUTH PERTH","Perth",{"$f":"VLOOKUP(E815,Admin_lookup!$A$2:$B$14,2,FALSE)","v":"Metro"}]
["KENTDALE",6333,"SHIRE OF","DENMARK","Great Southern",{"$f":"VLOOKUP(E816,Admin_lookup!$A$2:$B$14,2,FALSE)","v":"Regional"}]
["KENWICK",6107,"CITY OF","CANNING","Perth",{"$f":"VLOOKUP(E817,Admin_lookup!$A$2:$B$14,2,FALSE)","v":"Metro"}]
["KERALUP",6182,"SHIRE OF","MURRAY","Peel",{"$f":"VLOOKUP(E818,Admin_lookup!$A$2:$B$14,2,FALSE)","v":"Regional"}]
["KEWDALE",6105,"CITY OF","BELMONT","Perth",{"$f":"VLOOKUP(E819,Admin_lookup!$A$2:$B$14,2,FALSE)","v":"Metro"}]
["KEYSBROOK",6126,"SHIRE OF","SERPENTINE-JARRAHDALE","Peel",{"$f":"VLOOKUP(E820,Admin_lookup!$A$2:$B$14,2,FALSE)","v":"Regional"}]
["KIARA",6054,"CITY OF","SWAN","Perth",{"$f":"VLOOKUP(E821,Admin_lookup!$A$2:$B$14,2,FALSE)","v":"Metro"}]
["KIMBOLTON",6728,"SHIRE OF","DERBY-WEST KIMBERLEY","Kimberley",{"$f":"VLOOKUP(E822,Admin_lookup!$A$2:$B$14,2,FALSE)","v":"Kimberley"}]
["KING LEOPOLD RANGES",6728,"SHIRE OF","DERBY-WEST KIMBERLEY","Kimberley",{"$f":"VLOOKUP(E823,Admin_lookup!$A$2:$B$14,2,FALSE)","v":"Kimberley"}]
["KING RIVER",6330,"CITY OF","ALBANY","Great Southern",{"$f":"VLOOKUP(E824,Admin_lookup!$A$2:$B$14,2,FALSE)","v":"Regional"}]
["KINGS PARK",6005,"CITY OF","PERTH","Perth",{"$f":"VLOOKUP(E825,Admin_lookup!$A$2:$B$14,2,FALSE)","v":"Metro"}]
["KINGSFORD",6701,"SHIRE OF","CARNARVON","Gascoyne",{"$f":"VLOOKUP(E826,Admin_lookup!$A$2:$B$14,2,FALSE)","v":"Regional"}]
["KINGSLEY",6026,"CITY OF","JOONDALUP","Perth",{"$f":"VLOOKUP(E827,Admin_lookup!$A$2:$B$14,2,FALSE)","v":"Metro"}]
["KINGSTON",6256,"SHIRE OF","BRIDGETOWN-GREENBUSHES","South West",{"$f":"VLOOKUP(E828,Admin_lookup!$A$2:$B$14,2,FALSE)","v":"Regional"}]
["KINGSWAY",6065,"CITY OF","WANNEROO","Perth",{"$f":"VLOOKUP(E829,Admin_lookup!$A$2:$B$14,2,FALSE)","v":"Metro"}]
["KINROSS",6028,"CITY OF","JOONDALUP","Perth",{"$f":"VLOOKUP(E830,Admin_lookup!$A$2:$B$14,2,FALSE)","v":"Metro"}]
["KIRK ROCK",6370,"SHIRE OF","WICKEPIN","Wheatbelt",{"$f":"VLOOKUP(E831,Admin_lookup!$A$2:$B$14,2,FALSE)","v":"Regional"}]
["KIRUP",6251,"SHIRE OF","DONNYBROOK-BALINGUP","South West",{"$f":"VLOOKUP(E832,Admin_lookup!$A$2:$B$14,2,FALSE)","v":"Regional"}]
["KOJANEERUP SOUTH",6328,"CITY OF","ALBANY","Great Southern",{"$f":"VLOOKUP(E833,Admin_lookup!$A$2:$B$14,2,FALSE)","v":"Regional"}]
["KOJARENA",6532,"SHIRE OF","CHAPMAN VALLEY","Mid-West",{"$f":"VLOOKUP(E834,Admin_lookup!$A$2:$B$14,2,FALSE)","v":"Regional"}]
["KOJONUP",6395,"SHIRE OF","KOJONUP","Great Southern",{"$f":"VLOOKUP(E835,Admin_lookup!$A$2:$B$14,2,FALSE)","v":"Regional"}]
["KOKEBY",6304,"SHIRE OF","BEVERLEY","Wheatbelt",{"$f":"VLOOKUP(E836,Admin_lookup!$A$2:$B$14,2,FALSE)","v":"Regional"}]
["KONDININ",6367,"SHIRE OF","KONDININ","Wheatbelt",{"$f":"VLOOKUP(E837,Admin_lookup!$A$2:$B$14,2,FALSE)","v":"Regional"}]
["KONDUT",6605,"SHIRE OF","WONGAN-BALLIDU","Wheatbelt",{"$f":"VLOOKUP(E838,Admin_lookup!$A$2:$B$14,2,FALSE)","v":"Regional"}]
["KONNONGORRING",6603,"SHIRE OF","WONGAN-BALLIDU","Wheatbelt",{"$f":"VLOOKUP(E839,Admin_lookup!$A$2:$B$14,2,FALSE)","v":"Regional"}]
["KOOJAN",6510,"SHIRE OF","MOORA","Wheatbelt",{"$f":"VLOOKUP(E840,Admin_lookup!$A$2:$B$14,2,FALSE)","v":"Regional"}]
["KOOKYNIE",6431,"SHIRE OF","NGAANYATJARRAKU","Goldfields-Esperance",{"$f":"VLOOKUP(E841,Admin_lookup!$A$2:$B$14,2,FALSE)","v":"Regional"}]
["KOOLAN ISLAND",6733,"SHIRE OF","DERBY-WEST KIMBERLEY","Kimberley",{"$f":"VLOOKUP(E842,Admin_lookup!$A$2:$B$14,2,FALSE)","v":"Kimberley"}]
["KOOLANOOKA",6623,"SHIRE OF","MORAWA","Mid-West",{"$f":"VLOOKUP(E843,Admin_lookup!$A$2:$B$14,2,FALSE)","v":"Regional"}]
["KOOLYANOBBING",6427,"SHIRE OF","YILGARN","Wheatbelt",{"$f":"VLOOKUP(E844,Admin_lookup!$A$2:$B$14,2,FALSE)","v":"Regional"}]
["KOOMBERKINE",6461,"SHIRE OF","DOWERIN","Wheatbelt",{"$f":"VLOOKUP(E845,Admin_lookup!$A$2:$B$14,2,FALSE)","v":"Regional"}]
["KOONDOOLA",6064,"CITY OF","WANNEROO","Perth",{"$f":"VLOOKUP(E846,Admin_lookup!$A$2:$B$14,2,FALSE)","v":"Metro"}]
["KOONGAMIA",6056,"CITY OF","SWAN","Perth",{"$f":"VLOOKUP(E847,Admin_lookup!$A$2:$B$14,2,FALSE)","v":"Metro"}]
["KOORDA",6475,"SHIRE OF","KOORDA","Wheatbelt",{"$f":"VLOOKUP(E848,Admin_lookup!$A$2:$B$14,2,FALSE)","v":"Regional"}]
["KORBEL",6415,"SHIRE OF","MERREDIN","Wheatbelt",{"$f":"VLOOKUP(E849,Admin_lookup!$A$2:$B$14,2,FALSE)","v":"Regional"}]
["KORDABUP",6333,"SHIRE OF","DENMARK","Great Southern",{"$f":"VLOOKUP(E850,Admin_lookup!$A$2:$B$14,2,FALSE)","v":"Regional"}]
["KORRELOCKING",6485,"SHIRE OF","WYALKATCHEM","Wheatbelt",{"$f":"VLOOKUP(E851,Admin_lookup!$A$2:$B$14,2,FALSE)","v":"Regional"}]
["KRONKUP",6330,"CITY OF","ALBANY","Great Southern",{"$f":"VLOOKUP(E852,Admin_lookup!$A$2:$B$14,2,FALSE)","v":"Regional"}]
["KUDARDUP",6290,"SHIRE OF","AUGUSTA-MARGARET RIVER","South West",{"$f":"VLOOKUP(E853,Admin_lookup!$A$2:$B$14,2,FALSE)","v":"Regional"}]
["KUENDER",6353,"SHIRE OF","DUMBLEYUNG","Wheatbelt",{"$f":"VLOOKUP(E854,Admin_lookup!$A$2:$B$14,2,FALSE)","v":"Regional"}]
["KUKERIN",6352,"SHIRE OF","DUMBLEYUNG","Wheatbelt",{"$f":"VLOOKUP(E855,Admin_lookup!$A$2:$B$14,2,FALSE)","v":"Regional"}]
["KULIKUP",6244,"SHIRE OF","Boyup Brook","South West",{"$f":"VLOOKUP(E856,Admin_lookup!$A$2:$B$14,2,FALSE)","v":"Regional"}]
["KULIN",6365,"SHIRE OF","KULIN","Wheatbelt",{"$f":"VLOOKUP(E857,Admin_lookup!$A$2:$B$14,2,FALSE)","v":"Regional"}]
["KULIN WEST",6365,"SHIRE OF","KULIN","Wheatbelt",{"$f":"VLOOKUP(E858,Admin_lookup!$A$2:$B$14,2,FALSE)","v":"Regional"}]
["KULJA",6470,"SHIRE OF","KOORDA","Wheatbelt",{"$f":"VLOOKUP(E859,Admin_lookup!$A$2:$B$14,2,FALSE)","v":"Regional"}]
["KUMARINA",6642,"SHIRE OF","MEEKATHARRA","Mid-West",{"$f":"VLOOKUP(E860,Admin_lookup!$A$2:$B$14,2,FALSE)","v":"Regional"}]
["KUNJIN",6375,"SHIRE OF","CORRIGIN","Wheatbelt",{"$f":"VLOOKUP(E861,Admin_lookup!$A$2:$B$14,2,FALSE)","v":"Regional"}]
["KUNUNOPPIN",6489,"SHIRE OF","TRAYNING","Wheatbelt",{"$f":"VLOOKUP(E862,Admin_lookup!$A$2:$B$14,2,FALSE)","v":"Regional"}]
["KUNUNURRA",6743,"SHIRE OF","HALLS CREEK","Kimberley",{"$f":"VLOOKUP(E863,Admin_lookup!$A$2:$B$14,2,FALSE)","v":"Kimberley"}]
["KURNALPI",6431,"SHIRE OF","NGAANYATJARRAKU","Goldfields-Esperance",{"$f":"VLOOKUP(E864,Admin_lookup!$A$2:$B$14,2,FALSE)","v":"Regional"}]
["KURRENKUTTEN",6375,"SHIRE OF","CORRIGIN","Wheatbelt",{"$f":"VLOOKUP(E865,Admin_lookup!$A$2:$B$14,2,FALSE)","v":"Regional"}]
["KWEDA",6306,"SHIRE OF","BROOKTON","Wheatbelt",{"$f":"VLOOKUP(E866,Admin_lookup!$A$2:$B$14,2,FALSE)","v":"Regional"}]
["KWELKAN",6490,"SHIRE OF","NUNGARIN","Wheatbelt",{"$f":"VLOOKUP(E867,Admin_lookup!$A$2:$B$14,2,FALSE)","v":"Regional"}]
["KWINANA",6966,"CITY OF","PERTH","Perth",{"$f":"VLOOKUP(E868,Admin_lookup!$A$2:$B$14,2,FALSE)","v":"Metro"}]
["KWINANA BEACH",6167,"TOWN OF","KWINANA","Perth",{"$f":"VLOOKUP(E869,Admin_lookup!$A$2:$B$14,2,FALSE)","v":"Metro"}]
["KWINANA TOWN CENTRE",6167,"TOWN OF","KWINANA","Perth",{"$f":"VLOOKUP(E870,Admin_lookup!$A$2:$B$14,2,FALSE)","v":"Metro"}]
["KWOLYIN",6385,"SHIRE OF","BRUCE ROCK","Wheatbelt",{"$f":"VLOOKUP(E871,Admin_lookup!$A$2:$B$14,2,FALSE)","v":"Regional"}]
["LAGRANGE",6725,"SHIRE OF","BROOME","Kimberley",{"$f":"VLOOKUP(E872,Admin_lookup!$A$2:$B$14,2,FALSE)","v":"Kimberley"}]
["LAKE ARGYLE",6743,"SHIRE OF","HALLS CREEK","Kimberley",{"$f":"VLOOKUP(E873,Admin_lookup!$A$2:$B$14,2,FALSE)","v":"Kimberley"}]
["LAKE AUSTIN",6640,"SHIRE OF","CUE","Mid-West",{"$f":"VLOOKUP(E874,Admin_lookup!$A$2:$B$14,2,FALSE)","v":"Regional"}]
["LAKE BIDDY",6355,"SHIRE OF","LAKE GRACE","Wheatbelt",{"$f":"VLOOKUP(E875,Admin_lookup!$A$2:$B$14,2,FALSE)","v":"Regional"}]
["LAKE BROWN",6479,"SHIRE OF","MUKINBUDIN","Wheatbelt",{"$f":"VLOOKUP(E876,Admin_lookup!$A$2:$B$14,2,FALSE)","v":"Regional"}]
["LAKE CAMM",6355,"SHIRE OF","LAKE GRACE","Wheatbelt",{"$f":"VLOOKUP(E877,Admin_lookup!$A$2:$B$14,2,FALSE)","v":"Regional"}]
["LAKE CARNEGIE",6646,"SHIRE OF","WILUNA","Mid-West",{"$f":"VLOOKUP(E878,Admin_lookup!$A$2:$B$14,2,FALSE)","v":"Regional"}]
["LAKE CLIFTON",6215,"SHIRE OF","WAROONA","Peel",{"$f":"VLOOKUP(E879,Admin_lookup!$A$2:$B$14,2,FALSE)","v":"Regional"}]
["LAKE DARLOT",6438,"SHIRE OF","LEONORA","Goldfields-Esperance",{"$f":"VLOOKUP(E880,Admin_lookup!$A$2:$B$14,2,FALSE)","v":"Regional"}]
["LAKE DEBORAH",6484,"SHIRE OF","YILGARN","Wheatbelt",{"$f":"VLOOKUP(E881,Admin_lookup!$A$2:$B$14,2,FALSE)","v":"Regional"}]
["LAKE GRACE",6353,"SHIRE OF","DUMBLEYUNG","Wheatbelt",{"$f":"VLOOKUP(E882,Admin_lookup!$A$2:$B$14,2,FALSE)","v":"Regional"}]
["LAKE HINDS",6603,"SHIRE OF","WONGAN-BALLIDU","Wheatbelt",{"$f":"VLOOKUP(E883,Admin_lookup!$A$2:$B$14,2,FALSE)","v":"Regional"}]
["LAKE JASPER",6260,"SHIRE OF","MANJIMUP","South West",{"$f":"VLOOKUP(E884,Admin_lookup!$A$2:$B$14,2,FALSE)","v":"Regional"}]
["LAKE KING",6356,"SHIRE OF","LAKE GRACE","Wheatbelt",{"$f":"VLOOKUP(E885,Admin_lookup!$A$2:$B$14,2,FALSE)","v":"Regional"}]
["LAKE MARGARETTE",6475,"SHIRE OF","KOORDA","Wheatbelt",{"$f":"VLOOKUP(E886,Admin_lookup!$A$2:$B$14,2,FALSE)","v":"Regional"}]
["LAKE MUIR",6258,"SHIRE OF","MANJIMUP","South West",{"$f":"VLOOKUP(E887,Admin_lookup!$A$2:$B$14,2,FALSE)","v":"Regional"}]
["LAKE NINAN",6603,"SHIRE OF","WONGAN-BALLIDU","Wheatbelt",{"$f":"VLOOKUP(E888,Admin_lookup!$A$2:$B$14,2,FALSE)","v":"Regional"}]
["LAKE TOOLBRUNUP",6320,"SHIRE OF","BROOMEHILL-TAMBELLUP","Great Southern",{"$f":"VLOOKUP(E889,Admin_lookup!$A$2:$B$14,2,FALSE)","v":"Regional"}]
["LAKE WELLS",6440,"SHIRE OF","LAVERTON","Goldfields-Esperance",{"$f":"VLOOKUP(E890,Admin_lookup!$A$2:$B$14,2,FALSE)","v":"Regional"}]
["LAKELANDS",6180,"CITY OF","MANDURAH","Peel",{"$f":"VLOOKUP(E891,Admin_lookup!$A$2:$B$14,2,FALSE)","v":"Regional"}]
["LAKEWOOD",6431,"SHIRE OF","NGAANYATJARRAKU","Goldfields-Esperance",{"$f":"VLOOKUP(E892,Admin_lookup!$A$2:$B$14,2,FALSE)","v":"Regional"}]
["LAMINGTON",6430,"CITY OF","KALGOORLIE-BOULDER","Goldfields-Esperance",{"$f":"VLOOKUP(E893,Admin_lookup!$A$2:$B$14,2,FALSE)","v":"Regional"}]
["LANCELIN",6044,"SHIRE OF","DANDARAGAN","Wheatbelt",{"$f":"VLOOKUP(E894,Admin_lookup!$A$2:$B$14,2,FALSE)","v":"Regional"}]
["LANDSDALE",6065,"CITY OF","WANNEROO","Perth",{"$f":"VLOOKUP(E895,Admin_lookup!$A$2:$B$14,2,FALSE)","v":"Metro"}]
["LANGE",6330,"CITY OF","ALBANY","Great Southern",{"$f":"VLOOKUP(E896,Admin_lookup!$A$2:$B$14,2,FALSE)","v":"Regional"}]
["LANGFORD",6147,"CITY OF","CANNING","Perth",{"$f":"VLOOKUP(E897,Admin_lookup!$A$2:$B$14,2,FALSE)","v":"Metro"}]
["LATHAM",6616,"SHIRE OF","PERENJORI","Mid-West",{"$f":"VLOOKUP(E898,Admin_lookup!$A$2:$B$14,2,FALSE)","v":"Regional"}]
["LATHLAIN",6100,"TOWN OF","VICTORIA PARK","Perth",{"$f":"VLOOKUP(E899,Admin_lookup!$A$2:$B$14,2,FALSE)","v":"Metro"}]
["LAVERTON",6440,"SHIRE OF","LAVERTON","Goldfields-Esperance",{"$f":"VLOOKUP(E900,Admin_lookup!$A$2:$B$14,2,FALSE)","v":"Regional"}]
["LEARMONTH",6707,"SHIRE OF","EXMOUTH","Gascoyne",{"$f":"VLOOKUP(E901,Admin_lookup!$A$2:$B$14,2,FALSE)","v":"Regional"}]
["LEDA",6170,"TOWN OF","KWINANA","Perth",{"$f":"VLOOKUP(E902,Admin_lookup!$A$2:$B$14,2,FALSE)","v":"Metro"}]
["LEDGE POINT",6043,"SHIRE OF","GINGIN","Wheatbelt",{"$f":"VLOOKUP(E903,Admin_lookup!$A$2:$B$14,2,FALSE)","v":"Regional"}]
["LEEDERVILLE",6007,"TOWN OF","CAMBRIDGE","Perth",{"$f":"VLOOKUP(E904,Admin_lookup!$A$2:$B$14,2,FALSE)","v":"Metro"}]
["LEEDERVILLE PO BOXES 1-125",6902,"CITY OF","PERTH","Perth",{"$f":"VLOOKUP(E905,Admin_lookup!$A$2:$B$14,2,FALSE)","v":"Metro"}]
["LEEDERVILLE PO BOXES 126-575",6903,"CITY OF","PERTH","Perth",{"$f":"VLOOKUP(E906,Admin_lookup!$A$2:$B$14,2,FALSE)","v":"Metro"}]
["LEEDERVILLE WATER AUTHORITY OF WA",6900,"CITY OF","PERTH","Perth",{"$f":"VLOOKUP(E907,Admin_lookup!$A$2:$B$14,2,FALSE)","v":"Metro"}]
["LEEMAN",6514,"SHIRE OF","COOROW","Mid-West",{"$f":"VLOOKUP(E908,Admin_lookup!$A$2:$B$14,2,FALSE)","v":"Regional"}]
["LEEMING",6149,"CITY OF","MELVILLE","Perth",{"$f":"VLOOKUP(E909,Admin_lookup!$A$2:$B$14,2,FALSE)","v":"Metro"}]
["LEEUWIN",6290,"SHIRE OF","AUGUSTA-MARGARET RIVER","South West",{"$f":"VLOOKUP(E910,Admin_lookup!$A$2:$B$14,2,FALSE)","v":"Regional"}]
["LEINSTER",6437,"SHIRE OF","LEONORA","Goldfields-Esperance",{"$f":"VLOOKUP(E911,Admin_lookup!$A$2:$B$14,2,FALSE)","v":"Regional"}]
["LENNARD BROOK",6503,"SHIRE OF","GINGIN","Wheatbelt",{"$f":"VLOOKUP(E912,Admin_lookup!$A$2:$B$14,2,FALSE)","v":"Regional"}]
["LEONORA",6438,"SHIRE OF","LEONORA","Goldfields-Esperance",{"$f":"VLOOKUP(E913,Admin_lookup!$A$2:$B$14,2,FALSE)","v":"Regional"}]
["LESCHENAULT",6233,"SHIRE OF","HARVEY","South West",{"$f":"VLOOKUP(E914,Admin_lookup!$A$2:$B$14,2,FALSE)","v":"Regional"}]
["LESLEY",6111,"CITY OF","ARMADALE","Perth",{"$f":"VLOOKUP(E915,Admin_lookup!$A$2:$B$14,2,FALSE)","v":"Metro"}]
["LESMURDIE",6076,"SHIRE OF","KALAMUNDA","Perth",{"$f":"VLOOKUP(E916,Admin_lookup!$A$2:$B$14,2,FALSE)","v":"Metro"}]
["LEXIA",6065,"CITY OF","WANNEROO","Perth",{"$f":"VLOOKUP(E917,Admin_lookup!$A$2:$B$14,2,FALSE)","v":"Metro"}]
["LIME LAKE",6315,"SHIRE OF","WAGIN","Wheatbelt",{"$f":"VLOOKUP(E918,Admin_lookup!$A$2:$B$14,2,FALSE)","v":"Regional"}]
["LINFARNE",6258,"SHIRE OF","MANJIMUP","South West",{"$f":"VLOOKUP(E919,Admin_lookup!$A$2:$B$14,2,FALSE)","v":"Regional"}]
["LITTLE GROVE",6330,"CITY OF","ALBANY","Great Southern",{"$f":"VLOOKUP(E920,Admin_lookup!$A$2:$B$14,2,FALSE)","v":"Regional"}]
["LITTLE ITALY",6355,"SHIRE OF","LAKE GRACE","Wheatbelt",{"$f":"VLOOKUP(E921,Admin_lookup!$A$2:$B$14,2,FALSE)","v":"Regional"}]
["LITTLE SANDY DESERT",6646,"SHIRE OF","WILUNA","Mid-West",{"$f":"VLOOKUP(E922,Admin_lookup!$A$2:$B$14,2,FALSE)","v":"Regional"}]
["LOCKIER",6522,"SHIRE OF","MINGENEW","Mid-West",{"$f":"VLOOKUP(E923,Admin_lookup!$A$2:$B$14,2,FALSE)","v":"Regional"}]
["LOCKRIDGE",6054,"CITY OF","SWAN","Perth",{"$f":"VLOOKUP(E924,Admin_lookup!$A$2:$B$14,2,FALSE)","v":"Metro"}]
["LOCKYER",6330,"CITY OF","ALBANY","Great Southern",{"$f":"VLOOKUP(E925,Admin_lookup!$A$2:$B$14,2,FALSE)","v":"Regional"}]
["LOL GRAY",6311,"SHIRE OF","CUBALLING","Wheatbelt",{"$f":"VLOOKUP(E926,Admin_lookup!$A$2:$B$14,2,FALSE)","v":"Regional"}]
["LONDONDERRY",6429,"SHIRE OF","COOLGARDIE","Goldfields-Esperance",{"$f":"VLOOKUP(E927,Admin_lookup!$A$2:$B$14,2,FALSE)","v":"Regional"}]
["LORT RIVER",6447,"SHIRE OF","ESPERANCE","Goldfields-Esperance",{"$f":"VLOOKUP(E928,Admin_lookup!$A$2:$B$14,2,FALSE)","v":"Regional"}]
["LOWDEN",6240,"SHIRE OF","DONNYBROOK-BALINGUP","South West",{"$f":"VLOOKUP(E929,Admin_lookup!$A$2:$B$14,2,FALSE)","v":"Regional"}]
["LOWER CHITTERING",6084,"CITY OF","SWAN","Perth",{"$f":"VLOOKUP(E930,Admin_lookup!$A$2:$B$14,2,FALSE)","v":"Metro"}]
["LOWER HOTHAM",6390,"SHIRE OF","BODDINGTON","Peel",{"$f":"VLOOKUP(E931,Admin_lookup!$A$2:$B$14,2,FALSE)","v":"Regional"}]
["LOWER KING",6330,"CITY OF","ALBANY","Great Southern",{"$f":"VLOOKUP(E932,Admin_lookup!$A$2:$B$14,2,FALSE)","v":"Regional"}]
["LOWLANDS",6330,"CITY OF","ALBANY","Great Southern",{"$f":"VLOOKUP(E933,Admin_lookup!$A$2:$B$14,2,FALSE)","v":"Regional"}]
["LUDLOW",6280,"SHIRE OF","BUSSELTON","South West",{"$f":"VLOOKUP(E934,Admin_lookup!$A$2:$B$14,2,FALSE)","v":"Regional"}]
["LUMEAH",6395,"SHIRE OF","KOJONUP","Great Southern",{"$f":"VLOOKUP(E935,Admin_lookup!$A$2:$B$14,2,FALSE)","v":"Regional"}]
["LYALLS MILL",6225,"SHIRE OF","COLLIE","South West",{"$f":"VLOOKUP(E936,Admin_lookup!$A$2:$B$14,2,FALSE)","v":"Regional"}]
["LYNDON",6701,"SHIRE OF","CARNARVON","Gascoyne",{"$f":"VLOOKUP(E937,Admin_lookup!$A$2:$B$14,2,FALSE)","v":"Regional"}]
["LYNWOOD",6147,"CITY OF","CANNING","Perth",{"$f":"VLOOKUP(E938,Admin_lookup!$A$2:$B$14,2,FALSE)","v":"Metro"}]
["MACLEOD",6701,"SHIRE OF","CARNARVON","Gascoyne",{"$f":"VLOOKUP(E939,Admin_lookup!$A$2:$B$14,2,FALSE)","v":"Regional"}]
["MADDINGTON",6109,"CITY OF","GOSNELLS","Perth",{"$f":"VLOOKUP(E940,Admin_lookup!$A$2:$B$14,2,FALSE)","v":"Metro"}]
["MADDINGTON PO BOXES",6989,"CITY OF","PERTH","Perth",{"$f":"VLOOKUP(E941,Admin_lookup!$A$2:$B$14,2,FALSE)","v":"Metro"}]
["MADELEY",6065,"CITY OF","WANNEROO","Perth",{"$f":"VLOOKUP(E942,Admin_lookup!$A$2:$B$14,2,FALSE)","v":"Metro"}]
["MADORA BAY",6210,"CITY OF","MANDURAH","Peel",{"$f":"VLOOKUP(E943,Admin_lookup!$A$2:$B$14,2,FALSE)","v":"Regional"}]
["MADURA",6443,"SHIRE OF","COOLGARDIE","Goldfields-Esperance",{"$f":"VLOOKUP(E944,Admin_lookup!$A$2:$B$14,2,FALSE)","v":"Regional"}]
["MAGENTA",6355,"SHIRE OF","LAKE GRACE","Wheatbelt",{"$f":"VLOOKUP(E945,Admin_lookup!$A$2:$B$14,2,FALSE)","v":"Regional"}]
["MAGITUP",6338,"SHIRE OF","GNOWANGERUP","Great Southern",{"$f":"VLOOKUP(E946,Admin_lookup!$A$2:$B$14,2,FALSE)","v":"Regional"}]
["MAHOGANY CREEK",6072,"SHIRE OF","MUNDARING","Perth",{"$f":"VLOOKUP(E947,Admin_lookup!$A$2:$B$14,2,FALSE)","v":"Metro"}]
["MAHOMETS FLATS",6530,"CITY OF","GERALDTON-GREENOUGH","Mid-West",{"$f":"VLOOKUP(E948,Admin_lookup!$A$2:$B$14,2,FALSE)","v":"Regional"}]
["MAIDA VALE",6057,"SHIRE OF","KALAMUNDA","Perth",{"$f":"VLOOKUP(E949,Admin_lookup!$A$2:$B$14,2,FALSE)","v":"Metro"}]
["MAITLAND",6714,"SHIRE OF","ROEBOURNE","Pilbara",{"$f":"VLOOKUP(E950,Admin_lookup!$A$2:$B$14,2,FALSE)","v":"Pilbara"}]
["MALABAINE",6401,"SHIRE OF","GOOMALLING","Wheatbelt",{"$f":"VLOOKUP(E951,Admin_lookup!$A$2:$B$14,2,FALSE)","v":"Regional"}]
["MALAGA",6090,"CITY OF","SWAN","Perth",{"$f":"VLOOKUP(E952,Admin_lookup!$A$2:$B$14,2,FALSE)","v":"Metro"}]
["MALAGA DC",6945,"CITY OF","PERTH","Perth",{"$f":"VLOOKUP(E953,Admin_lookup!$A$2:$B$14,2,FALSE)","v":"Metro"}]
["MALAGA PO BOXES",6944,"CITY OF","PERTH","Perth",{"$f":"VLOOKUP(E954,Admin_lookup!$A$2:$B$14,2,FALSE)","v":"Metro"}]
["MALEBELLING",6302,"SHIRE OF","YORK","Wheatbelt",{"$f":"VLOOKUP(E955,Admin_lookup!$A$2:$B$14,2,FALSE)","v":"Regional"}]
["MALLEE HILL",6353,"SHIRE OF","DUMBLEYUNG","Wheatbelt",{"$f":"VLOOKUP(E956,Admin_lookup!$A$2:$B$14,2,FALSE)","v":"Regional"}]
["MALMALLING",6556,"CITY OF","SWAN","Perth",{"$f":"VLOOKUP(E957,Admin_lookup!$A$2:$B$14,2,FALSE)","v":"Metro"}]
["MALYALLING",6370,"SHIRE OF","WICKEPIN","Wheatbelt",{"$f":"VLOOKUP(E958,Admin_lookup!$A$2:$B$14,2,FALSE)","v":"Regional"}]
["MANDOGALUP",6167,"TOWN OF","KWINANA","Perth",{"$f":"VLOOKUP(E959,Admin_lookup!$A$2:$B$14,2,FALSE)","v":"Metro"}]
["MANDURAH",6210,"CITY OF","MANDURAH","Peel",{"$f":"VLOOKUP(E960,Admin_lookup!$A$2:$B$14,2,FALSE)","v":"Regional"}]
["MANDURAH DC",6210,"CITY OF","MANDURAH","Peel",{"$f":"VLOOKUP(E961,Admin_lookup!$A$2:$B$14,2,FALSE)","v":"Regional"}]
["MANDURAH EAST",6210,"CITY OF","MANDURAH","Peel",{"$f":"VLOOKUP(E962,Admin_lookup!$A$2:$B$14,2,FALSE)","v":"Regional"}]
["MANDURAH NORTH",6210,"CITY OF","MANDURAH","Peel",{"$f":"VLOOKUP(E963,Admin_lookup!$A$2:$B$14,2,FALSE)","v":"Regional"}]
["MANJIMUP",6258,"SHIRE OF","MANJIMUP","South West",{"$f":"VLOOKUP(E964,Admin_lookup!$A$2:$B$14,2,FALSE)","v":"Regional"}]
["MANMANNING",6465,"SHIRE OF","DOWERIN","Wheatbelt",{"$f":"VLOOKUP(E965,Admin_lookup!$A$2:$B$14,2,FALSE)","v":"Regional"}]
["MANNING",6152,"CITY OF","SOUTH PERTH","Perth",{"$f":"VLOOKUP(E966,Admin_lookup!$A$2:$B$14,2,FALSE)","v":"Metro"}]
["MANYPEAKS",6328,"CITY OF","ALBANY","Great Southern",{"$f":"VLOOKUP(E967,Admin_lookup!$A$2:$B$14,2,FALSE)","v":"Regional"}]
["MARANGAROO",6064,"CITY OF","WANNEROO","Perth",{"$f":"VLOOKUP(E968,Admin_lookup!$A$2:$B$14,2,FALSE)","v":"Metro"}]
["MARANUP",6256,"SHIRE OF","BRIDGETOWN-GREENBUSHES","South West",{"$f":"VLOOKUP(E969,Admin_lookup!$A$2:$B$14,2,FALSE)","v":"Regional"}]
["MARBELUP",6330,"CITY OF","ALBANY","Great Southern",{"$f":"VLOOKUP(E970,Admin_lookup!$A$2:$B$14,2,FALSE)","v":"Regional"}]
["MARBLE BAR",6760,"SHIRE OF","EAST PILBARA","Pilbara",{"$f":"VLOOKUP(E971,Admin_lookup!$A$2:$B$14,2,FALSE)","v":"Pilbara"}]
["MARCHAGEE",6515,"SHIRE OF","COOROW","Mid-West",{"$f":"VLOOKUP(E972,Admin_lookup!$A$2:$B$14,2,FALSE)","v":"Regional"}]
["MARDELLA",6125,"SHIRE OF","SERPENTINE-JARRAHDALE","Peel",{"$f":"VLOOKUP(E973,Admin_lookup!$A$2:$B$14,2,FALSE)","v":"Regional"}]
["MARDIE",6714,"SHIRE OF","ROEBOURNE","Pilbara",{"$f":"VLOOKUP(E974,Admin_lookup!$A$2:$B$14,2,FALSE)","v":"Pilbara"}]
["MARGARET RIVER",6285,"SHIRE OF","AUGUSTA-MARGARET RIVER","South West",{"$f":"VLOOKUP(E975,Admin_lookup!$A$2:$B$14,2,FALSE)","v":"Regional"}]
["MARIGINIUP",6065,"CITY OF","WANNEROO","Perth",{"$f":"VLOOKUP(E976,Admin_lookup!$A$2:$B$14,2,FALSE)","v":"Metro"}]
["MARMION",6020,"CITY OF","STIRLING","Perth",{"$f":"VLOOKUP(E977,Admin_lookup!$A$2:$B$14,2,FALSE)","v":"Metro"}]
["MARNE",6608,"SHIRE OF","DALWALLINU","Wheatbelt",{"$f":"VLOOKUP(E978,Admin_lookup!$A$2:$B$14,2,FALSE)","v":"Regional"}]
["MARRACOONDA",6317,"SHIRE OF","KATANNING","Great Southern",{"$f":"VLOOKUP(E979,Admin_lookup!$A$2:$B$14,2,FALSE)","v":"Regional"}]
["MARRADONG",6390,"SHIRE OF","BODDINGTON","Peel",{"$f":"VLOOKUP(E980,Admin_lookup!$A$2:$B$14,2,FALSE)","v":"Regional"}]
["MARRAH",6532,"SHIRE OF","CHAPMAN VALLEY","Mid-West",{"$f":"VLOOKUP(E981,Admin_lookup!$A$2:$B$14,2,FALSE)","v":"Regional"}]
["MARRINUP",6213,"SHIRE OF","MURRAY","Peel",{"$f":"VLOOKUP(E982,Admin_lookup!$A$2:$B$14,2,FALSE)","v":"Regional"}]
["MARTIN",6110,"CITY OF","GOSNELLS","Perth",{"$f":"VLOOKUP(E983,Admin_lookup!$A$2:$B$14,2,FALSE)","v":"Metro"}]
["MARVEL LOCH",6426,"SHIRE OF","YILGARN","Wheatbelt",{"$f":"VLOOKUP(E984,Admin_lookup!$A$2:$B$14,2,FALSE)","v":"Regional"}]
["MARYBROOK",6280,"SHIRE OF","BUSSELTON","South West",{"$f":"VLOOKUP(E985,Admin_lookup!$A$2:$B$14,2,FALSE)","v":"Regional"}]
["MASSEY BAY",6701,"SHIRE OF","CARNARVON","Gascoyne",{"$f":"VLOOKUP(E986,Admin_lookup!$A$2:$B$14,2,FALSE)","v":"Regional"}]
["MAYA",6614,"SHIRE OF","PERENJORI","Mid-West",{"$f":"VLOOKUP(E987,Admin_lookup!$A$2:$B$14,2,FALSE)","v":"Regional"}]
["MAYANUP",6244,"SHIRE OF","Boyup Brook","South West",{"$f":"VLOOKUP(E988,Admin_lookup!$A$2:$B$14,2,FALSE)","v":"Regional"}]
["MAYLANDS",6051,"CITY OF","BAYSWATER","Perth",{"$f":"VLOOKUP(E989,Admin_lookup!$A$2:$B$14,2,FALSE)","v":"Metro"}]
["MAYLANDS PO BOXES",6931,"CITY OF","PERTH","Perth",{"$f":"VLOOKUP(E990,Admin_lookup!$A$2:$B$14,2,FALSE)","v":"Metro"}]
["MCALINDEN",6225,"SHIRE OF","COLLIE","South West",{"$f":"VLOOKUP(E991,Admin_lookup!$A$2:$B$14,2,FALSE)","v":"Regional"}]
["MCBEATH",6770,"SHIRE OF","HALLS CREEK","Kimberley",{"$f":"VLOOKUP(E992,Admin_lookup!$A$2:$B$14,2,FALSE)","v":"Kimberley"}]
["MCKAIL",6330,"CITY OF","ALBANY","Great Southern",{"$f":"VLOOKUP(E993,Admin_lookup!$A$2:$B$14,2,FALSE)","v":"Regional"}]
["MEADOW",6532,"SHIRE OF","CHAPMAN VALLEY","Mid-West",{"$f":"VLOOKUP(E994,Admin_lookup!$A$2:$B$14,2,FALSE)","v":"Regional"}]
["MEADOW SPRINGS",6210,"CITY OF","MANDURAH","Peel",{"$f":"VLOOKUP(E995,Admin_lookup!$A$2:$B$14,2,FALSE)","v":"Regional"}]
["MECKERING",6405,"SHIRE OF","CUNDERDIN","Wheatbelt",{"$f":"VLOOKUP(E996,Admin_lookup!$A$2:$B$14,2,FALSE)","v":"Regional"}]
["MEDA",6728,"SHIRE OF","DERBY-WEST KIMBERLEY","Kimberley",{"$f":"VLOOKUP(E997,Admin_lookup!$A$2:$B$14,2,FALSE)","v":"Kimberley"}]
["MEDINA",6167,"TOWN OF","KWINANA","Perth",{"$f":"VLOOKUP(E998,Admin_lookup!$A$2:$B$14,2,FALSE)","v":"Metro"}]
["MEEKATHARRA",6642,"SHIRE OF","MEEKATHARRA","Mid-West",{"$f":"VLOOKUP(E999,Admin_lookup!$A$2:$B$14,2,FALSE)","v":"Regional"}]
["MEELON",6208,"SHIRE OF","MURRAY","Peel",{"$f":"VLOOKUP(E1000,Admin_lookup!$A$2:$B$14,2,FALSE)","v":"Regional"}]
["MEENAAR",6401,"SHIRE OF","GOOMALLING","Wheatbelt",{"$f":"VLOOKUP(E1001,Admin_lookup!$A$2:$B$14,2,FALSE)","v":"Regional"}]
["MEERUP",6262,"SHIRE OF","MANJIMUP","South West",{"$f":"VLOOKUP(E1002,Admin_lookup!$A$2:$B$14,2,FALSE)","v":"Regional"}]
["MELALEUCA",6065,"CITY OF","WANNEROO","Perth",{"$f":"VLOOKUP(E1003,Admin_lookup!$A$2:$B$14,2,FALSE)","v":"Metro"}]
["MELVILLE",6156,"CITY OF","MELVILLE","Perth",{"$f":"VLOOKUP(E1004,Admin_lookup!$A$2:$B$14,2,FALSE)","v":"Metro"}]
["MELVILLE PO BOXES",6956,"CITY OF","PERTH","Perth",{"$f":"VLOOKUP(E1005,Admin_lookup!$A$2:$B$14,2,FALSE)","v":"Metro"}]
["MENORA",6050,"CITY OF","STIRLING","Perth",{"$f":"VLOOKUP(E1006,Admin_lookup!$A$2:$B$14,2,FALSE)","v":"Metro"}]
["MENZIES",6436,"SHIRE OF","MENZIES","Goldfields-Esperance",{"$f":"VLOOKUP(E1007,Admin_lookup!$A$2:$B$14,2,FALSE)","v":"Regional"}]
["MERILUP",6352,"SHIRE OF","DUMBLEYUNG","Wheatbelt",{"$f":"VLOOKUP(E1008,Admin_lookup!$A$2:$B$14,2,FALSE)","v":"Regional"}]
["MERIVALE",6450,"SHIRE OF","ESPERANCE","Goldfields-Esperance",{"$f":"VLOOKUP(E1009,Admin_lookup!$A$2:$B$14,2,FALSE)","v":"Regional"}]
["MERKANOOKA",6625,"SHIRE OF","MORAWA","Mid-West",{"$f":"VLOOKUP(E1010,Admin_lookup!$A$2:$B$14,2,FALSE)","v":"Regional"}]
["MERREDIN",6415,"SHIRE OF","MERREDIN","Wheatbelt",{"$f":"VLOOKUP(E1011,Admin_lookup!$A$2:$B$14,2,FALSE)","v":"Regional"}]
["MERRIWA",6030,"CITY OF","WANNEROO","Perth",{"$f":"VLOOKUP(E1012,Admin_lookup!$A$2:$B$14,2,FALSE)","v":"Metro"}]
["MERU",6530,"CITY OF","GERALDTON-GREENOUGH","Mid-West",{"$f":"VLOOKUP(E1013,Admin_lookup!$A$2:$B$14,2,FALSE)","v":"Regional"}]
["METRICUP",6280,"SHIRE OF","BUSSELTON","South West",{"$f":"VLOOKUP(E1014,Admin_lookup!$A$2:$B$14,2,FALSE)","v":"Regional"}]
["METTLER",6328,"CITY OF","ALBANY","Great Southern",{"$f":"VLOOKUP(E1015,Admin_lookup!$A$2:$B$14,2,FALSE)","v":"Regional"}]
["MIAMOON",6612,"SHIRE OF","DALWALLINU","Wheatbelt",{"$f":"VLOOKUP(E1016,Admin_lookup!$A$2:$B$14,2,FALSE)","v":"Regional"}]
["MIDDLE SWAN",6056,"CITY OF","SWAN","Perth",{"$f":"VLOOKUP(E1017,Admin_lookup!$A$2:$B$14,2,FALSE)","v":"Metro"}]
["MIDDLESEX",6258,"SHIRE OF","MANJIMUP","South West",{"$f":"VLOOKUP(E1018,Admin_lookup!$A$2:$B$14,2,FALSE)","v":"Regional"}]
["MIDDLETON BEACH",6330,"CITY OF","ALBANY","Great Southern",{"$f":"VLOOKUP(E1019,Admin_lookup!$A$2:$B$14,2,FALSE)","v":"Regional"}]
["MIDLAND",6056,"CITY OF","SWAN","Perth",{"$f":"VLOOKUP(E1020,Admin_lookup!$A$2:$B$14,2,FALSE)","v":"Metro"}]
["MIDLAND DC",6936,"CITY OF","PERTH","Perth",{"$f":"VLOOKUP(E1021,Admin_lookup!$A$2:$B$14,2,FALSE)","v":"Metro"}]
["MIDVALE",6056,"CITY OF","SWAN","Perth",{"$f":"VLOOKUP(E1022,Admin_lookup!$A$2:$B$14,2,FALSE)","v":"Metro"}]
["MILING",6575,"SHIRE OF","MOORA","Wheatbelt",{"$f":"VLOOKUP(E1023,Admin_lookup!$A$2:$B$14,2,FALSE)","v":"Regional"}]
["MILLARS WELL",6714,"SHIRE OF","ROEBOURNE","Pilbara",{"$f":"VLOOKUP(E1024,Admin_lookup!$A$2:$B$14,2,FALSE)","v":"Pilbara"}]
["MILLBRIDGE",6232,"SHIRE OF","DARDANUP","South West",{"$f":"VLOOKUP(E1025,Admin_lookup!$A$2:$B$14,2,FALSE)","v":"Regional"}]
["MILLBROOK",6330,"CITY OF","ALBANY","Great Southern",{"$f":"VLOOKUP(E1026,Admin_lookup!$A$2:$B$14,2,FALSE)","v":"Regional"}]
["MILLENDON",6056,"CITY OF","SWAN","Perth",{"$f":"VLOOKUP(E1027,Admin_lookup!$A$2:$B$14,2,FALSE)","v":"Metro"}]
["MILLS LAKE",6336,"SHIRE OF","GNOWANGERUP","Great Southern",{"$f":"VLOOKUP(E1028,Admin_lookup!$A$2:$B$14,2,FALSE)","v":"Regional"}]
["MILLSTREAM",6716,"SHIRE OF","ASHBURTON","Pilbara",{"$f":"VLOOKUP(E1029,Admin_lookup!$A$2:$B$14,2,FALSE)","v":"Pilbara"}]
["MILO",6525,"SHIRE OF","IRWIN","Mid-West",{"$f":"VLOOKUP(E1030,Admin_lookup!$A$2:$B$14,2,FALSE)","v":"Regional"}]
["MILPARA",6330,"CITY OF","ALBANY","Great Southern",{"$f":"VLOOKUP(E1031,Admin_lookup!$A$2:$B$14,2,FALSE)","v":"Regional"}]
["MIMEGARRA",6507,"SHIRE OF","DANDARAGAN","Wheatbelt",{"$f":"VLOOKUP(E1032,Admin_lookup!$A$2:$B$14,2,FALSE)","v":"Regional"}]
["MINDARABIN",6336,"SHIRE OF","GNOWANGERUP","Great Southern",{"$f":"VLOOKUP(E1033,Admin_lookup!$A$2:$B$14,2,FALSE)","v":"Regional"}]
["MINDARIE",6030,"CITY OF","WANNEROO","Perth",{"$f":"VLOOKUP(E1034,Admin_lookup!$A$2:$B$14,2,FALSE)","v":"Metro"}]
["MINDARRA",6503,"SHIRE OF","GINGIN","Wheatbelt",{"$f":"VLOOKUP(E1035,Admin_lookup!$A$2:$B$14,2,FALSE)","v":"Regional"}]
["MINDING",6315,"SHIRE OF","WAGIN","Wheatbelt",{"$f":"VLOOKUP(E1036,Admin_lookup!$A$2:$B$14,2,FALSE)","v":"Regional"}]
["MINGENEW",6522,"SHIRE OF","MINGENEW","Mid-West",{"$f":"VLOOKUP(E1037,Admin_lookup!$A$2:$B$14,2,FALSE)","v":"Regional"}]
["MINIGIN",6312,"SHIRE OF","NARROGIN","Wheatbelt",{"$f":"VLOOKUP(E1038,Admin_lookup!$A$2:$B$14,2,FALSE)","v":"Regional"}]
["MINILYA",6701,"SHIRE OF","CARNARVON","Gascoyne",{"$f":"VLOOKUP(E1039,Admin_lookup!$A$2:$B$14,2,FALSE)","v":"Regional"}]
["MINNENOOKA",6532,"SHIRE OF","CHAPMAN VALLEY","Mid-West",{"$f":"VLOOKUP(E1040,Admin_lookup!$A$2:$B$14,2,FALSE)","v":"Regional"}]
["MINNIVALE",6462,"SHIRE OF","DOWERIN","Wheatbelt",{"$f":"VLOOKUP(E1041,Admin_lookup!$A$2:$B$14,2,FALSE)","v":"Regional"}]
["MINYIRR",6725,"SHIRE OF","BROOME","Kimberley",{"$f":"VLOOKUP(E1042,Admin_lookup!$A$2:$B$14,2,FALSE)","v":"Kimberley"}]
["MIRA MAR",6330,"CITY OF","ALBANY","Great Southern",{"$f":"VLOOKUP(E1043,Admin_lookup!$A$2:$B$14,2,FALSE)","v":"Regional"}]
["MIRRABOOKA",6061,"CITY OF","STIRLING","Perth",{"$f":"VLOOKUP(E1044,Admin_lookup!$A$2:$B$14,2,FALSE)","v":"Metro"}]
["MIRRABOOKA PO BOXES",6941,"CITY OF","PERTH","Perth",{"$f":"VLOOKUP(E1045,Admin_lookup!$A$2:$B$14,2,FALSE)","v":"Metro"}]
["MITCHELL PLATEAU",6740,"SHIRE OF","WYNDHAM-EAST KIMBERLEY","Kimberley",{"$f":"VLOOKUP(E1046,Admin_lookup!$A$2:$B$14,2,FALSE)","v":"Kimberley"}]
["MOBRUP",6395,"SHIRE OF","KOJONUP","Great Southern",{"$f":"VLOOKUP(E1047,Admin_lookup!$A$2:$B$14,2,FALSE)","v":"Regional"}]
["MOCARDY",6603,"SHIRE OF","WONGAN-BALLIDU","Wheatbelt",{"$f":"VLOOKUP(E1048,Admin_lookup!$A$2:$B$14,2,FALSE)","v":"Regional"}]
["MOGUMBER",6506,"SHIRE OF","VICTORIA PLAINS","Wheatbelt",{"$f":"VLOOKUP(E1049,Admin_lookup!$A$2:$B$14,2,FALSE)","v":"Regional"}]
["MOKINE",6401,"SHIRE OF","GOOMALLING","Wheatbelt",{"$f":"VLOOKUP(E1050,Admin_lookup!$A$2:$B$14,2,FALSE)","v":"Regional"}]
["MOLLERIN",6475,"SHIRE OF","KOORDA","Wheatbelt",{"$f":"VLOOKUP(E1051,Admin_lookup!$A$2:$B$14,2,FALSE)","v":"Regional"}]
["MOLLOY ISLAND",6290,"SHIRE OF","AUGUSTA-MARGARET RIVER","South West",{"$f":"VLOOKUP(E1052,Admin_lookup!$A$2:$B$14,2,FALSE)","v":"Regional"}]
["MONJEBUP",6338,"SHIRE OF","GNOWANGERUP","Great Southern",{"$f":"VLOOKUP(E1053,Admin_lookup!$A$2:$B$14,2,FALSE)","v":"Regional"}]
["MONJINGUP",6450,"SHIRE OF","ESPERANCE","Goldfields-Esperance",{"$f":"VLOOKUP(E1054,Admin_lookup!$A$2:$B$14,2,FALSE)","v":"Regional"}]
["MONKEY MIA",6537,"SHIRE OF","SHARK BAY","Gascoyne",{"$f":"VLOOKUP(E1055,Admin_lookup!$A$2:$B$14,2,FALSE)","v":"Regional"}]
["MOODIARRUP",6393,"SHIRE OF","WEST ARTHUR","Wheatbelt",{"$f":"VLOOKUP(E1056,Admin_lookup!$A$2:$B$14,2,FALSE)","v":"Regional"}]
["MOOJEBING",6317,"SHIRE OF","KATANNING","Great Southern",{"$f":"VLOOKUP(E1057,Admin_lookup!$A$2:$B$14,2,FALSE)","v":"Regional"}]
["MOOLIABEENEE",6504,"SHIRE OF","CHITTERING","Wheatbelt",{"$f":"VLOOKUP(E1058,Admin_lookup!$A$2:$B$14,2,FALSE)","v":"Regional"}]
["MOONDAH",6503,"SHIRE OF","GINGIN","Wheatbelt",{"$f":"VLOOKUP(E1059,Admin_lookup!$A$2:$B$14,2,FALSE)","v":"Regional"}]
["MOONDYNE",6567,"SHIRE OF","TOODYAY","Wheatbelt",{"$f":"VLOOKUP(E1060,Admin_lookup!$A$2:$B$14,2,FALSE)","v":"Regional"}]
["MOONIES HILL",6320,"SHIRE OF","BROOMEHILL-TAMBELLUP","Great Southern",{"$f":"VLOOKUP(E1061,Admin_lookup!$A$2:$B$14,2,FALSE)","v":"Regional"}]
["MOONYOONOOKA",6532,"SHIRE OF","CHAPMAN VALLEY","Mid-West",{"$f":"VLOOKUP(E1062,Admin_lookup!$A$2:$B$14,2,FALSE)","v":"Regional"}]
["MOORA",6510,"SHIRE OF","MOORA","Wheatbelt",{"$f":"VLOOKUP(E1063,Admin_lookup!$A$2:$B$14,2,FALSE)","v":"Regional"}]
["MOORE RIVER NATIONAL PARK",6503,"SHIRE OF","GINGIN","Wheatbelt",{"$f":"VLOOKUP(E1064,Admin_lookup!$A$2:$B$14,2,FALSE)","v":"Regional"}]
["MOORIARY",6522,"SHIRE OF","MINGENEW","Mid-West",{"$f":"VLOOKUP(E1065,Admin_lookup!$A$2:$B$14,2,FALSE)","v":"Regional"}]
["MOORINE ROCK",6425,"SHIRE OF","YILGARN","Wheatbelt",{"$f":"VLOOKUP(E1066,Admin_lookup!$A$2:$B$14,2,FALSE)","v":"Regional"}]
["MORANGUP",6083,"SHIRE OF","TOODYAY","Wheatbelt",{"$f":"VLOOKUP(E1067,Admin_lookup!$A$2:$B$14,2,FALSE)","v":"Regional"}]
["MORAWA",6623,"SHIRE OF","MORAWA","Mid-West",{"$f":"VLOOKUP(E1068,Admin_lookup!$A$2:$B$14,2,FALSE)","v":"Regional"}]
["MORBINNING",6304,"SHIRE OF","BEVERLEY","Wheatbelt",{"$f":"VLOOKUP(E1069,Admin_lookup!$A$2:$B$14,2,FALSE)","v":"Regional"}]
["MORDALUP",6258,"SHIRE OF","MANJIMUP","South West",{"$f":"VLOOKUP(E1070,Admin_lookup!$A$2:$B$14,2,FALSE)","v":"Regional"}]
["MORESBY",6530,"CITY OF","GERALDTON-GREENOUGH","Mid-West",{"$f":"VLOOKUP(E1071,Admin_lookup!$A$2:$B$14,2,FALSE)","v":"Regional"}]
["MORGANTOWN",6701,"SHIRE OF","CARNARVON","Gascoyne",{"$f":"VLOOKUP(E1072,Admin_lookup!$A$2:$B$14,2,FALSE)","v":"Regional"}]
["MORLEY",6062,"CITY OF","BAYSWATER","Perth",{"$f":"VLOOKUP(E1073,Admin_lookup!$A$2:$B$14,2,FALSE)","v":"Metro"}]
["MORLEY PO BOXES",6943,"CITY OF","PERTH","Perth",{"$f":"VLOOKUP(E1074,Admin_lookup!$A$2:$B$14,2,FALSE)","v":"Metro"}]
["MORNINGTON",6221,"SHIRE OF","HARVEY","South West",{"$f":"VLOOKUP(E1075,Admin_lookup!$A$2:$B$14,2,FALSE)","v":"Regional"}]
["MOSMAN PARK",6012,"TOWN OF","MOSMAN PARK","Perth",{"$f":"VLOOKUP(E1076,Admin_lookup!$A$2:$B$14,2,FALSE)","v":"Metro"}]
["MOSMAN PARK PO BOXES",6912,"CITY OF","PERTH","Perth",{"$f":"VLOOKUP(E1077,Admin_lookup!$A$2:$B$14,2,FALSE)","v":"Metro"}]
["MOULYINNING",6351,"SHIRE OF","DUMBLEYUNG","Wheatbelt",{"$f":"VLOOKUP(E1078,Admin_lookup!$A$2:$B$14,2,FALSE)","v":"Regional"}]
["MOUNT ADAMS",6525,"SHIRE OF","IRWIN","Mid-West",{"$f":"VLOOKUP(E1079,Admin_lookup!$A$2:$B$14,2,FALSE)","v":"Regional"}]
["MOUNT ANKETELL",6714,"SHIRE OF","ROEBOURNE","Pilbara",{"$f":"VLOOKUP(E1080,Admin_lookup!$A$2:$B$14,2,FALSE)","v":"Pilbara"}]
["MOUNT BARKER",6324,"SHIRE OF","PLANTAGENET","Great Southern",{"$f":"VLOOKUP(E1081,Admin_lookup!$A$2:$B$14,2,FALSE)","v":"Regional"}]
["MOUNT BUDD",6522,"SHIRE OF","MINGENEW","Mid-West",{"$f":"VLOOKUP(E1082,Admin_lookup!$A$2:$B$14,2,FALSE)","v":"Regional"}]
["MOUNT BURGES",6429,"SHIRE OF","COOLGARDIE","Goldfields-Esperance",{"$f":"VLOOKUP(E1083,Admin_lookup!$A$2:$B$14,2,FALSE)","v":"Regional"}]
["MOUNT CAROLINE",6410,"SHIRE OF","KELLERBERRIN","Wheatbelt",{"$f":"VLOOKUP(E1084,Admin_lookup!$A$2:$B$14,2,FALSE)","v":"Regional"}]
["MOUNT CLAREMONT",6010,"CITY OF","NEDLANDS","Perth",{"$f":"VLOOKUP(E1085,Admin_lookup!$A$2:$B$14,2,FALSE)","v":"Metro"}]
["MOUNT CLARENCE",6330,"CITY OF","ALBANY","Great Southern",{"$f":"VLOOKUP(E1086,Admin_lookup!$A$2:$B$14,2,FALSE)","v":"Regional"}]
["MOUNT COOKE",6390,"SHIRE OF","BODDINGTON","Peel",{"$f":"VLOOKUP(E1087,Admin_lookup!$A$2:$B$14,2,FALSE)","v":"Regional"}]
["MOUNT ELPHINSTONE",6330,"CITY OF","ALBANY","Great Southern",{"$f":"VLOOKUP(E1088,Admin_lookup!$A$2:$B$14,2,FALSE)","v":"Regional"}]
["MOUNT ERIN",6532,"SHIRE OF","CHAPMAN VALLEY","Mid-West",{"$f":"VLOOKUP(E1089,Admin_lookup!$A$2:$B$14,2,FALSE)","v":"Regional"}]
["MOUNT HAMPTON",6426,"SHIRE OF","YILGARN","Wheatbelt",{"$f":"VLOOKUP(E1090,Admin_lookup!$A$2:$B$14,2,FALSE)","v":"Regional"}]
["MOUNT HARDEY",6302,"SHIRE OF","YORK","Wheatbelt",{"$f":"VLOOKUP(E1091,Admin_lookup!$A$2:$B$14,2,FALSE)","v":"Regional"}]
["MOUNT HARDMAN",6765,"SHIRE OF","DERBY-WEST KIMBERLEY","Kimberley",{"$f":"VLOOKUP(E1092,Admin_lookup!$A$2:$B$14,2,FALSE)","v":"Kimberley"}]
["MOUNT HAWTHORN",6016,"TOWN OF","VINCENT","Perth",{"$f":"VLOOKUP(E1093,Admin_lookup!$A$2:$B$14,2,FALSE)","v":"Metro"}]
["MOUNT HAWTHORN PO BOXES",6915,"CITY OF","PERTH","Perth",{"$f":"VLOOKUP(E1094,Admin_lookup!$A$2:$B$14,2,FALSE)","v":"Metro"}]
["MOUNT HELENA",6082,"SHIRE OF","MUNDARING","Perth",{"$f":"VLOOKUP(E1095,Admin_lookup!$A$2:$B$14,2,FALSE)","v":"Metro"}]
["MOUNT HILL",6528,"CITY OF","GERALDTON-GREENOUGH","Mid-West",{"$f":"VLOOKUP(E1096,Admin_lookup!$A$2:$B$14,2,FALSE)","v":"Regional"}]
["MOUNT HOLLAND",6426,"SHIRE OF","YILGARN","Wheatbelt",{"$f":"VLOOKUP(E1097,Admin_lookup!$A$2:$B$14,2,FALSE)","v":"Regional"}]
["MOUNT HORNER",6525,"SHIRE OF","IRWIN","Mid-West",{"$f":"VLOOKUP(E1098,Admin_lookup!$A$2:$B$14,2,FALSE)","v":"Regional"}]
["MOUNT JACKSON",6426,"SHIRE OF","YILGARN","Wheatbelt",{"$f":"VLOOKUP(E1099,Admin_lookup!$A$2:$B$14,2,FALSE)","v":"Regional"}]
["MOUNT LAWLEY",6050,"CITY OF","STIRLING","Perth",{"$f":"VLOOKUP(E1100,Admin_lookup!$A$2:$B$14,2,FALSE)","v":"Metro"}]
["MOUNT LAWLEY PO BOXES",6929,"CITY OF","PERTH","Perth",{"$f":"VLOOKUP(E1101,Admin_lookup!$A$2:$B$14,2,FALSE)","v":"Metro"}]
["MOUNT LINDESAY",6333,"SHIRE OF","DENMARK","Great Southern",{"$f":"VLOOKUP(E1102,Admin_lookup!$A$2:$B$14,2,FALSE)","v":"Regional"}]
["MOUNT MADDEN",6356,"SHIRE OF","LAKE GRACE","Wheatbelt",{"$f":"VLOOKUP(E1103,Admin_lookup!$A$2:$B$14,2,FALSE)","v":"Regional"}]
["MOUNT MAGNET",6638,"SHIRE OF","MOUNT MAGNET","Mid-West",{"$f":"VLOOKUP(E1104,Admin_lookup!$A$2:$B$14,2,FALSE)","v":"Regional"}]
["MOUNT MELVILLE",6330,"CITY OF","ALBANY","Great Southern",{"$f":"VLOOKUP(E1105,Admin_lookup!$A$2:$B$14,2,FALSE)","v":"Regional"}]
["MOUNT NASURA",6112,"CITY OF","ARMADALE","Perth",{"$f":"VLOOKUP(E1106,Admin_lookup!$A$2:$B$14,2,FALSE)","v":"Metro"}]
["MOUNT NEY",6447,"SHIRE OF","ESPERANCE","Goldfields-Esperance",{"$f":"VLOOKUP(E1107,Admin_lookup!$A$2:$B$14,2,FALSE)","v":"Regional"}]
["MOUNT OBSERVATION",6302,"SHIRE OF","YORK","Wheatbelt",{"$f":"VLOOKUP(E1108,Admin_lookup!$A$2:$B$14,2,FALSE)","v":"Regional"}]
["MOUNT PALMER",6426,"SHIRE OF","YILGARN","Wheatbelt",{"$f":"VLOOKUP(E1109,Admin_lookup!$A$2:$B$14,2,FALSE)","v":"Regional"}]
["MOUNT PLEASANT",6153,"CITY OF","MELVILLE","Perth",{"$f":"VLOOKUP(E1110,Admin_lookup!$A$2:$B$14,2,FALSE)","v":"Metro"}]
["MOUNT RICHON",6112,"CITY OF","ARMADALE","Perth",{"$f":"VLOOKUP(E1111,Admin_lookup!$A$2:$B$14,2,FALSE)","v":"Metro"}]
["MOUNT ROMANCE",6333,"SHIRE OF","DENMARK","Great Southern",{"$f":"VLOOKUP(E1112,Admin_lookup!$A$2:$B$14,2,FALSE)","v":"Regional"}]
["MOUNT SHEILA",6751,"SHIRE OF","ASHBURTON","Pilbara",{"$f":"VLOOKUP(E1113,Admin_lookup!$A$2:$B$14,2,FALSE)","v":"Pilbara"}]
["MOUNT SHERIDAN",6355,"SHIRE OF","LAKE GRACE","Wheatbelt",{"$f":"VLOOKUP(E1114,Admin_lookup!$A$2:$B$14,2,FALSE)","v":"Regional"}]
["MOUNT STIRLING",6383,"SHIRE OF","QUAIRADING","Wheatbelt",{"$f":"VLOOKUP(E1115,Admin_lookup!$A$2:$B$14,2,FALSE)","v":"Regional"}]
["MOUNT TARCOOLA",6530,"CITY OF","GERALDTON-GREENOUGH","Mid-West",{"$f":"VLOOKUP(E1116,Admin_lookup!$A$2:$B$14,2,FALSE)","v":"Regional"}]
["MOUNT WALKER",6369,"SHIRE OF","NAREMBEEN","Wheatbelt",{"$f":"VLOOKUP(E1117,Admin_lookup!$A$2:$B$14,2,FALSE)","v":"Regional"}]
["MOUNT WELLS",6390,"SHIRE OF","BODDINGTON","Peel",{"$f":"VLOOKUP(E1118,Admin_lookup!$A$2:$B$14,2,FALSE)","v":"Regional"}]
["MOUROUBRA",6472,"SHIRE OF","MOUNT MARSHALL","Wheatbelt",{"$f":"VLOOKUP(E1119,Admin_lookup!$A$2:$B$14,2,FALSE)","v":"Regional"}]
["MUCHEA",6501,"SHIRE OF","CHITTERING","Wheatbelt",{"$f":"VLOOKUP(E1120,Admin_lookup!$A$2:$B$14,2,FALSE)","v":"Regional"}]
["MUCKENBURRA",6503,"SHIRE OF","GINGIN","Wheatbelt",{"$f":"VLOOKUP(E1121,Admin_lookup!$A$2:$B$14,2,FALSE)","v":"Regional"}]
["MUELLER RANGES",6770,"SHIRE OF","HALLS CREEK","Kimberley",{"$f":"VLOOKUP(E1122,Admin_lookup!$A$2:$B$14,2,FALSE)","v":"Kimberley"}]
["MUJA",6225,"SHIRE OF","COLLIE","South West",{"$f":"VLOOKUP(E1123,Admin_lookup!$A$2:$B$14,2,FALSE)","v":"Regional"}]
["MUKINBUDIN",6479,"SHIRE OF","MUKINBUDIN","Wheatbelt",{"$f":"VLOOKUP(E1124,Admin_lookup!$A$2:$B$14,2,FALSE)","v":"Regional"}]
["MULATAGA",6714,"SHIRE OF","ROEBOURNE","Pilbara",{"$f":"VLOOKUP(E1125,Admin_lookup!$A$2:$B$14,2,FALSE)","v":"Pilbara"}]
["MULGA DOWNS",6751,"SHIRE OF","ASHBURTON","Pilbara",{"$f":"VLOOKUP(E1126,Admin_lookup!$A$2:$B$14,2,FALSE)","v":"Pilbara"}]
["MULLALOO",6027,"CITY OF","JOONDALUP","Perth",{"$f":"VLOOKUP(E1127,Admin_lookup!$A$2:$B$14,2,FALSE)","v":"Metro"}]
["MULLALYUP",6252,"SHIRE OF","DONNYBROOK-BALINGUP","South West",{"$f":"VLOOKUP(E1128,Admin_lookup!$A$2:$B$14,2,FALSE)","v":"Regional"}]
["MULLEWA",6630,"SHIRE OF","MURCHISON","Mid-West",{"$f":"VLOOKUP(E1129,Admin_lookup!$A$2:$B$14,2,FALSE)","v":"Regional"}]
["MULLINGAR",6430,"CITY OF","KALGOORLIE-BOULDER","Goldfields-Esperance",{"$f":"VLOOKUP(E1130,Admin_lookup!$A$2:$B$14,2,FALSE)","v":"Regional"}]
["MULUCKINE",6401,"SHIRE OF","GOOMALLING","Wheatbelt",{"$f":"VLOOKUP(E1131,Admin_lookup!$A$2:$B$14,2,FALSE)","v":"Regional"}]
["MUMBALLUP",6225,"SHIRE OF","COLLIE","South West",{"$f":"VLOOKUP(E1132,Admin_lookup!$A$2:$B$14,2,FALSE)","v":"Regional"}]
["MUMBERKINE",6401,"SHIRE OF","GOOMALLING","Wheatbelt",{"$f":"VLOOKUP(E1133,Admin_lookup!$A$2:$B$14,2,FALSE)","v":"Regional"}]
["MUNDABULLANGANA",6721,"TOWN OF","PORT HEDLAND","Pilbara",{"$f":"VLOOKUP(E1134,Admin_lookup!$A$2:$B$14,2,FALSE)","v":"Pilbara"}]
["MUNDARING",6073,"SHIRE OF","MUNDARING","Perth",{"$f":"VLOOKUP(E1135,Admin_lookup!$A$2:$B$14,2,FALSE)","v":"Metro"}]
["MUNDARING DC",6073,"SHIRE OF","MUNDARING","Perth",{"$f":"VLOOKUP(E1136,Admin_lookup!$A$2:$B$14,2,FALSE)","v":"Metro"}]
["MUNDIJONG",6123,"SHIRE OF","SERPENTINE-JARRAHDALE","Peel",{"$f":"VLOOKUP(E1137,Admin_lookup!$A$2:$B$14,2,FALSE)","v":"Regional"}]
["MUNDRABILLA",6443,"SHIRE OF","COOLGARDIE","Goldfields-Esperance",{"$f":"VLOOKUP(E1138,Admin_lookup!$A$2:$B$14,2,FALSE)","v":"Regional"}]
["MUNGALUP",6225,"SHIRE OF","COLLIE","South West",{"$f":"VLOOKUP(E1139,Admin_lookup!$A$2:$B$14,2,FALSE)","v":"Regional"}]
["MUNGLINUP",6450,"SHIRE OF","ESPERANCE","Goldfields-Esperance",{"$f":"VLOOKUP(E1140,Admin_lookup!$A$2:$B$14,2,FALSE)","v":"Regional"}]
["MUNSTER",6166,"CITY OF","COCKBURN","Perth",{"$f":"VLOOKUP(E1141,Admin_lookup!$A$2:$B$14,2,FALSE)","v":"Metro"}]
["MUNTADGIN",6420,"SHIRE OF","MERREDIN","Wheatbelt",{"$f":"VLOOKUP(E1142,Admin_lookup!$A$2:$B$14,2,FALSE)","v":"Regional"}]
["MURADUP",6394,"SHIRE OF","KOJONUP","Great Southern",{"$f":"VLOOKUP(E1143,Admin_lookup!$A$2:$B$14,2,FALSE)","v":"Regional"}]
["MURCHISON",6630,"SHIRE OF","MURCHISON","Mid-West",{"$f":"VLOOKUP(E1144,Admin_lookup!$A$2:$B$14,2,FALSE)","v":"Regional"}]
["MURDOCH",6150,"CITY OF","MELVILLE","Perth",{"$f":"VLOOKUP(E1145,Admin_lookup!$A$2:$B$14,2,FALSE)","v":"Metro"}]
["MURDONG",6317,"SHIRE OF","KATANNING","Great Southern",{"$f":"VLOOKUP(E1146,Admin_lookup!$A$2:$B$14,2,FALSE)","v":"Regional"}]
["MURESK",6401,"SHIRE OF","GOOMALLING","Wheatbelt",{"$f":"VLOOKUP(E1147,Admin_lookup!$A$2:$B$14,2,FALSE)","v":"Regional"}]
["MYALUP",6220,"SHIRE OF","HARVEY","South West",{"$f":"VLOOKUP(E1148,Admin_lookup!$A$2:$B$14,2,FALSE)","v":"Regional"}]
["MYARA",6207,"SHIRE OF","MURRAY","Peel",{"$f":"VLOOKUP(E1149,Admin_lookup!$A$2:$B$14,2,FALSE)","v":"Regional"}]
["MYAREE",6154,"CITY OF","MELVILLE","Perth",{"$f":"VLOOKUP(E1150,Admin_lookup!$A$2:$B$14,2,FALSE)","v":"Metro"}]
["MYAREE BC",6960,"CITY OF","PERTH","Perth",{"$f":"VLOOKUP(E1151,Admin_lookup!$A$2:$B$14,2,FALSE)","v":"Metro"}]
["MYRUP",6450,"SHIRE OF","ESPERANCE","Goldfields-Esperance",{"$f":"VLOOKUP(E1152,Admin_lookup!$A$2:$B$14,2,FALSE)","v":"Regional"}]
["NABAWA",6532,"SHIRE OF","CHAPMAN VALLEY","Mid-West",{"$f":"VLOOKUP(E1153,Admin_lookup!$A$2:$B$14,2,FALSE)","v":"Regional"}]
["NAIRIBIN",6350,"SHIRE OF","DUMBLEYUNG","Wheatbelt",{"$f":"VLOOKUP(E1154,Admin_lookup!$A$2:$B$14,2,FALSE)","v":"Regional"}]
["NALKAIN",6485,"SHIRE OF","WYALKATCHEM","Wheatbelt",{"$f":"VLOOKUP(E1155,Admin_lookup!$A$2:$B$14,2,FALSE)","v":"Regional"}]
["NALYERLUP",6338,"SHIRE OF","GNOWANGERUP","Great Southern",{"$f":"VLOOKUP(E1156,Admin_lookup!$A$2:$B$14,2,FALSE)","v":"Regional"}]
["NAMBAN",6512,"SHIRE OF","MOORA","Wheatbelt",{"$f":"VLOOKUP(E1157,Admin_lookup!$A$2:$B$14,2,FALSE)","v":"Regional"}]
["NAMBEELUP",6207,"SHIRE OF","MURRAY","Peel",{"$f":"VLOOKUP(E1158,Admin_lookup!$A$2:$B$14,2,FALSE)","v":"Regional"}]
["NAMBUNG",6521,"SHIRE OF","DANDARAGAN","Wheatbelt",{"$f":"VLOOKUP(E1159,Admin_lookup!$A$2:$B$14,2,FALSE)","v":"Regional"}]
["NANARUP",6330,"CITY OF","ALBANY","Great Southern",{"$f":"VLOOKUP(E1160,Admin_lookup!$A$2:$B$14,2,FALSE)","v":"Regional"}]
["NANGA",6537,"SHIRE OF","SHARK BAY","Gascoyne",{"$f":"VLOOKUP(E1161,Admin_lookup!$A$2:$B$14,2,FALSE)","v":"Regional"}]
["NANGA BROOK",6215,"SHIRE OF","WAROONA","Peel",{"$f":"VLOOKUP(E1162,Admin_lookup!$A$2:$B$14,2,FALSE)","v":"Regional"}]
["NANGEENAN",6414,"SHIRE OF","MERREDIN","Wheatbelt",{"$f":"VLOOKUP(E1163,Admin_lookup!$A$2:$B$14,2,FALSE)","v":"Regional"}]
["NANGETTY",6522,"SHIRE OF","MINGENEW","Mid-West",{"$f":"VLOOKUP(E1164,Admin_lookup!$A$2:$B$14,2,FALSE)","v":"Regional"}]
["NANNUP",6275,"SHIRE OF","BUSSELTON","South West",{"$f":"VLOOKUP(E1165,Admin_lookup!$A$2:$B$14,2,FALSE)","v":"Regional"}]
["NANSON",6532,"SHIRE OF","CHAPMAN VALLEY","Mid-West",{"$f":"VLOOKUP(E1166,Admin_lookup!$A$2:$B$14,2,FALSE)","v":"Regional"}]
["NANUTARRA",6751,"SHIRE OF","ASHBURTON","Pilbara",{"$f":"VLOOKUP(E1167,Admin_lookup!$A$2:$B$14,2,FALSE)","v":"Pilbara"}]
["NAPIER",6330,"CITY OF","ALBANY","Great Southern",{"$f":"VLOOKUP(E1168,Admin_lookup!$A$2:$B$14,2,FALSE)","v":"Regional"}]
["NARALING",6532,"SHIRE OF","CHAPMAN VALLEY","Mid-West",{"$f":"VLOOKUP(E1169,Admin_lookup!$A$2:$B$14,2,FALSE)","v":"Regional"}]
["NAREMBEEN",6369,"SHIRE OF","NAREMBEEN","Wheatbelt",{"$f":"VLOOKUP(E1170,Admin_lookup!$A$2:$B$14,2,FALSE)","v":"Regional"}]
["NARNGULU",6532,"SHIRE OF","CHAPMAN VALLEY","Mid-West",{"$f":"VLOOKUP(E1171,Admin_lookup!$A$2:$B$14,2,FALSE)","v":"Regional"}]
["NARRA TARRA",6532,"SHIRE OF","CHAPMAN VALLEY","Mid-West",{"$f":"VLOOKUP(E1172,Admin_lookup!$A$2:$B$14,2,FALSE)","v":"Regional"}]
["NARRALOGGAN",6302,"SHIRE OF","YORK","Wheatbelt",{"$f":"VLOOKUP(E1173,Admin_lookup!$A$2:$B$14,2,FALSE)","v":"Regional"}]
["NARRIKUP",6326,"SHIRE OF","PLANTAGENET","Great Southern",{"$f":"VLOOKUP(E1174,Admin_lookup!$A$2:$B$14,2,FALSE)","v":"Regional"}]
["NARROGIN",6312,"SHIRE OF","NARROGIN","Wheatbelt",{"$f":"VLOOKUP(E1175,Admin_lookup!$A$2:$B$14,2,FALSE)","v":"Regional"}]
["NARROGIN VALLEY",6312,"SHIRE OF","NARROGIN","Wheatbelt",{"$f":"VLOOKUP(E1176,Admin_lookup!$A$2:$B$14,2,FALSE)","v":"Regional"}]
["NATURALISTE",6281,"SHIRE OF","BUSSELTON","South West",{"$f":"VLOOKUP(E1177,Admin_lookup!$A$2:$B$14,2,FALSE)","v":"Regional"}]
["NAVAL BASE",6165,"TOWN OF","KWINANA","Perth",{"$f":"VLOOKUP(E1178,Admin_lookup!$A$2:$B$14,2,FALSE)","v":"Metro"}]
["NEALE",6440,"SHIRE OF","LAVERTON","Goldfields-Esperance",{"$f":"VLOOKUP(E1179,Admin_lookup!$A$2:$B$14,2,FALSE)","v":"Regional"}]
["NEDLANDS",6009,"CITY OF","NEDLANDS","Perth",{"$f":"VLOOKUP(E1180,Admin_lookup!$A$2:$B$14,2,FALSE)","v":"Metro"}]
["NEDLANDS DC",6009,"CITY OF","NEDLANDS","Perth",{"$f":"VLOOKUP(E1181,Admin_lookup!$A$2:$B$14,2,FALSE)","v":"Metro"}]
["NEDLANDS PO BOXES",6909,"CITY OF","PERTH","Perth",{"$f":"VLOOKUP(E1182,Admin_lookup!$A$2:$B$14,2,FALSE)","v":"Metro"}]
["NEDLANDS UNIVERSITY OF WESTERN AUSTRALI",6907,"CITY OF","PERTH","Perth",{"$f":"VLOOKUP(E1183,Admin_lookup!$A$2:$B$14,2,FALSE)","v":"Metro"}]
["NEEDILUP",6336,"SHIRE OF","GNOWANGERUP","Great Southern",{"$f":"VLOOKUP(E1184,Admin_lookup!$A$2:$B$14,2,FALSE)","v":"Regional"}]
["NEENDALING",6353,"SHIRE OF","DUMBLEYUNG","Wheatbelt",{"$f":"VLOOKUP(E1185,Admin_lookup!$A$2:$B$14,2,FALSE)","v":"Regional"}]
["NEERABUP",6031,"CITY OF","WANNEROO","Perth",{"$f":"VLOOKUP(E1186,Admin_lookup!$A$2:$B$14,2,FALSE)","v":"Metro"}]
["NEERGABBY",6503,"SHIRE OF","GINGIN","Wheatbelt",{"$f":"VLOOKUP(E1187,Admin_lookup!$A$2:$B$14,2,FALSE)","v":"Regional"}]
["NEMBUDDING",6485,"SHIRE OF","WYALKATCHEM","Wheatbelt",{"$f":"VLOOKUP(E1188,Admin_lookup!$A$2:$B$14,2,FALSE)","v":"Regional"}]
["NERIDUP",6450,"SHIRE OF","ESPERANCE","Goldfields-Esperance",{"$f":"VLOOKUP(E1189,Admin_lookup!$A$2:$B$14,2,FALSE)","v":"Regional"}]
["NERRAMYNE",6630,"SHIRE OF","MURCHISON","Mid-West",{"$f":"VLOOKUP(E1190,Admin_lookup!$A$2:$B$14,2,FALSE)","v":"Regional"}]
["NERREN NERREN",6532,"SHIRE OF","CHAPMAN VALLEY","Mid-West",{"$f":"VLOOKUP(E1191,Admin_lookup!$A$2:$B$14,2,FALSE)","v":"Regional"}]
["NEW NORCIA",6509,"SHIRE OF","VICTORIA PLAINS","Wheatbelt",{"$f":"VLOOKUP(E1192,Admin_lookup!$A$2:$B$14,2,FALSE)","v":"Regional"}]
["NEWCARLBEON",6475,"SHIRE OF","KOORDA","Wheatbelt",{"$f":"VLOOKUP(E1193,Admin_lookup!$A$2:$B$14,2,FALSE)","v":"Regional"}]
["NEWDEGATE",6355,"SHIRE OF","LAKE GRACE","Wheatbelt",{"$f":"VLOOKUP(E1194,Admin_lookup!$A$2:$B$14,2,FALSE)","v":"Regional"}]
["NEWLANDS",6251,"SHIRE OF","DONNYBROOK-BALINGUP","South West",{"$f":"VLOOKUP(E1195,Admin_lookup!$A$2:$B$14,2,FALSE)","v":"Regional"}]
["NEWMAN",6753,"SHIRE OF","EAST PILBARA","Pilbara",{"$f":"VLOOKUP(E1196,Admin_lookup!$A$2:$B$14,2,FALSE)","v":"Pilbara"}]
["NGAANYATJARRA-GILES",872,"Shire of","NGAANYATJARRAKU","Goldfields-Esperance",{"$f":"VLOOKUP(E1197,Admin_lookup!$A$2:$B$14,2,FALSE)","v":"Regional"}]
["NICKOL",6714,"SHIRE OF","ROEBOURNE","Pilbara",{"$f":"VLOOKUP(E1198,Admin_lookup!$A$2:$B$14,2,FALSE)","v":"Pilbara"}]
["NILGEN",6044,"SHIRE OF","DANDARAGAN","Wheatbelt",{"$f":"VLOOKUP(E1199,Admin_lookup!$A$2:$B$14,2,FALSE)","v":"Regional"}]
["NILLUP",6288,"SHIRE OF","AUGUSTA-MARGARET RIVER","South West",{"$f":"VLOOKUP(E1200,Admin_lookup!$A$2:$B$14,2,FALSE)","v":"Regional"}]
["NINGALOO",6701,"SHIRE OF","CARNARVON","Gascoyne",{"$f":"VLOOKUP(E1201,Admin_lookup!$A$2:$B$14,2,FALSE)","v":"Regional"}]
["NIPPERING",6350,"SHIRE OF","DUMBLEYUNG","Wheatbelt",{"$f":"VLOOKUP(E1202,Admin_lookup!$A$2:$B$14,2,FALSE)","v":"Regional"}]
["NIRIMBA",6208,"SHIRE OF","MURRAY","Peel",{"$f":"VLOOKUP(E1203,Admin_lookup!$A$2:$B$14,2,FALSE)","v":"Regional"}]
["NOGGERUP",6225,"SHIRE OF","COLLIE","South West",{"$f":"VLOOKUP(E1204,Admin_lookup!$A$2:$B$14,2,FALSE)","v":"Regional"}]
["NOKANING",6415,"SHIRE OF","MERREDIN","Wheatbelt",{"$f":"VLOOKUP(E1205,Admin_lookup!$A$2:$B$14,2,FALSE)","v":"Regional"}]
["NOLBA",6532,"SHIRE OF","CHAPMAN VALLEY","Mid-West",{"$f":"VLOOKUP(E1206,Admin_lookup!$A$2:$B$14,2,FALSE)","v":"Regional"}]
["NOLLAMARA",6061,"CITY OF","STIRLING","Perth",{"$f":"VLOOKUP(E1207,Admin_lookup!$A$2:$B$14,2,FALSE)","v":"Metro"}]
["NOMANS LAKE",6312,"SHIRE OF","NARROGIN","Wheatbelt",{"$f":"VLOOKUP(E1208,Admin_lookup!$A$2:$B$14,2,FALSE)","v":"Regional"}]
["NORANDA",6062,"CITY OF","BAYSWATER","Perth",{"$f":"VLOOKUP(E1209,Admin_lookup!$A$2:$B$14,2,FALSE)","v":"Metro"}]
["NORNALUP",6333,"SHIRE OF","DENMARK","Great Southern",{"$f":"VLOOKUP(E1210,Admin_lookup!$A$2:$B$14,2,FALSE)","v":"Regional"}]
["NORPA",6415,"SHIRE OF","MERREDIN","Wheatbelt",{"$f":"VLOOKUP(E1211,Admin_lookup!$A$2:$B$14,2,FALSE)","v":"Regional"}]
["NORSEMAN",6443,"SHIRE OF","COOLGARDIE","Goldfields-Esperance",{"$f":"VLOOKUP(E1212,Admin_lookup!$A$2:$B$14,2,FALSE)","v":"Regional"}]
["NORTH BAANDEE",6412,"SHIRE OF","KELLERBERRIN","Wheatbelt",{"$f":"VLOOKUP(E1213,Admin_lookup!$A$2:$B$14,2,FALSE)","v":"Regional"}]
["NORTH BANNISTER",6390,"SHIRE OF","Wandering","Wheatbelt",{"$f":"VLOOKUP(E1214,Admin_lookup!$A$2:$B$14,2,FALSE)","v":"Regional"}]
["NORTH BEACH",6020,"CITY OF","STIRLING","Perth",{"$f":"VLOOKUP(E1215,Admin_lookup!$A$2:$B$14,2,FALSE)","v":"Metro"}]
["NORTH BEACH PO BOXES",6920,"CITY OF","PERTH","Perth",{"$f":"VLOOKUP(E1216,Admin_lookup!$A$2:$B$14,2,FALSE)","v":"Metro"}]
["NORTH BODALLIN",6424,"SHIRE OF","YILGARN","Wheatbelt",{"$f":"VLOOKUP(E1217,Admin_lookup!$A$2:$B$14,2,FALSE)","v":"Regional"}]
["NORTH BOYANUP",6237,"SHIRE OF","CAPEL","South West",{"$f":"VLOOKUP(E1218,Admin_lookup!$A$2:$B$14,2,FALSE)","v":"Regional"}]
["NORTH BURNGUP",6353,"SHIRE OF","DUMBLEYUNG","Wheatbelt",{"$f":"VLOOKUP(E1219,Admin_lookup!$A$2:$B$14,2,FALSE)","v":"Regional"}]
["NORTH CASCADE",6445,"SHIRE OF","ESPERANCE","Goldfields-Esperance",{"$f":"VLOOKUP(E1220,Admin_lookup!$A$2:$B$14,2,FALSE)","v":"Regional"}]
["NORTH COOGEE",6163,"CITY OF","COCKBURN","Perth",{"$f":"VLOOKUP(E1221,Admin_lookup!$A$2:$B$14,2,FALSE)","v":"Metro"}]
["NORTH DANDALUP",6207,"SHIRE OF","MURRAY","Peel",{"$f":"VLOOKUP(E1222,Admin_lookup!$A$2:$B$14,2,FALSE)","v":"Regional"}]
["NORTH ERADU",6532,"SHIRE OF","CHAPMAN VALLEY","Mid-West",{"$f":"VLOOKUP(E1223,Admin_lookup!$A$2:$B$14,2,FALSE)","v":"Regional"}]
["NORTH FREMANTLE",6159,"CITY OF","FREMANTLE","Perth",{"$f":"VLOOKUP(E1224,Admin_lookup!$A$2:$B$14,2,FALSE)","v":"Metro"}]
["NORTH GREENBUSHES",6254,"SHIRE OF","BRIDGETOWN-GREENBUSHES","South West",{"$f":"VLOOKUP(E1225,Admin_lookup!$A$2:$B$14,2,FALSE)","v":"Regional"}]
["NORTH JINDONG",6280,"SHIRE OF","BUSSELTON","South West",{"$f":"VLOOKUP(E1226,Admin_lookup!$A$2:$B$14,2,FALSE)","v":"Regional"}]
["NORTH KELLERBERRIN",6410,"SHIRE OF","KELLERBERRIN","Wheatbelt",{"$f":"VLOOKUP(E1227,Admin_lookup!$A$2:$B$14,2,FALSE)","v":"Regional"}]
["NORTH KUKERIN",6352,"SHIRE OF","DUMBLEYUNG","Wheatbelt",{"$f":"VLOOKUP(E1228,Admin_lookup!$A$2:$B$14,2,FALSE)","v":"Regional"}]
["NORTH KUNUNOPPIN",6489,"SHIRE OF","TRAYNING","Wheatbelt",{"$f":"VLOOKUP(E1229,Admin_lookup!$A$2:$B$14,2,FALSE)","v":"Regional"}]
["NORTH LAKE",6163,"CITY OF","COCKBURN","Perth",{"$f":"VLOOKUP(E1230,Admin_lookup!$A$2:$B$14,2,FALSE)","v":"Metro"}]
["NORTH LAKE GRACE",6353,"SHIRE OF","DUMBLEYUNG","Wheatbelt",{"$f":"VLOOKUP(E1231,Admin_lookup!$A$2:$B$14,2,FALSE)","v":"Regional"}]
["NORTH MOULYINNING",6351,"SHIRE OF","DUMBLEYUNG","Wheatbelt",{"$f":"VLOOKUP(E1232,Admin_lookup!$A$2:$B$14,2,FALSE)","v":"Regional"}]
["NORTH PERTH",6006,"TOWN OF","VINCENT","Perth",{"$f":"VLOOKUP(E1233,Admin_lookup!$A$2:$B$14,2,FALSE)","v":"Metro"}]
["NORTH PERTH PO BOXES",6906,"CITY OF","PERTH","Perth",{"$f":"VLOOKUP(E1234,Admin_lookup!$A$2:$B$14,2,FALSE)","v":"Metro"}]
["NORTH PLANTATIONS",6701,"SHIRE OF","CARNARVON","Gascoyne",{"$f":"VLOOKUP(E1235,Admin_lookup!$A$2:$B$14,2,FALSE)","v":"Regional"}]
["NORTH STIRLINGS",6338,"SHIRE OF","GNOWANGERUP","Great Southern",{"$f":"VLOOKUP(E1236,Admin_lookup!$A$2:$B$14,2,FALSE)","v":"Regional"}]
["NORTH TAMMIN",6409,"SHIRE OF","TAMMIN","Wheatbelt",{"$f":"VLOOKUP(E1237,Admin_lookup!$A$2:$B$14,2,FALSE)","v":"Regional"}]
["NORTH TRAYNING",6488,"SHIRE OF","TRAYNING","Wheatbelt",{"$f":"VLOOKUP(E1238,Admin_lookup!$A$2:$B$14,2,FALSE)","v":"Regional"}]
["NORTH WALPOLE",6398,"SHIRE OF","MANJIMUP","South West",{"$f":"VLOOKUP(E1239,Admin_lookup!$A$2:$B$14,2,FALSE)","v":"Regional"}]
["NORTH WEST CAPE",6707,"SHIRE OF","EXMOUTH","Gascoyne",{"$f":"VLOOKUP(E1240,Admin_lookup!$A$2:$B$14,2,FALSE)","v":"Regional"}]
["NORTH WIALKI",6473,"SHIRE OF","MOUNT MARSHALL","Wheatbelt",{"$f":"VLOOKUP(E1241,Admin_lookup!$A$2:$B$14,2,FALSE)","v":"Regional"}]
["NORTH YELBENI",6487,"SHIRE OF","TRAYNING","Wheatbelt",{"$f":"VLOOKUP(E1242,Admin_lookup!$A$2:$B$14,2,FALSE)","v":"Regional"}]
["NORTH YUNDERUP",6208,"SHIRE OF","MURRAY","Peel",{"$f":"VLOOKUP(E1243,Admin_lookup!$A$2:$B$14,2,FALSE)","v":"Regional"}]
["NORTHAM",6401,"SHIRE OF","GOOMALLING","Wheatbelt",{"$f":"VLOOKUP(E1244,Admin_lookup!$A$2:$B$14,2,FALSE)","v":"Regional"}]
["NORTHAMPTON",6535,"SHIRE OF","NORTHAMPTON","Mid-West",{"$f":"VLOOKUP(E1245,Admin_lookup!$A$2:$B$14,2,FALSE)","v":"Regional"}]
["NORTHBRIDGE",6003,"CITY OF","PERTH","Perth",{"$f":"VLOOKUP(E1246,Admin_lookup!$A$2:$B$14,2,FALSE)","v":"Metro"}]
["NORTHBRIDGE LVR",6803,"CITY OF","PERTH","Perth",{"$f":"VLOOKUP(E1247,Admin_lookup!$A$2:$B$14,2,FALSE)","v":"Metro"}]
["NORTHBRIDGE PO BOXES",6865,"CITY OF","PERTH","Perth",{"$f":"VLOOKUP(E1248,Admin_lookup!$A$2:$B$14,2,FALSE)","v":"Metro"}]
["NORTHCLIFFE",6262,"SHIRE OF","MANJIMUP","South West",{"$f":"VLOOKUP(E1249,Admin_lookup!$A$2:$B$14,2,FALSE)","v":"Regional"}]
["NORTHERN GULLY",6532,"SHIRE OF","CHAPMAN VALLEY","Mid-West",{"$f":"VLOOKUP(E1250,Admin_lookup!$A$2:$B$14,2,FALSE)","v":"Regional"}]
["NORTHLANDS",6905,"CITY OF","PERTH","Perth",{"$f":"VLOOKUP(E1251,Admin_lookup!$A$2:$B$14,2,FALSE)","v":"Metro"}]
["NOWERGUP",6032,"CITY OF","WANNEROO","Perth",{"$f":"VLOOKUP(E1252,Admin_lookup!$A$2:$B$14,2,FALSE)","v":"Metro"}]
["NUGADONG",6609,"SHIRE OF","DALWALLINU","Wheatbelt",{"$f":"VLOOKUP(E1253,Admin_lookup!$A$2:$B$14,2,FALSE)","v":"Regional"}]
["NUKARNI",6480,"SHIRE OF","MERREDIN","Wheatbelt",{"$f":"VLOOKUP(E1254,Admin_lookup!$A$2:$B$14,2,FALSE)","v":"Regional"}]
["NULLAGINE",6758,"SHIRE OF","EAST PILBARA","Pilbara",{"$f":"VLOOKUP(E1255,Admin_lookup!$A$2:$B$14,2,FALSE)","v":"Pilbara"}]
["NULLAKI",6330,"CITY OF","ALBANY","Great Southern",{"$f":"VLOOKUP(E1256,Admin_lookup!$A$2:$B$14,2,FALSE)","v":"Regional"}]
["NULSEN",6450,"SHIRE OF","ESPERANCE","Goldfields-Esperance",{"$f":"VLOOKUP(E1257,Admin_lookup!$A$2:$B$14,2,FALSE)","v":"Regional"}]
["NUNGARIN",6490,"SHIRE OF","NUNGARIN","Wheatbelt",{"$f":"VLOOKUP(E1258,Admin_lookup!$A$2:$B$14,2,FALSE)","v":"Regional"}]
["NUNIERRA",6630,"SHIRE OF","MURCHISON","Mid-West",{"$f":"VLOOKUP(E1259,Admin_lookup!$A$2:$B$14,2,FALSE)","v":"Regional"}]
["NUNILE",6566,"SHIRE OF","TOODYAY","Wheatbelt",{"$f":"VLOOKUP(E1260,Admin_lookup!$A$2:$B$14,2,FALSE)","v":"Regional"}]
["NYABING",6341,"SHIRE OF","KENT","Great Southern",{"$f":"VLOOKUP(E1261,Admin_lookup!$A$2:$B$14,2,FALSE)","v":"Regional"}]
["OAKAJEE",6532,"SHIRE OF","CHAPMAN VALLEY","Mid-West",{"$f":"VLOOKUP(E1262,Admin_lookup!$A$2:$B$14,2,FALSE)","v":"Regional"}]
["OAKFORD",6121,"SHIRE OF","SERPENTINE-JARRAHDALE","Peel",{"$f":"VLOOKUP(E1263,Admin_lookup!$A$2:$B$14,2,FALSE)","v":"Regional"}]
["OAKLEY",6208,"SHIRE OF","MURRAY","Peel",{"$f":"VLOOKUP(E1264,Admin_lookup!$A$2:$B$14,2,FALSE)","v":"Regional"}]
["OCEAN BEACH",6333,"SHIRE OF","DENMARK","Great Southern",{"$f":"VLOOKUP(E1265,Admin_lookup!$A$2:$B$14,2,FALSE)","v":"Regional"}]
["OCEAN REEF",6027,"CITY OF","JOONDALUP","Perth",{"$f":"VLOOKUP(E1266,Admin_lookup!$A$2:$B$14,2,FALSE)","v":"Metro"}]
["O'CONNOR",6163,"CITY OF","COCKBURN","Perth",{"$f":"VLOOKUP(E1267,Admin_lookup!$A$2:$B$14,2,FALSE)","v":"Metro"}]
["OGILVIE",6535,"SHIRE OF","NORTHAMPTON","Mid-West",{"$f":"VLOOKUP(E1268,Admin_lookup!$A$2:$B$14,2,FALSE)","v":"Regional"}]
["OLD PLAINS",6569,"SHIRE OF","VICTORIA PLAINS","Wheatbelt",{"$f":"VLOOKUP(E1269,Admin_lookup!$A$2:$B$14,2,FALSE)","v":"Regional"}]
["OLDBURY",6121,"SHIRE OF","SERPENTINE-JARRAHDALE","Peel",{"$f":"VLOOKUP(E1270,Admin_lookup!$A$2:$B$14,2,FALSE)","v":"Regional"}]
["ONGERUP",6336,"SHIRE OF","GNOWANGERUP","Great Southern",{"$f":"VLOOKUP(E1271,Admin_lookup!$A$2:$B$14,2,FALSE)","v":"Regional"}]
["ONSLOW",6710,"SHIRE OF","ASHBURTON","Pilbara",{"$f":"VLOOKUP(E1272,Admin_lookup!$A$2:$B$14,2,FALSE)","v":"Pilbara"}]
["OOMBULGURRI",6740,"SHIRE OF","WYNDHAM-EAST KIMBERLEY","Kimberley",{"$f":"VLOOKUP(E1273,Admin_lookup!$A$2:$B$14,2,FALSE)","v":"Kimberley"}]
["ORA BANDA",6431,"SHIRE OF","NGAANYATJARRAKU","Goldfields-Esperance",{"$f":"VLOOKUP(E1274,Admin_lookup!$A$2:$B$14,2,FALSE)","v":"Regional"}]
["ORANA",6330,"CITY OF","ALBANY","Great Southern",{"$f":"VLOOKUP(E1275,Admin_lookup!$A$2:$B$14,2,FALSE)","v":"Regional"}]
["ORANGE GROVE",6109,"CITY OF","GOSNELLS","Perth",{"$f":"VLOOKUP(E1276,Admin_lookup!$A$2:$B$14,2,FALSE)","v":"Metro"}]
["ORANGE SPRINGS",6503,"SHIRE OF","GINGIN","Wheatbelt",{"$f":"VLOOKUP(E1277,Admin_lookup!$A$2:$B$14,2,FALSE)","v":"Regional"}]
["ORCHID VALLEY",6394,"SHIRE OF","KOJONUP","Great Southern",{"$f":"VLOOKUP(E1278,Admin_lookup!$A$2:$B$14,2,FALSE)","v":"Regional"}]
["ORD RIVER",6770,"SHIRE OF","HALLS CREEK","Kimberley",{"$f":"VLOOKUP(E1279,Admin_lookup!$A$2:$B$14,2,FALSE)","v":"Kimberley"}]
["ORELIA",6167,"TOWN OF","KWINANA","Perth",{"$f":"VLOOKUP(E1280,Admin_lookup!$A$2:$B$14,2,FALSE)","v":"Metro"}]
["OSBORNE PARK",6017,"CITY OF","STIRLING","Perth",{"$f":"VLOOKUP(E1281,Admin_lookup!$A$2:$B$14,2,FALSE)","v":"Metro"}]
["OSBORNE PARK DC",6017,"CITY OF","STIRLING","Perth",{"$f":"VLOOKUP(E1282,Admin_lookup!$A$2:$B$14,2,FALSE)","v":"Metro"}]
["OSBORNE PARK DC PO BOXES 1001-1515",6916,"CITY OF","PERTH","Perth",{"$f":"VLOOKUP(E1283,Admin_lookup!$A$2:$B$14,2,FALSE)","v":"Metro"}]
["OSBORNE PARK GARDEN PARK PO BOXES 700-762",6916,"CITY OF","PERTH","Perth",{"$f":"VLOOKUP(E1284,Admin_lookup!$A$2:$B$14,2,FALSE)","v":"Metro"}]
["OSBORNE PARK PO BOXES 1-515",6917,"CITY OF","PERTH","Perth",{"$f":"VLOOKUP(E1285,Admin_lookup!$A$2:$B$14,2,FALSE)","v":"Metro"}]
["OSMINGTON",6285,"SHIRE OF","AUGUSTA-MARGARET RIVER","South West",{"$f":"VLOOKUP(E1286,Admin_lookup!$A$2:$B$14,2,FALSE)","v":"Regional"}]
["PADBURY",6025,"CITY OF","JOONDALUP","Perth",{"$f":"VLOOKUP(E1287,Admin_lookup!$A$2:$B$14,2,FALSE)","v":"Metro"}]
["PALGARUP",6258,"SHIRE OF","MANJIMUP","South West",{"$f":"VLOOKUP(E1288,Admin_lookup!$A$2:$B$14,2,FALSE)","v":"Regional"}]
["PALLINUP",6335,"SHIRE OF","GNOWANGERUP","Great Southern",{"$f":"VLOOKUP(E1289,Admin_lookup!$A$2:$B$14,2,FALSE)","v":"Regional"}]
["PALMDALE",6328,"CITY OF","ALBANY","Great Southern",{"$f":"VLOOKUP(E1290,Admin_lookup!$A$2:$B$14,2,FALSE)","v":"Regional"}]
["PALMER",6225,"SHIRE OF","COLLIE","South West",{"$f":"VLOOKUP(E1291,Admin_lookup!$A$2:$B$14,2,FALSE)","v":"Regional"}]
["PALMYRA",6157,"CITY OF","MELVILLE","Perth",{"$f":"VLOOKUP(E1292,Admin_lookup!$A$2:$B$14,2,FALSE)","v":"Metro"}]
["PALMYRA DC",6157,"CITY OF","MELVILLE","Perth",{"$f":"VLOOKUP(E1293,Admin_lookup!$A$2:$B$14,2,FALSE)","v":"Metro"}]
["PALMYRA DC PO BOXES",6961,"CITY OF","PERTH","Perth",{"$f":"VLOOKUP(E1294,Admin_lookup!$A$2:$B$14,2,FALSE)","v":"Metro"}]
["PALMYRA PO BOXES",6957,"CITY OF","PERTH","Perth",{"$f":"VLOOKUP(E1295,Admin_lookup!$A$2:$B$14,2,FALSE)","v":"Metro"}]
["PANNAWONICA",6716,"SHIRE OF","ASHBURTON","Pilbara",{"$f":"VLOOKUP(E1296,Admin_lookup!$A$2:$B$14,2,FALSE)","v":"Pilbara"}]
["PANTAPIN",6384,"SHIRE OF","QUAIRADING","Wheatbelt",{"$f":"VLOOKUP(E1297,Admin_lookup!$A$2:$B$14,2,FALSE)","v":"Regional"}]
["PARABURDOO",6754,"SHIRE OF","ASHBURTON","Pilbara",{"$f":"VLOOKUP(E1298,Admin_lookup!$A$2:$B$14,2,FALSE)","v":"Pilbara"}]
["PARADISE",6236,"SHIRE OF","DARDANUP","South West",{"$f":"VLOOKUP(E1299,Admin_lookup!$A$2:$B$14,2,FALSE)","v":"Regional"}]
["PARDOO",6721,"TOWN OF","PORT HEDLAND","Pilbara",{"$f":"VLOOKUP(E1300,Admin_lookup!$A$2:$B$14,2,FALSE)","v":"Pilbara"}]
["PARKER RANGE",6426,"SHIRE OF","YILGARN","Wheatbelt",{"$f":"VLOOKUP(E1301,Admin_lookup!$A$2:$B$14,2,FALSE)","v":"Regional"}]
["PARKERVILLE",6081,"SHIRE OF","MUNDARING","Perth",{"$f":"VLOOKUP(E1302,Admin_lookup!$A$2:$B$14,2,FALSE)","v":"Metro"}]
["PARKESTON",6434,"CITY OF","KALGOORLIE-BOULDER","Goldfields-Esperance",{"$f":"VLOOKUP(E1303,Admin_lookup!$A$2:$B$14,2,FALSE)","v":"Regional"}]
["PARKFIELD",6233,"SHIRE OF","HARVEY","South West",{"$f":"VLOOKUP(E1304,Admin_lookup!$A$2:$B$14,2,FALSE)","v":"Regional"}]
["PARKLANDS",6180,"CITY OF","MANDURAH","Peel",{"$f":"VLOOKUP(E1305,Admin_lookup!$A$2:$B$14,2,FALSE)","v":"Regional"}]
["PARKWOOD",6147,"CITY OF","CANNING","Perth",{"$f":"VLOOKUP(E1306,Admin_lookup!$A$2:$B$14,2,FALSE)","v":"Metro"}]
["PARMELIA",6167,"TOWN OF","KWINANA","Perth",{"$f":"VLOOKUP(E1307,Admin_lookup!$A$2:$B$14,2,FALSE)","v":"Metro"}]
["PARRYVILLE",6333,"SHIRE OF","DENMARK","Great Southern",{"$f":"VLOOKUP(E1308,Admin_lookup!$A$2:$B$14,2,FALSE)","v":"Regional"}]
["PAULLS VALLEY",6076,"SHIRE OF","KALAMUNDA","Perth",{"$f":"VLOOKUP(E1309,Admin_lookup!$A$2:$B$14,2,FALSE)","v":"Metro"}]
["PAYNEDALE",6239,"SHIRE OF","DONNYBROOK-BALINGUP","South West",{"$f":"VLOOKUP(E1310,Admin_lookup!$A$2:$B$14,2,FALSE)","v":"Regional"}]
["PAYNES FIND",6612,"SHIRE OF","YALGOO","Mid-West",{"$f":"VLOOKUP(E1311,Admin_lookup!$A$2:$B$14,2,FALSE)","v":"Regional"}]
["PAYNESVILLE",6638,"SHIRE OF","MOUNT MAGNET","Mid-West",{"$f":"VLOOKUP(E1312,Admin_lookup!$A$2:$B$14,2,FALSE)","v":"Regional"}]
["PEACEFUL BAY",6333,"SHIRE OF","DENMARK","Great Southern",{"$f":"VLOOKUP(E1313,Admin_lookup!$A$2:$B$14,2,FALSE)","v":"Regional"}]
["PEAK HILL",6642,"SHIRE OF","MEEKATHARRA","Mid-West",{"$f":"VLOOKUP(E1314,Admin_lookup!$A$2:$B$14,2,FALSE)","v":"Regional"}]
["PEARSALL",6065,"CITY OF","WANNEROO","Perth",{"$f":"VLOOKUP(E1315,Admin_lookup!$A$2:$B$14,2,FALSE)","v":"Metro"}]
["PEEDAMULLA",6710,"SHIRE OF","ASHBURTON","Pilbara",{"$f":"VLOOKUP(E1316,Admin_lookup!$A$2:$B$14,2,FALSE)","v":"Pilbara"}]
["PEERABEELUP",6260,"SHIRE OF","MANJIMUP","South West",{"$f":"VLOOKUP(E1317,Admin_lookup!$A$2:$B$14,2,FALSE)","v":"Regional"}]
["PEGS CREEK",6714,"SHIRE OF","ROEBOURNE","Pilbara",{"$f":"VLOOKUP(E1318,Admin_lookup!$A$2:$B$14,2,FALSE)","v":"Pilbara"}]
["PELICAN POINT",6230,"CITY OF","BUNBURY","South West",{"$f":"VLOOKUP(E1319,Admin_lookup!$A$2:$B$14,2,FALSE)","v":"Regional"}]
["PEMBERTON",6260,"SHIRE OF","MANJIMUP","South West",{"$f":"VLOOKUP(E1320,Admin_lookup!$A$2:$B$14,2,FALSE)","v":"Regional"}]
["PEPPERMINT GROVE",6011,"SHIRE OF","PEPPERMINT GROVE","Perth",{"$f":"VLOOKUP(E1321,Admin_lookup!$A$2:$B$14,2,FALSE)","v":"Metro"}]
["PEPPERMINT GROVE BEACH",6271,"SHIRE OF","CAPEL","South West",{"$f":"VLOOKUP(E1322,Admin_lookup!$A$2:$B$14,2,FALSE)","v":"Regional"}]
["PERENJORI",6620,"SHIRE OF","PERENJORI","Mid-West",{"$f":"VLOOKUP(E1323,Admin_lookup!$A$2:$B$14,2,FALSE)","v":"Regional"}]
["PERILLUP",6324,"SHIRE OF","PLANTAGENET","Great Southern",{"$f":"VLOOKUP(E1324,Admin_lookup!$A$2:$B$14,2,FALSE)","v":"Regional"}]
["PERON",6168,"CITY OF","ROCKINGHAM","Perth",{"$f":"VLOOKUP(E1325,Admin_lookup!$A$2:$B$14,2,FALSE)","v":"Metro"}]
["PERTH",6000,"CITY OF","PERTH","Perth",{"$f":"VLOOKUP(E1326,Admin_lookup!$A$2:$B$14,2,FALSE)","v":"Metro"}]
["PERTH AIRPORT",6105,"CITY OF","BELMONT","Perth",{"$f":"VLOOKUP(E1327,Admin_lookup!$A$2:$B$14,2,FALSE)","v":"Metro"}]
["PERTH BC",6849,"CITY OF","PERTH","Perth",{"$f":"VLOOKUP(E1328,Admin_lookup!$A$2:$B$14,2,FALSE)","v":"Metro"}]
["PERTH GPO",6000,"CITY OF","PERTH","Perth",{"$f":"VLOOKUP(E1329,Admin_lookup!$A$2:$B$14,2,FALSE)","v":"Metro"}]
["PERTH GPO BOXES 9000-10000",6848,"CITY OF","PERTH","Perth",{"$f":"VLOOKUP(E1330,Admin_lookup!$A$2:$B$14,2,FALSE)","v":"Metro"}]
["PERTH GPO BOXES A1-A48",6837,"CITY OF","PERTH","Perth",{"$f":"VLOOKUP(E1331,Admin_lookup!$A$2:$B$14,2,FALSE)","v":"Metro"}]
["PERTH GPO BOXES B49-B96",6838,"CITY OF","PERTH","Perth",{"$f":"VLOOKUP(E1332,Admin_lookup!$A$2:$B$14,2,FALSE)","v":"Metro"}]
["PERTH GPO BOXES C97-C140",6839,"CITY OF","PERTH","Perth",{"$f":"VLOOKUP(E1333,Admin_lookup!$A$2:$B$14,2,FALSE)","v":"Metro"}]
["PERTH GPO BOXES D141-D200",6840,"CITY OF","PERTH","Perth",{"$f":"VLOOKUP(E1334,Admin_lookup!$A$2:$B$14,2,FALSE)","v":"Metro"}]
["PERTH GPO BOXES E201-H629",6841,"CITY OF","PERTH","Perth",{"$f":"VLOOKUP(E1335,Admin_lookup!$A$2:$B$14,2,FALSE)","v":"Metro"}]
["PERTH GPO BOXES J630-L923",6842,"CITY OF","PERTH","Perth",{"$f":"VLOOKUP(E1336,Admin_lookup!$A$2:$B$14,2,FALSE)","v":"Metro"}]
["PERTH GPO BOXES M924-N1144",6843,"CITY OF","PERTH","Perth",{"$f":"VLOOKUP(E1337,Admin_lookup!$A$2:$B$14,2,FALSE)","v":"Metro"}]
["PERTH GPO BOXES P1145-R1290",6844,"CITY OF","PERTH","Perth",{"$f":"VLOOKUP(E1338,Admin_lookup!$A$2:$B$14,2,FALSE)","v":"Metro"}]
["PERTH GPO BOXES S1291-U1997",6845,"CITY OF","PERTH","Perth",{"$f":"VLOOKUP(E1339,Admin_lookup!$A$2:$B$14,2,FALSE)","v":"Metro"}]
["PERTH GPO BOXES W1998-W2109",6846,"CITY OF","PERTH","Perth",{"$f":"VLOOKUP(E1340,Admin_lookup!$A$2:$B$14,2,FALSE)","v":"Metro"}]
["PERTH GPO BOXES X2200-X2311",6847,"CITY OF","PERTH","Perth",{"$f":"VLOOKUP(E1341,Admin_lookup!$A$2:$B$14,2,FALSE)","v":"Metro"}]
["PERTH GPO LOCKED BAGS",6001,"CITY OF","PERTH","Perth",{"$f":"VLOOKUP(E1342,Admin_lookup!$A$2:$B$14,2,FALSE)","v":"Metro"}]
["PERTH HBF HEALTH FUNDS INC",6809,"CITY OF","PERTH","Perth",{"$f":"VLOOKUP(E1343,Admin_lookup!$A$2:$B$14,2,FALSE)","v":"Metro"}]
["PERTH LVR",6817,"CITY OF","PERTH","Perth",{"$f":"VLOOKUP(E1344,Admin_lookup!$A$2:$B$14,2,FALSE)","v":"Metro"}]
["PERTH LVR2",6820,"CITY OF","PERTH","Perth",{"$f":"VLOOKUP(E1345,Admin_lookup!$A$2:$B$14,2,FALSE)","v":"Metro"}]
["PERTH PO BOX",6800,"CITY OF","PERTH","Perth",{"$f":"VLOOKUP(E1346,Admin_lookup!$A$2:$B$14,2,FALSE)","v":"Metro"}]
["PERTH PO BOXES 3001-3630",6832,"CITY OF","PERTH","Perth",{"$f":"VLOOKUP(E1347,Admin_lookup!$A$2:$B$14,2,FALSE)","v":"Metro"}]
["PERTH PO BOXES Z5001-Z5584&5585-5646",6831,"CITY OF","PERTH","Perth",{"$f":"VLOOKUP(E1348,Admin_lookup!$A$2:$B$14,2,FALSE)","v":"Metro"}]
["PERTH SUNDAY TIMES",6827,"CITY OF","PERTH","Perth",{"$f":"VLOOKUP(E1349,Admin_lookup!$A$2:$B$14,2,FALSE)","v":"Metro"}]
["PERTH TELSTRA",6830,"CITY OF","PERTH","Perth",{"$f":"VLOOKUP(E1350,Admin_lookup!$A$2:$B$14,2,FALSE)","v":"Metro"}]
["PERUP",6258,"SHIRE OF","MANJIMUP","South West",{"$f":"VLOOKUP(E1351,Admin_lookup!$A$2:$B$14,2,FALSE)","v":"Regional"}]
["PETRUDOR",6468,"SHIRE OF","DALWALLINU","Wheatbelt",{"$f":"VLOOKUP(E1352,Admin_lookup!$A$2:$B$14,2,FALSE)","v":"Regional"}]
["PIARA WATERS",6112,"CITY OF","ARMADALE","Perth",{"$f":"VLOOKUP(E1353,Admin_lookup!$A$2:$B$14,2,FALSE)","v":"Metro"}]
["PIAWANING",6572,"SHIRE OF","VICTORIA PLAINS","Wheatbelt",{"$f":"VLOOKUP(E1354,Admin_lookup!$A$2:$B$14,2,FALSE)","v":"Regional"}]
["PICCADILLY",6430,"CITY OF","KALGOORLIE-BOULDER","Goldfields-Esperance",{"$f":"VLOOKUP(E1355,Admin_lookup!$A$2:$B$14,2,FALSE)","v":"Regional"}]
["PICKERING BROOK",6076,"SHIRE OF","KALAMUNDA","Perth",{"$f":"VLOOKUP(E1356,Admin_lookup!$A$2:$B$14,2,FALSE)","v":"Metro"}]
["PICTON",6229,"SHIRE OF","DARDANUP","South West",{"$f":"VLOOKUP(E1357,Admin_lookup!$A$2:$B$14,2,FALSE)","v":"Regional"}]
["PICTON EAST",6229,"SHIRE OF","DARDANUP","South West",{"$f":"VLOOKUP(E1358,Admin_lookup!$A$2:$B$14,2,FALSE)","v":"Regional"}]
["PIESSE BROOK",6076,"SHIRE OF","KALAMUNDA","Perth",{"$f":"VLOOKUP(E1359,Admin_lookup!$A$2:$B$14,2,FALSE)","v":"Metro"}]
["PIESSEVILLE",6315,"SHIRE OF","WAGIN","Wheatbelt",{"$f":"VLOOKUP(E1360,Admin_lookup!$A$2:$B$14,2,FALSE)","v":"Regional"}]
["PINDAR",6631,"SHIRE OF","MULLEWA","Mid-West",{"$f":"VLOOKUP(E1361,Admin_lookup!$A$2:$B$14,2,FALSE)","v":"Regional"}]
["PINGARING",6357,"SHIRE OF","KULIN","Wheatbelt",{"$f":"VLOOKUP(E1362,Admin_lookup!$A$2:$B$14,2,FALSE)","v":"Regional"}]
["PINGELLY",6308,"SHIRE OF","PINGELLY","Wheatbelt",{"$f":"VLOOKUP(E1363,Admin_lookup!$A$2:$B$14,2,FALSE)","v":"Regional"}]
["PINGRUP",6343,"SHIRE OF","KENT","Great Southern",{"$f":"VLOOKUP(E1364,Admin_lookup!$A$2:$B$14,2,FALSE)","v":"Regional"}]
["PINJAR",6065,"CITY OF","WANNEROO","Perth",{"$f":"VLOOKUP(E1365,Admin_lookup!$A$2:$B$14,2,FALSE)","v":"Metro"}]
["PINJARRA",6208,"SHIRE OF","MURRAY","Peel",{"$f":"VLOOKUP(E1366,Admin_lookup!$A$2:$B$14,2,FALSE)","v":"Regional"}]
["PINK LAKE",6450,"SHIRE OF","ESPERANCE","Goldfields-Esperance",{"$f":"VLOOKUP(E1367,Admin_lookup!$A$2:$B$14,2,FALSE)","v":"Regional"}]
["PINTHARUKA",6623,"SHIRE OF","MORAWA","Mid-West",{"$f":"VLOOKUP(E1368,Admin_lookup!$A$2:$B$14,2,FALSE)","v":"Regional"}]
["PINWERNYING",6317,"SHIRE OF","KATANNING","Great Southern",{"$f":"VLOOKUP(E1369,Admin_lookup!$A$2:$B$14,2,FALSE)","v":"Regional"}]
["PIPPINGARRA",6722,"TOWN OF","PORT HEDLAND","Pilbara",{"$f":"VLOOKUP(E1370,Admin_lookup!$A$2:$B$14,2,FALSE)","v":"Pilbara"}]
["PITHARA",6608,"SHIRE OF","DALWALLINU","Wheatbelt",{"$f":"VLOOKUP(E1371,Admin_lookup!$A$2:$B$14,2,FALSE)","v":"Regional"}]
["PLUMRIDGE LAKES",6431,"SHIRE OF","NGAANYATJARRAKU","Goldfields-Esperance",{"$f":"VLOOKUP(E1372,Admin_lookup!$A$2:$B$14,2,FALSE)","v":"Regional"}]
["POINT GREY",6208,"SHIRE OF","MURRAY","Peel",{"$f":"VLOOKUP(E1373,Admin_lookup!$A$2:$B$14,2,FALSE)","v":"Regional"}]
["POINT SAMSON",6720,"SHIRE OF","ROEBOURNE","Pilbara",{"$f":"VLOOKUP(E1374,Admin_lookup!$A$2:$B$14,2,FALSE)","v":"Pilbara"}]
["POPANYINNING",6309,"SHIRE OF","CUBALLING","Wheatbelt",{"$f":"VLOOKUP(E1375,Admin_lookup!$A$2:$B$14,2,FALSE)","v":"Regional"}]
["PORONGURUP",6324,"SHIRE OF","PLANTAGENET","Great Southern",{"$f":"VLOOKUP(E1376,Admin_lookup!$A$2:$B$14,2,FALSE)","v":"Regional"}]
["PORT ALBANY",6330,"CITY OF","ALBANY","Great Southern",{"$f":"VLOOKUP(E1377,Admin_lookup!$A$2:$B$14,2,FALSE)","v":"Regional"}]
["PORT DENISON",6525,"SHIRE OF","IRWIN","Mid-West",{"$f":"VLOOKUP(E1378,Admin_lookup!$A$2:$B$14,2,FALSE)","v":"Regional"}]
["PORT HEDLAND",6721,"TOWN OF","PORT HEDLAND","Pilbara",{"$f":"VLOOKUP(E1379,Admin_lookup!$A$2:$B$14,2,FALSE)","v":"Pilbara"}]
["PORT KENNEDY",6172,"CITY OF","ROCKINGHAM","Perth",{"$f":"VLOOKUP(E1380,Admin_lookup!$A$2:$B$14,2,FALSE)","v":"Metro"}]
["POSTANS",6167,"TOWN OF","KWINANA","Perth",{"$f":"VLOOKUP(E1381,Admin_lookup!$A$2:$B$14,2,FALSE)","v":"Metro"}]
["PRESTON BEACH",6215,"SHIRE OF","WAROONA","Peel",{"$f":"VLOOKUP(E1382,Admin_lookup!$A$2:$B$14,2,FALSE)","v":"Regional"}]
["PRESTON SETTLEMENT",6225,"SHIRE OF","COLLIE","South West",{"$f":"VLOOKUP(E1383,Admin_lookup!$A$2:$B$14,2,FALSE)","v":"Regional"}]
["PREVELLY",6285,"SHIRE OF","AUGUSTA-MARGARET RIVER","South West",{"$f":"VLOOKUP(E1384,Admin_lookup!$A$2:$B$14,2,FALSE)","v":"Regional"}]
["PRINCE REGENT RIVER",6740,"SHIRE OF","WYNDHAM-EAST KIMBERLEY","Kimberley",{"$f":"VLOOKUP(E1385,Admin_lookup!$A$2:$B$14,2,FALSE)","v":"Kimberley"}]
["PUMPHREYS BRIDGE",6308,"SHIRE OF","PINGELLY","Wheatbelt",{"$f":"VLOOKUP(E1386,Admin_lookup!$A$2:$B$14,2,FALSE)","v":"Regional"}]
["PURNULULU",6770,"SHIRE OF","HALLS CREEK","Kimberley",{"$f":"VLOOKUP(E1387,Admin_lookup!$A$2:$B$14,2,FALSE)","v":"Kimberley"}]
["QUAIRADING",6383,"SHIRE OF","QUAIRADING","Wheatbelt",{"$f":"VLOOKUP(E1388,Admin_lookup!$A$2:$B$14,2,FALSE)","v":"Regional"}]
["QUALEUP",6394,"SHIRE OF","KOJONUP","Great Southern",{"$f":"VLOOKUP(E1389,Admin_lookup!$A$2:$B$14,2,FALSE)","v":"Regional"}]
["QUEDJINUP",6281,"SHIRE OF","BUSSELTON","South West",{"$f":"VLOOKUP(E1390,Admin_lookup!$A$2:$B$14,2,FALSE)","v":"Regional"}]
["QUEENS PARK",6107,"CITY OF","CANNING","Perth",{"$f":"VLOOKUP(E1391,Admin_lookup!$A$2:$B$14,2,FALSE)","v":"Metro"}]
["QUEENWOOD",6239,"SHIRE OF","DONNYBROOK-BALINGUP","South West",{"$f":"VLOOKUP(E1392,Admin_lookup!$A$2:$B$14,2,FALSE)","v":"Regional"}]
["QUELAGETTING",6405,"SHIRE OF","CUNDERDIN","Wheatbelt",{"$f":"VLOOKUP(E1393,Admin_lookup!$A$2:$B$14,2,FALSE)","v":"Regional"}]
["QUELLINGTON",6302,"SHIRE OF","YORK","Wheatbelt",{"$f":"VLOOKUP(E1394,Admin_lookup!$A$2:$B$14,2,FALSE)","v":"Regional"}]
["QUINDALUP",6281,"SHIRE OF","BUSSELTON","South West",{"$f":"VLOOKUP(E1395,Admin_lookup!$A$2:$B$14,2,FALSE)","v":"Regional"}]
["QUINDANNING",6391,"SHIRE OF","WILLIAMS","Wheatbelt",{"$f":"VLOOKUP(E1396,Admin_lookup!$A$2:$B$14,2,FALSE)","v":"Regional"}]
["QUINNINUP",6258,"SHIRE OF","MANJIMUP","South West",{"$f":"VLOOKUP(E1397,Admin_lookup!$A$2:$B$14,2,FALSE)","v":"Regional"}]
["QUINNS ROCKS",6030,"CITY OF","WANNEROO","Perth",{"$f":"VLOOKUP(E1398,Admin_lookup!$A$2:$B$14,2,FALSE)","v":"Metro"}]
["RANFORD",6390,"SHIRE OF","BODDINGTON","Peel",{"$f":"VLOOKUP(E1399,Admin_lookup!$A$2:$B$14,2,FALSE)","v":"Regional"}]
["RANGEWAY",6530,"CITY OF","GERALDTON-GREENOUGH","Mid-West",{"$f":"VLOOKUP(E1400,Admin_lookup!$A$2:$B$14,2,FALSE)","v":"Regional"}]
["RAVENSTHORPE",6346,"SHIRE OF","RAVENSTHORPE","Goldfields-Esperance",{"$f":"VLOOKUP(E1401,Admin_lookup!$A$2:$B$14,2,FALSE)","v":"Regional"}]
["RAVENSWOOD",6208,"SHIRE OF","MURRAY","Peel",{"$f":"VLOOKUP(E1402,Admin_lookup!$A$2:$B$14,2,FALSE)","v":"Regional"}]
["RAWLINNA",6434,"CITY OF","KALGOORLIE-BOULDER","Goldfields-Esperance",{"$f":"VLOOKUP(E1403,Admin_lookup!$A$2:$B$14,2,FALSE)","v":"Regional"}]
["RED GULLY",6503,"SHIRE OF","GINGIN","Wheatbelt",{"$f":"VLOOKUP(E1404,Admin_lookup!$A$2:$B$14,2,FALSE)","v":"Regional"}]
["RED HILL",6056,"CITY OF","SWAN","Perth",{"$f":"VLOOKUP(E1405,Admin_lookup!$A$2:$B$14,2,FALSE)","v":"Metro"}]
["REDBANK",6721,"TOWN OF","PORT HEDLAND","Pilbara",{"$f":"VLOOKUP(E1406,Admin_lookup!$A$2:$B$14,2,FALSE)","v":"Pilbara"}]
["REDCLIFFE",6104,"CITY OF","BELMONT","Perth",{"$f":"VLOOKUP(E1407,Admin_lookup!$A$2:$B$14,2,FALSE)","v":"Metro"}]
["REDGATE",6286,"SHIRE OF","AUGUSTA-MARGARET RIVER","South West",{"$f":"VLOOKUP(E1408,Admin_lookup!$A$2:$B$14,2,FALSE)","v":"Regional"}]
["REDMOND",6327,"CITY OF","ALBANY","Great Southern",{"$f":"VLOOKUP(E1409,Admin_lookup!$A$2:$B$14,2,FALSE)","v":"Regional"}]
["REDMOND WEST",6327,"CITY OF","ALBANY","Great Southern",{"$f":"VLOOKUP(E1410,Admin_lookup!$A$2:$B$14,2,FALSE)","v":"Regional"}]
["REEDY",6640,"SHIRE OF","CUE","Mid-West",{"$f":"VLOOKUP(E1411,Admin_lookup!$A$2:$B$14,2,FALSE)","v":"Regional"}]
["REGANS FORD",6507,"SHIRE OF","DANDARAGAN","Wheatbelt",{"$f":"VLOOKUP(E1412,Admin_lookup!$A$2:$B$14,2,FALSE)","v":"Regional"}]
["REINSCOURT",6280,"SHIRE OF","BUSSELTON","South West",{"$f":"VLOOKUP(E1413,Admin_lookup!$A$2:$B$14,2,FALSE)","v":"Regional"}]
["REMLAP",6472,"SHIRE OF","MOUNT MARSHALL","Wheatbelt",{"$f":"VLOOKUP(E1414,Admin_lookup!$A$2:$B$14,2,FALSE)","v":"Regional"}]
["RESERVOIR",6076,"SHIRE OF","KALAMUNDA","Perth",{"$f":"VLOOKUP(E1415,Admin_lookup!$A$2:$B$14,2,FALSE)","v":"Metro"}]
["RIDGEWOOD",6030,"CITY OF","WANNEROO","Perth",{"$f":"VLOOKUP(E1416,Admin_lookup!$A$2:$B$14,2,FALSE)","v":"Metro"}]
["RINGBARK",6258,"SHIRE OF","MANJIMUP","South West",{"$f":"VLOOKUP(E1417,Admin_lookup!$A$2:$B$14,2,FALSE)","v":"Regional"}]
["RIVERTON",6148,"CITY OF","CANNING","Perth",{"$f":"VLOOKUP(E1418,Admin_lookup!$A$2:$B$14,2,FALSE)","v":"Metro"}]
["RIVERVALE",6103,"CITY OF","BELMONT","Perth",{"$f":"VLOOKUP(E1419,Admin_lookup!$A$2:$B$14,2,FALSE)","v":"Metro"}]
["ROBINSON",6330,"CITY OF","ALBANY","Great Southern",{"$f":"VLOOKUP(E1420,Admin_lookup!$A$2:$B$14,2,FALSE)","v":"Regional"}]
["ROCKINGHAM",6168,"CITY OF","ROCKINGHAM","Perth",{"$f":"VLOOKUP(E1421,Admin_lookup!$A$2:$B$14,2,FALSE)","v":"Metro"}]
["ROCKINGHAM BEACH",6168,"CITY OF","ROCKINGHAM","Perth",{"$f":"VLOOKUP(E1422,Admin_lookup!$A$2:$B$14,2,FALSE)","v":"Metro"}]
["ROCKINGHAM BEACH PO BOXES 5001-5400",6969,"CITY OF","PERTH","Perth",{"$f":"VLOOKUP(E1423,Admin_lookup!$A$2:$B$14,2,FALSE)","v":"Metro"}]
["ROCKINGHAM DC",6168,"CITY OF","ROCKINGHAM","Perth",{"$f":"VLOOKUP(E1424,Admin_lookup!$A$2:$B$14,2,FALSE)","v":"Metro"}]
["ROCKINGHAM DC PO BOXES 2001-2350",6967,"CITY OF","PERTH","Perth",{"$f":"VLOOKUP(E1425,Admin_lookup!$A$2:$B$14,2,FALSE)","v":"Metro"}]
["ROCKINGHAM PO BOXES 1-1478",6968,"CITY OF","PERTH","Perth",{"$f":"VLOOKUP(E1426,Admin_lookup!$A$2:$B$14,2,FALSE)","v":"Metro"}]
["ROCKLEA",6751,"SHIRE OF","ASHBURTON","Pilbara",{"$f":"VLOOKUP(E1427,Admin_lookup!$A$2:$B$14,2,FALSE)","v":"Pilbara"}]
["ROCKWELL",6532,"SHIRE OF","CHAPMAN VALLEY","Mid-West",{"$f":"VLOOKUP(E1428,Admin_lookup!$A$2:$B$14,2,FALSE)","v":"Regional"}]
["ROCKY GULLY",6397,"SHIRE OF","PLANTAGENET","Great Southern",{"$f":"VLOOKUP(E1429,Admin_lookup!$A$2:$B$14,2,FALSE)","v":"Regional"}]
["ROEBOURNE",6718,"SHIRE OF","ROEBOURNE","Pilbara",{"$f":"VLOOKUP(E1430,Admin_lookup!$A$2:$B$14,2,FALSE)","v":"Pilbara"}]
["ROEBUCK",6725,"SHIRE OF","BROOME","Kimberley",{"$f":"VLOOKUP(E1431,Admin_lookup!$A$2:$B$14,2,FALSE)","v":"Kimberley"}]
["ROELANDS",6226,"SHIRE OF","HARVEY","South West",{"$f":"VLOOKUP(E1432,Admin_lookup!$A$2:$B$14,2,FALSE)","v":"Regional"}]
["ROLEYSTONE",6111,"CITY OF","ARMADALE","Perth",{"$f":"VLOOKUP(E1433,Admin_lookup!$A$2:$B$14,2,FALSE)","v":"Metro"}]
["ROSA BROOK",6285,"SHIRE OF","AUGUSTA-MARGARET RIVER","South West",{"$f":"VLOOKUP(E1434,Admin_lookup!$A$2:$B$14,2,FALSE)","v":"Regional"}]
["ROSA GLEN",6285,"SHIRE OF","AUGUSTA-MARGARET RIVER","South West",{"$f":"VLOOKUP(E1435,Admin_lookup!$A$2:$B$14,2,FALSE)","v":"Regional"}]
["ROSSMORE",6401,"SHIRE OF","GOOMALLING","Wheatbelt",{"$f":"VLOOKUP(E1436,Admin_lookup!$A$2:$B$14,2,FALSE)","v":"Regional"}]
["ROSSMOYNE",6148,"CITY OF","CANNING","Perth",{"$f":"VLOOKUP(E1437,Admin_lookup!$A$2:$B$14,2,FALSE)","v":"Metro"}]
["ROTHSAY",6620,"SHIRE OF","PERENJORI","Mid-West",{"$f":"VLOOKUP(E1438,Admin_lookup!$A$2:$B$14,2,FALSE)","v":"Regional"}]
["ROTTNEST ISLAND",6161,"CITY OF","COCKBURN","Perth",{"$f":"VLOOKUP(E1439,Admin_lookup!$A$2:$B$14,2,FALSE)","v":"Metro"}]
["ROYAL AUSTRALIAN NAVY WARSHIPS",6958,"CITY OF","PERTH","Perth",{"$f":"VLOOKUP(E1440,Admin_lookup!$A$2:$B$14,2,FALSE)","v":"Metro"}]
["RUABON",6280,"SHIRE OF","BUSSELTON","South West",{"$f":"VLOOKUP(E1441,Admin_lookup!$A$2:$B$14,2,FALSE)","v":"Regional"}]
["RUDDS GULLY",6532,"SHIRE OF","CHAPMAN VALLEY","Mid-West",{"$f":"VLOOKUP(E1442,Admin_lookup!$A$2:$B$14,2,FALSE)","v":"Regional"}]
["RYANSBROOK",6395,"SHIRE OF","KOJONUP","Great Southern",{"$f":"VLOOKUP(E1443,Admin_lookup!$A$2:$B$14,2,FALSE)","v":"Regional"}]
["SABINA RIVER",6280,"SHIRE OF","BUSSELTON","South West",{"$f":"VLOOKUP(E1444,Admin_lookup!$A$2:$B$14,2,FALSE)","v":"Regional"}]
["SAFETY BAY",6169,"CITY OF","ROCKINGHAM","Perth",{"$f":"VLOOKUP(E1445,Admin_lookup!$A$2:$B$14,2,FALSE)","v":"Metro"}]
["SALMON GUMS",6445,"SHIRE OF","ESPERANCE","Goldfields-Esperance",{"$f":"VLOOKUP(E1446,Admin_lookup!$A$2:$B$14,2,FALSE)","v":"Regional"}]
["SALTER POINT",6152,"CITY OF","SOUTH PERTH","Perth",{"$f":"VLOOKUP(E1447,Admin_lookup!$A$2:$B$14,2,FALSE)","v":"Metro"}]
["SAMSON",6163,"CITY OF","COCKBURN","Perth",{"$f":"VLOOKUP(E1448,Admin_lookup!$A$2:$B$14,2,FALSE)","v":"Metro"}]
["SAN REMO",6210,"CITY OF","MANDURAH","Peel",{"$f":"VLOOKUP(E1449,Admin_lookup!$A$2:$B$14,2,FALSE)","v":"Regional"}]
["SANDPATCH",6330,"CITY OF","ALBANY","Great Southern",{"$f":"VLOOKUP(E1450,Admin_lookup!$A$2:$B$14,2,FALSE)","v":"Regional"}]
["SANDSPRINGS",6532,"SHIRE OF","CHAPMAN VALLEY","Mid-West",{"$f":"VLOOKUP(E1451,Admin_lookup!$A$2:$B$14,2,FALSE)","v":"Regional"}]
["SANDSTONE",6639,"SHIRE OF","SANDSTONE","Mid-West",{"$f":"VLOOKUP(E1452,Admin_lookup!$A$2:$B$14,2,FALSE)","v":"Regional"}]
["SANDY GULLY",6535,"SHIRE OF","NORTHAMPTON","Mid-West",{"$f":"VLOOKUP(E1453,Admin_lookup!$A$2:$B$14,2,FALSE)","v":"Regional"}]
["SAWYERS VALLEY",6074,"SHIRE OF","MUNDARING","Perth",{"$f":"VLOOKUP(E1454,Admin_lookup!$A$2:$B$14,2,FALSE)","v":"Metro"}]
["SCADDAN",6447,"SHIRE OF","ESPERANCE","Goldfields-Esperance",{"$f":"VLOOKUP(E1455,Admin_lookup!$A$2:$B$14,2,FALSE)","v":"Regional"}]
["SCARBOROUGH",6019,"CITY OF","STIRLING","Perth",{"$f":"VLOOKUP(E1456,Admin_lookup!$A$2:$B$14,2,FALSE)","v":"Metro"}]
["SCARBOROUGH PO BOXES",6922,"CITY OF","PERTH","Perth",{"$f":"VLOOKUP(E1457,Admin_lookup!$A$2:$B$14,2,FALSE)","v":"Metro"}]
["SCHROEDER",6285,"SHIRE OF","AUGUSTA-MARGARET RIVER","South West",{"$f":"VLOOKUP(E1458,Admin_lookup!$A$2:$B$14,2,FALSE)","v":"Regional"}]
["SCOTSDALE",6333,"SHIRE OF","DENMARK","Great Southern",{"$f":"VLOOKUP(E1459,Admin_lookup!$A$2:$B$14,2,FALSE)","v":"Regional"}]
["SCOTT RIVER",6288,"SHIRE OF","AUGUSTA-MARGARET RIVER","South West",{"$f":"VLOOKUP(E1460,Admin_lookup!$A$2:$B$14,2,FALSE)","v":"Regional"}]
["SCOTT RIVER EAST",6275,"SHIRE OF","BUSSELTON","South West",{"$f":"VLOOKUP(E1461,Admin_lookup!$A$2:$B$14,2,FALSE)","v":"Regional"}]
["SCOTTS BROOK",6244,"SHIRE OF","WEST ARTHUR","Wheatbelt",{"$f":"VLOOKUP(E1462,Admin_lookup!$A$2:$B$14,2,FALSE)","v":"Regional"}]
["SEABIRD",6042,"SHIRE OF","GINGIN","Wheatbelt",{"$f":"VLOOKUP(E1463,Admin_lookup!$A$2:$B$14,2,FALSE)","v":"Regional"}]
["SECRET HARBOUR",6173,"CITY OF","ROCKINGHAM","Perth",{"$f":"VLOOKUP(E1464,Admin_lookup!$A$2:$B$14,2,FALSE)","v":"Metro"}]
["SEPPINGS",6330,"CITY OF","ALBANY","Great Southern",{"$f":"VLOOKUP(E1465,Admin_lookup!$A$2:$B$14,2,FALSE)","v":"Regional"}]
["SERPENTINE",6125,"SHIRE OF","SERPENTINE-JARRAHDALE","Peel",{"$f":"VLOOKUP(E1466,Admin_lookup!$A$2:$B$14,2,FALSE)","v":"Regional"}]
["SEVILLE GROVE",6112,"CITY OF","ARMADALE","Perth",{"$f":"VLOOKUP(E1467,Admin_lookup!$A$2:$B$14,2,FALSE)","v":"Metro"}]
["SHACKLETON",6386,"SHIRE OF","BRUCE ROCK","Wheatbelt",{"$f":"VLOOKUP(E1468,Admin_lookup!$A$2:$B$14,2,FALSE)","v":"Regional"}]
["SHADFORTH",6333,"SHIRE OF","DENMARK","Great Southern",{"$f":"VLOOKUP(E1469,Admin_lookup!$A$2:$B$14,2,FALSE)","v":"Regional"}]
["SHANNON",6262,"SHIRE OF","MANJIMUP","South West",{"$f":"VLOOKUP(E1470,Admin_lookup!$A$2:$B$14,2,FALSE)","v":"Regional"}]
["SHARK BAY",6537,"SHIRE OF","SHARK BAY","Gascoyne",{"$f":"VLOOKUP(E1471,Admin_lookup!$A$2:$B$14,2,FALSE)","v":"Regional"}]
["SHELLEY",6148,"CITY OF","CANNING","Perth",{"$f":"VLOOKUP(E1472,Admin_lookup!$A$2:$B$14,2,FALSE)","v":"Metro"}]
["SHENTON PARK",6008,"CITY OF","SUBIACO","Perth",{"$f":"VLOOKUP(E1473,Admin_lookup!$A$2:$B$14,2,FALSE)","v":"Metro"}]
["SHERLOCK",6714,"SHIRE OF","ROEBOURNE","Pilbara",{"$f":"VLOOKUP(E1474,Admin_lookup!$A$2:$B$14,2,FALSE)","v":"Pilbara"}]
["SHOALWATER",6169,"CITY OF","ROCKINGHAM","Perth",{"$f":"VLOOKUP(E1475,Admin_lookup!$A$2:$B$14,2,FALSE)","v":"Metro"}]
["SHOTTS",6225,"SHIRE OF","COLLIE","South West",{"$f":"VLOOKUP(E1476,Admin_lookup!$A$2:$B$14,2,FALSE)","v":"Regional"}]
["SIESTA PARK",6280,"SHIRE OF","BUSSELTON","South West",{"$f":"VLOOKUP(E1477,Admin_lookup!$A$2:$B$14,2,FALSE)","v":"Regional"}]
["SILVER SANDS",6210,"CITY OF","MANDURAH","Peel",{"$f":"VLOOKUP(E1478,Admin_lookup!$A$2:$B$14,2,FALSE)","v":"Regional"}]
["SINAGRA",6065,"CITY OF","WANNEROO","Perth",{"$f":"VLOOKUP(E1479,Admin_lookup!$A$2:$B$14,2,FALSE)","v":"Metro"}]
["SINCLAIR",6450,"SHIRE OF","ESPERANCE","Goldfields-Esperance",{"$f":"VLOOKUP(E1480,Admin_lookup!$A$2:$B$14,2,FALSE)","v":"Regional"}]
["SINGLETON",6175,"CITY OF","ROCKINGHAM","Perth",{"$f":"VLOOKUP(E1481,Admin_lookup!$A$2:$B$14,2,FALSE)","v":"Metro"}]
["SIR SAMUEL",6437,"SHIRE OF","LEONORA","Goldfields-Esperance",{"$f":"VLOOKUP(E1482,Admin_lookup!$A$2:$B$14,2,FALSE)","v":"Regional"}]
["SKELETON ROCK",6426,"SHIRE OF","YILGARN","Wheatbelt",{"$f":"VLOOKUP(E1483,Admin_lookup!$A$2:$B$14,2,FALSE)","v":"Regional"}]
["SMITH BROOK",6258,"SHIRE OF","MANJIMUP","South West",{"$f":"VLOOKUP(E1484,Admin_lookup!$A$2:$B$14,2,FALSE)","v":"Regional"}]
["SOLUS",6207,"SHIRE OF","MURRAY","Peel",{"$f":"VLOOKUP(E1485,Admin_lookup!$A$2:$B$14,2,FALSE)","v":"Regional"}]
["SOMERVILLE",6430,"CITY OF","KALGOORLIE-BOULDER","Goldfields-Esperance",{"$f":"VLOOKUP(E1486,Admin_lookup!$A$2:$B$14,2,FALSE)","v":"Regional"}]
["SORRENTO",6020,"CITY OF","STIRLING","Perth",{"$f":"VLOOKUP(E1487,Admin_lookup!$A$2:$B$14,2,FALSE)","v":"Metro"}]
["SOUTH BODALLIN",6424,"SHIRE OF","YILGARN","Wheatbelt",{"$f":"VLOOKUP(E1488,Admin_lookup!$A$2:$B$14,2,FALSE)","v":"Regional"}]
["SOUTH BOULDER",6432,"CITY OF","KALGOORLIE-BOULDER","Goldfields-Esperance",{"$f":"VLOOKUP(E1489,Admin_lookup!$A$2:$B$14,2,FALSE)","v":"Regional"}]
["SOUTH BUNBURY",6230,"CITY OF","BUNBURY","South West",{"$f":"VLOOKUP(E1490,Admin_lookup!$A$2:$B$14,2,FALSE)","v":"Regional"}]
["SOUTH BURRACOPPIN",6421,"SHIRE OF","WESTONIA","Wheatbelt",{"$f":"VLOOKUP(E1491,Admin_lookup!$A$2:$B$14,2,FALSE)","v":"Regional"}]
["SOUTH CARNARVON",6701,"SHIRE OF","CARNARVON","Gascoyne",{"$f":"VLOOKUP(E1492,Admin_lookup!$A$2:$B$14,2,FALSE)","v":"Regional"}]
["SOUTH DATATINE",6317,"SHIRE OF","KATANNING","Great Southern",{"$f":"VLOOKUP(E1493,Admin_lookup!$A$2:$B$14,2,FALSE)","v":"Regional"}]
["SOUTH DOODLAKINE",6411,"SHIRE OF","KELLERBERRIN","Wheatbelt",{"$f":"VLOOKUP(E1494,Admin_lookup!$A$2:$B$14,2,FALSE)","v":"Regional"}]
["SOUTH FREMANTLE",6162,"CITY OF","FREMANTLE","Perth",{"$f":"VLOOKUP(E1495,Admin_lookup!$A$2:$B$14,2,FALSE)","v":"Metro"}]
["SOUTH GLENCOE",6317,"SHIRE OF","KATANNING","Great Southern",{"$f":"VLOOKUP(E1496,Admin_lookup!$A$2:$B$14,2,FALSE)","v":"Regional"}]
["SOUTH GREENOUGH",6528,"CITY OF","GERALDTON-GREENOUGH","Mid-West",{"$f":"VLOOKUP(E1497,Admin_lookup!$A$2:$B$14,2,FALSE)","v":"Regional"}]
["SOUTH GUILDFORD",6055,"CITY OF","SWAN","Perth",{"$f":"VLOOKUP(E1498,Admin_lookup!$A$2:$B$14,2,FALSE)","v":"Metro"}]
["SOUTH HEDLAND",6722,"TOWN OF","PORT HEDLAND","Pilbara",{"$f":"VLOOKUP(E1499,Admin_lookup!$A$2:$B$14,2,FALSE)","v":"Pilbara"}]
["SOUTH KALGOORLIE",6430,"CITY OF","KALGOORLIE-BOULDER","Goldfields-Esperance",{"$f":"VLOOKUP(E1500,Admin_lookup!$A$2:$B$14,2,FALSE)","v":"Regional"}]
["SOUTH KUKERIN",6352,"SHIRE OF","DUMBLEYUNG","Wheatbelt",{"$f":"VLOOKUP(E1501,Admin_lookup!$A$2:$B$14,2,FALSE)","v":"Regional"}]
["SOUTH KUMMININ",6368,"SHIRE OF","NAREMBEEN","Wheatbelt",{"$f":"VLOOKUP(E1502,Admin_lookup!$A$2:$B$14,2,FALSE)","v":"Regional"}]
["SOUTH KUNUNOPPIN",6489,"SHIRE OF","TRAYNING","Wheatbelt",{"$f":"VLOOKUP(E1503,Admin_lookup!$A$2:$B$14,2,FALSE)","v":"Regional"}]
["SOUTH LAKE",6164,"CITY OF","COCKBURN","Perth",{"$f":"VLOOKUP(E1504,Admin_lookup!$A$2:$B$14,2,FALSE)","v":"Metro"}]
["SOUTH LAKE GRACE",6353,"SHIRE OF","DUMBLEYUNG","Wheatbelt",{"$f":"VLOOKUP(E1505,Admin_lookup!$A$2:$B$14,2,FALSE)","v":"Regional"}]
["SOUTH MURCHISON",6635,"SHIRE OF","YALGOO","Mid-West",{"$f":"VLOOKUP(E1506,Admin_lookup!$A$2:$B$14,2,FALSE)","v":"Regional"}]
["SOUTH NEWDEGATE",6355,"SHIRE OF","LAKE GRACE","Wheatbelt",{"$f":"VLOOKUP(E1507,Admin_lookup!$A$2:$B$14,2,FALSE)","v":"Regional"}]
["SOUTH PERTH",6151,"CITY OF","SOUTH PERTH","Perth",{"$f":"VLOOKUP(E1508,Admin_lookup!$A$2:$B$14,2,FALSE)","v":"Metro"}]
["SOUTH PERTH ANGELO ST",6151,"CITY OF","SOUTH PERTH","Perth",{"$f":"VLOOKUP(E1509,Admin_lookup!$A$2:$B$14,2,FALSE)","v":"Metro"}]
["SOUTH PERTH PO BOXES",6951,"CITY OF","PERTH","Perth",{"$f":"VLOOKUP(E1510,Admin_lookup!$A$2:$B$14,2,FALSE)","v":"Metro"}]
["SOUTH PLANTATIONS",6701,"SHIRE OF","CARNARVON","Gascoyne",{"$f":"VLOOKUP(E1511,Admin_lookup!$A$2:$B$14,2,FALSE)","v":"Regional"}]
["SOUTH QUAIRADING",6383,"SHIRE OF","QUAIRADING","Wheatbelt",{"$f":"VLOOKUP(E1512,Admin_lookup!$A$2:$B$14,2,FALSE)","v":"Regional"}]
["SOUTH STIRLING",6324,"SHIRE OF","PLANTAGENET","Great Southern",{"$f":"VLOOKUP(E1513,Admin_lookup!$A$2:$B$14,2,FALSE)","v":"Regional"}]
["SOUTH TAMMIN",6409,"SHIRE OF","TAMMIN","Wheatbelt",{"$f":"VLOOKUP(E1514,Admin_lookup!$A$2:$B$14,2,FALSE)","v":"Regional"}]
["SOUTH TRAYNING",6488,"SHIRE OF","TRAYNING","Wheatbelt",{"$f":"VLOOKUP(E1515,Admin_lookup!$A$2:$B$14,2,FALSE)","v":"Regional"}]
["SOUTH YELBENI",6487,"SHIRE OF","TRAYNING","Wheatbelt",{"$f":"VLOOKUP(E1516,Admin_lookup!$A$2:$B$14,2,FALSE)","v":"Regional"}]
["SOUTH YILGARN",6426,"SHIRE OF","YILGARN","Wheatbelt",{"$f":"VLOOKUP(E1517,Admin_lookup!$A$2:$B$14,2,FALSE)","v":"Regional"}]
["SOUTH YUNA",6532,"SHIRE OF","CHAPMAN VALLEY","Mid-West",{"$f":"VLOOKUP(E1518,Admin_lookup!$A$2:$B$14,2,FALSE)","v":"Regional"}]
["SOUTH YUNDERUP",6208,"SHIRE OF","MURRAY","Peel",{"$f":"VLOOKUP(E1519,Admin_lookup!$A$2:$B$14,2,FALSE)","v":"Regional"}]
["SOUTHAMPTON",6253,"SHIRE OF","DONNYBROOK-BALINGUP","South West",{"$f":"VLOOKUP(E1520,Admin_lookup!$A$2:$B$14,2,FALSE)","v":"Regional"}]
["SOUTHERN BROOK",6401,"SHIRE OF","GOOMALLING","Wheatbelt",{"$f":"VLOOKUP(E1521,Admin_lookup!$A$2:$B$14,2,FALSE)","v":"Regional"}]
["SOUTHERN CROSS",6426,"SHIRE OF","YILGARN","Wheatbelt",{"$f":"VLOOKUP(E1522,Admin_lookup!$A$2:$B$14,2,FALSE)","v":"Regional"}]
["SOUTHERN RIVER",6110,"CITY OF","GOSNELLS","Perth",{"$f":"VLOOKUP(E1523,Admin_lookup!$A$2:$B$14,2,FALSE)","v":"Metro"}]
["SPALDING",6530,"CITY OF","GERALDTON-GREENOUGH","Mid-West",{"$f":"VLOOKUP(E1524,Admin_lookup!$A$2:$B$14,2,FALSE)","v":"Regional"}]
["SPEARWOOD",6163,"CITY OF","COCKBURN","Perth",{"$f":"VLOOKUP(E1525,Admin_lookup!$A$2:$B$14,2,FALSE)","v":"Metro"}]
["SPENCER PARK",6330,"CITY OF","ALBANY","Great Southern",{"$f":"VLOOKUP(E1526,Admin_lookup!$A$2:$B$14,2,FALSE)","v":"Regional"}]
["SPENCERS BROOK",6401,"SHIRE OF","GOOMALLING","Wheatbelt",{"$f":"VLOOKUP(E1527,Admin_lookup!$A$2:$B$14,2,FALSE)","v":"Regional"}]
["SPRINGFIELD",6525,"SHIRE OF","IRWIN","Mid-West",{"$f":"VLOOKUP(E1528,Admin_lookup!$A$2:$B$14,2,FALSE)","v":"Regional"}]
["SPRINGS",6308,"SHIRE OF","PINGELLY","Wheatbelt",{"$f":"VLOOKUP(E1529,Admin_lookup!$A$2:$B$14,2,FALSE)","v":"Regional"}]
["ST GEORGE RANGES",6728,"SHIRE OF","DERBY-WEST KIMBERLEY","Kimberley",{"$f":"VLOOKUP(E1530,Admin_lookup!$A$2:$B$14,2,FALSE)","v":"Kimberley"}]
["ST JAMES",6102,"TOWN OF","VICTORIA PARK","Perth",{"$f":"VLOOKUP(E1531,Admin_lookup!$A$2:$B$14,2,FALSE)","v":"Metro"}]
["ST RONANS",6302,"SHIRE OF","YORK","Wheatbelt",{"$f":"VLOOKUP(E1532,Admin_lookup!$A$2:$B$14,2,FALSE)","v":"Regional"}]
["STAKE HILL",6181,"SHIRE OF","MURRAY","Peel",{"$f":"VLOOKUP(E1533,Admin_lookup!$A$2:$B$14,2,FALSE)","v":"Regional"}]
["STIRLING",6021,"CITY OF","STIRLING","Perth",{"$f":"VLOOKUP(E1534,Admin_lookup!$A$2:$B$14,2,FALSE)","v":"Metro"}]
["STIRLING ESTATE",6271,"SHIRE OF","CAPEL","South West",{"$f":"VLOOKUP(E1535,Admin_lookup!$A$2:$B$14,2,FALSE)","v":"Regional"}]
["STIRLING RANGE NATIONAL PARK",6338,"SHIRE OF","GNOWANGERUP","Great Southern",{"$f":"VLOOKUP(E1536,Admin_lookup!$A$2:$B$14,2,FALSE)","v":"Regional"}]
["STONEVILLE",6081,"SHIRE OF","MUNDARING","Perth",{"$f":"VLOOKUP(E1537,Admin_lookup!$A$2:$B$14,2,FALSE)","v":"Metro"}]
["STOVE HILL",6714,"SHIRE OF","ROEBOURNE","Pilbara",{"$f":"VLOOKUP(E1538,Admin_lookup!$A$2:$B$14,2,FALSE)","v":"Pilbara"}]
["STRATHALBYN",6530,"CITY OF","GERALDTON-GREENOUGH","Mid-West",{"$f":"VLOOKUP(E1539,Admin_lookup!$A$2:$B$14,2,FALSE)","v":"Regional"}]
["STRATHAM",6237,"SHIRE OF","CAPEL","South West",{"$f":"VLOOKUP(E1540,Admin_lookup!$A$2:$B$14,2,FALSE)","v":"Regional"}]
["STRATHERNE",6309,"SHIRE OF","CUBALLING","Wheatbelt",{"$f":"VLOOKUP(E1541,Admin_lookup!$A$2:$B$14,2,FALSE)","v":"Regional"}]
["STRATTON",6056,"CITY OF","SWAN","Perth",{"$f":"VLOOKUP(E1542,Admin_lookup!$A$2:$B$14,2,FALSE)","v":"Metro"}]
["STRELLEY",6721,"TOWN OF","PORT HEDLAND","Pilbara",{"$f":"VLOOKUP(E1543,Admin_lookup!$A$2:$B$14,2,FALSE)","v":"Pilbara"}]
["STURT CREEK",6770,"SHIRE OF","HALLS CREEK","Kimberley",{"$f":"VLOOKUP(E1544,Admin_lookup!$A$2:$B$14,2,FALSE)","v":"Kimberley"}]
["SUBIACO",6008,"CITY OF","SUBIACO","Perth",{"$f":"VLOOKUP(E1545,Admin_lookup!$A$2:$B$14,2,FALSE)","v":"Metro"}]
["SUBIACO EAST",6008,"CITY OF","SUBIACO","Perth",{"$f":"VLOOKUP(E1546,Admin_lookup!$A$2:$B$14,2,FALSE)","v":"Metro"}]
["SUBIACO PO BOXES",6904,"CITY OF","PERTH","Perth",{"$f":"VLOOKUP(E1547,Admin_lookup!$A$2:$B$14,2,FALSE)","v":"Metro"}]
["SUCCESS",6164,"CITY OF","COCKBURN","Perth",{"$f":"VLOOKUP(E1548,Admin_lookup!$A$2:$B$14,2,FALSE)","v":"Metro"}]
["SUCCESS PO BOXES",6964,"CITY OF","PERTH","Perth",{"$f":"VLOOKUP(E1549,Admin_lookup!$A$2:$B$14,2,FALSE)","v":"Metro"}]
["SUNNYSIDE",6256,"SHIRE OF","BRIDGETOWN-GREENBUSHES","South West",{"$f":"VLOOKUP(E1550,Admin_lookup!$A$2:$B$14,2,FALSE)","v":"Regional"}]
["SUNSET BEACH",6530,"CITY OF","GERALDTON-GREENOUGH","Mid-West",{"$f":"VLOOKUP(E1551,Admin_lookup!$A$2:$B$14,2,FALSE)","v":"Regional"}]
["SWAN VIEW",6056,"CITY OF","SWAN","Perth",{"$f":"VLOOKUP(E1552,Admin_lookup!$A$2:$B$14,2,FALSE)","v":"Metro"}]
["SWANBOURNE",6010,"CITY OF","NEDLANDS","Perth",{"$f":"VLOOKUP(E1553,Admin_lookup!$A$2:$B$14,2,FALSE)","v":"Metro"}]
["TAKALARUP",6324,"SHIRE OF","PLANTAGENET","Great Southern",{"$f":"VLOOKUP(E1554,Admin_lookup!$A$2:$B$14,2,FALSE)","v":"Regional"}]
["TALANDJI",6710,"SHIRE OF","ASHBURTON","Pilbara",{"$f":"VLOOKUP(E1555,Admin_lookup!$A$2:$B$14,2,FALSE)","v":"Pilbara"}]
["TALBOT",6302,"SHIRE OF","YORK","Wheatbelt",{"$f":"VLOOKUP(E1556,Admin_lookup!$A$2:$B$14,2,FALSE)","v":"Regional"}]
["TALBOT WEST",6302,"SHIRE OF","YORK","Wheatbelt",{"$f":"VLOOKUP(E1557,Admin_lookup!$A$2:$B$14,2,FALSE)","v":"Regional"}]
["TALGOMINE",6490,"SHIRE OF","NUNGARIN","Wheatbelt",{"$f":"VLOOKUP(E1558,Admin_lookup!$A$2:$B$14,2,FALSE)","v":"Regional"}]
["TALISKER",6701,"SHIRE OF","CARNARVON","Gascoyne",{"$f":"VLOOKUP(E1559,Admin_lookup!$A$2:$B$14,2,FALSE)","v":"Regional"}]
["TAMALA",6532,"SHIRE OF","CHAPMAN VALLEY","Mid-West",{"$f":"VLOOKUP(E1560,Admin_lookup!$A$2:$B$14,2,FALSE)","v":"Regional"}]
["TAMALA PARK",6030,"CITY OF","WANNEROO","Perth",{"$f":"VLOOKUP(E1561,Admin_lookup!$A$2:$B$14,2,FALSE)","v":"Metro"}]
["TAMBELLUP",6320,"SHIRE OF","BROOMEHILL-TAMBELLUP","Great Southern",{"$f":"VLOOKUP(E1562,Admin_lookup!$A$2:$B$14,2,FALSE)","v":"Regional"}]
["TAMMIN",6409,"SHIRE OF","TAMMIN","Wheatbelt",{"$f":"VLOOKUP(E1563,Admin_lookup!$A$2:$B$14,2,FALSE)","v":"Regional"}]
["TAMPU",6472,"SHIRE OF","MOUNT MARSHALL","Wheatbelt",{"$f":"VLOOKUP(E1564,Admin_lookup!$A$2:$B$14,2,FALSE)","v":"Regional"}]
["TANAMI",6770,"SHIRE OF","HALLS CREEK","Kimberley",{"$f":"VLOOKUP(E1565,Admin_lookup!$A$2:$B$14,2,FALSE)","v":"Kimberley"}]
["TANDEGIN",6415,"SHIRE OF","MERREDIN","Wheatbelt",{"$f":"VLOOKUP(E1566,Admin_lookup!$A$2:$B$14,2,FALSE)","v":"Regional"}]
["TAPPING",6065,"CITY OF","WANNEROO","Perth",{"$f":"VLOOKUP(E1567,Admin_lookup!$A$2:$B$14,2,FALSE)","v":"Metro"}]
["TARCOOLA BEACH",6530,"CITY OF","GERALDTON-GREENOUGH","Mid-West",{"$f":"VLOOKUP(E1568,Admin_lookup!$A$2:$B$14,2,FALSE)","v":"Regional"}]
["TARDUN",6628,"SHIRE OF","MULLEWA","Mid-West",{"$f":"VLOOKUP(E1569,Admin_lookup!$A$2:$B$14,2,FALSE)","v":"Regional"}]
["TARIN ROCK",6353,"SHIRE OF","DUMBLEYUNG","Wheatbelt",{"$f":"VLOOKUP(E1570,Admin_lookup!$A$2:$B$14,2,FALSE)","v":"Regional"}]
["TEESDALE",6213,"SHIRE OF","MURRAY","Peel",{"$f":"VLOOKUP(E1571,Admin_lookup!$A$2:$B$14,2,FALSE)","v":"Regional"}]
["TELFER",6762,"SHIRE OF","EAST PILBARA","Pilbara",{"$f":"VLOOKUP(E1572,Admin_lookup!$A$2:$B$14,2,FALSE)","v":"Pilbara"}]
["TENINDEWA",6632,"SHIRE OF","MULLEWA","Mid-West",{"$f":"VLOOKUP(E1573,Admin_lookup!$A$2:$B$14,2,FALSE)","v":"Regional"}]
["TENTERDEN",6322,"SHIRE OF","CRANBROOK","Great Southern",{"$f":"VLOOKUP(E1574,Admin_lookup!$A$2:$B$14,2,FALSE)","v":"Regional"}]
["THE LAKES",6556,"CITY OF","SWAN","Perth",{"$f":"VLOOKUP(E1575,Admin_lookup!$A$2:$B$14,2,FALSE)","v":"Metro"}]
["THE PLAINS",6237,"SHIRE OF","CAPEL","South West",{"$f":"VLOOKUP(E1576,Admin_lookup!$A$2:$B$14,2,FALSE)","v":"Regional"}]
["THE SPECTACLES",6167,"TOWN OF","KWINANA","Perth",{"$f":"VLOOKUP(E1577,Admin_lookup!$A$2:$B$14,2,FALSE)","v":"Metro"}]
["THE VINES",6069,"CITY OF","SWAN","Perth",{"$f":"VLOOKUP(E1578,Admin_lookup!$A$2:$B$14,2,FALSE)","v":"Metro"}]
["THEVENARD ISLAND",6711,"SHIRE OF","ASHBURTON","Pilbara",{"$f":"VLOOKUP(E1579,Admin_lookup!$A$2:$B$14,2,FALSE)","v":"Pilbara"}]
["THOMSON BROOK",6239,"SHIRE OF","DONNYBROOK-BALINGUP","South West",{"$f":"VLOOKUP(E1580,Admin_lookup!$A$2:$B$14,2,FALSE)","v":"Regional"}]
["THORNLIE",6108,"CITY OF","GOSNELLS","Perth",{"$f":"VLOOKUP(E1581,Admin_lookup!$A$2:$B$14,2,FALSE)","v":"Metro"}]
["THORNLIE PO BOXES",6988,"CITY OF","PERTH","Perth",{"$f":"VLOOKUP(E1582,Admin_lookup!$A$2:$B$14,2,FALSE)","v":"Metro"}]
["THREE SPRINGS",6519,"SHIRE OF","THREE SPRINGS","Mid-West",{"$f":"VLOOKUP(E1583,Admin_lookup!$A$2:$B$14,2,FALSE)","v":"Regional"}]
["THROSSELL",6401,"SHIRE OF","GOOMALLING","Wheatbelt",{"$f":"VLOOKUP(E1584,Admin_lookup!$A$2:$B$14,2,FALSE)","v":"Regional"}]
["TIBRADDEN",6532,"SHIRE OF","CHAPMAN VALLEY","Mid-West",{"$f":"VLOOKUP(E1585,Admin_lookup!$A$2:$B$14,2,FALSE)","v":"Regional"}]
["TINCURRIN",6361,"SHIRE OF","WICKEPIN","Wheatbelt",{"$f":"VLOOKUP(E1586,Admin_lookup!$A$2:$B$14,2,FALSE)","v":"Regional"}]
["TINGLEDALE",6333,"SHIRE OF","DENMARK","Great Southern",{"$f":"VLOOKUP(E1587,Admin_lookup!$A$2:$B$14,2,FALSE)","v":"Regional"}]
["TOM PRICE",6751,"SHIRE OF","ASHBURTON","Pilbara",{"$f":"VLOOKUP(E1588,Admin_lookup!$A$2:$B$14,2,FALSE)","v":"Pilbara"}]
["TONEBRIDGE",6244,"SHIRE OF","Boyup Brook","South West",{"$f":"VLOOKUP(E1589,Admin_lookup!$A$2:$B$14,2,FALSE)","v":"Regional"}]
["TOODYAY",6566,"SHIRE OF","TOODYAY","Wheatbelt",{"$f":"VLOOKUP(E1590,Admin_lookup!$A$2:$B$14,2,FALSE)","v":"Regional"}]
["TOOLIBIN",6312,"SHIRE OF","NARROGIN","Wheatbelt",{"$f":"VLOOKUP(E1591,Admin_lookup!$A$2:$B$14,2,FALSE)","v":"Regional"}]
["TOOLONGA",6532,"SHIRE OF","CHAPMAN VALLEY","Mid-West",{"$f":"VLOOKUP(E1592,Admin_lookup!$A$2:$B$14,2,FALSE)","v":"Regional"}]
["TOOMPUP",6336,"SHIRE OF","GNOWANGERUP","Great Southern",{"$f":"VLOOKUP(E1593,Admin_lookup!$A$2:$B$14,2,FALSE)","v":"Regional"}]
["TORBAY",6330,"CITY OF","ALBANY","Great Southern",{"$f":"VLOOKUP(E1594,Admin_lookup!$A$2:$B$14,2,FALSE)","v":"Regional"}]
["TORNDIRRUP",6330,"CITY OF","ALBANY","Great Southern",{"$f":"VLOOKUP(E1595,Admin_lookup!$A$2:$B$14,2,FALSE)","v":"Regional"}]
["TOWNSENDALE",6311,"SHIRE OF","CUBALLING","Wheatbelt",{"$f":"VLOOKUP(E1596,Admin_lookup!$A$2:$B$14,2,FALSE)","v":"Regional"}]
["TRAFALGAR",6431,"SHIRE OF","NGAANYATJARRAKU","Goldfields-Esperance",{"$f":"VLOOKUP(E1597,Admin_lookup!$A$2:$B$14,2,FALSE)","v":"Regional"}]
["TRAYNING",6488,"SHIRE OF","TRAYNING","Wheatbelt",{"$f":"VLOOKUP(E1598,Admin_lookup!$A$2:$B$14,2,FALSE)","v":"Regional"}]
["TREETON",6284,"SHIRE OF","AUGUSTA-MARGARET RIVER","South West",{"$f":"VLOOKUP(E1599,Admin_lookup!$A$2:$B$14,2,FALSE)","v":"Regional"}]
["TRENT",6333,"SHIRE OF","DENMARK","Great Southern",{"$f":"VLOOKUP(E1600,Admin_lookup!$A$2:$B$14,2,FALSE)","v":"Regional"}]
["TRIGG",6029,"CITY OF","STIRLING","Perth",{"$f":"VLOOKUP(E1601,Admin_lookup!$A$2:$B$14,2,FALSE)","v":"Metro"}]
["TRIGWELL",6393,"SHIRE OF","WEST ARTHUR","Wheatbelt",{"$f":"VLOOKUP(E1602,Admin_lookup!$A$2:$B$14,2,FALSE)","v":"Regional"}]
["TUART HILL",6060,"CITY OF","STIRLING","Perth",{"$f":"VLOOKUP(E1603,Admin_lookup!$A$2:$B$14,2,FALSE)","v":"Metro"}]
["TUART HILL LVR1",6937,"CITY OF","PERTH","Perth",{"$f":"VLOOKUP(E1604,Admin_lookup!$A$2:$B$14,2,FALSE)","v":"Metro"}]
["TUART HILL LVR2",6938,"CITY OF","PERTH","Perth",{"$f":"VLOOKUP(E1605,Admin_lookup!$A$2:$B$14,2,FALSE)","v":"Metro"}]
["TUART HILL LVR3",6940,"CITY OF","PERTH","Perth",{"$f":"VLOOKUP(E1606,Admin_lookup!$A$2:$B$14,2,FALSE)","v":"Metro"}]
["TUART HILL PO BOX",6939,"CITY OF","PERTH","Perth",{"$f":"VLOOKUP(E1607,Admin_lookup!$A$2:$B$14,2,FALSE)","v":"Metro"}]
["TURKEY HILL",6426,"SHIRE OF","YILGARN","Wheatbelt",{"$f":"VLOOKUP(E1608,Admin_lookup!$A$2:$B$14,2,FALSE)","v":"Regional"}]
["TUTUNUP",6280,"SHIRE OF","BUSSELTON","South West",{"$f":"VLOOKUP(E1609,Admin_lookup!$A$2:$B$14,2,FALSE)","v":"Regional"}]
["TWO ROCKS",6037,"CITY OF","WANNEROO","Perth",{"$f":"VLOOKUP(E1610,Admin_lookup!$A$2:$B$14,2,FALSE)","v":"Metro"}]
["UCARTY",6462,"SHIRE OF","DOWERIN","Wheatbelt",{"$f":"VLOOKUP(E1611,Admin_lookup!$A$2:$B$14,2,FALSE)","v":"Regional"}]
["UCARTY WEST",6460,"SHIRE OF","GOOMALLING","Wheatbelt",{"$f":"VLOOKUP(E1612,Admin_lookup!$A$2:$B$14,2,FALSE)","v":"Regional"}]
["UDUC",6220,"SHIRE OF","HARVEY","South West",{"$f":"VLOOKUP(E1613,Admin_lookup!$A$2:$B$14,2,FALSE)","v":"Regional"}]
["ULARRING",6436,"SHIRE OF","MENZIES","Goldfields-Esperance",{"$f":"VLOOKUP(E1614,Admin_lookup!$A$2:$B$14,2,FALSE)","v":"Regional"}]
["UPPER CAPEL",6239,"SHIRE OF","DONNYBROOK-BALINGUP","South West",{"$f":"VLOOKUP(E1615,Admin_lookup!$A$2:$B$14,2,FALSE)","v":"Regional"}]
["UPPER MURRAY",6390,"SHIRE OF","BODDINGTON","Peel",{"$f":"VLOOKUP(E1616,Admin_lookup!$A$2:$B$14,2,FALSE)","v":"Regional"}]
["UPPER SWAN",6069,"CITY OF","SWAN","Perth",{"$f":"VLOOKUP(E1617,Admin_lookup!$A$2:$B$14,2,FALSE)","v":"Metro"}]
["UPPER WARREN",6258,"SHIRE OF","MANJIMUP","South West",{"$f":"VLOOKUP(E1618,Admin_lookup!$A$2:$B$14,2,FALSE)","v":"Regional"}]
["USELESS LOOP",6537,"SHIRE OF","SHARK BAY","Gascoyne",{"$f":"VLOOKUP(E1619,Admin_lookup!$A$2:$B$14,2,FALSE)","v":"Regional"}]
["USHER",6230,"CITY OF","BUNBURY","South West",{"$f":"VLOOKUP(E1620,Admin_lookup!$A$2:$B$14,2,FALSE)","v":"Regional"}]
["UTAKARRA",6530,"CITY OF","GERALDTON-GREENOUGH","Mid-West",{"$f":"VLOOKUP(E1621,Admin_lookup!$A$2:$B$14,2,FALSE)","v":"Regional"}]
["VALENTINE",6532,"SHIRE OF","CHAPMAN VALLEY","Mid-West",{"$f":"VLOOKUP(E1622,Admin_lookup!$A$2:$B$14,2,FALSE)","v":"Regional"}]
["VANCOUVER PENINSULA",6330,"CITY OF","ALBANY","Great Southern",{"$f":"VLOOKUP(E1623,Admin_lookup!$A$2:$B$14,2,FALSE)","v":"Regional"}]
["VARLEY",6355,"SHIRE OF","LAKE GRACE","Wheatbelt",{"$f":"VLOOKUP(E1624,Admin_lookup!$A$2:$B$14,2,FALSE)","v":"Regional"}]
["VASSE",6280,"SHIRE OF","BUSSELTON","South West",{"$f":"VLOOKUP(E1625,Admin_lookup!$A$2:$B$14,2,FALSE)","v":"Regional"}]
["VICTORIA PARK",6100,"TOWN OF","VICTORIA PARK","Perth",{"$f":"VLOOKUP(E1626,Admin_lookup!$A$2:$B$14,2,FALSE)","v":"Metro"}]
["VICTORIA PARK PO BOXES",6979,"CITY OF","PERTH","Perth",{"$f":"VLOOKUP(E1627,Admin_lookup!$A$2:$B$14,2,FALSE)","v":"Metro"}]
["VICTORIA ROCK",6429,"SHIRE OF","COOLGARDIE","Goldfields-Esperance",{"$f":"VLOOKUP(E1628,Admin_lookup!$A$2:$B$14,2,FALSE)","v":"Regional"}]
["VICTORY HEIGHTS",6432,"CITY OF","KALGOORLIE-BOULDER","Goldfields-Esperance",{"$f":"VLOOKUP(E1629,Admin_lookup!$A$2:$B$14,2,FALSE)","v":"Regional"}]
["VITTORIA",6230,"CITY OF","BUNBURY","South West",{"$f":"VLOOKUP(E1630,Admin_lookup!$A$2:$B$14,2,FALSE)","v":"Regional"}]
["VIVEASH",6056,"CITY OF","SWAN","Perth",{"$f":"VLOOKUP(E1631,Admin_lookup!$A$2:$B$14,2,FALSE)","v":"Metro"}]
["WADDERIN",6369,"SHIRE OF","NAREMBEEN","Wheatbelt",{"$f":"VLOOKUP(E1632,Admin_lookup!$A$2:$B$14,2,FALSE)","v":"Regional"}]
["WADDINGTON",6509,"SHIRE OF","VICTORIA PLAINS","Wheatbelt",{"$f":"VLOOKUP(E1633,Admin_lookup!$A$2:$B$14,2,FALSE)","v":"Regional"}]
["WADDY FOREST",6515,"SHIRE OF","COOROW","Mid-West",{"$f":"VLOOKUP(E1634,Admin_lookup!$A$2:$B$14,2,FALSE)","v":"Regional"}]
["WAEEL",6407,"SHIRE OF","CUNDERDIN","Wheatbelt",{"$f":"VLOOKUP(E1635,Admin_lookup!$A$2:$B$14,2,FALSE)","v":"Regional"}]
["WAGERUP",6215,"SHIRE OF","WAROONA","Peel",{"$f":"VLOOKUP(E1636,Admin_lookup!$A$2:$B$14,2,FALSE)","v":"Regional"}]
["WAGGRAKINE",6530,"CITY OF","GERALDTON-GREENOUGH","Mid-West",{"$f":"VLOOKUP(E1637,Admin_lookup!$A$2:$B$14,2,FALSE)","v":"Regional"}]
["WAGIN",6315,"SHIRE OF","WAGIN","Wheatbelt",{"$f":"VLOOKUP(E1638,Admin_lookup!$A$2:$B$14,2,FALSE)","v":"Regional"}]
["WAIKIKI",6169,"CITY OF","ROCKINGHAM","Perth",{"$f":"VLOOKUP(E1639,Admin_lookup!$A$2:$B$14,2,FALSE)","v":"Metro"}]
["WALEBING",6510,"SHIRE OF","MOORA","Wheatbelt",{"$f":"VLOOKUP(E1640,Admin_lookup!$A$2:$B$14,2,FALSE)","v":"Regional"}]
["WALGOOLAN",6422,"SHIRE OF","WESTONIA","Wheatbelt",{"$f":"VLOOKUP(E1641,Admin_lookup!$A$2:$B$14,2,FALSE)","v":"Regional"}]
["WALKAWAY",6528,"CITY OF","GERALDTON-GREENOUGH","Mid-West",{"$f":"VLOOKUP(E1642,Admin_lookup!$A$2:$B$14,2,FALSE)","v":"Regional"}]
["WALLAREENYA",6721,"TOWN OF","PORT HEDLAND","Pilbara",{"$f":"VLOOKUP(E1643,Admin_lookup!$A$2:$B$14,2,FALSE)","v":"Pilbara"}]
["WALLAROO",6429,"SHIRE OF","COOLGARDIE","Goldfields-Esperance",{"$f":"VLOOKUP(E1644,Admin_lookup!$A$2:$B$14,2,FALSE)","v":"Regional"}]
["WALLISTON",6076,"SHIRE OF","KALAMUNDA","Perth",{"$f":"VLOOKUP(E1645,Admin_lookup!$A$2:$B$14,2,FALSE)","v":"Metro"}]
["WALLISTON DC",6076,"SHIRE OF","KALAMUNDA","Perth",{"$f":"VLOOKUP(E1646,Admin_lookup!$A$2:$B$14,2,FALSE)","v":"Metro"}]
["WALLISTON DC PO BOXES",6925,"CITY OF","PERTH","Perth",{"$f":"VLOOKUP(E1647,Admin_lookup!$A$2:$B$14,2,FALSE)","v":"Metro"}]
["WALMSLEY",6330,"CITY OF","ALBANY","Great Southern",{"$f":"VLOOKUP(E1648,Admin_lookup!$A$2:$B$14,2,FALSE)","v":"Regional"}]
["WALPOLE",6398,"SHIRE OF","MANJIMUP","South West",{"$f":"VLOOKUP(E1649,Admin_lookup!$A$2:$B$14,2,FALSE)","v":"Regional"}]
["WALSALL",6280,"SHIRE OF","BUSSELTON","South West",{"$f":"VLOOKUP(E1650,Admin_lookup!$A$2:$B$14,2,FALSE)","v":"Regional"}]
["WALYORMOURING",6460,"SHIRE OF","GOOMALLING","Wheatbelt",{"$f":"VLOOKUP(E1651,Admin_lookup!$A$2:$B$14,2,FALSE)","v":"Regional"}]
["WALYUNGA NATIONAL PARK",6084,"CITY OF","SWAN","Perth",{"$f":"VLOOKUP(E1652,Admin_lookup!$A$2:$B$14,2,FALSE)","v":"Metro"}]
["WALYURIN",6363,"SHIRE OF","KULIN","Wheatbelt",{"$f":"VLOOKUP(E1653,Admin_lookup!$A$2:$B$14,2,FALSE)","v":"Regional"}]
["WAMENUSKING",6383,"SHIRE OF","QUAIRADING","Wheatbelt",{"$f":"VLOOKUP(E1654,Admin_lookup!$A$2:$B$14,2,FALSE)","v":"Regional"}]
["WANDANA",6532,"SHIRE OF","CHAPMAN VALLEY","Mid-West",{"$f":"VLOOKUP(E1655,Admin_lookup!$A$2:$B$14,2,FALSE)","v":"Regional"}]
["WANDERING",6308,"SHIRE OF","PINGELLY","Wheatbelt",{"$f":"VLOOKUP(E1656,Admin_lookup!$A$2:$B$14,2,FALSE)","v":"Regional"}]
["WANDI",6167,"TOWN OF","KWINANA","Perth",{"$f":"VLOOKUP(E1657,Admin_lookup!$A$2:$B$14,2,FALSE)","v":"Metro"}]
["WANDILLUP",6256,"SHIRE OF","BRIDGETOWN-GREENBUSHES","South West",{"$f":"VLOOKUP(E1658,Admin_lookup!$A$2:$B$14,2,FALSE)","v":"Regional"}]
["WANDINA",6530,"CITY OF","GERALDTON-GREENOUGH","Mid-West",{"$f":"VLOOKUP(E1659,Admin_lookup!$A$2:$B$14,2,FALSE)","v":"Regional"}]
["WANERIE",6503,"SHIRE OF","GINGIN","Wheatbelt",{"$f":"VLOOKUP(E1660,Admin_lookup!$A$2:$B$14,2,FALSE)","v":"Regional"}]
["WANGARA",6065,"CITY OF","WANNEROO","Perth",{"$f":"VLOOKUP(E1661,Admin_lookup!$A$2:$B$14,2,FALSE)","v":"Metro"}]
["WANGARA DC",6065,"CITY OF","WANNEROO","Perth",{"$f":"VLOOKUP(E1662,Admin_lookup!$A$2:$B$14,2,FALSE)","v":"Metro"}]
["WANGARA DC PO BOXES",6947,"CITY OF","PERTH","Perth",{"$f":"VLOOKUP(E1663,Admin_lookup!$A$2:$B$14,2,FALSE)","v":"Metro"}]
["WANNAMAL",6505,"SHIRE OF","CHITTERING","Wheatbelt",{"$f":"VLOOKUP(E1664,Admin_lookup!$A$2:$B$14,2,FALSE)","v":"Regional"}]
["WANNANUP",6210,"CITY OF","MANDURAH","Peel",{"$f":"VLOOKUP(E1665,Admin_lookup!$A$2:$B$14,2,FALSE)","v":"Regional"}]
["WANNEROO",6065,"CITY OF","WANNEROO","Perth",{"$f":"VLOOKUP(E1666,Admin_lookup!$A$2:$B$14,2,FALSE)","v":"Metro"}]
["WANNEROO PO BOXES",6946,"CITY OF","PERTH","Perth",{"$f":"VLOOKUP(E1667,Admin_lookup!$A$2:$B$14,2,FALSE)","v":"Metro"}]
["WANSBROUGH",6320,"SHIRE OF","BROOMEHILL-TAMBELLUP","Great Southern",{"$f":"VLOOKUP(E1668,Admin_lookup!$A$2:$B$14,2,FALSE)","v":"Regional"}]
["WARAWARRUP",6220,"SHIRE OF","HARVEY","South West",{"$f":"VLOOKUP(E1669,Admin_lookup!$A$2:$B$14,2,FALSE)","v":"Regional"}]
["WARBURTON",6431,"SHIRE OF","NGAANYATJARRAKU","Goldfields-Esperance",{"$f":"VLOOKUP(E1670,Admin_lookup!$A$2:$B$14,2,FALSE)","v":"Regional"}]
["WARDERING",6311,"SHIRE OF","CUBALLING","Wheatbelt",{"$f":"VLOOKUP(E1671,Admin_lookup!$A$2:$B$14,2,FALSE)","v":"Regional"}]
["WARDING EAST",6405,"SHIRE OF","CUNDERDIN","Wheatbelt",{"$f":"VLOOKUP(E1672,Admin_lookup!$A$2:$B$14,2,FALSE)","v":"Regional"}]
["WARMUN",6743,"SHIRE OF","HALLS CREEK","Kimberley",{"$f":"VLOOKUP(E1673,Admin_lookup!$A$2:$B$14,2,FALSE)","v":"Kimberley"}]
["WARNBRO",6169,"CITY OF","ROCKINGHAM","Perth",{"$f":"VLOOKUP(E1674,Admin_lookup!$A$2:$B$14,2,FALSE)","v":"Metro"}]
["WARNER GLEN",6288,"SHIRE OF","AUGUSTA-MARGARET RIVER","South West",{"$f":"VLOOKUP(E1675,Admin_lookup!$A$2:$B$14,2,FALSE)","v":"Regional"}]
["WAROONA",6215,"SHIRE OF","WAROONA","Peel",{"$f":"VLOOKUP(E1676,Admin_lookup!$A$2:$B$14,2,FALSE)","v":"Regional"}]
["WARRACHUPPIN",6423,"SHIRE OF","WESTONIA","Wheatbelt",{"$f":"VLOOKUP(E1677,Admin_lookup!$A$2:$B$14,2,FALSE)","v":"Regional"}]
["WARRADARGE",6518,"SHIRE OF","COOROW","Mid-West",{"$f":"VLOOKUP(E1678,Admin_lookup!$A$2:$B$14,2,FALSE)","v":"Regional"}]
["WARRALAKIN",6421,"SHIRE OF","WESTONIA","Wheatbelt",{"$f":"VLOOKUP(E1679,Admin_lookup!$A$2:$B$14,2,FALSE)","v":"Regional"}]
["WARRENUP",6330,"CITY OF","ALBANY","Great Southern",{"$f":"VLOOKUP(E1680,Admin_lookup!$A$2:$B$14,2,FALSE)","v":"Regional"}]
["WARWICK",6024,"CITY OF","JOONDALUP","Perth",{"$f":"VLOOKUP(E1681,Admin_lookup!$A$2:$B$14,2,FALSE)","v":"Metro"}]
["WATERBANK",6725,"SHIRE OF","BROOME","Kimberley",{"$f":"VLOOKUP(E1682,Admin_lookup!$A$2:$B$14,2,FALSE)","v":"Kimberley"}]
["WATERCARRIN",6407,"SHIRE OF","CUNDERDIN","Wheatbelt",{"$f":"VLOOKUP(E1683,Admin_lookup!$A$2:$B$14,2,FALSE)","v":"Regional"}]
["WATERFORD",6152,"CITY OF","SOUTH PERTH","Perth",{"$f":"VLOOKUP(E1684,Admin_lookup!$A$2:$B$14,2,FALSE)","v":"Metro"}]
["WATERLOO",6228,"SHIRE OF","DARDANUP","South West",{"$f":"VLOOKUP(E1685,Admin_lookup!$A$2:$B$14,2,FALSE)","v":"Regional"}]
["WATERMANS BAY",6020,"CITY OF","STIRLING","Perth",{"$f":"VLOOKUP(E1686,Admin_lookup!$A$2:$B$14,2,FALSE)","v":"Metro"}]
["WATHEROO",6513,"SHIRE OF","MOORA","Wheatbelt",{"$f":"VLOOKUP(E1687,Admin_lookup!$A$2:$B$14,2,FALSE)","v":"Regional"}]
["WATTENING",6568,"SHIRE OF","VICTORIA PLAINS","Wheatbelt",{"$f":"VLOOKUP(E1688,Admin_lookup!$A$2:$B$14,2,FALSE)","v":"Regional"}]
["WATTLE GROVE",6107,"CITY OF","CANNING","Perth",{"$f":"VLOOKUP(E1689,Admin_lookup!$A$2:$B$14,2,FALSE)","v":"Metro"}]
["WATTLEUP",6166,"CITY OF","COCKBURN","Perth",{"$f":"VLOOKUP(E1690,Admin_lookup!$A$2:$B$14,2,FALSE)","v":"Metro"}]
["WATTONING",6479,"SHIRE OF","MUKINBUDIN","Wheatbelt",{"$f":"VLOOKUP(E1691,Admin_lookup!$A$2:$B$14,2,FALSE)","v":"Regional"}]
["WEBBERTON",6530,"CITY OF","GERALDTON-GREENOUGH","Mid-West",{"$f":"VLOOKUP(E1692,Admin_lookup!$A$2:$B$14,2,FALSE)","v":"Regional"}]
["WEDGE ISLAND",6044,"SHIRE OF","DANDARAGAN","Wheatbelt",{"$f":"VLOOKUP(E1693,Admin_lookup!$A$2:$B$14,2,FALSE)","v":"Regional"}]
["WEDGECARRUP",6315,"SHIRE OF","WAGIN","Wheatbelt",{"$f":"VLOOKUP(E1694,Admin_lookup!$A$2:$B$14,2,FALSE)","v":"Regional"}]
["WEDGEFIELD",6721,"TOWN OF","PORT HEDLAND","Pilbara",{"$f":"VLOOKUP(E1695,Admin_lookup!$A$2:$B$14,2,FALSE)","v":"Pilbara"}]
["WELBUNGIN",6477,"SHIRE OF","MOUNT MARSHALL","Wheatbelt",{"$f":"VLOOKUP(E1696,Admin_lookup!$A$2:$B$14,2,FALSE)","v":"Regional"}]
["WELD RANGE",6640,"SHIRE OF","CUE","Mid-West",{"$f":"VLOOKUP(E1697,Admin_lookup!$A$2:$B$14,2,FALSE)","v":"Regional"}]
["WELLARD",6170,"TOWN OF","KWINANA","Perth",{"$f":"VLOOKUP(E1698,Admin_lookup!$A$2:$B$14,2,FALSE)","v":"Metro"}]
["WELLESLEY",6233,"SHIRE OF","HARVEY","South West",{"$f":"VLOOKUP(E1699,Admin_lookup!$A$2:$B$14,2,FALSE)","v":"Regional"}]
["WELLINGTON FOREST",6236,"SHIRE OF","DARDANUP","South West",{"$f":"VLOOKUP(E1700,Admin_lookup!$A$2:$B$14,2,FALSE)","v":"Regional"}]
["WELLINGTON MILL",6236,"SHIRE OF","DARDANUP","South West",{"$f":"VLOOKUP(E1701,Admin_lookup!$A$2:$B$14,2,FALSE)","v":"Regional"}]
["WELLSTEAD",6328,"CITY OF","ALBANY","Great Southern",{"$f":"VLOOKUP(E1702,Admin_lookup!$A$2:$B$14,2,FALSE)","v":"Regional"}]
["WELSHPOOL",6106,"CITY OF","CANNING","Perth",{"$f":"VLOOKUP(E1703,Admin_lookup!$A$2:$B$14,2,FALSE)","v":"Metro"}]
["WELSHPOOL DC",6106,"CITY OF","CANNING","Perth",{"$f":"VLOOKUP(E1704,Admin_lookup!$A$2:$B$14,2,FALSE)","v":"Metro"}]
["WELSHPOOL DC PO BOXES",6986,"CITY OF","PERTH","Perth",{"$f":"VLOOKUP(E1705,Admin_lookup!$A$2:$B$14,2,FALSE)","v":"Metro"}]
["WEMBLEY",6014,"TOWN OF","CAMBRIDGE","Perth",{"$f":"VLOOKUP(E1706,Admin_lookup!$A$2:$B$14,2,FALSE)","v":"Metro"}]
["WEMBLEY DOWNS",6019,"CITY OF","STIRLING","Perth",{"$f":"VLOOKUP(E1707,Admin_lookup!$A$2:$B$14,2,FALSE)","v":"Metro"}]
["WEMBLEY PO BOXES",6913,"CITY OF","PERTH","Perth",{"$f":"VLOOKUP(E1708,Admin_lookup!$A$2:$B$14,2,FALSE)","v":"Metro"}]
["WEST BALLIDU",6606,"SHIRE OF","WONGAN-BALLIDU","Wheatbelt",{"$f":"VLOOKUP(E1709,Admin_lookup!$A$2:$B$14,2,FALSE)","v":"Regional"}]
["WEST BEACH",6450,"SHIRE OF","ESPERANCE","Goldfields-Esperance",{"$f":"VLOOKUP(E1710,Admin_lookup!$A$2:$B$14,2,FALSE)","v":"Regional"}]
["WEST BINNU",6532,"SHIRE OF","CHAPMAN VALLEY","Mid-West",{"$f":"VLOOKUP(E1711,Admin_lookup!$A$2:$B$14,2,FALSE)","v":"Regional"}]
["WEST BUSSELTON",6280,"SHIRE OF","BUSSELTON","South West",{"$f":"VLOOKUP(E1712,Admin_lookup!$A$2:$B$14,2,FALSE)","v":"Regional"}]
["WEST CAPE HOWE",6330,"CITY OF","ALBANY","Great Southern",{"$f":"VLOOKUP(E1713,Admin_lookup!$A$2:$B$14,2,FALSE)","v":"Regional"}]
["WEST CASUARINAS",6630,"SHIRE OF","MURCHISON","Mid-West",{"$f":"VLOOKUP(E1714,Admin_lookup!$A$2:$B$14,2,FALSE)","v":"Regional"}]
["WEST COOLUP",6214,"SHIRE OF","MURRAY","Peel",{"$f":"VLOOKUP(E1715,Admin_lookup!$A$2:$B$14,2,FALSE)","v":"Regional"}]
["WEST END",6530,"CITY OF","GERALDTON-GREENOUGH","Mid-West",{"$f":"VLOOKUP(E1716,Admin_lookup!$A$2:$B$14,2,FALSE)","v":"Regional"}]
["WEST FITZGERALD",6337,"SHIRE OF","JERRAMUNGUP","Great Southern",{"$f":"VLOOKUP(E1717,Admin_lookup!$A$2:$B$14,2,FALSE)","v":"Regional"}]
["WEST HOLLETON",6369,"SHIRE OF","NAREMBEEN","Wheatbelt",{"$f":"VLOOKUP(E1718,Admin_lookup!$A$2:$B$14,2,FALSE)","v":"Regional"}]
["WEST ISLAND COCOS (KEELING) ISLANDS",6799,"COCOS (KEELING) ISLANDS","COCOS (KEELING) ISLANDS","Cocos (Keeling) Islands",{"$f":"VLOOKUP(E1719,Admin_lookup!$A$2:$B$14,2,FALSE)","v":"Not applicable"}]
["WEST KALGOORLIE",6430,"CITY OF","KALGOORLIE-BOULDER","Goldfields-Esperance",{"$f":"VLOOKUP(E1720,Admin_lookup!$A$2:$B$14,2,FALSE)","v":"Regional"}]
["WEST LAMINGTON",6430,"CITY OF","KALGOORLIE-BOULDER","Goldfields-Esperance",{"$f":"VLOOKUP(E1721,Admin_lookup!$A$2:$B$14,2,FALSE)","v":"Regional"}]
["WEST LEEDERVILLE",6007,"TOWN OF","CAMBRIDGE","Perth",{"$f":"VLOOKUP(E1722,Admin_lookup!$A$2:$B$14,2,FALSE)","v":"Metro"}]
["WEST LEEDERVILLE PO BOXES",6901,"CITY OF","PERTH","Perth",{"$f":"VLOOKUP(E1723,Admin_lookup!$A$2:$B$14,2,FALSE)","v":"Metro"}]
["WEST LYONS RIVER",6705,"SHIRE OF","UPPER GASCOYNE","Gascoyne",{"$f":"VLOOKUP(E1724,Admin_lookup!$A$2:$B$14,2,FALSE)","v":"Regional"}]
["WEST PERTH",6005,"CITY OF","PERTH","Perth",{"$f":"VLOOKUP(E1725,Admin_lookup!$A$2:$B$14,2,FALSE)","v":"Metro"}]
["WEST PERTH PO BOXES",6872,"CITY OF","PERTH","Perth",{"$f":"VLOOKUP(E1726,Admin_lookup!$A$2:$B$14,2,FALSE)","v":"Metro"}]
["WEST PINGELLY",6308,"SHIRE OF","PINGELLY","Wheatbelt",{"$f":"VLOOKUP(E1727,Admin_lookup!$A$2:$B$14,2,FALSE)","v":"Regional"}]
["WEST PINJARRA",6208,"SHIRE OF","MURRAY","Peel",{"$f":"VLOOKUP(E1728,Admin_lookup!$A$2:$B$14,2,FALSE)","v":"Regional"}]
["WEST POPANYINNING",6309,"SHIRE OF","CUBALLING","Wheatbelt",{"$f":"VLOOKUP(E1729,Admin_lookup!$A$2:$B$14,2,FALSE)","v":"Regional"}]
["WEST RIVER",6346,"SHIRE OF","RAVENSTHORPE","Goldfields-Esperance",{"$f":"VLOOKUP(E1730,Admin_lookup!$A$2:$B$14,2,FALSE)","v":"Regional"}]
["WEST SWAN",6055,"CITY OF","SWAN","Perth",{"$f":"VLOOKUP(E1731,Admin_lookup!$A$2:$B$14,2,FALSE)","v":"Metro"}]
["WEST TOODYAY",6566,"SHIRE OF","TOODYAY","Wheatbelt",{"$f":"VLOOKUP(E1732,Admin_lookup!$A$2:$B$14,2,FALSE)","v":"Regional"}]
["WESTDALE",6304,"SHIRE OF","BEVERLEY","Wheatbelt",{"$f":"VLOOKUP(E1733,Admin_lookup!$A$2:$B$14,2,FALSE)","v":"Regional"}]
["WESTFIELD",6111,"CITY OF","ARMADALE","Perth",{"$f":"VLOOKUP(E1734,Admin_lookup!$A$2:$B$14,2,FALSE)","v":"Metro"}]
["WESTMINSTER",6061,"CITY OF","STIRLING","Perth",{"$f":"VLOOKUP(E1735,Admin_lookup!$A$2:$B$14,2,FALSE)","v":"Metro"}]
["WESTONIA",6423,"SHIRE OF","WESTONIA","Wheatbelt",{"$f":"VLOOKUP(E1736,Admin_lookup!$A$2:$B$14,2,FALSE)","v":"Regional"}]
["WESTWOOD",6316,"SHIRE OF","WOODANILLING","Great Southern",{"$f":"VLOOKUP(E1737,Admin_lookup!$A$2:$B$14,2,FALSE)","v":"Regional"}]
["WHIM CREEK",6718,"SHIRE OF","ROEBOURNE","Pilbara",{"$f":"VLOOKUP(E1738,Admin_lookup!$A$2:$B$14,2,FALSE)","v":"Pilbara"}]
["WHITBY",6123,"SHIRE OF","SERPENTINE-JARRAHDALE","Peel",{"$f":"VLOOKUP(E1739,Admin_lookup!$A$2:$B$14,2,FALSE)","v":"Regional"}]
["WHITE GUM VALLEY",6162,"CITY OF","FREMANTLE","Perth",{"$f":"VLOOKUP(E1740,Admin_lookup!$A$2:$B$14,2,FALSE)","v":"Metro"}]
["WHITE PEAK",6532,"SHIRE OF","CHAPMAN VALLEY","Mid-West",{"$f":"VLOOKUP(E1741,Admin_lookup!$A$2:$B$14,2,FALSE)","v":"Regional"}]
["WHITEMAN",6068,"CITY OF","SWAN","Perth",{"$f":"VLOOKUP(E1742,Admin_lookup!$A$2:$B$14,2,FALSE)","v":"Metro"}]
["WHITTAKER",6207,"SHIRE OF","MURRAY","Peel",{"$f":"VLOOKUP(E1743,Admin_lookup!$A$2:$B$14,2,FALSE)","v":"Regional"}]
["WIALKI",6473,"SHIRE OF","MOUNT MARSHALL","Wheatbelt",{"$f":"VLOOKUP(E1744,Admin_lookup!$A$2:$B$14,2,FALSE)","v":"Regional"}]
["WICHERINA",6532,"SHIRE OF","CHAPMAN VALLEY","Mid-West",{"$f":"VLOOKUP(E1745,Admin_lookup!$A$2:$B$14,2,FALSE)","v":"Regional"}]
["WICHERINA SOUTH",6532,"SHIRE OF","CHAPMAN VALLEY","Mid-West",{"$f":"VLOOKUP(E1746,Admin_lookup!$A$2:$B$14,2,FALSE)","v":"Regional"}]
["WICKEPIN",6370,"SHIRE OF","WICKEPIN","Wheatbelt",{"$f":"VLOOKUP(E1747,Admin_lookup!$A$2:$B$14,2,FALSE)","v":"Regional"}]
["WICKHAM",6720,"SHIRE OF","ROEBOURNE","Pilbara",{"$f":"VLOOKUP(E1748,Admin_lookup!$A$2:$B$14,2,FALSE)","v":"Pilbara"}]
["WIDGIEMOOLTHA",6443,"SHIRE OF","COOLGARDIE","Goldfields-Esperance",{"$f":"VLOOKUP(E1749,Admin_lookup!$A$2:$B$14,2,FALSE)","v":"Regional"}]
["WILBERFORCE",6302,"SHIRE OF","YORK","Wheatbelt",{"$f":"VLOOKUP(E1750,Admin_lookup!$A$2:$B$14,2,FALSE)","v":"Regional"}]
["WILBINGA",6041,"SHIRE OF","GINGIN","Wheatbelt",{"$f":"VLOOKUP(E1751,Admin_lookup!$A$2:$B$14,2,FALSE)","v":"Regional"}]
["WILGA",6243,"SHIRE OF","DONNYBROOK-BALINGUP","South West",{"$f":"VLOOKUP(E1752,Admin_lookup!$A$2:$B$14,2,FALSE)","v":"Regional"}]
["WILGA WEST",6243,"SHIRE OF","DONNYBROOK-BALINGUP","South West",{"$f":"VLOOKUP(E1753,Admin_lookup!$A$2:$B$14,2,FALSE)","v":"Regional"}]
["WILGARRUP",6258,"SHIRE OF","MANJIMUP","South West",{"$f":"VLOOKUP(E1754,Admin_lookup!$A$2:$B$14,2,FALSE)","v":"Regional"}]
["WILGOYNE",6479,"SHIRE OF","MUKINBUDIN","Wheatbelt",{"$f":"VLOOKUP(E1755,Admin_lookup!$A$2:$B$14,2,FALSE)","v":"Regional"}]
["WILLAGEE",6156,"CITY OF","MELVILLE","Perth",{"$f":"VLOOKUP(E1756,Admin_lookup!$A$2:$B$14,2,FALSE)","v":"Metro"}]
["WILLAGEE CENTRAL",6156,"CITY OF","MELVILLE","Perth",{"$f":"VLOOKUP(E1757,Admin_lookup!$A$2:$B$14,2,FALSE)","v":"Metro"}]
["WILLARE",6728,"SHIRE OF","DERBY-WEST KIMBERLEY","Kimberley",{"$f":"VLOOKUP(E1758,Admin_lookup!$A$2:$B$14,2,FALSE)","v":"Kimberley"}]
["WILLETTON",6155,"CITY OF","CANNING","Perth",{"$f":"VLOOKUP(E1759,Admin_lookup!$A$2:$B$14,2,FALSE)","v":"Metro"}]
["WILLETTON PO BOXES",6955,"CITY OF","PERTH","Perth",{"$f":"VLOOKUP(E1760,Admin_lookup!$A$2:$B$14,2,FALSE)","v":"Metro"}]
["WILLIAM BAY",6333,"SHIRE OF","DENMARK","Great Southern",{"$f":"VLOOKUP(E1761,Admin_lookup!$A$2:$B$14,2,FALSE)","v":"Regional"}]
["WILLIAMS",6391,"SHIRE OF","WILLIAMS","Wheatbelt",{"$f":"VLOOKUP(E1762,Admin_lookup!$A$2:$B$14,2,FALSE)","v":"Regional"}]
["WILLIAMSTOWN",6430,"CITY OF","KALGOORLIE-BOULDER","Goldfields-Esperance",{"$f":"VLOOKUP(E1763,Admin_lookup!$A$2:$B$14,2,FALSE)","v":"Regional"}]
["WILLYUNG",6330,"CITY OF","ALBANY","Great Southern",{"$f":"VLOOKUP(E1764,Admin_lookup!$A$2:$B$14,2,FALSE)","v":"Regional"}]
["WILSON",6107,"CITY OF","CANNING","Perth",{"$f":"VLOOKUP(E1765,Admin_lookup!$A$2:$B$14,2,FALSE)","v":"Metro"}]
["WILUNA",6646,"SHIRE OF","WILUNA","Mid-West",{"$f":"VLOOKUP(E1766,Admin_lookup!$A$2:$B$14,2,FALSE)","v":"Regional"}]
["WILYABRUP",6280,"SHIRE OF","BUSSELTON","South West",{"$f":"VLOOKUP(E1767,Admin_lookup!$A$2:$B$14,2,FALSE)","v":"Regional"}]
["WINDABOUT",6450,"SHIRE OF","ESPERANCE","Goldfields-Esperance",{"$f":"VLOOKUP(E1768,Admin_lookup!$A$2:$B$14,2,FALSE)","v":"Regional"}]
["WINDY HARBOUR",6262,"SHIRE OF","MANJIMUP","South West",{"$f":"VLOOKUP(E1769,Admin_lookup!$A$2:$B$14,2,FALSE)","v":"Regional"}]
["WINNEJUP",6255,"SHIRE OF","BRIDGETOWN-GREENBUSHES","South West",{"$f":"VLOOKUP(E1770,Admin_lookup!$A$2:$B$14,2,FALSE)","v":"Regional"}]
["WINTHROP",6150,"CITY OF","MELVILLE","Perth",{"$f":"VLOOKUP(E1771,Admin_lookup!$A$2:$B$14,2,FALSE)","v":"Metro"}]
["WITCHCLIFFE",6286,"SHIRE OF","AUGUSTA-MARGARET RIVER","South West",{"$f":"VLOOKUP(E1772,Admin_lookup!$A$2:$B$14,2,FALSE)","v":"Regional"}]
["WITHERS",6230,"CITY OF","BUNBURY","South West",{"$f":"VLOOKUP(E1773,Admin_lookup!$A$2:$B$14,2,FALSE)","v":"Regional"}]
["WITTENOOM",6751,"SHIRE OF","ASHBURTON","Pilbara",{"$f":"VLOOKUP(E1774,Admin_lookup!$A$2:$B$14,2,FALSE)","v":"Pilbara"}]
["WITTENOOM HILLS",6447,"SHIRE OF","ESPERANCE","Goldfields-Esperance",{"$f":"VLOOKUP(E1775,Admin_lookup!$A$2:$B$14,2,FALSE)","v":"Regional"}]
["WOGOLIN",6370,"SHIRE OF","WICKEPIN","Wheatbelt",{"$f":"VLOOKUP(E1776,Admin_lookup!$A$2:$B$14,2,FALSE)","v":"Regional"}]
["WOKALUP",6221,"SHIRE OF","HARVEY","South West",{"$f":"VLOOKUP(E1777,Admin_lookup!$A$2:$B$14,2,FALSE)","v":"Regional"}]
["WOMARDEN",6519,"SHIRE OF","THREE SPRINGS","Mid-West",{"$f":"VLOOKUP(E1778,Admin_lookup!$A$2:$B$14,2,FALSE)","v":"Regional"}]
["WONGAMINE",6401,"SHIRE OF","GOOMALLING","Wheatbelt",{"$f":"VLOOKUP(E1779,Admin_lookup!$A$2:$B$14,2,FALSE)","v":"Regional"}]
["WONGAN HILLS",6603,"SHIRE OF","WONGAN-BALLIDU","Wheatbelt",{"$f":"VLOOKUP(E1780,Admin_lookup!$A$2:$B$14,2,FALSE)","v":"Regional"}]
["WONGOONDY",6630,"SHIRE OF","MURCHISON","Mid-West",{"$f":"VLOOKUP(E1781,Admin_lookup!$A$2:$B$14,2,FALSE)","v":"Regional"}]
["WONNERUP",6280,"SHIRE OF","BUSSELTON","South West",{"$f":"VLOOKUP(E1782,Admin_lookup!$A$2:$B$14,2,FALSE)","v":"Regional"}]
["WONTHELLA",6530,"CITY OF","GERALDTON-GREENOUGH","Mid-West",{"$f":"VLOOKUP(E1783,Admin_lookup!$A$2:$B$14,2,FALSE)","v":"Regional"}]
["WOODANILLING",6316,"SHIRE OF","WOODANILLING","Great Southern",{"$f":"VLOOKUP(E1784,Admin_lookup!$A$2:$B$14,2,FALSE)","v":"Regional"}]
["WOODBRIDGE",6056,"CITY OF","SWAN","Perth",{"$f":"VLOOKUP(E1785,Admin_lookup!$A$2:$B$14,2,FALSE)","v":"Metro"}]
["WOODLANDS",6018,"CITY OF","STIRLING","Perth",{"$f":"VLOOKUP(E1786,Admin_lookup!$A$2:$B$14,2,FALSE)","v":"Metro"}]
["WOODLEIGH",6701,"SHIRE OF","CARNARVON","Gascoyne",{"$f":"VLOOKUP(E1787,Admin_lookup!$A$2:$B$14,2,FALSE)","v":"Regional"}]
["WOODRIDGE",6041,"SHIRE OF","GINGIN","Wheatbelt",{"$f":"VLOOKUP(E1788,Admin_lookup!$A$2:$B$14,2,FALSE)","v":"Regional"}]
["WOODVALE",6026,"CITY OF","JOONDALUP","Perth",{"$f":"VLOOKUP(E1789,Admin_lookup!$A$2:$B$14,2,FALSE)","v":"Metro"}]
["WOOGENELLUP",6324,"SHIRE OF","PLANTAGENET","Great Southern",{"$f":"VLOOKUP(E1790,Admin_lookup!$A$2:$B$14,2,FALSE)","v":"Regional"}]
["WOOLGORONG",6630,"SHIRE OF","MURCHISON","Mid-West",{"$f":"VLOOKUP(E1791,Admin_lookup!$A$2:$B$14,2,FALSE)","v":"Regional"}]
["WOOLOCUTTY",6369,"SHIRE OF","NAREMBEEN","Wheatbelt",{"$f":"VLOOKUP(E1792,Admin_lookup!$A$2:$B$14,2,FALSE)","v":"Regional"}]
["WOORAMEL",6701,"SHIRE OF","CARNARVON","Gascoyne",{"$f":"VLOOKUP(E1793,Admin_lookup!$A$2:$B$14,2,FALSE)","v":"Regional"}]
["WOOROLOO",6558,"SHIRE OF","MUNDARING","Perth",{"$f":"VLOOKUP(E1794,Admin_lookup!$A$2:$B$14,2,FALSE)","v":"Metro"}]
["WOORREE",6530,"CITY OF","GERALDTON-GREENOUGH","Mid-West",{"$f":"VLOOKUP(E1795,Admin_lookup!$A$2:$B$14,2,FALSE)","v":"Regional"}]
["WOOTTATING",6562,"SHIRE OF","NORTHAM","Wheatbelt",{"$f":"VLOOKUP(E1796,Admin_lookup!$A$2:$B$14,2,FALSE)","v":"Regional"}]
["WORSLEY",6225,"SHIRE OF","COLLIE","South West",{"$f":"VLOOKUP(E1797,Admin_lookup!$A$2:$B$14,2,FALSE)","v":"Regional"}]
["WUBIN",6612,"SHIRE OF","DALWALLINU","Wheatbelt",{"$f":"VLOOKUP(E1798,Admin_lookup!$A$2:$B$14,2,FALSE)","v":"Regional"}]
["WUNDOWIE",6560,"SHIRE OF","NORTHAM","Wheatbelt",{"$f":"VLOOKUP(E1799,Admin_lookup!$A$2:$B$14,2,FALSE)","v":"Regional"}]
["WUNGONG",6112,"CITY OF","ARMADALE","Perth",{"$f":"VLOOKUP(E1800,Admin_lookup!$A$2:$B$14,2,FALSE)","v":"Metro"}]
["WURAMING",6390,"SHIRE OF","BODDINGTON","Peel",{"$f":"VLOOKUP(E1801,Admin_lookup!$A$2:$B$14,2,FALSE)","v":"Regional"}]
["WYALKATCHEM",6485,"SHIRE OF","WYALKATCHEM","Wheatbelt",{"$f":"VLOOKUP(E1802,Admin_lookup!$A$2:$B$14,2,FALSE)","v":"Regional"}]
["WYENING",6568,"SHIRE OF","VICTORIA PLAINS","Wheatbelt",{"$f":"VLOOKUP(E1803,Admin_lookup!$A$2:$B$14,2,FALSE)","v":"Regional"}]
["WYNDHAM",6740,"SHIRE OF","WYNDHAM-EAST KIMBERLEY","Kimberley",{"$f":"VLOOKUP(E1804,Admin_lookup!$A$2:$B$14,2,FALSE)","v":"Kimberley"}]
["WYOLA WEST",6407,"SHIRE OF","CUNDERDIN","Wheatbelt",{"$f":"VLOOKUP(E1805,Admin_lookup!$A$2:$B$14,2,FALSE)","v":"Regional"}]
["XANTIPPE",6609,"SHIRE OF","DALWALLINU","Wheatbelt",{"$f":"VLOOKUP(E1806,Admin_lookup!$A$2:$B$14,2,FALSE)","v":"Regional"}]
["YABBERUP",6239,"SHIRE OF","DONNYBROOK-BALINGUP","South West",{"$f":"VLOOKUP(E1807,Admin_lookup!$A$2:$B$14,2,FALSE)","v":"Regional"}]
["YAKAMIA",6330,"CITY OF","ALBANY","Great Southern",{"$f":"VLOOKUP(E1808,Admin_lookup!$A$2:$B$14,2,FALSE)","v":"Regional"}]
["YALARDY",6701,"SHIRE OF","CARNARVON","Gascoyne",{"$f":"VLOOKUP(E1809,Admin_lookup!$A$2:$B$14,2,FALSE)","v":"Regional"}]
["YALGOO",6635,"SHIRE OF","YALGOO","Mid-West",{"$f":"VLOOKUP(E1810,Admin_lookup!$A$2:$B$14,2,FALSE)","v":"Regional"}]
["YALLABATHARRA",6535,"SHIRE OF","NORTHAMPTON","Mid-West",{"$f":"VLOOKUP(E1811,Admin_lookup!$A$2:$B$14,2,FALSE)","v":"Regional"}]
["YALLINGUP",6282,"SHIRE OF","BUSSELTON","South West",{"$f":"VLOOKUP(E1812,Admin_lookup!$A$2:$B$14,2,FALSE)","v":"Regional"}]
["YALLINGUP SIDING",6282,"SHIRE OF","BUSSELTON","South West",{"$f":"VLOOKUP(E1813,Admin_lookup!$A$2:$B$14,2,FALSE)","v":"Regional"}]
["YALYALUP",6280,"SHIRE OF","BUSSELTON","South West",{"$f":"VLOOKUP(E1814,Admin_lookup!$A$2:$B$14,2,FALSE)","v":"Regional"}]
["YANCHEP",6035,"CITY OF","WANNEROO","Perth",{"$f":"VLOOKUP(E1815,Admin_lookup!$A$2:$B$14,2,FALSE)","v":"Metro"}]
["YANDANOOKA",6522,"SHIRE OF","MINGENEW","Mid-West",{"$f":"VLOOKUP(E1816,Admin_lookup!$A$2:$B$14,2,FALSE)","v":"Regional"}]
["YANDOO CREEK",6701,"SHIRE OF","CARNARVON","Gascoyne",{"$f":"VLOOKUP(E1817,Admin_lookup!$A$2:$B$14,2,FALSE)","v":"Regional"}]
["YANGEBUP",6164,"CITY OF","COCKBURN","Perth",{"$f":"VLOOKUP(E1818,Admin_lookup!$A$2:$B$14,2,FALSE)","v":"Metro"}]
["YANMAH",6258,"SHIRE OF","MANJIMUP","South West",{"$f":"VLOOKUP(E1819,Admin_lookup!$A$2:$B$14,2,FALSE)","v":"Regional"}]
["YANNARIE",6710,"SHIRE OF","ASHBURTON","Pilbara",{"$f":"VLOOKUP(E1820,Admin_lookup!$A$2:$B$14,2,FALSE)","v":"Pilbara"}]
["YARAWINDAH",6509,"SHIRE OF","VICTORIA PLAINS","Wheatbelt",{"$f":"VLOOKUP(E1821,Admin_lookup!$A$2:$B$14,2,FALSE)","v":"Regional"}]
["YARDARINO",6525,"SHIRE OF","IRWIN","Mid-West",{"$f":"VLOOKUP(E1822,Admin_lookup!$A$2:$B$14,2,FALSE)","v":"Regional"}]
["YARLOOP",6218,"SHIRE OF","HARVEY","South West",{"$f":"VLOOKUP(E1823,Admin_lookup!$A$2:$B$14,2,FALSE)","v":"Regional"}]
["YARRAGADEE",6522,"SHIRE OF","MINGENEW","Mid-West",{"$f":"VLOOKUP(E1824,Admin_lookup!$A$2:$B$14,2,FALSE)","v":"Regional"}]
["YATHROO",6507,"SHIRE OF","DANDARAGAN","Wheatbelt",{"$f":"VLOOKUP(E1825,Admin_lookup!$A$2:$B$14,2,FALSE)","v":"Regional"}]
["YEAGARUP",6260,"SHIRE OF","MANJIMUP","South West",{"$f":"VLOOKUP(E1826,Admin_lookup!$A$2:$B$14,2,FALSE)","v":"Regional"}]
["YEAL",6503,"SHIRE OF","GINGIN","Wheatbelt",{"$f":"VLOOKUP(E1827,Admin_lookup!$A$2:$B$14,2,FALSE)","v":"Regional"}]
["YEALERING",6372,"SHIRE OF","WICKEPIN","Wheatbelt",{"$f":"VLOOKUP(E1828,Admin_lookup!$A$2:$B$14,2,FALSE)","v":"Regional"}]
["YELBENI",6487,"SHIRE OF","TRAYNING","Wheatbelt",{"$f":"VLOOKUP(E1829,Admin_lookup!$A$2:$B$14,2,FALSE)","v":"Regional"}]
["YELLOWDINE",6426,"SHIRE OF","YILGARN","Wheatbelt",{"$f":"VLOOKUP(E1830,Admin_lookup!$A$2:$B$14,2,FALSE)","v":"Regional"}]
["YELVERTON",6280,"SHIRE OF","BUSSELTON","South West",{"$f":"VLOOKUP(E1831,Admin_lookup!$A$2:$B$14,2,FALSE)","v":"Regional"}]
["YERECOIN",6571,"SHIRE OF","VICTORIA PLAINS","Wheatbelt",{"$f":"VLOOKUP(E1832,Admin_lookup!$A$2:$B$14,2,FALSE)","v":"Regional"}]
["YETNA",6532,"SHIRE OF","CHAPMAN VALLEY","Mid-West",{"$f":"VLOOKUP(E1833,Admin_lookup!$A$2:$B$14,2,FALSE)","v":"Regional"}]
["YILKARI",6430,"CITY OF","KALGOORLIE-BOULDER","Goldfields-Esperance",{"$f":"VLOOKUP(E1834,Admin_lookup!$A$2:$B$14,2,FALSE)","v":"Regional"}]
["YILLIMINNING",6312,"SHIRE OF","NARROGIN","Wheatbelt",{"$f":"VLOOKUP(E1835,Admin_lookup!$A$2:$B$14,2,FALSE)","v":"Regional"}]
["YOGANUP",6275,"SHIRE OF","BUSSELTON","South West",{"$f":"VLOOKUP(E1836,Admin_lookup!$A$2:$B$14,2,FALSE)","v":"Regional"}]
["YOKINE",6060,"CITY OF","STIRLING","Perth",{"$f":"VLOOKUP(E1837,Admin_lookup!$A$2:$B$14,2,FALSE)","v":"Metro"}]
["YOONGARILLUP",6280,"SHIRE OF","BUSSELTON","South West",{"$f":"VLOOKUP(E1838,Admin_lookup!$A$2:$B$14,2,FALSE)","v":"Regional"}]
["YORK",6302,"SHIRE OF","YORK","Wheatbelt",{"$f":"VLOOKUP(E1839,Admin_lookup!$A$2:$B$14,2,FALSE)","v":"Regional"}]
["YORNANING",6311,"SHIRE OF","CUBALLING","Wheatbelt",{"$f":"VLOOKUP(E1840,Admin_lookup!$A$2:$B$14,2,FALSE)","v":"Regional"}]
["YORNUP",6256,"SHIRE OF","BRIDGETOWN-GREENBUSHES","South West",{"$f":"VLOOKUP(E1841,Admin_lookup!$A$2:$B$14,2,FALSE)","v":"Regional"}]
["YOTING",6383,"SHIRE OF","QUAIRADING","Wheatbelt",{"$f":"VLOOKUP(E1842,Admin_lookup!$A$2:$B$14,2,FALSE)","v":"Regional"}]
["YOUNDEGIN",6407,"SHIRE OF","CUNDERDIN","Wheatbelt",{"$f":"VLOOKUP(E1843,Admin_lookup!$A$2:$B$14,2,FALSE)","v":"Regional"}]
["YOUNGS SIDING",6330,"CITY OF","ALBANY","Great Southern",{"$f":"VLOOKUP(E1844,Admin_lookup!$A$2:$B$14,2,FALSE)","v":"Regional"}]
["YOURDAMUNG LAKE",6225,"SHIRE OF","COLLIE","South West",{"$f":"VLOOKUP(E1845,Admin_lookup!$A$2:$B$14,2,FALSE)","v":"Regional"}]
["YUNA",6532,"SHIRE OF","CHAPMAN VALLEY","Mid-West",{"$f":"VLOOKUP(E1846,Admin_lookup!$A$2:$B$14,2,FALSE)","v":"Regional"}]
["ZANTHUS",6434,"CITY OF","KALGOORLIE-BOULDER","Goldfields-Esperance",{"$f":"VLOOKUP(E1847,Admin_lookup!$A$2:$B$14,2,FALSE)","v":"Regional"}]
["ZUYTDORP",6536,"SHIRE OF","NORTHAMPTON","Mid-West",{"$f":"VLOOKUP(E1848,Admin_lookup!$A$2:$B$14,2,FALSE)","v":"Regional"}]

{"sheet":"Admin_Postcodes","index":6,"n_rows":1848,"n_cols":6,"rows_kept":1848,"cut":false,"hidden":true,"merged":[]}
["Postcode","SuburbUpperCase","Type","Council","Region ","Income region"]
[872,"GIBSON DESERT NORTH","SHIRE OF","EAST PILBARA","Pilbara",{"$f":"VLOOKUP(E2,Admin_lookup!$A$2:$B$14,2,FALSE)","v":"Pilbara"}]
[872,"GIBSON DESERT SOUTH","Shire of","NGAANYATJARRAKU","Goldfields-Esperance",{"$f":"VLOOKUP(E3,Admin_lookup!$A$2:$B$14,2,FALSE)","v":"Regional"}]
[872,"NGAANYATJARRA-GILES","Shire of","NGAANYATJARRAKU","Goldfields-Esperance",{"$f":"VLOOKUP(E4,Admin_lookup!$A$2:$B$14,2,FALSE)","v":"Regional"}]
[6000,"CITY DELIVERY CENTRE","CITY OF","PERTH","Perth",{"$f":"VLOOKUP(E5,Admin_lookup!$A$2:$B$14,2,FALSE)","v":"Metro"}]
[6000,"PERTH","CITY OF","PERTH","Perth",{"$f":"VLOOKUP(E6,Admin_lookup!$A$2:$B$14,2,FALSE)","v":"Metro"}]
[6000,"PERTH GPO","CITY OF","PERTH","Perth",{"$f":"VLOOKUP(E7,Admin_lookup!$A$2:$B$14,2,FALSE)","v":"Metro"}]
[6001,"PERTH GPO LOCKED BAGS","CITY OF","PERTH","Perth",{"$f":"VLOOKUP(E8,Admin_lookup!$A$2:$B$14,2,FALSE)","v":"Metro"}]
[6003,"HIGHGATE","CITY OF","PERTH","Perth",{"$f":"VLOOKUP(E9,Admin_lookup!$A$2:$B$14,2,FALSE)","v":"Metro"}]
[6003,"NORTHBRIDGE","CITY OF","PERTH","Perth",{"$f":"VLOOKUP(E10,Admin_lookup!$A$2:$B$14,2,FALSE)","v":"Metro"}]
[6004,"EAST PERTH","CITY OF","PERTH","Perth",{"$f":"VLOOKUP(E11,Admin_lookup!$A$2:$B$14,2,FALSE)","v":"Metro"}]
[6005,"KINGS PARK","CITY OF","PERTH","Perth",{"$f":"VLOOKUP(E12,Admin_lookup!$A$2:$B$14,2,FALSE)","v":"Metro"}]
[6005,"WEST PERTH","CITY OF","PERTH","Perth",{"$f":"VLOOKUP(E13,Admin_lookup!$A$2:$B$14,2,FALSE)","v":"Metro"}]
[6006,"NORTH PERTH","TOWN OF","VINCENT","Perth",{"$f":"VLOOKUP(E14,Admin_lookup!$A$2:$B$14,2,FALSE)","v":"Metro"}]
[6007,"LEEDERVILLE","TOWN OF","CAMBRIDGE","Perth",{"$f":"VLOOKUP(E15,Admin_lookup!$A$2:$B$14,2,FALSE)","v":"Metro"}]
[6007,"WEST LEEDERVILLE","TOWN OF","CAMBRIDGE","Perth",{"$f":"VLOOKUP(E16,Admin_lookup!$A$2:$B$14,2,FALSE)","v":"Metro"}]
[6008,"DAGLISH","CITY OF","SUBIACO","Perth",{"$f":"VLOOKUP(E17,Admin_lookup!$A$2:$B$14,2,FALSE)","v":"Metro"}]
[6008,"SHENTON PARK","CITY OF","SUBIACO","Perth",{"$f":"VLOOKUP(E18,Admin_lookup!$A$2:$B$14,2,FALSE)","v":"Metro"}]
[6008,"SUBIACO","CITY OF","SUBIACO","Perth",{"$f":"VLOOKUP(E19,Admin_lookup!$A$2:$B$14,2,FALSE)","v":"Metro"}]
[6008,"SUBIACO EAST","CITY OF","SUBIACO","Perth",{"$f":"VLOOKUP(E20,Admin_lookup!$A$2:$B$14,2,FALSE)","v":"Metro"}]
[6009,"BROADWAY NEDLANDS","CITY OF","NEDLANDS","Perth",{"$f":"VLOOKUP(E21,Admin_lookup!$A$2:$B$14,2,FALSE)","v":"Metro"}]
[6009,"CRAWLEY","CITY OF","NEDLANDS","Perth",{"$f":"VLOOKUP(E22,Admin_lookup!$A$2:$B$14,2,FALSE)","v":"Metro"}]
[6009,"DALKEITH","CITY OF","NEDLANDS","Perth",{"$f":"VLOOKUP(E23,Admin_lookup!$A$2:$B$14,2,FALSE)","v":"Metro"}]
[6009,"NEDLANDS","CITY OF","NEDLANDS","Perth",{"$f":"VLOOKUP(E24,Admin_lookup!$A$2:$B$14,2,FALSE)","v":"Metro"}]
[6009,"NEDLANDS DC","CITY OF","NEDLANDS","Perth",{"$f":"VLOOKUP(E25,Admin_lookup!$A$2:$B$14,2,FALSE)","v":"Metro"}]
[6010,"CLAREMONT","CITY OF","NEDLANDS","Perth",{"$f":"VLOOKUP(E26,Admin_lookup!$A$2:$B$14,2,FALSE)","v":"Metro"}]
[6010,"CLAREMONT NORTH","CITY OF","NEDLANDS","Perth",{"$f":"VLOOKUP(E27,Admin_lookup!$A$2:$B$14,2,FALSE)","v":"Metro"}]
[6010,"KARRAKATTA","CITY OF","NEDLANDS","Perth",{"$f":"VLOOKUP(E28,Admin_lookup!$A$2:$B$14,2,FALSE)","v":"Metro"}]
[6010,"MOUNT CLAREMONT","CITY OF","NEDLANDS","Perth",{"$f":"VLOOKUP(E29,Admin_lookup!$A$2:$B$14,2,FALSE)","v":"Metro"}]
[6010,"SWANBOURNE","CITY OF","NEDLANDS","Perth",{"$f":"VLOOKUP(E30,Admin_lookup!$A$2:$B$14,2,FALSE)","v":"Metro"}]
[6011,"COTTESLOE","SHIRE OF","PEPPERMINT GROVE","Perth",{"$f":"VLOOKUP(E31,Admin_lookup!$A$2:$B$14,2,FALSE)","v":"Metro"}]
[6011,"PEPPERMINT GROVE","SHIRE OF","PEPPERMINT GROVE","Perth",{"$f":"VLOOKUP(E32,Admin_lookup!$A$2:$B$14,2,FALSE)","v":"Metro"}]
[6012,"MOSMAN PARK","TOWN OF","MOSMAN PARK","Perth",{"$f":"VLOOKUP(E33,Admin_lookup!$A$2:$B$14,2,FALSE)","v":"Metro"}]
[6014,"FLOREAT","TOWN OF","CAMBRIDGE","Perth",{"$f":"VLOOKUP(E34,Admin_lookup!$A$2:$B$14,2,FALSE)","v":"Metro"}]
[6014,"FLOREAT FORUM","TOWN OF","CAMBRIDGE","Perth",{"$f":"VLOOKUP(E35,Admin_lookup!$A$2:$B$14,2,FALSE)","v":"Metro"}]
[6014,"JOLIMONT","TOWN OF","CAMBRIDGE","Perth",{"$f":"VLOOKUP(E36,Admin_lookup!$A$2:$B$14,2,FALSE)","v":"Metro"}]
[6014,"WEMBLEY","TOWN OF","CAMBRIDGE","Perth",{"$f":"VLOOKUP(E37,Admin_lookup!$A$2:$B$14,2,FALSE)","v":"Metro"}]
[6015,"CITY BEACH","TOWN OF","CAMBRIDGE","Perth",{"$f":"VLOOKUP(E38,Admin_lookup!$A$2:$B$14,2,FALSE)","v":"Metro"}]
[6016,"GLENDALOUGH","TOWN OF","VINCENT","Perth",{"$f":"VLOOKUP(E39,Admin_lookup!$A$2:$B$14,2,FALSE)","v":"Metro"}]
[6016,"MOUNT HAWTHORN","TOWN OF","VINCENT","Perth",{"$f":"VLOOKUP(E40,Admin_lookup!$A$2:$B$14,2,FALSE)","v":"Metro"}]
[6017,"HERDSMAN","CITY OF","STIRLING","Perth",{"$f":"VLOOKUP(E41,Admin_lookup!$A$2:$B$14,2,FALSE)","v":"Metro"}]
[6017,"OSBORNE PARK","CITY OF","STIRLING","Perth",{"$f":"VLOOKUP(E42,Admin_lookup!$A$2:$B$14,2,FALSE)","v":"Metro"}]
[6017,"OSBORNE PARK DC","CITY OF","STIRLING","Perth",{"$f":"VLOOKUP(E43,Admin_lookup!$A$2:$B$14,2,FALSE)","v":"Metro"}]
[6018,"CHURCHLANDS","CITY OF","STIRLING","Perth",{"$f":"VLOOKUP(E44,Admin_lookup!$A$2:$B$14,2,FALSE)","v":"Metro"}]
[6018,"DOUBLEVIEW","CITY OF","STIRLING","Perth",{"$f":"VLOOKUP(E45,Admin_lookup!$A$2:$B$14,2,FALSE)","v":"Metro"}]
[6018,"GWELUP","CITY OF","STIRLING","Perth",{"$f":"VLOOKUP(E46,Admin_lookup!$A$2:$B$14,2,FALSE)","v":"Metro"}]
[6018,"GWELUP DC","CITY OF","STIRLING","Perth",{"$f":"VLOOKUP(E47,Admin_lookup!$A$2:$B$14,2,FALSE)","v":"Metro"}]
[6018,"INNALOO","CITY OF","STIRLING","Perth",{"$f":"VLOOKUP(E48,Admin_lookup!$A$2:$B$14,2,FALSE)","v":"Metro"}]
[6018,"KARRINYUP","CITY OF","STIRLING","Perth",{"$f":"VLOOKUP(E49,Admin_lookup!$A$2:$B$14,2,FALSE)","v":"Metro"}]
[6018,"WOODLANDS","CITY OF","STIRLING","Perth",{"$f":"VLOOKUP(E50,Admin_lookup!$A$2:$B$14,2,FALSE)","v":"Metro"}]
[6019,"SCARBOROUGH","CITY OF","STIRLING","Perth",{"$f":"VLOOKUP(E51,Admin_lookup!$A$2:$B$14,2,FALSE)","v":"Metro"}]
[6019,"WEMBLEY DOWNS","CITY OF","STIRLING","Perth",{"$f":"VLOOKUP(E52,Admin_lookup!$A$2:$B$14,2,FALSE)","v":"Metro"}]
[6020,"CARINE","CITY OF","STIRLING","Perth",{"$f":"VLOOKUP(E53,Admin_lookup!$A$2:$B$14,2,FALSE)","v":"Metro"}]
[6020,"MARMION","CITY OF","STIRLING","Perth",{"$f":"VLOOKUP(E54,Admin_lookup!$A$2:$B$14,2,FALSE)","v":"Metro"}]
[6020,"NORTH BEACH","CITY OF","STIRLING","Perth",{"$f":"VLOOKUP(E55,Admin_lookup!$A$2:$B$14,2,FALSE)","v":"Metro"}]
[6020,"SORRENTO","CITY OF","STIRLING","Perth",{"$f":"VLOOKUP(E56,Admin_lookup!$A$2:$B$14,2,FALSE)","v":"Metro"}]
[6020,"WATERMANS BAY","CITY OF","STIRLING","Perth",{"$f":"VLOOKUP(E57,Admin_lookup!$A$2:$B$14,2,FALSE)","v":"Metro"}]
[6021,"BALCATTA","CITY OF","STIRLING","Perth",{"$f":"VLOOKUP(E58,Admin_lookup!$A$2:$B$14,2,FALSE)","v":"Metro"}]
[6021,"STIRLING","CITY OF","STIRLING","Perth",{"$f":"VLOOKUP(E59,Admin_lookup!$A$2:$B$14,2,FALSE)","v":"Metro"}]
[6022,"HAMERSLEY","CITY OF","STIRLING","Perth",{"$f":"VLOOKUP(E60,Admin_lookup!$A$2:$B$14,2,FALSE)","v":"Metro"}]
[6023,"DUNCRAIG","CITY OF","JOONDALUP","Perth",{"$f":"VLOOKUP(E61,Admin_lookup!$A$2:$B$14,2,FALSE)","v":"Metro"}]
[6024,"GREENWOOD","CITY OF","JOONDALUP","Perth",{"$f":"VLOOKUP(E62,Admin_lookup!$A$2:$B$14,2,FALSE)","v":"Metro"}]
[6024,"WARWICK","CITY OF","JOONDALUP","Perth",{"$f":"VLOOKUP(E63,Admin_lookup!$A$2:$B$14,2,FALSE)","v":"Metro"}]
[6025,"CRAIGIE","CITY OF","JOONDALUP","Perth",{"$f":"VLOOKUP(E64,Admin_lookup!$A$2:$B$14,2,FALSE)","v":"Metro"}]
[6025,"HILLARYS","CITY OF","JOONDALUP","Perth",{"$f":"VLOOKUP(E65,Admin_lookup!$A$2:$B$14,2,FALSE)","v":"Metro"}]
[6025,"KALLAROO","CITY OF","JOONDALUP","Perth",{"$f":"VLOOKUP(E66,Admin_lookup!$A$2:$B$14,2,FALSE)","v":"Metro"}]
[6025,"PADBURY","CITY OF","JOONDALUP","Perth",{"$f":"VLOOKUP(E67,Admin_lookup!$A$2:$B$14,2,FALSE)","v":"Metro"}]
[6026,"KINGSLEY","CITY OF","JOONDALUP","Perth",{"$f":"VLOOKUP(E68,Admin_lookup!$A$2:$B$14,2,FALSE)","v":"Metro"}]
[6026,"WOODVALE","CITY OF","JOONDALUP","Perth",{"$f":"VLOOKUP(E69,Admin_lookup!$A$2:$B$14,2,FALSE)","v":"Metro"}]
[6027,"BELDON","CITY OF","JOONDALUP","Perth",{"$f":"VLOOKUP(E70,Admin_lookup!$A$2:$B$14,2,FALSE)","v":"Metro"}]
[6027,"CONNOLLY","CITY OF","JOONDALUP","Perth",{"$f":"VLOOKUP(E71,Admin_lookup!$A$2:$B$14,2,FALSE)","v":"Metro"}]
[6027,"EDGEWATER","CITY OF","JOONDALUP","Perth",{"$f":"VLOOKUP(E72,Admin_lookup!$A$2:$B$14,2,FALSE)","v":"Metro"}]
[6027,"HEATHRIDGE","CITY OF","JOONDALUP","Perth",{"$f":"VLOOKUP(E73,Admin_lookup!$A$2:$B$14,2,FALSE)","v":"Metro"}]
[6027,"JOONDALUP","CITY OF","JOONDALUP","Perth",{"$f":"VLOOKUP(E74,Admin_lookup!$A$2:$B$14,2,FALSE)","v":"Metro"}]
[6027,"JOONDALUP DC","CITY OF","JOONDALUP","Perth",{"$f":"VLOOKUP(E75,Admin_lookup!$A$2:$B$14,2,FALSE)","v":"Metro"}]
[6027,"MULLALOO","CITY OF","JOONDALUP","Perth",{"$f":"VLOOKUP(E76,Admin_lookup!$A$2:$B$14,2,FALSE)","v":"Metro"}]
[6027,"OCEAN REEF","CITY OF","JOONDALUP","Perth",{"$f":"VLOOKUP(E77,Admin_lookup!$A$2:$B$14,2,FALSE)","v":"Metro"}]
[6028,"BURNS BEACH","CITY OF","JOONDALUP","Perth",{"$f":"VLOOKUP(E78,Admin_lookup!$A$2:$B$14,2,FALSE)","v":"Metro"}]
[6028,"CURRAMBINE","CITY OF","JOONDALUP","Perth",{"$f":"VLOOKUP(E79,Admin_lookup!$A$2:$B$14,2,FALSE)","v":"Metro"}]
[6028,"ILUKA","CITY OF","JOONDALUP","Perth",{"$f":"VLOOKUP(E80,Admin_lookup!$A$2:$B$14,2,FALSE)","v":"Metro"}]
[6028,"KINROSS","CITY OF","JOONDALUP","Perth",{"$f":"VLOOKUP(E81,Admin_lookup!$A$2:$B$14,2,FALSE)","v":"Metro"}]
[6029,"TRIGG","CITY OF","STIRLING","Perth",{"$f":"VLOOKUP(E82,Admin_lookup!$A$2:$B$14,2,FALSE)","v":"Metro"}]
[6030,"CLARKSON","CITY OF","WANNEROO","Perth",{"$f":"VLOOKUP(E83,Admin_lookup!$A$2:$B$14,2,FALSE)","v":"Metro"}]
[6030,"MERRIWA","CITY OF","WANNEROO","Perth",{"$f":"VLOOKUP(E84,Admin_lookup!$A$2:$B$14,2,FALSE)","v":"Metro"}]
[6030,"MINDARIE","CITY OF","WANNEROO","Perth",{"$f":"VLOOKUP(E85,Admin_lookup!$A$2:$B$14,2,FALSE)","v":"Metro"}]
[6030,"QUINNS ROCKS","CITY OF","WANNEROO","Perth",{"$f":"VLOOKUP(E86,Admin_lookup!$A$2:$B$14,2,FALSE)","v":"Metro"}]
[6030,"RIDGEWOOD","CITY OF","WANNEROO","Perth",{"$f":"VLOOKUP(E87,Admin_lookup!$A$2:$B$14,2,FALSE)","v":"Metro"}]
[6030,"TAMALA PARK","CITY OF","WANNEROO","Perth",{"$f":"VLOOKUP(E88,Admin_lookup!$A$2:$B$14,2,FALSE)","v":"Metro"}]
[6031,"BANKSIA GROVE","CITY OF","WANNEROO","Perth",{"$f":"VLOOKUP(E89,Admin_lookup!$A$2:$B$14,2,FALSE)","v":"Metro"}]
[6031,"CARRAMAR","CITY OF","WANNEROO","Perth",{"$f":"VLOOKUP(E90,Admin_lookup!$A$2:$B$14,2,FALSE)","v":"Metro"}]
[6031,"NEERABUP","CITY OF","WANNEROO","Perth",{"$f":"VLOOKUP(E91,Admin_lookup!$A$2:$B$14,2,FALSE)","v":"Metro"}]
[6032,"NOWERGUP","CITY OF","WANNEROO","Perth",{"$f":"VLOOKUP(E92,Admin_lookup!$A$2:$B$14,2,FALSE)","v":"Metro"}]
[6033,"CARABOODA","CITY OF","WANNEROO","Perth",{"$f":"VLOOKUP(E93,Admin_lookup!$A$2:$B$14,2,FALSE)","v":"Metro"}]
[6034,"EGLINTON","CITY OF","WANNEROO","Perth",{"$f":"VLOOKUP(E94,Admin_lookup!$A$2:$B$14,2,FALSE)","v":"Metro"}]
[6035,"YANCHEP","CITY OF","WANNEROO","Perth",{"$f":"VLOOKUP(E95,Admin_lookup!$A$2:$B$14,2,FALSE)","v":"Metro"}]
[6036,"BUTLER","CITY OF","WANNEROO","Perth",{"$f":"VLOOKUP(E96,Admin_lookup!$A$2:$B$14,2,FALSE)","v":"Metro"}]
[6036,"JINDALEE","CITY OF","WANNEROO","Perth",{"$f":"VLOOKUP(E97,Admin_lookup!$A$2:$B$14,2,FALSE)","v":"Metro"}]
[6037,"TWO ROCKS","CITY OF","WANNEROO","Perth",{"$f":"VLOOKUP(E98,Admin_lookup!$A$2:$B$14,2,FALSE)","v":"Metro"}]
[6038,"ALKIMOS","CITY OF","WANNEROO","Perth",{"$f":"VLOOKUP(E99,Admin_lookup!$A$2:$B$14,2,FALSE)","v":"Metro"}]
[6041,"CARABAN","SHIRE OF","GINGIN","Wheatbelt",{"$f":"VLOOKUP(E100,Admin_lookup!$A$2:$B$14,2,FALSE)","v":"Regional"}]
[6041,"GABBADAH","SHIRE OF","GINGIN","Wheatbelt",{"$f":"VLOOKUP(E101,Admin_lookup!$A$2:$B$14,2,FALSE)","v":"Regional"}]
[6041,"GUILDERTON","SHIRE OF","GINGIN","Wheatbelt",{"$f":"VLOOKUP(E102,Admin_lookup!$A$2:$B$14,2,FALSE)","v":"Regional"}]
[6041,"WILBINGA","SHIRE OF","GINGIN","Wheatbelt",{"$f":"VLOOKUP(E103,Admin_lookup!$A$2:$B$14,2,FALSE)","v":"Regional"}]
[6041,"WOODRIDGE","SHIRE OF","GINGIN","Wheatbelt",{"$f":"VLOOKUP(E104,Admin_lookup!$A$2:$B$14,2,FALSE)","v":"Regional"}]
[6042,"SEABIRD","SHIRE OF","GINGIN","Wheatbelt",{"$f":"VLOOKUP(E105,Admin_lookup!$A$2:$B$14,2,FALSE)","v":"Regional"}]
[6043,"BRETON BAY","SHIRE OF","GINGIN","Wheatbelt",{"$f":"VLOOKUP(E106,Admin_lookup!$A$2:$B$14,2,FALSE)","v":"Regional"}]
[6043,"LEDGE POINT","SHIRE OF","GINGIN","Wheatbelt",{"$f":"VLOOKUP(E107,Admin_lookup!$A$2:$B$14,2,FALSE)","v":"Regional"}]
[6044,"KARAKIN","SHIRE OF","DANDARAGAN","Wheatbelt",{"$f":"VLOOKUP(E108,Admin_lookup!$A$2:$B$14,2,FALSE)","v":"Regional"}]
[6044,"LANCELIN","SHIRE OF","DANDARAGAN","Wheatbelt",{"$f":"VLOOKUP(E109,Admin_lookup!$A$2:$B$14,2,FALSE)","v":"Regional"}]
[6044,"NILGEN","SHIRE OF","DANDARAGAN","Wheatbelt",{"$f":"VLOOKUP(E110,Admin_lookup!$A$2:$B$14,2,FALSE)","v":"Regional"}]
[6044,"WEDGE ISLAND","SHIRE OF","DANDARAGAN","Wheatbelt",{"$f":"VLOOKUP(E111,Admin_lookup!$A$2:$B$14,2,FALSE)","v":"Regional"}]
[6050,"COOLBINIA","CITY OF","STIRLING","Perth",{"$f":"VLOOKUP(E112,Admin_lookup!$A$2:$B$14,2,FALSE)","v":"Metro"}]
[6050,"MENORA","CITY OF","STIRLING","Perth",{"$f":"VLOOKUP(E113,Admin_lookup!$A$2:$B$14,2,FALSE)","v":"Metro"}]
[6050,"MOUNT LAWLEY","CITY OF","STIRLING","Perth",{"$f":"VLOOKUP(E114,Admin_lookup!$A$2:$B$14,2,FALSE)","v":"Metro"}]
[6051,"MAYLANDS","CITY OF","BAYSWATER","Perth",{"$f":"VLOOKUP(E115,Admin_lookup!$A$2:$B$14,2,FALSE)","v":"Metro"}]
[6052,"BEDFORD","CITY OF","STIRLING","Perth",{"$f":"VLOOKUP(E116,Admin_lookup!$A$2:$B$14,2,FALSE)","v":"Metro"}]
[6052,"INGLEWOOD","CITY OF","STIRLING","Perth",{"$f":"VLOOKUP(E117,Admin_lookup!$A$2:$B$14,2,FALSE)","v":"Metro"}]
[6053,"BAYSWATER","CITY OF","BAYSWATER","Perth",{"$f":"VLOOKUP(E118,Admin_lookup!$A$2:$B$14,2,FALSE)","v":"Metro"}]
[6054,"ASHFIELD","CITY OF","SWAN","Perth",{"$f":"VLOOKUP(E119,Admin_lookup!$A$2:$B$14,2,FALSE)","v":"Metro"}]
[6054,"BASSENDEAN","CITY OF","SWAN","Perth",{"$f":"VLOOKUP(E120,Admin_lookup!$A$2:$B$14,2,FALSE)","v":"Metro"}]
[6054,"BASSENDEAN DC","CITY OF","SWAN","Perth",{"$f":"VLOOKUP(E121,Admin_lookup!$A$2:$B$14,2,FALSE)","v":"Metro"}]
[6054,"EDEN HILL","CITY OF","SWAN","Perth",{"$f":"VLOOKUP(E122,Admin_lookup!$A$2:$B$14,2,FALSE)","v":"Metro"}]
[6054,"KIARA","CITY OF","SWAN","Perth",{"$f":"VLOOKUP(E123,Admin_lookup!$A$2:$B$14,2,FALSE)","v":"Metro"}]
[6054,"LOCKRIDGE","CITY OF","SWAN","Perth",{"$f":"VLOOKUP(E124,Admin_lookup!$A$2:$B$14,2,FALSE)","v":"Metro"}]
[6055,"BRABHAM","CITY OF","SWAN","Perth",{"$f":"VLOOKUP(E125,Admin_lookup!$A$2:$B$14,2,FALSE)","v":"Metro"}]
[6055,"CAVERSHAM","CITY OF","SWAN","Perth",{"$f":"VLOOKUP(E126,Admin_lookup!$A$2:$B$14,2,FALSE)","v":"Metro"}]
[6055,"DAYTON","CITY OF","SWAN","Perth",{"$f":"VLOOKUP(E127,Admin_lookup!$A$2:$B$14,2,FALSE)","v":"Metro"}]
[6055,"GUILDFORD","CITY OF","SWAN","Perth",{"$f":"VLOOKUP(E128,Admin_lookup!$A$2:$B$14,2,FALSE)","v":"Metro"}]
[6055,"HAZELMERE","CITY OF","SWAN","Perth",{"$f":"VLOOKUP(E129,Admin_lookup!$A$2:$B$14,2,FALSE)","v":"Metro"}]
[6055,"HENLEY BROOK","CITY OF","SWAN","Perth",{"$f":"VLOOKUP(E130,Admin_lookup!$A$2:$B$14,2,FALSE)","v":"Metro"}]
[6055,"SOUTH GUILDFORD","CITY OF","SWAN","Perth",{"$f":"VLOOKUP(E131,Admin_lookup!$A$2:$B$14,2,FALSE)","v":"Metro"}]
[6055,"WEST SWAN","CITY OF","SWAN","Perth",{"$f":"VLOOKUP(E132,Admin_lookup!$A$2:$B$14,2,FALSE)","v":"Metro"}]
[6056,"BASKERVILLE","CITY OF","SWAN","Perth",{"$f":"VLOOKUP(E133,Admin_lookup!$A$2:$B$14,2,FALSE)","v":"Metro"}]
[6056,"BELLEVUE","CITY OF","SWAN","Perth",{"$f":"VLOOKUP(E134,Admin_lookup!$A$2:$B$14,2,FALSE)","v":"Metro"}]
[6056,"BOYA","CITY OF","SWAN","Perth",{"$f":"VLOOKUP(E135,Admin_lookup!$A$2:$B$14,2,FALSE)","v":"Metro"}]
[6056,"GREENMOUNT","CITY OF","SWAN","Perth",{"$f":"VLOOKUP(E136,Admin_lookup!$A$2:$B$14,2,FALSE)","v":"Metro"}]
[6056,"HELENA VALLEY","CITY OF","SWAN","Perth",{"$f":"VLOOKUP(E137,Admin_lookup!$A$2:$B$14,2,FALSE)","v":"Metro"}]
[6056,"HERNE HILL","CITY OF","SWAN","Perth",{"$f":"VLOOKUP(E138,Admin_lookup!$A$2:$B$14,2,FALSE)","v":"Metro"}]
[6056,"JANE BROOK","CITY OF","SWAN","Perth",{"$f":"VLOOKUP(E139,Admin_lookup!$A$2:$B$14,2,FALSE)","v":"Metro"}]
[6056,"KOONGAMIA","CITY OF","SWAN","Perth",{"$f":"VLOOKUP(E140,Admin_lookup!$A$2:$B$14,2,FALSE)","v":"Metro"}]
[6056,"MIDDLE SWAN","CITY OF","SWAN","Perth",{"$f":"VLOOKUP(E141,Admin_lookup!$A$2:$B$14,2,FALSE)","v":"Metro"}]
[6056,"MIDLAND","CITY OF","SWAN","Perth",{"$f":"VLOOKUP(E142,Admin_lookup!$A$2:$B$14,2,FALSE)","v":"Metro"}]
[6056,"MIDVALE","CITY OF","SWAN","Perth",{"$f":"VLOOKUP(E143,Admin_lookup!$A$2:$B$14,2,FALSE)","v":"Metro"}]
[6056,"MILLENDON","CITY OF","SWAN","Perth",{"$f":"VLOOKUP(E144,Admin_lookup!$A$2:$B$14,2,FALSE)","v":"Metro"}]
[6056,"RED HILL","CITY OF","SWAN","Perth",{"$f":"VLOOKUP(E145,Admin_lookup!$A$2:$B$14,2,FALSE)","v":"Metro"}]
[6056,"STRATTON","CITY OF","SWAN","Perth",{"$f":"VLOOKUP(E146,Admin_lookup!$A$2:$B$14,2,FALSE)","v":"Metro"}]
[6056,"SWAN VIEW","CITY OF","SWAN","Perth",{"$f":"VLOOKUP(E147,Admin_lookup!$A$2:$B$14,2,FALSE)","v":"Metro"}]
[6056,"VIVEASH","CITY OF","SWAN","Perth",{"$f":"VLOOKUP(E148,Admin_lookup!$A$2:$B$14,2,FALSE)","v":"Metro"}]
[6056,"WOODBRIDGE","CITY OF","SWAN","Perth",{"$f":"VLOOKUP(E149,Admin_lookup!$A$2:$B$14,2,FALSE)","v":"Metro"}]
[6057,"HIGH WYCOMBE","SHIRE OF","KALAMUNDA","Perth",{"$f":"VLOOKUP(E150,Admin_lookup!$A$2:$B$14,2,FALSE)","v":"Metro"}]
[6057,"MAIDA VALE","SHIRE OF","KALAMUNDA","Perth",{"$f":"VLOOKUP(E151,Admin_lookup!$A$2:$B$14,2,FALSE)","v":"Metro"}]
[6058,"FORRESTFIELD","SHIRE OF","KALAMUNDA","Perth",{"$f":"VLOOKUP(E152,Admin_lookup!$A$2:$B$14,2,FALSE)","v":"Metro"}]
[6059,"DIANELLA","CITY OF","STIRLING","Perth",{"$f":"VLOOKUP(E153,Admin_lookup!$A$2:$B$14,2,FALSE)","v":"Metro"}]
[6060,"DOG SWAMP","CITY OF","STIRLING","Perth",{"$f":"VLOOKUP(E154,Admin_lookup!$A$2:$B$14,2,FALSE)","v":"Metro"}]
[6060,"JOONDANNA","CITY OF","STIRLING","Perth",{"$f":"VLOOKUP(E155,Admin_lookup!$A$2:$B$14,2,FALSE)","v":"Metro"}]
[6060,"TUART HILL","CITY OF","STIRLING","Perth",{"$f":"VLOOKUP(E156,Admin_lookup!$A$2:$B$14,2,FALSE)","v":"Metro"}]
[6060,"YOKINE","CITY OF","STIRLING","Perth",{"$f":"VLOOKUP(E157,Admin_lookup!$A$2:$B$14,2,FALSE)","v":"Metro"}]
[6061,"BALGA","CITY OF","STIRLING","Perth",{"$f":"VLOOKUP(E158,Admin_lookup!$A$2:$B$14,2,FALSE)","v":"Metro"}]
[6061,"MIRRABOOKA","CITY OF","STIRLING","Perth",{"$f":"VLOOKUP(E159,Admin_lookup!$A$2:$B$14,2,FALSE)","v":"Metro"}]
[6061,"NOLLAMARA","CITY OF","STIRLING","Perth",{"$f":"VLOOKUP(E160,Admin_lookup!$A$2:$B$14,2,FALSE)","v":"Metro"}]
[6061,"WESTMINSTER","CITY OF","STIRLING","Perth",{"$f":"VLOOKUP(E161,Admin_lookup!$A$2:$B$14,2,FALSE)","v":"Metro"}]
[6062,"EMBLETON","CITY OF","BAYSWATER","Perth",{"$f":"VLOOKUP(E162,Admin_lookup!$A$2:$B$14,2,FALSE)","v":"Metro"}]
[6062,"MORLEY","CITY OF","BAYSWATER","Perth",{"$f":"VLOOKUP(E163,Admin_lookup!$A$2:$B$14,2,FALSE)","v":"Metro"}]
[6062,"NORANDA","CITY OF","BAYSWATER","Perth",{"$f":"VLOOKUP(E164,Admin_lookup!$A$2:$B$14,2,FALSE)","v":"Metro"}]
[6063,"BEECHBORO","CITY OF","SWAN","Perth",{"$f":"VLOOKUP(E165,Admin_lookup!$A$2:$B$14,2,FALSE)","v":"Metro"}]
[6064,"ALEXANDER HEIGHTS","CITY OF","WANNEROO","Perth",{"$f":"VLOOKUP(E166,Admin_lookup!$A$2:$B$14,2,FALSE)","v":"Metro"}]
[6064,"GIRRAWHEEN","CITY OF","WANNEROO","Perth",{"$f":"VLOOKUP(E167,Admin_lookup!$A$2:$B$14,2,FALSE)","v":"Metro"}]
[6064,"KOONDOOLA","CITY OF","WANNEROO","Perth",{"$f":"VLOOKUP(E168,Admin_lookup!$A$2:$B$14,2,FALSE)","v":"Metro"}]
[6064,"MARANGAROO","CITY OF","WANNEROO","Perth",{"$f":"VLOOKUP(E169,Admin_lookup!$A$2:$B$14,2,FALSE)","v":"Metro"}]
[6065,"ASHBY","CITY OF","WANNEROO","Perth",{"$f":"VLOOKUP(E170,Admin_lookup!$A$2:$B$14,2,FALSE)","v":"Metro"}]
[6065,"DARCH","CITY OF","WANNEROO","Perth",{"$f":"VLOOKUP(E171,Admin_lookup!$A$2:$B$14,2,FALSE)","v":"Metro"}]
[6065,"GNANGARA","CITY OF","WANNEROO","Perth",{"$f":"VLOOKUP(E172,Admin_lookup!$A$2:$B$14,2,FALSE)","v":"Metro"}]
[6065,"HOCKING","CITY OF","WANNEROO","Perth",{"$f":"VLOOKUP(E173,Admin_lookup!$A$2:$B$14,2,FALSE)","v":"Metro"}]
[6065,"JANDABUP","CITY OF","WANNEROO","Perth",{"$f":"VLOOKUP(E174,Admin_lookup!$A$2:$B$14,2,FALSE)","v":"Metro"}]
[6065,"KINGSWAY","CITY OF","WANNEROO","Perth",{"$f":"VLOOKUP(E175,Admin_lookup!$A$2:$B$14,2,FALSE)","v":"Metro"}]
[6065,"LANDSDALE","CITY OF","WANNEROO","Perth",{"$f":"VLOOKUP(E176,Admin_lookup!$A$2:$B$14,2,FALSE)","v":"Metro"}]
[6065,"LEXIA","CITY OF","WANNEROO","Perth",{"$f":"VLOOKUP(E177,Admin_lookup!$A$2:$B$14,2,FALSE)","v":"Metro"}]
[6065,"MADELEY","CITY OF","WANNEROO","Perth",{"$f":"VLOOKUP(E178,Admin_lookup!$A$2:$B$14,2,FALSE)","v":"Metro"}]
[6065,"MARIGINIUP","CITY OF","WANNEROO","Perth",{"$f":"VLOOKUP(E179,Admin_lookup!$A$2:$B$14,2,FALSE)","v":"Metro"}]
[6065,"MELALEUCA","CITY OF","WANNEROO","Perth",{"$f":"VLOOKUP(E180,Admin_lookup!$A$2:$B$14,2,FALSE)","v":"Metro"}]
[6065,"PEARSALL","CITY OF","WANNEROO","Perth",{"$f":"VLOOKUP(E181,Admin_lookup!$A$2:$B$14,2,FALSE)","v":"Metro"}]
[6065,"PINJAR","CITY OF","WANNEROO","Perth",{"$f":"VLOOKUP(E182,Admin_lookup!$A$2:$B$14,2,FALSE)","v":"Metro"}]
[6065,"SINAGRA","CITY OF","WANNEROO","Perth",{"$f":"VLOOKUP(E183,Admin_lookup!$A$2:$B$14,2,FALSE)","v":"Metro"}]
[6065,"TAPPING","CITY OF","WANNEROO","Perth",{"$f":"VLOOKUP(E184,Admin_lookup!$A$2:$B$14,2,FALSE)","v":"Metro"}]
[6065,"WANGARA","CITY OF","WANNEROO","Perth",{"$f":"VLOOKUP(E185,Admin_lookup!$A$2:$B$14,2,FALSE)","v":"Metro"}]
[6065,"WANGARA DC","CITY OF","WANNEROO","Perth",{"$f":"VLOOKUP(E186,Admin_lookup!$A$2:$B$14,2,FALSE)","v":"Metro"}]
[6065,"WANNEROO","CITY OF","WANNEROO","Perth",{"$f":"VLOOKUP(E187,Admin_lookup!$A$2:$B$14,2,FALSE)","v":"Metro"}]
[6066,"BALLAJURA","CITY OF","SWAN","Perth",{"$f":"VLOOKUP(E188,Admin_lookup!$A$2:$B$14,2,FALSE)","v":"Metro"}]
[6067,"CULLACABARDEE","CITY OF","SWAN","Perth",{"$f":"VLOOKUP(E189,Admin_lookup!$A$2:$B$14,2,FALSE)","v":"Metro"}]
[6068,"WHITEMAN","CITY OF","SWAN","Perth",{"$f":"VLOOKUP(E190,Admin_lookup!$A$2:$B$14,2,FALSE)","v":"Metro"}]
[6069,"AVELEY","CITY OF","SWAN","Perth",{"$f":"VLOOKUP(E191,Admin_lookup!$A$2:$B$14,2,FALSE)","v":"Metro"}]
[6069,"BELHUS","CITY OF","SWAN","Perth",{"$f":"VLOOKUP(E192,Admin_lookup!$A$2:$B$14,2,FALSE)","v":"Metro"}]
[6069,"BRIGADOON","CITY OF","SWAN","Perth",{"$f":"VLOOKUP(E193,Admin_lookup!$A$2:$B$14,2,FALSE)","v":"Metro"}]
[6069,"ELLENBROOK","CITY OF","SWAN","Perth",{"$f":"VLOOKUP(E194,Admin_lookup!$A$2:$B$14,2,FALSE)","v":"Metro"}]
[6069,"ELLENBROOK EAST","CITY OF","SWAN","Perth",{"$f":"VLOOKUP(E195,Admin_lookup!$A$2:$B$14,2,FALSE)","v":"Metro"}]
[6069,"THE VINES","CITY OF","SWAN","Perth",{"$f":"VLOOKUP(E196,Admin_lookup!$A$2:$B$14,2,FALSE)","v":"Metro"}]
[6069,"UPPER SWAN","CITY OF","SWAN","Perth",{"$f":"VLOOKUP(E197,Admin_lookup!$A$2:$B$14,2,FALSE)","v":"Metro"}]
[6070,"DARLINGTON","SHIRE OF","MUNDARING","Perth",{"$f":"VLOOKUP(E198,Admin_lookup!$A$2:$B$14,2,FALSE)","v":"Metro"}]
[6071,"GLEN FORREST","SHIRE OF","MUNDARING","Perth",{"$f":"VLOOKUP(E199,Admin_lookup!$A$2:$B$14,2,FALSE)","v":"Metro"}]
[6071,"HOVEA","SHIRE OF","MUNDARING","Perth",{"$f":"VLOOKUP(E200,Admin_lookup!$A$2:$B$14,2,FALSE)","v":"Metro"}]
[6072,"MAHOGANY CREEK","SHIRE OF","MUNDARING","Perth",{"$f":"VLOOKUP(E201,Admin_lookup!$A$2:$B$14,2,FALSE)","v":"Metro"}]
[6073,"MUNDARING","SHIRE OF","MUNDARING","Perth",{"$f":"VLOOKUP(E202,Admin_lookup!$A$2:$B$14,2,FALSE)","v":"Metro"}]
[6073,"MUNDARING DC","SHIRE OF","MUNDARING","Perth",{"$f":"VLOOKUP(E203,Admin_lookup!$A$2:$B$14,2,FALSE)","v":"Metro"}]
[6074,"SAWYERS VALLEY","SHIRE OF","MUNDARING","Perth",{"$f":"VLOOKUP(E204,Admin_lookup!$A$2:$B$14,2,FALSE)","v":"Metro"}]
[6076,"BICKLEY","SHIRE OF","KALAMUNDA","Perth",{"$f":"VLOOKUP(E205,Admin_lookup!$A$2:$B$14,2,FALSE)","v":"Metro"}]
[6076,"CARMEL","SHIRE OF","KALAMUNDA","Perth",{"$f":"VLOOKUP(E206,Admin_lookup!$A$2:$B$14,2,FALSE)","v":"Metro"}]
[6076,"GOOSEBERRY HILL","SHIRE OF","KALAMUNDA","Perth",{"$f":"VLOOKUP(E207,Admin_lookup!$A$2:$B$14,2,FALSE)","v":"Metro"}]
[6076,"HACKETTS GULLY","SHIRE OF","KALAMUNDA","Perth",{"$f":"VLOOKUP(E208,Admin_lookup!$A$2:$B$14,2,FALSE)","v":"Metro"}]
[6076,"KALAMUNDA","SHIRE OF","KALAMUNDA","Perth",{"$f":"VLOOKUP(E209,Admin_lookup!$A$2:$B$14,2,FALSE)","v":"Metro"}]
[6076,"LESMURDIE","SHIRE OF","KALAMUNDA","Perth",{"$f":"VLOOKUP(E210,Admin_lookup!$A$2:$B$14,2,FALSE)","v":"Metro"}]
[6076,"PAULLS VALLEY","SHIRE OF","KALAMUNDA","Perth",{"$f":"VLOOKUP(E211,Admin_lookup!$A$2:$B$14,2,FALSE)","v":"Metro"}]
[6076,"PICKERING BROOK","SHIRE OF","KALAMUNDA","Perth",{"$f":"VLOOKUP(E212,Admin_lookup!$A$2:$B$14,2,FALSE)","v":"Metro"}]
[6076,"PIESSE BROOK","SHIRE OF","KALAMUNDA","Perth",{"$f":"VLOOKUP(E213,Admin_lookup!$A$2:$B$14,2,FALSE)","v":"Metro"}]
[6076,"RESERVOIR","SHIRE OF","KALAMUNDA","Perth",{"$f":"VLOOKUP(E214,Admin_lookup!$A$2:$B$14,2,FALSE)","v":"Metro"}]
[6076,"WALLISTON","SHIRE OF","KALAMUNDA","Perth",{"$f":"VLOOKUP(E215,Admin_lookup!$A$2:$B$14,2,FALSE)","v":"Metro"}]
[6076,"WALLISTON DC","SHIRE OF","KALAMUNDA","Perth",{"$f":"VLOOKUP(E216,Admin_lookup!$A$2:$B$14,2,FALSE)","v":"Metro"}]
[6081,"PARKERVILLE","SHIRE OF","MUNDARING","Perth",{"$f":"VLOOKUP(E217,Admin_lookup!$A$2:$B$14,2,FALSE)","v":"Metro"}]
[6081,"STONEVILLE","SHIRE OF","MUNDARING","Perth",{"$f":"VLOOKUP(E218,Admin_lookup!$A$2:$B$14,2,FALSE)","v":"Metro"}]
[6082,"BAILUP","SHIRE OF","MUNDARING","Perth",{"$f":"VLOOKUP(E219,Admin_lookup!$A$2:$B$14,2,FALSE)","v":"Metro"}]
[6082,"MOUNT HELENA","SHIRE OF","MUNDARING","Perth",{"$f":"VLOOKUP(E220,Admin_lookup!$A$2:$B$14,2,FALSE)","v":"Metro"}]
[6083,"GIDGEGANNUP","CITY OF","SWAN","Perth",{"$f":"VLOOKUP(E221,Admin_lookup!$A$2:$B$14,2,FALSE)","v":"Metro"}]
[6083,"MORANGUP","SHIRE OF","TOODYAY","Wheatbelt",{"$f":"VLOOKUP(E222,Admin_lookup!$A$2:$B$14,2,FALSE)","v":"Regional"}]
[6084,"AVON VALLEY NATIONAL PARK","CITY OF","SWAN","Perth",{"$f":"VLOOKUP(E223,Admin_lookup!$A$2:$B$14,2,FALSE)","v":"Metro"}]
[6084,"BULLSBROOK","CITY OF","SWAN","Perth",{"$f":"VLOOKUP(E224,Admin_lookup!$A$2:$B$14,2,FALSE)","v":"Metro"}]
[6084,"CHITTERING","SHIRE OF","CHITTERING","Wheatbelt",{"$f":"VLOOKUP(E225,Admin_lookup!$A$2:$B$14,2,FALSE)","v":"Regional"}]
[6084,"LOWER CHITTERING","CITY OF","SWAN","Perth",{"$f":"VLOOKUP(E226,Admin_lookup!$A$2:$B$14,2,FALSE)","v":"Metro"}]
[6084,"WALYUNGA NATIONAL PARK","CITY OF","SWAN","Perth",{"$f":"VLOOKUP(E227,Admin_lookup!$A$2:$B$14,2,FALSE)","v":"Metro"}]
[6090,"MALAGA","CITY OF","SWAN","Perth",{"$f":"VLOOKUP(E228,Admin_lookup!$A$2:$B$14,2,FALSE)","v":"Metro"}]
[6100,"BURSWOOD","TOWN OF","VICTORIA PARK","Perth",{"$f":"VLOOKUP(E229,Admin_lookup!$A$2:$B$14,2,FALSE)","v":"Metro"}]
[6100,"LATHLAIN","TOWN OF","VICTORIA PARK","Perth",{"$f":"VLOOKUP(E230,Admin_lookup!$A$2:$B$14,2,FALSE)","v":"Metro"}]
[6100,"VICTORIA PARK","TOWN OF","VICTORIA PARK","Perth",{"$f":"VLOOKUP(E231,Admin_lookup!$A$2:$B$14,2,FALSE)","v":"Metro"}]
[6101,"CARLISLE","TOWN OF","VICTORIA PARK","Perth",{"$f":"VLOOKUP(E232,Admin_lookup!$A$2:$B$14,2,FALSE)","v":"Metro"}]
[6101,"CARLISLE NORTH","TOWN OF","VICTORIA PARK","Perth",{"$f":"VLOOKUP(E233,Admin_lookup!$A$2:$B$14,2,FALSE)","v":"Metro"}]
[6101,"CARLISLE SOUTH","TOWN OF","VICTORIA PARK","Perth",{"$f":"VLOOKUP(E234,Admin_lookup!$A$2:$B$14,2,FALSE)","v":"Metro"}]
[6101,"EAST VICTORIA PARK","TOWN OF","VICTORIA PARK","Perth",{"$f":"VLOOKUP(E235,Admin_lookup!$A$2:$B$14,2,FALSE)","v":"Metro"}]
[6102,"BENTLEY","TOWN OF","VICTORIA PARK","Perth",{"$f":"VLOOKUP(E236,Admin_lookup!$A$2:$B$14,2,FALSE)","v":"Metro"}]
[6102,"BENTLEY DC","TOWN OF","VICTORIA PARK","Perth",{"$f":"VLOOKUP(E237,Admin_lookup!$A$2:$B$14,2,FALSE)","v":"Metro"}]
[6102,"BENTLEY SOUTH","TOWN OF","VICTORIA PARK","Perth",{"$f":"VLOOKUP(E238,Admin_lookup!$A$2:$B$14,2,FALSE)","v":"Metro"}]
[6102,"ST JAMES","TOWN OF","VICTORIA PARK","Perth",{"$f":"VLOOKUP(E239,Admin_lookup!$A$2:$B$14,2,FALSE)","v":"Metro"}]
[6103,"RIVERVALE","CITY OF","BELMONT","Perth",{"$f":"VLOOKUP(E240,Admin_lookup!$A$2:$B$14,2,FALSE)","v":"Metro"}]
[6104,"ASCOT","CITY OF","BELMONT","Perth",{"$f":"VLOOKUP(E241,Admin_lookup!$A$2:$B$14,2,FALSE)","v":"Metro"}]
[6104,"BELMONT","CITY OF","BELMONT","Perth",{"$f":"VLOOKUP(E242,Admin_lookup!$A$2:$B$14,2,FALSE)","v":"Metro"}]
[6104,"REDCLIFFE","CITY OF","BELMONT","Perth",{"$f":"VLOOKUP(E243,Admin_lookup!$A$2:$B$14,2,FALSE)","v":"Metro"}]
[6105,"CLOVERDALE","CITY OF","BELMONT","Perth",{"$f":"VLOOKUP(E244,Admin_lookup!$A$2:$B$14,2,FALSE)","v":"Metro"}]
[6105,"KEWDALE","CITY OF","BELMONT","Perth",{"$f":"VLOOKUP(E245,Admin_lookup!$A$2:$B$14,2,FALSE)","v":"Metro"}]
[6105,"PERTH AIRPORT","CITY OF","BELMONT","Perth",{"$f":"VLOOKUP(E246,Admin_lookup!$A$2:$B$14,2,FALSE)","v":"Metro"}]
[6106,"WELSHPOOL","CITY OF","CANNING","Perth",{"$f":"VLOOKUP(E247,Admin_lookup!$A$2:$B$14,2,FALSE)","v":"Metro"}]
[6106,"WELSHPOOL DC","CITY OF","CANNING","Perth",{"$f":"VLOOKUP(E248,Admin_lookup!$A$2:$B$14,2,FALSE)","v":"Metro"}]
[6107,"BECKENHAM","CITY OF","CANNING","Perth",{"$f":"VLOOKUP(E249,Admin_lookup!$A$2:$B$14,2,FALSE)","v":"Metro"}]
[6107,"CANNINGTON","CITY OF","CANNING","Perth",{"$f":"VLOOKUP(E250,Admin_lookup!$A$2:$B$14,2,FALSE)","v":"Metro"}]
[6107,"EAST CANNINGTON","CITY OF","CANNING","Perth",{"$f":"VLOOKUP(E251,Admin_lookup!$A$2:$B$14,2,FALSE)","v":"Metro"}]
[6107,"KENWICK","CITY OF","CANNING","Perth",{"$f":"VLOOKUP(E252,Admin_lookup!$A$2:$B$14,2,FALSE)","v":"Metro"}]
[6107,"QUEENS PARK","CITY OF","CANNING","Perth",{"$f":"VLOOKUP(E253,Admin_lookup!$A$2:$B$14,2,FALSE)","v":"Metro"}]
[6107,"WATTLE GROVE","CITY OF","CANNING","Perth",{"$f":"VLOOKUP(E254,Admin_lookup!$A$2:$B$14,2,FALSE)","v":"Metro"}]
[6107,"WILSON","CITY OF","CANNING","Perth",{"$f":"VLOOKUP(E255,Admin_lookup!$A$2:$B$14,2,FALSE)","v":"Metro"}]
[6108,"THORNLIE","CITY OF","GOSNELLS","Perth",{"$f":"VLOOKUP(E256,Admin_lookup!$A$2:$B$14,2,FALSE)","v":"Metro"}]
[6109,"MADDINGTON","CITY OF","GOSNELLS","Perth",{"$f":"VLOOKUP(E257,Admin_lookup!$A$2:$B$14,2,FALSE)","v":"Metro"}]
[6109,"ORANGE GROVE","CITY OF","GOSNELLS","Perth",{"$f":"VLOOKUP(E258,Admin_lookup!$A$2:$B$14,2,FALSE)","v":"Metro"}]
[6110,"GOSNELLS","CITY OF","GOSNELLS","Perth",{"$f":"VLOOKUP(E259,Admin_lookup!$A$2:$B$14,2,FALSE)","v":"Metro"}]
[6110,"HUNTINGDALE","CITY OF","GOSNELLS","Perth",{"$f":"VLOOKUP(E260,Admin_lookup!$A$2:$B$14,2,FALSE)","v":"Metro"}]
[6110,"MARTIN","CITY OF","GOSNELLS","Perth",{"$f":"VLOOKUP(E261,Admin_lookup!$A$2:$B$14,2,FALSE)","v":"Metro"}]
[6110,"SOUTHERN RIVER","CITY OF","GOSNELLS","Perth",{"$f":"VLOOKUP(E262,Admin_lookup!$A$2:$B$14,2,FALSE)","v":"Metro"}]
[6111,"ASHENDON","CITY OF","ARMADALE","Perth",{"$f":"VLOOKUP(E263,Admin_lookup!$A$2:$B$14,2,FALSE)","v":"Metro"}]
[6111,"CAMILLO","CITY OF","ARMADALE","Perth",{"$f":"VLOOKUP(E264,Admin_lookup!$A$2:$B$14,2,FALSE)","v":"Metro"}]
[6111,"CANNING MILLS","CITY OF","ARMADALE","Perth",{"$f":"VLOOKUP(E265,Admin_lookup!$A$2:$B$14,2,FALSE)","v":"Metro"}]
[6111,"CHAMPION LAKES","CITY OF","ARMADALE","Perth",{"$f":"VLOOKUP(E266,Admin_lookup!$A$2:$B$14,2,FALSE)","v":"Metro"}]
[6111,"KARRAGULLEN","CITY OF","ARMADALE","Perth",{"$f":"VLOOKUP(E267,Admin_lookup!$A$2:$B$14,2,FALSE)","v":"Metro"}]
[6111,"KELMSCOTT","CITY OF","ARMADALE","Perth",{"$f":"VLOOKUP(E268,Admin_lookup!$A$2:$B$14,2,FALSE)","v":"Metro"}]
[6111,"KELMSCOTT DC","CITY OF","ARMADALE","Perth",{"$f":"VLOOKUP(E269,Admin_lookup!$A$2:$B$14,2,FALSE)","v":"Metro"}]
[6111,"LESLEY","CITY OF","ARMADALE","Perth",{"$f":"VLOOKUP(E270,Admin_lookup!$A$2:$B$14,2,FALSE)","v":"Metro"}]
[6111,"ROLEYSTONE","CITY OF","ARMADALE","Perth",{"$f":"VLOOKUP(E271,Admin_lookup!$A$2:$B$14,2,FALSE)","v":"Metro"}]
[6111,"WESTFIELD","CITY OF","ARMADALE","Perth",{"$f":"VLOOKUP(E272,Admin_lookup!$A$2:$B$14,2,FALSE)","v":"Metro"}]
[6112,"ARMADALE","CITY OF","ARMADALE","Perth",{"$f":"VLOOKUP(E273,Admin_lookup!$A$2:$B$14,2,FALSE)","v":"Metro"}]
[6112,"BEDFORDALE","CITY OF","ARMADALE","Perth",{"$f":"VLOOKUP(E274,Admin_lookup!$A$2:$B$14,2,FALSE)","v":"Metro"}]
[6112,"BROOKDALE","CITY OF","ARMADALE","Perth",{"$f":"VLOOKUP(E275,Admin_lookup!$A$2:$B$14,2,FALSE)","v":"Metro"}]
[6112,"FORRESTDALE","CITY OF","ARMADALE","Perth",{"$f":"VLOOKUP(E276,Admin_lookup!$A$2:$B$14,2,FALSE)","v":"Metro"}]
[6112,"HARRISDALE","CITY OF","ARMADALE","Perth",{"$f":"VLOOKUP(E277,Admin_lookup!$A$2:$B$14,2,FALSE)","v":"Metro"}]
[6112,"HAYNES","CITY OF","ARMADALE","Perth",{"$f":"VLOOKUP(E278,Admin_lookup!$A$2:$B$14,2,FALSE)","v":"Metro"}]
[6112,"HILBERT","CITY OF","ARMADALE","Perth",{"$f":"VLOOKUP(E279,Admin_lookup!$A$2:$B$14,2,FALSE)","v":"Metro"}]
[6112,"MOUNT NASURA","CITY OF","ARMADALE","Perth",{"$f":"VLOOKUP(E280,Admin_lookup!$A$2:$B$14,2,FALSE)","v":"Metro"}]
[6112,"MOUNT RICHON","CITY OF","ARMADALE","Perth",{"$f":"VLOOKUP(E281,Admin_lookup!$A$2:$B$14,2,FALSE)","v":"Metro"}]
[6112,"PIARA WATERS","CITY OF","ARMADALE","Perth",{"$f":"VLOOKUP(E282,Admin_lookup!$A$2:$B$14,2,FALSE)","v":"Metro"}]
[6112,"SEVILLE GROVE","CITY OF","ARMADALE","Perth",{"$f":"VLOOKUP(E283,Admin_lookup!$A$2:$B$14,2,FALSE)","v":"Metro"}]
[6112,"WUNGONG","CITY OF","ARMADALE","Perth",{"$f":"VLOOKUP(E284,Admin_lookup!$A$2:$B$14,2,FALSE)","v":"Metro"}]
[6121,"OAKFORD","SHIRE OF","SERPENTINE-JARRAHDALE","Peel",{"$f":"VLOOKUP(E285,Admin_lookup!$A$2:$B$14,2,FALSE)","v":"Regional"}]
[6121,"OLDBURY","SHIRE OF","SERPENTINE-JARRAHDALE","Peel",{"$f":"VLOOKUP(E286,Admin_lookup!$A$2:$B$14,2,FALSE)","v":"Regional"}]
[6122,"BYFORD","SHIRE OF","SERPENTINE-JARRAHDALE","Peel",{"$f":"VLOOKUP(E287,Admin_lookup!$A$2:$B$14,2,FALSE)","v":"Regional"}]
[6122,"CARDUP","SHIRE OF","SERPENTINE-JARRAHDALE","Peel",{"$f":"VLOOKUP(E288,Admin_lookup!$A$2:$B$14,2,FALSE)","v":"Regional"}]
[6122,"DARLING DOWNS","SHIRE OF","SERPENTINE-JARRAHDALE","Peel",{"$f":"VLOOKUP(E289,Admin_lookup!$A$2:$B$14,2,FALSE)","v":"Regional"}]
[6122,"KARRAKUP","SHIRE OF","SERPENTINE-JARRAHDALE","Peel",{"$f":"VLOOKUP(E290,Admin_lookup!$A$2:$B$14,2,FALSE)","v":"Regional"}]
[6123,"MUNDIJONG","SHIRE OF","SERPENTINE-JARRAHDALE","Peel",{"$f":"VLOOKUP(E291,Admin_lookup!$A$2:$B$14,2,FALSE)","v":"Regional"}]
[6123,"WHITBY","SHIRE OF","SERPENTINE-JARRAHDALE","Peel",{"$f":"VLOOKUP(E292,Admin_lookup!$A$2:$B$14,2,FALSE)","v":"Regional"}]
[6124,"JARRAHDALE","SHIRE OF","SERPENTINE-JARRAHDALE","Peel",{"$f":"VLOOKUP(E293,Admin_lookup!$A$2:$B$14,2,FALSE)","v":"Regional"}]
[6125,"HOPELAND","SHIRE OF","SERPENTINE-JARRAHDALE","Peel",{"$f":"VLOOKUP(E294,Admin_lookup!$A$2:$B$14,2,FALSE)","v":"Regional"}]
[6125,"MARDELLA","SHIRE OF","SERPENTINE-JARRAHDALE","Peel",{"$f":"VLOOKUP(E295,Admin_lookup!$A$2:$B$14,2,FALSE)","v":"Regional"}]
[6125,"SERPENTINE","SHIRE OF","SERPENTINE-JARRAHDALE","Peel",{"$f":"VLOOKUP(E296,Admin_lookup!$A$2:$B$14,2,FALSE)","v":"Regional"}]
[6126,"KEYSBROOK","SHIRE OF","SERPENTINE-JARRAHDALE","Peel",{"$f":"VLOOKUP(E297,Admin_lookup!$A$2:$B$14,2,FALSE)","v":"Regional"}]
[6147,"LANGFORD","CITY OF","CANNING","Perth",{"$f":"VLOOKUP(E298,Admin_lookup!$A$2:$B$14,2,FALSE)","v":"Metro"}]
[6147,"LYNWOOD","CITY OF","CANNING","Perth",{"$f":"VLOOKUP(E299,Admin_lookup!$A$2:$B$14,2,FALSE)","v":"Metro"}]
[6147,"PARKWOOD","CITY OF","CANNING","Perth",{"$f":"VLOOKUP(E300,Admin_lookup!$A$2:$B$14,2,FALSE)","v":"Metro"}]
[6148,"FERNDALE","CITY OF","CANNING","Perth",{"$f":"VLOOKUP(E301,Admin_lookup!$A$2:$B$14,2,FALSE)","v":"Metro"}]
[6148,"RIVERTON","CITY OF","CANNING","Perth",{"$f":"VLOOKUP(E302,Admin_lookup!$A$2:$B$14,2,FALSE)","v":"Metro"}]
[6148,"ROSSMOYNE","CITY OF","CANNING","Perth",{"$f":"VLOOKUP(E303,Admin_lookup!$A$2:$B$14,2,FALSE)","v":"Metro"}]
[6148,"SHELLEY","CITY OF","CANNING","Perth",{"$f":"VLOOKUP(E304,Admin_lookup!$A$2:$B$14,2,FALSE)","v":"Metro"}]
[6149,"BULL CREEK","CITY OF","MELVILLE","Perth",{"$f":"VLOOKUP(E305,Admin_lookup!$A$2:$B$14,2,FALSE)","v":"Metro"}]
[6149,"LEEMING","CITY OF","MELVILLE","Perth",{"$f":"VLOOKUP(E306,Admin_lookup!$A$2:$B$14,2,FALSE)","v":"Metro"}]
[6150,"BATEMAN","CITY OF","MELVILLE","Perth",{"$f":"VLOOKUP(E307,Admin_lookup!$A$2:$B$14,2,FALSE)","v":"Metro"}]
[6150,"MURDOCH","CITY OF","MELVILLE","Perth",{"$f":"VLOOKUP(E308,Admin_lookup!$A$2:$B$14,2,FALSE)","v":"Metro"}]
[6150,"WINTHROP","CITY OF","MELVILLE","Perth",{"$f":"VLOOKUP(E309,Admin_lookup!$A$2:$B$14,2,FALSE)","v":"Metro"}]
[6151,"KENSINGTON","CITY OF","SOUTH PERTH","Perth",{"$f":"VLOOKUP(E310,Admin_lookup!$A$2:$B$14,2,FALSE)","v":"Metro"}]
[6151,"SOUTH PERTH","CITY OF","SOUTH PERTH","Perth",{"$f":"VLOOKUP(E311,Admin_lookup!$A$2:$B$14,2,FALSE)","v":"Metro"}]
[6151,"SOUTH PERTH ANGELO ST","CITY OF","SOUTH PERTH","Perth",{"$f":"VLOOKUP(E312,Admin_lookup!$A$2:$B$14,2,FALSE)","v":"Metro"}]
[6152,"COMO","CITY OF","SOUTH PERTH","Perth",{"$f":"VLOOKUP(E313,Admin_lookup!$A$2:$B$14,2,FALSE)","v":"Metro"}]
[6152,"KARAWARA","CITY OF","SOUTH PERTH","Perth",{"$f":"VLOOKUP(E314,Admin_lookup!$A$2:$B$14,2,FALSE)","v":"Metro"}]
[6152,"MANNING","CITY OF","SOUTH PERTH","Perth",{"$f":"VLOOKUP(E315,Admin_lookup!$A$2:$B$14,2,FALSE)","v":"Metro"}]
[6152,"SALTER POINT","CITY OF","SOUTH PERTH","Perth",{"$f":"VLOOKUP(E316,Admin_lookup!$A$2:$B$14,2,FALSE)","v":"Metro"}]
[6152,"WATERFORD","CITY OF","SOUTH PERTH","Perth",{"$f":"VLOOKUP(E317,Admin_lookup!$A$2:$B$14,2,FALSE)","v":"Metro"}]
[6153,"APPLECROSS","CITY OF","MELVILLE","Perth",{"$f":"VLOOKUP(E318,Admin_lookup!$A$2:$B$14,2,FALSE)","v":"Metro"}]
[6153,"APPLECROSS NORTH","CITY OF","MELVILLE","Perth",{"$f":"VLOOKUP(E319,Admin_lookup!$A$2:$B$14,2,FALSE)","v":"Metro"}]
[6153,"ARDROSS","CITY OF","MELVILLE","Perth",{"$f":"VLOOKUP(E320,Admin_lookup!$A$2:$B$14,2,FALSE)","v":"Metro"}]
[6153,"BRENTWOOD","CITY OF","MELVILLE","Perth",{"$f":"VLOOKUP(E321,Admin_lookup!$A$2:$B$14,2,FALSE)","v":"Metro"}]
[6153,"CANNING BRIDGE APPLECROSS","CITY OF","MELVILLE","Perth",{"$f":"VLOOKUP(E322,Admin_lookup!$A$2:$B$14,2,FALSE)","v":"Metro"}]
[6153,"MOUNT PLEASANT","CITY OF","MELVILLE","Perth",{"$f":"VLOOKUP(E323,Admin_lookup!$A$2:$B$14,2,FALSE)","v":"Metro"}]
[6154,"ALFRED COVE","CITY OF","MELVILLE","Perth",{"$f":"VLOOKUP(E324,Admin_lookup!$A$2:$B$14,2,FALSE)","v":"Metro"}]
[6154,"BOORAGOON","CITY OF","MELVILLE","Perth",{"$f":"VLOOKUP(E325,Admin_lookup!$A$2:$B$14,2,FALSE)","v":"Metro"}]
[6154,"MYAREE","CITY OF","MELVILLE","Perth",{"$f":"VLOOKUP(E326,Admin_lookup!$A$2:$B$14,2,FALSE)","v":"Metro"}]
[6155,"CANNING VALE","CITY OF","CANNING","Perth",{"$f":"VLOOKUP(E327,Admin_lookup!$A$2:$B$14,2,FALSE)","v":"Metro"}]
[6155,"CANNING VALE DC","CITY OF","CANNING","Perth",{"$f":"VLOOKUP(E328,Admin_lookup!$A$2:$B$14,2,FALSE)","v":"Metro"}]
[6155,"CANNING VALE EAST","CITY OF","CANNING","Perth",{"$f":"VLOOKUP(E329,Admin_lookup!$A$2:$B$14,2,FALSE)","v":"Metro"}]
[6155,"CANNING VALE SOUTH","CITY OF","CANNING","Perth",{"$f":"VLOOKUP(E330,Admin_lookup!$A$2:$B$14,2,FALSE)","v":"Metro"}]
[6155,"WILLETTON","CITY OF","CANNING","Perth",{"$f":"VLOOKUP(E331,Admin_lookup!$A$2:$B$14,2,FALSE)","v":"Metro"}]
[6156,"ATTADALE","CITY OF","MELVILLE","Perth",{"$f":"VLOOKUP(E332,Admin_lookup!$A$2:$B$14,2,FALSE)","v":"Metro"}]
[6156,"MELVILLE","CITY OF","MELVILLE","Perth",{"$f":"VLOOKUP(E333,Admin_lookup!$A$2:$B$14,2,FALSE)","v":"Metro"}]
[6156,"WILLAGEE","CITY OF","MELVILLE","Perth",{"$f":"VLOOKUP(E334,Admin_lookup!$A$2:$B$14,2,FALSE)","v":"Metro"}]
[6156,"WILLAGEE CENTRAL","CITY OF","MELVILLE","Perth",{"$f":"VLOOKUP(E335,Admin_lookup!$A$2:$B$14,2,FALSE)","v":"Metro"}]
[6157,"BICTON","CITY OF","MELVILLE","Perth",{"$f":"VLOOKUP(E336,Admin_lookup!$A$2:$B$14,2,FALSE)","v":"Metro"}]
[6157,"PALMYRA","CITY OF","MELVILLE","Perth",{"$f":"VLOOKUP(E337,Admin_lookup!$A$2:$B$14,2,FALSE)","v":"Metro"}]
[6157,"PALMYRA DC","CITY OF","MELVILLE","Perth",{"$f":"VLOOKUP(E338,Admin_lookup!$A$2:$B$14,2,FALSE)","v":"Metro"}]
[6158,"EAST FREMANTLE","TOWN OF","EAST FREMANTLE","Perth",{"$f":"VLOOKUP(E339,Admin_lookup!$A$2:$B$14,2,FALSE)","v":"Metro"}]
[6159,"NORTH FREMANTLE","CITY OF","FREMANTLE","Perth",{"$f":"VLOOKUP(E340,Admin_lookup!$A$2:$B$14,2,FALSE)","v":"Metro"}]
[6160,"FREMANTLE","CITY OF","FREMANTLE","Perth",{"$f":"VLOOKUP(E341,Admin_lookup!$A$2:$B$14,2,FALSE)","v":"Metro"}]
[6161,"ROTTNEST ISLAND","CITY OF","COCKBURN","Perth",{"$f":"VLOOKUP(E342,Admin_lookup!$A$2:$B$14,2,FALSE)","v":"Metro"}]
[6162,"BEACONSFIELD","CITY OF","FREMANTLE","Perth",{"$f":"VLOOKUP(E343,Admin_lookup!$A$2:$B$14,2,FALSE)","v":"Metro"}]
[6162,"SOUTH FREMANTLE","CITY OF","FREMANTLE","Perth",{"$f":"VLOOKUP(E344,Admin_lookup!$A$2:$B$14,2,FALSE)","v":"Metro"}]
[6162,"WHITE GUM VALLEY","CITY OF","FREMANTLE","Perth",{"$f":"VLOOKUP(E345,Admin_lookup!$A$2:$B$14,2,FALSE)","v":"Metro"}]
[6163,"BIBRA LAKE","CITY OF","COCKBURN","Perth",{"$f":"VLOOKUP(E346,Admin_lookup!$A$2:$B$14,2,FALSE)","v":"Metro"}]
[6163,"BIBRA LAKE DC","CITY OF","COCKBURN","Perth",{"$f":"VLOOKUP(E347,Admin_lookup!$A$2:$B$14,2,FALSE)","v":"Metro"}]
[6163,"COOLBELLUP","CITY OF","COCKBURN","Perth",{"$f":"VLOOKUP(E348,Admin_lookup!$A$2:$B$14,2,FALSE)","v":"Metro"}]
[6163,"HAMILTON HILL","CITY OF","COCKBURN","Perth",{"$f":"VLOOKUP(E349,Admin_lookup!$A$2:$B$14,2,FALSE)","v":"Metro"}]
[6163,"HILTON","CITY OF","COCKBURN","Perth",{"$f":"VLOOKUP(E350,Admin_lookup!$A$2:$B$14,2,FALSE)","v":"Metro"}]
[6163,"KARDINYA","CITY OF","COCKBURN","Perth",{"$f":"VLOOKUP(E351,Admin_lookup!$A$2:$B$14,2,FALSE)","v":"Metro"}]
[6163,"NORTH COOGEE","CITY OF","COCKBURN","Perth",{"$f":"VLOOKUP(E352,Admin_lookup!$A$2:$B$14,2,FALSE)","v":"Metro"}]
[6163,"NORTH LAKE","CITY OF","COCKBURN","Perth",{"$f":"VLOOKUP(E353,Admin_lookup!$A$2:$B$14,2,FALSE)","v":"Metro"}]
[6163,"O'CONNOR","CITY OF","COCKBURN","Perth",{"$f":"VLOOKUP(E354,Admin_lookup!$A$2:$B$14,2,FALSE)","v":"Metro"}]
[6163,"SAMSON","CITY OF","COCKBURN","Perth",{"$f":"VLOOKUP(E355,Admin_lookup!$A$2:$B$14,2,FALSE)","v":"Metro"}]
[6163,"SPEARWOOD","CITY OF","COCKBURN","Perth",{"$f":"VLOOKUP(E356,Admin_lookup!$A$2:$B$14,2,FALSE)","v":"Metro"}]
[6164,"ATWELL","CITY OF","COCKBURN","Perth",{"$f":"VLOOKUP(E357,Admin_lookup!$A$2:$B$14,2,FALSE)","v":"Metro"}]
[6164,"AUBIN GROVE","CITY OF","COCKBURN","Perth",{"$f":"VLOOKUP(E358,Admin_lookup!$A$2:$B$14,2,FALSE)","v":"Metro"}]
[6164,"BANJUP","CITY OF","COCKBURN","Perth",{"$f":"VLOOKUP(E359,Admin_lookup!$A$2:$B$14,2,FALSE)","v":"Metro"}]
[6164,"BEELIAR","CITY OF","COCKBURN","Perth",{"$f":"VLOOKUP(E360,Admin_lookup!$A$2:$B$14,2,FALSE)","v":"Metro"}]
[6164,"COCKBURN CENTRAL","CITY OF","COCKBURN","Perth",{"$f":"VLOOKUP(E361,Admin_lookup!$A$2:$B$14,2,FALSE)","v":"Metro"}]
[6164,"HAMMOND PARK","CITY OF","COCKBURN","Perth",{"$f":"VLOOKUP(E362,Admin_lookup!$A$2:$B$14,2,FALSE)","v":"Metro"}]
[6164,"JANDAKOT","CITY OF","COCKBURN","Perth",{"$f":"VLOOKUP(E363,Admin_lookup!$A$2:$B$14,2,FALSE)","v":"Metro"}]
[6164,"SOUTH LAKE","CITY OF","COCKBURN","Perth",{"$f":"VLOOKUP(E364,Admin_lookup!$A$2:$B$14,2,FALSE)","v":"Metro"}]
[6164,"SUCCESS","CITY OF","COCKBURN","Perth",{"$f":"VLOOKUP(E365,Admin_lookup!$A$2:$B$14,2,FALSE)","v":"Metro"}]
[6164,"YANGEBUP","CITY OF","COCKBURN","Perth",{"$f":"VLOOKUP(E366,Admin_lookup!$A$2:$B$14,2,FALSE)","v":"Metro"}]
[6165,"HOPE VALLEY","TOWN OF","KWINANA","Perth",{"$f":"VLOOKUP(E367,Admin_lookup!$A$2:$B$14,2,FALSE)","v":"Metro"}]
[6165,"NAVAL BASE","TOWN OF","KWINANA","Perth",{"$f":"VLOOKUP(E368,Admin_lookup!$A$2:$B$14,2,FALSE)","v":"Metro"}]
[6166,"COOGEE","CITY OF","COCKBURN","Perth",{"$f":"VLOOKUP(E369,Admin_lookup!$A$2:$B$14,2,FALSE)","v":"Metro"}]
[6166,"HENDERSON","CITY OF","COCKBURN","Perth",{"$f":"VLOOKUP(E370,Admin_lookup!$A$2:$B$14,2,FALSE)","v":"Metro"}]
[6166,"MUNSTER","CITY OF","COCKBURN","Perth",{"$f":"VLOOKUP(E371,Admin_lookup!$A$2:$B$14,2,FALSE)","v":"Metro"}]
[6166,"WATTLEUP","CITY OF","COCKBURN","Perth",{"$f":"VLOOKUP(E372,Admin_lookup!$A$2:$B$14,2,FALSE)","v":"Metro"}]
[6167,"ANKETELL","TOWN OF","KWINANA","Perth",{"$f":"VLOOKUP(E373,Admin_lookup!$A$2:$B$14,2,FALSE)","v":"Metro"}]
[6167,"BERTRAM","TOWN OF","KWINANA","Perth",{"$f":"VLOOKUP(E374,Admin_lookup!$A$2:$B$14,2,FALSE)","v":"Metro"}]
[6167,"CALISTA","TOWN OF","KWINANA","Perth",{"$f":"VLOOKUP(E375,Admin_lookup!$A$2:$B$14,2,FALSE)","v":"Metro"}]
[6167,"CASUARINA","TOWN OF","KWINANA","Perth",{"$f":"VLOOKUP(E376,Admin_lookup!$A$2:$B$14,2,FALSE)","v":"Metro"}]
[6167,"KWINANA BEACH","TOWN OF","KWINANA","Perth",{"$f":"VLOOKUP(E377,Admin_lookup!$A$2:$B$14,2,FALSE)","v":"Metro"}]
[6167,"KWINANA TOWN CENTRE","TOWN OF","KWINANA","Perth",{"$f":"VLOOKUP(E378,Admin_lookup!$A$2:$B$14,2,FALSE)","v":"Metro"}]
[6167,"MANDOGALUP","TOWN OF","KWINANA","Perth",{"$f":"VLOOKUP(E379,Admin_lookup!$A$2:$B$14,2,FALSE)","v":"Metro"}]
[6167,"MEDINA","TOWN OF","KWINANA","Perth",{"$f":"VLOOKUP(E380,Admin_lookup!$A$2:$B$14,2,FALSE)","v":"Metro"}]
[6167,"ORELIA","TOWN OF","KWINANA","Perth",{"$f":"VLOOKUP(E381,Admin_lookup!$A$2:$B$14,2,FALSE)","v":"Metro"}]
[6167,"PARMELIA","TOWN OF","KWINANA","Perth",{"$f":"VLOOKUP(E382,Admin_lookup!$A$2:$B$14,2,FALSE)","v":"Metro"}]
[6167,"POSTANS","TOWN OF","KWINANA","Perth",{"$f":"VLOOKUP(E383,Admin_lookup!$A$2:$B$14,2,FALSE)","v":"Metro"}]
[6167,"THE SPECTACLES","TOWN OF","KWINANA","Perth",{"$f":"VLOOKUP(E384,Admin_lookup!$A$2:$B$14,2,FALSE)","v":"Metro"}]
[6167,"WANDI","TOWN OF","KWINANA","Perth",{"$f":"VLOOKUP(E385,Admin_lookup!$A$2:$B$14,2,FALSE)","v":"Metro"}]
[6168,"COOLOONGUP","CITY OF","ROCKINGHAM","Perth",{"$f":"VLOOKUP(E386,Admin_lookup!$A$2:$B$14,2,FALSE)","v":"Metro"}]
[6168,"EAST ROCKINGHAM","CITY OF","ROCKINGHAM","Perth",{"$f":"VLOOKUP(E387,Admin_lookup!$A$2:$B$14,2,FALSE)","v":"Metro"}]
[6168,"GARDEN ISLAND","CITY OF","ROCKINGHAM","Perth",{"$f":"VLOOKUP(E388,Admin_lookup!$A$2:$B$14,2,FALSE)","v":"Metro"}]
[6168,"HILLMAN","CITY OF","ROCKINGHAM","Perth",{"$f":"VLOOKUP(E389,Admin_lookup!$A$2:$B$14,2,FALSE)","v":"Metro"}]
[6168,"PERON","CITY OF","ROCKINGHAM","Perth",{"$f":"VLOOKUP(E390,Admin_lookup!$A$2:$B$14,2,FALSE)","v":"Metro"}]
[6168,"ROCKINGHAM","CITY OF","ROCKINGHAM","Perth",{"$f":"VLOOKUP(E391,Admin_lookup!$A$2:$B$14,2,FALSE)","v":"Metro"}]
[6168,"ROCKINGHAM BEACH","CITY OF","ROCKINGHAM","Perth",{"$f":"VLOOKUP(E392,Admin_lookup!$A$2:$B$14,2,FALSE)","v":"Metro"}]
[6168,"ROCKINGHAM DC","CITY OF","ROCKINGHAM","Perth",{"$f":"VLOOKUP(E393,Admin_lookup!$A$2:$B$14,2,FALSE)","v":"Metro"}]
[6169,"SAFETY BAY","CITY OF","ROCKINGHAM","Perth",{"$f":"VLOOKUP(E394,Admin_lookup!$A$2:$B$14,2,FALSE)","v":"Metro"}]
[6169,"SHOALWATER","CITY OF","ROCKINGHAM","Perth",{"$f":"VLOOKUP(E395,Admin_lookup!$A$2:$B$14,2,FALSE)","v":"Metro"}]
[6169,"WAIKIKI","CITY OF","ROCKINGHAM","Perth",{"$f":"VLOOKUP(E396,Admin_lookup!$A$2:$B$14,2,FALSE)","v":"Metro"}]
[6169,"WARNBRO","CITY OF","ROCKINGHAM","Perth",{"$f":"VLOOKUP(E397,Admin_lookup!$A$2:$B$14,2,FALSE)","v":"Metro"}]
[6170,"LEDA","TOWN OF","KWINANA","Perth",{"$f":"VLOOKUP(E398,Admin_lookup!$A$2:$B$14,2,FALSE)","v":"Metro"}]
[6170,"WELLARD","TOWN OF","KWINANA","Perth",{"$f":"VLOOKUP(E399,Admin_lookup!$A$2:$B$14,2,FALSE)","v":"Metro"}]
[6171,"BALDIVIS","CITY OF","ROCKINGHAM","Perth",{"$f":"VLOOKUP(E400,Admin_lookup!$A$2:$B$14,2,FALSE)","v":"Metro"}]
[6172,"PORT KENNEDY","CITY OF","ROCKINGHAM","Perth",{"$f":"VLOOKUP(E401,Admin_lookup!$A$2:$B$14,2,FALSE)","v":"Metro"}]
[6173,"SECRET HARBOUR","CITY OF","ROCKINGHAM","Perth",{"$f":"VLOOKUP(E402,Admin_lookup!$A$2:$B$14,2,FALSE)","v":"Metro"}]
[6174,"GOLDEN BAY","CITY OF","ROCKINGHAM","Perth",{"$f":"VLOOKUP(E403,Admin_lookup!$A$2:$B$14,2,FALSE)","v":"Metro"}]
[6175,"SINGLETON","CITY OF","ROCKINGHAM","Perth",{"$f":"VLOOKUP(E404,Admin_lookup!$A$2:$B$14,2,FALSE)","v":"Metro"}]
[6176,"KARNUP","CITY OF","ROCKINGHAM","Perth",{"$f":"VLOOKUP(E405,Admin_lookup!$A$2:$B$14,2,FALSE)","v":"Metro"}]
[6180,"LAKELANDS","CITY OF","MANDURAH","Peel",{"$f":"VLOOKUP(E406,Admin_lookup!$A$2:$B$14,2,FALSE)","v":"Regional"}]
[6180,"PARKLANDS","CITY OF","MANDURAH","Peel",{"$f":"VLOOKUP(E407,Admin_lookup!$A$2:$B$14,2,FALSE)","v":"Regional"}]
[6181,"STAKE HILL","SHIRE OF","MURRAY","Peel",{"$f":"VLOOKUP(E408,Admin_lookup!$A$2:$B$14,2,FALSE)","v":"Regional"}]
[6182,"KERALUP","SHIRE OF","MURRAY","Peel",{"$f":"VLOOKUP(E409,Admin_lookup!$A$2:$B$14,2,FALSE)","v":"Regional"}]
[6207,"MYARA","SHIRE OF","MURRAY","Peel",{"$f":"VLOOKUP(E410,Admin_lookup!$A$2:$B$14,2,FALSE)","v":"Regional"}]
[6207,"NAMBEELUP","SHIRE OF","MURRAY","Peel",{"$f":"VLOOKUP(E411,Admin_lookup!$A$2:$B$14,2,FALSE)","v":"Regional"}]
[6207,"NORTH DANDALUP","SHIRE OF","MURRAY","Peel",{"$f":"VLOOKUP(E412,Admin_lookup!$A$2:$B$14,2,FALSE)","v":"Regional"}]
[6207,"SOLUS","SHIRE OF","MURRAY","Peel",{"$f":"VLOOKUP(E413,Admin_lookup!$A$2:$B$14,2,FALSE)","v":"Regional"}]
[6207,"WHITTAKER","SHIRE OF","MURRAY","Peel",{"$f":"VLOOKUP(E414,Admin_lookup!$A$2:$B$14,2,FALSE)","v":"Regional"}]
[6208,"BLYTHEWOOD","SHIRE OF","MURRAY","Peel",{"$f":"VLOOKUP(E415,Admin_lookup!$A$2:$B$14,2,FALSE)","v":"Regional"}]
[6208,"FAIRBRIDGE","SHIRE OF","MURRAY","Peel",{"$f":"VLOOKUP(E416,Admin_lookup!$A$2:$B$14,2,FALSE)","v":"Regional"}]
[6208,"MEELON","SHIRE OF","MURRAY","Peel",{"$f":"VLOOKUP(E417,Admin_lookup!$A$2:$B$14,2,FALSE)","v":"Regional"}]
[6208,"NIRIMBA","SHIRE OF","MURRAY","Peel",{"$f":"VLOOKUP(E418,Admin_lookup!$A$2:$B$14,2,FALSE)","v":"Regional"}]
[6208,"NORTH YUNDERUP","SHIRE OF","MURRAY","Peel",{"$f":"VLOOKUP(E419,Admin_lookup!$A$2:$B$14,2,FALSE)","v":"Regional"}]
[6208,"OAKLEY","SHIRE OF","MURRAY","Peel",{"$f":"VLOOKUP(E420,Admin_lookup!$A$2:$B$14,2,FALSE)","v":"Regional"}]
[6208,"PINJARRA","SHIRE OF","MURRAY","Peel",{"$f":"VLOOKUP(E421,Admin_lookup!$A$2:$B$14,2,FALSE)","v":"Regional"}]
[6208,"POINT GREY","SHIRE OF","MURRAY","Peel",{"$f":"VLOOKUP(E422,Admin_lookup!$A$2:$B$14,2,FALSE)","v":"Regional"}]
[6208,"RAVENSWOOD","SHIRE OF","MURRAY","Peel",{"$f":"VLOOKUP(E423,Admin_lookup!$A$2:$B$14,2,FALSE)","v":"Regional"}]
[6208,"SOUTH YUNDERUP","SHIRE OF","MURRAY","Peel",{"$f":"VLOOKUP(E424,Admin_lookup!$A$2:$B$14,2,FALSE)","v":"Regional"}]
[6208,"WEST PINJARRA","SHIRE OF","MURRAY","Peel",{"$f":"VLOOKUP(E425,Admin_lookup!$A$2:$B$14,2,FALSE)","v":"Regional"}]
[6209,"BARRAGUP","SHIRE OF","MURRAY","Peel",{"$f":"VLOOKUP(E426,Admin_lookup!$A$2:$B$14,2,FALSE)","v":"Regional"}]
[6209,"FURNISSDALE","SHIRE OF","MURRAY","Peel",{"$f":"VLOOKUP(E427,Admin_lookup!$A$2:$B$14,2,FALSE)","v":"Regional"}]
[6210,"COODANUP","CITY OF","MANDURAH","Peel",{"$f":"VLOOKUP(E428,Admin_lookup!$A$2:$B$14,2,FALSE)","v":"Regional"}]
[6210,"DUDLEY PARK","CITY OF","MANDURAH","Peel",{"$f":"VLOOKUP(E429,Admin_lookup!$A$2:$B$14,2,FALSE)","v":"Regional"}]
[6210,"ERSKINE","CITY OF","MANDURAH","Peel",{"$f":"VLOOKUP(E430,Admin_lookup!$A$2:$B$14,2,FALSE)","v":"Regional"}]
[6210,"FALCON","CITY OF","MANDURAH","Peel",{"$f":"VLOOKUP(E431,Admin_lookup!$A$2:$B$14,2,FALSE)","v":"Regional"}]
[6210,"GREENFIELDS","CITY OF","MANDURAH","Peel",{"$f":"VLOOKUP(E432,Admin_lookup!$A$2:$B$14,2,FALSE)","v":"Regional"}]
[6210,"HALLS HEAD","CITY OF","MANDURAH","Peel",{"$f":"VLOOKUP(E433,Admin_lookup!$A$2:$B$14,2,FALSE)","v":"Regional"}]
[6210,"MADORA BAY","CITY OF","MANDURAH","Peel",{"$f":"VLOOKUP(E434,Admin_lookup!$A$2:$B$14,2,FALSE)","v":"Regional"}]
[6210,"MANDURAH","CITY OF","MANDURAH","Peel",{"$f":"VLOOKUP(E435,Admin_lookup!$A$2:$B$14,2,FALSE)","v":"Regional"}]
[6210,"MANDURAH DC","CITY OF","MANDURAH","Peel",{"$f":"VLOOKUP(E436,Admin_lookup!$A$2:$B$14,2,FALSE)","v":"Regional"}]
[6210,"MANDURAH EAST","CITY OF","MANDURAH","Peel",{"$f":"VLOOKUP(E437,Admin_lookup!$A$2:$B$14,2,FALSE)","v":"Regional"}]
[6210,"MANDURAH NORTH","CITY OF","MANDURAH","Peel",{"$f":"VLOOKUP(E438,Admin_lookup!$A$2:$B$14,2,FALSE)","v":"Regional"}]
[6210,"MEADOW SPRINGS","CITY OF","MANDURAH","Peel",{"$f":"VLOOKUP(E439,Admin_lookup!$A$2:$B$14,2,FALSE)","v":"Regional"}]
[6210,"SAN REMO","CITY OF","MANDURAH","Peel",{"$f":"VLOOKUP(E440,Admin_lookup!$A$2:$B$14,2,FALSE)","v":"Regional"}]
[6210,"SILVER SANDS","CITY OF","MANDURAH","Peel",{"$f":"VLOOKUP(E441,Admin_lookup!$A$2:$B$14,2,FALSE)","v":"Regional"}]
[6210,"WANNANUP","CITY OF","MANDURAH","Peel",{"$f":"VLOOKUP(E442,Admin_lookup!$A$2:$B$14,2,FALSE)","v":"Regional"}]
[6211,"BOUVARD","CITY OF","MANDURAH","Peel",{"$f":"VLOOKUP(E443,Admin_lookup!$A$2:$B$14,2,FALSE)","v":"Regional"}]
[6211,"CLIFTON","CITY OF","MANDURAH","Peel",{"$f":"VLOOKUP(E444,Admin_lookup!$A$2:$B$14,2,FALSE)","v":"Regional"}]
[6211,"DAWESVILLE","CITY OF","MANDURAH","Peel",{"$f":"VLOOKUP(E445,Admin_lookup!$A$2:$B$14,2,FALSE)","v":"Regional"}]
[6211,"HERRON","CITY OF","MANDURAH","Peel",{"$f":"VLOOKUP(E446,Admin_lookup!$A$2:$B$14,2,FALSE)","v":"Regional"}]
[6213,"BANKSIADALE","SHIRE OF","MURRAY","Peel",{"$f":"VLOOKUP(E447,Admin_lookup!$A$2:$B$14,2,FALSE)","v":"Regional"}]
[6213,"DWELLINGUP","SHIRE OF","MURRAY","Peel",{"$f":"VLOOKUP(E448,Admin_lookup!$A$2:$B$14,2,FALSE)","v":"Regional"}]
[6213,"ETMILYN","SHIRE OF","MURRAY","Peel",{"$f":"VLOOKUP(E449,Admin_lookup!$A$2:$B$14,2,FALSE)","v":"Regional"}]
[6213,"HOLYOAKE","SHIRE OF","MURRAY","Peel",{"$f":"VLOOKUP(E450,Admin_lookup!$A$2:$B$14,2,FALSE)","v":"Regional"}]
[6213,"INGLEHOPE","SHIRE OF","MURRAY","Peel",{"$f":"VLOOKUP(E451,Admin_lookup!$A$2:$B$14,2,FALSE)","v":"Regional"}]
[6213,"MARRINUP","SHIRE OF","MURRAY","Peel",{"$f":"VLOOKUP(E452,Admin_lookup!$A$2:$B$14,2,FALSE)","v":"Regional"}]
[6213,"TEESDALE","SHIRE OF","MURRAY","Peel",{"$f":"VLOOKUP(E453,Admin_lookup!$A$2:$B$14,2,FALSE)","v":"Regional"}]
[6214,"BIRCHMONT","SHIRE OF","MURRAY","Peel",{"$f":"VLOOKUP(E454,Admin_lookup!$A$2:$B$14,2,FALSE)","v":"Regional"}]
[6214,"COOLUP","SHIRE OF","MURRAY","Peel",{"$f":"VLOOKUP(E455,Admin_lookup!$A$2:$B$14,2,FALSE)","v":"Regional"}]
[6214,"WEST COOLUP","SHIRE OF","MURRAY","Peel",{"$f":"VLOOKUP(E456,Admin_lookup!$A$2:$B$14,2,FALSE)","v":"Regional"}]
[6215,"HAMEL","SHIRE OF","WAROONA","Peel",{"$f":"VLOOKUP(E457,Admin_lookup!$A$2:$B$14,2,FALSE)","v":"Regional"}]
[6215,"LAKE CLIFTON","SHIRE OF","WAROONA","Peel",{"$f":"VLOOKUP(E458,Admin_lookup!$A$2:$B$14,2,FALSE)","v":"Regional"}]
[6215,"NANGA BROOK","SHIRE OF","WAROONA","Peel",{"$f":"VLOOKUP(E459,Admin_lookup!$A$2:$B$14,2,FALSE)","v":"Regional"}]
[6215,"PRESTON BEACH","SHIRE OF","WAROONA","Peel",{"$f":"VLOOKUP(E460,Admin_lookup!$A$2:$B$14,2,FALSE)","v":"Regional"}]
[6215,"WAGERUP","SHIRE OF","WAROONA","Peel",{"$f":"VLOOKUP(E461,Admin_lookup!$A$2:$B$14,2,FALSE)","v":"Regional"}]
[6215,"WAROONA","SHIRE OF","WAROONA","Peel",{"$f":"VLOOKUP(E462,Admin_lookup!$A$2:$B$14,2,FALSE)","v":"Regional"}]
[6218,"YARLOOP","SHIRE OF","HARVEY","South West",{"$f":"VLOOKUP(E463,Admin_lookup!$A$2:$B$14,2,FALSE)","v":"Regional"}]
[6220,"COOKERNUP","SHIRE OF","HARVEY","South West",{"$f":"VLOOKUP(E464,Admin_lookup!$A$2:$B$14,2,FALSE)","v":"Regional"}]
[6220,"HARVEY","SHIRE OF","HARVEY","South West",{"$f":"VLOOKUP(E465,Admin_lookup!$A$2:$B$14,2,FALSE)","v":"Regional"}]
[6220,"HOFFMAN","SHIRE OF","HARVEY","South West",{"$f":"VLOOKUP(E466,Admin_lookup!$A$2:$B$14,2,FALSE)","v":"Regional"}]
[6220,"MYALUP","SHIRE OF","HARVEY","South West",{"$f":"VLOOKUP(E467,Admin_lookup!$A$2:$B$14,2,FALSE)","v":"Regional"}]
[6220,"UDUC","SHIRE OF","HARVEY","South West",{"$f":"VLOOKUP(E468,Admin_lookup!$A$2:$B$14,2,FALSE)","v":"Regional"}]
[6220,"WARAWARRUP","SHIRE OF","HARVEY","South West",{"$f":"VLOOKUP(E469,Admin_lookup!$A$2:$B$14,2,FALSE)","v":"Regional"}]
[6221,"MORNINGTON","SHIRE OF","HARVEY","South West",{"$f":"VLOOKUP(E470,Admin_lookup!$A$2:$B$14,2,FALSE)","v":"Regional"}]
[6221,"WOKALUP","SHIRE OF","HARVEY","South West",{"$f":"VLOOKUP(E471,Admin_lookup!$A$2:$B$14,2,FALSE)","v":"Regional"}]
[6223,"BENGER","SHIRE OF","HARVEY","South West",{"$f":"VLOOKUP(E472,Admin_lookup!$A$2:$B$14,2,FALSE)","v":"Regional"}]
[6224,"BEELA","SHIRE OF","HARVEY","South West",{"$f":"VLOOKUP(E473,Admin_lookup!$A$2:$B$14,2,FALSE)","v":"Regional"}]
[6224,"BRUNSWICK","SHIRE OF","HARVEY","South West",{"$f":"VLOOKUP(E474,Admin_lookup!$A$2:$B$14,2,FALSE)","v":"Regional"}]
[6225,"ALLANSON","SHIRE OF","COLLIE","South West",{"$f":"VLOOKUP(E475,Admin_lookup!$A$2:$B$14,2,FALSE)","v":"Regional"}]
[6225,"BOWELLING","SHIRE OF","WEST ARTHUR","Wheatbelt",{"$f":"VLOOKUP(E476,Admin_lookup!$A$2:$B$14,2,FALSE)","v":"Regional"}]
[6225,"BUCKINGHAM","SHIRE OF","COLLIE","South West",{"$f":"VLOOKUP(E477,Admin_lookup!$A$2:$B$14,2,FALSE)","v":"Regional"}]
[6225,"CARDIFF","SHIRE OF","COLLIE","South West",{"$f":"VLOOKUP(E478,Admin_lookup!$A$2:$B$14,2,FALSE)","v":"Regional"}]
[6225,"COLLIE","SHIRE OF","COLLIE","South West",{"$f":"VLOOKUP(E479,Admin_lookup!$A$2:$B$14,2,FALSE)","v":"Regional"}]
[6225,"COLLIE BURN","SHIRE OF","COLLIE","South West",{"$f":"VLOOKUP(E480,Admin_lookup!$A$2:$B$14,2,FALSE)","v":"Regional"}]
[6225,"HARRIS RIVER","SHIRE OF","COLLIE","South West",{"$f":"VLOOKUP(E481,Admin_lookup!$A$2:$B$14,2,FALSE)","v":"Regional"}]
[6225,"LYALLS MILL","SHIRE OF","COLLIE","South West",{"$f":"VLOOKUP(E482,Admin_lookup!$A$2:$B$14,2,FALSE)","v":"Regional"}]
[6225,"MCALINDEN","SHIRE OF","COLLIE","South West",{"$f":"VLOOKUP(E483,Admin_lookup!$A$2:$B$14,2,FALSE)","v":"Regional"}]
[6225,"MUJA","SHIRE OF","COLLIE","South West",{"$f":"VLOOKUP(E484,Admin_lookup!$A$2:$B$14,2,FALSE)","v":"Regional"}]
[6225,"MUMBALLUP","SHIRE OF","COLLIE","South West",{"$f":"VLOOKUP(E485,Admin_lookup!$A$2:$B$14,2,FALSE)","v":"Regional"}]
[6225,"MUNGALUP","SHIRE OF","COLLIE","South West",{"$f":"VLOOKUP(E486,Admin_lookup!$A$2:$B$14,2,FALSE)","v":"Regional"}]
[6225,"NOGGERUP","SHIRE OF","COLLIE","South West",{"$f":"VLOOKUP(E487,Admin_lookup!$A$2:$B$14,2,FALSE)","v":"Regional"}]
[6225,"PALMER","SHIRE OF","COLLIE","South West",{"$f":"VLOOKUP(E488,Admin_lookup!$A$2:$B$14,2,FALSE)","v":"Regional"}]
[6225,"PRESTON SETTLEMENT","SHIRE OF","COLLIE","South West",{"$f":"VLOOKUP(E489,Admin_lookup!$A$2:$B$14,2,FALSE)","v":"Regional"}]
[6225,"SHOTTS","SHIRE OF","COLLIE","South West",{"$f":"VLOOKUP(E490,Admin_lookup!$A$2:$B$14,2,FALSE)","v":"Regional"}]
[6225,"WORSLEY","SHIRE OF","COLLIE","South West",{"$f":"VLOOKUP(E491,Admin_lookup!$A$2:$B$14,2,FALSE)","v":"Regional"}]
[6225,"YOURDAMUNG LAKE","SHIRE OF","COLLIE","South West",{"$f":"VLOOKUP(E492,Admin_lookup!$A$2:$B$14,2,FALSE)","v":"Regional"}]
[6226,"ROELANDS","SHIRE OF","HARVEY","South West",{"$f":"VLOOKUP(E493,Admin_lookup!$A$2:$B$14,2,FALSE)","v":"Regional"}]
[6227,"BUREKUP","SHIRE OF","DARDANUP","South West",{"$f":"VLOOKUP(E494,Admin_lookup!$A$2:$B$14,2,FALSE)","v":"Regional"}]
[6228,"WATERLOO","SHIRE OF","DARDANUP","South West",{"$f":"VLOOKUP(E495,Admin_lookup!$A$2:$B$14,2,FALSE)","v":"Regional"}]
[6229,"PICTON","SHIRE OF","DARDANUP","South West",{"$f":"VLOOKUP(E496,Admin_lookup!$A$2:$B$14,2,FALSE)","v":"Regional"}]
[6229,"PICTON EAST","SHIRE OF","DARDANUP","South West",{"$f":"VLOOKUP(E497,Admin_lookup!$A$2:$B$14,2,FALSE)","v":"Regional"}]
[6230,"BUNBURY","CITY OF","BUNBURY","South West",{"$f":"VLOOKUP(E498,Admin_lookup!$A$2:$B$14,2,FALSE)","v":"Regional"}]
[6230,"CAREY PARK","CITY OF","BUNBURY","South West",{"$f":"VLOOKUP(E499,Admin_lookup!$A$2:$B$14,2,FALSE)","v":"Regional"}]
[6230,"COLLEGE GROVE","CITY OF","BUNBURY","South West",{"$f":"VLOOKUP(E500,Admin_lookup!$A$2:$B$14,2,FALSE)","v":"Regional"}]
[6230,"DALYELLUP","CITY OF","BUNBURY","South West",{"$f":"VLOOKUP(E501,Admin_lookup!$A$2:$B$14,2,FALSE)","v":"Regional"}]
[6230,"DAVENPORT","CITY OF","BUNBURY","South West",{"$f":"VLOOKUP(E502,Admin_lookup!$A$2:$B$14,2,FALSE)","v":"Regional"}]
[6230,"EAST BUNBURY","CITY OF","BUNBURY","South West",{"$f":"VLOOKUP(E503,Admin_lookup!$A$2:$B$14,2,FALSE)","v":"Regional"}]
[6230,"GELORUP","CITY OF","BUNBURY","South West",{"$f":"VLOOKUP(E504,Admin_lookup!$A$2:$B$14,2,FALSE)","v":"Regional"}]
[6230,"GLEN IRIS","CITY OF","BUNBURY","South West",{"$f":"VLOOKUP(E505,Admin_lookup!$A$2:$B$14,2,FALSE)","v":"Regional"}]
[6230,"PELICAN POINT","CITY OF","BUNBURY","South West",{"$f":"VLOOKUP(E506,Admin_lookup!$A$2:$B$14,2,FALSE)","v":"Regional"}]
[6230,"SOUTH BUNBURY","CITY OF","BUNBURY","South West",{"$f":"VLOOKUP(E507,Admin_lookup!$A$2:$B$14,2,FALSE)","v":"Regional"}]
[6230,"USHER","CITY OF","BUNBURY","South West",{"$f":"VLOOKUP(E508,Admin_lookup!$A$2:$B$14,2,FALSE)","v":"Regional"}]
[6230,"VITTORIA","CITY OF","BUNBURY","South West",{"$f":"VLOOKUP(E509,Admin_lookup!$A$2:$B$14,2,FALSE)","v":"Regional"}]
[6230,"WITHERS","CITY OF","BUNBURY","South West",{"$f":"VLOOKUP(E510,Admin_lookup!$A$2:$B$14,2,FALSE)","v":"Regional"}]
[6231,"BUNBURY PO BOXES","CITY OF","BUNBURY","South West",{"$f":"VLOOKUP(E511,Admin_lookup!$A$2:$B$14,2,FALSE)","v":"Regional"}]
[6232,"EATON","SHIRE OF","DARDANUP","South West",{"$f":"VLOOKUP(E512,Admin_lookup!$A$2:$B$14,2,FALSE)","v":"Regional"}]
[6232,"MILLBRIDGE","SHIRE OF","DARDANUP","South West",{"$f":"VLOOKUP(E513,Admin_lookup!$A$2:$B$14,2,FALSE)","v":"Regional"}]
[6233,"AUSTRALIND","SHIRE OF","HARVEY","South West",{"$f":"VLOOKUP(E514,Admin_lookup!$A$2:$B$14,2,FALSE)","v":"Regional"}]
[6233,"BINNINGUP","SHIRE OF","HARVEY","South West",{"$f":"VLOOKUP(E515,Admin_lookup!$A$2:$B$14,2,FALSE)","v":"Regional"}]
[6233,"LESCHENAULT","SHIRE OF","HARVEY","South West",{"$f":"VLOOKUP(E516,Admin_lookup!$A$2:$B$14,2,FALSE)","v":"Regional"}]
[6233,"PARKFIELD","SHIRE OF","HARVEY","South West",{"$f":"VLOOKUP(E517,Admin_lookup!$A$2:$B$14,2,FALSE)","v":"Regional"}]
[6233,"WELLESLEY","SHIRE OF","HARVEY","South West",{"$f":"VLOOKUP(E518,Admin_lookup!$A$2:$B$14,2,FALSE)","v":"Regional"}]
[6236,"CROOKED BROOK","SHIRE OF","DARDANUP","South West",{"$f":"VLOOKUP(E519,Admin_lookup!$A$2:$B$14,2,FALSE)","v":"Regional"}]
[6236,"DARDANUP","SHIRE OF","DARDANUP","South West",{"$f":"VLOOKUP(E520,Admin_lookup!$A$2:$B$14,2,FALSE)","v":"Regional"}]
[6236,"DARDANUP WEST","SHIRE OF","DARDANUP","South West",{"$f":"VLOOKUP(E521,Admin_lookup!$A$2:$B$14,2,FALSE)","v":"Regional"}]
[6236,"FERGUSON","SHIRE OF","DARDANUP","South West",{"$f":"VLOOKUP(E522,Admin_lookup!$A$2:$B$14,2,FALSE)","v":"Regional"}]
[6236,"HENTY","SHIRE OF","DARDANUP","South West",{"$f":"VLOOKUP(E523,Admin_lookup!$A$2:$B$14,2,FALSE)","v":"Regional"}]
[6236,"PARADISE","SHIRE OF","DARDANUP","South West",{"$f":"VLOOKUP(E524,Admin_lookup!$A$2:$B$14,2,FALSE)","v":"Regional"}]
[6236,"WELLINGTON FOREST","SHIRE OF","DARDANUP","South West",{"$f":"VLOOKUP(E525,Admin_lookup!$A$2:$B$14,2,FALSE)","v":"Regional"}]
[6236,"WELLINGTON MILL","SHIRE OF","DARDANUP","South West",{"$f":"VLOOKUP(E526,Admin_lookup!$A$2:$B$14,2,FALSE)","v":"Regional"}]
[6237,"BOYANUP","SHIRE OF","CAPEL","South West",{"$f":"VLOOKUP(E527,Admin_lookup!$A$2:$B$14,2,FALSE)","v":"Regional"}]
[6237,"ELGIN","SHIRE OF","CAPEL","South West",{"$f":"VLOOKUP(E528,Admin_lookup!$A$2:$B$14,2,FALSE)","v":"Regional"}]
[6237,"GWINDINUP","SHIRE OF","CAPEL","South West",{"$f":"VLOOKUP(E529,Admin_lookup!$A$2:$B$14,2,FALSE)","v":"Regional"}]
[6237,"NORTH BOYANUP","SHIRE OF","CAPEL","South West",{"$f":"VLOOKUP(E530,Admin_lookup!$A$2:$B$14,2,FALSE)","v":"Regional"}]
[6237,"STRATHAM","SHIRE OF","CAPEL","South West",{"$f":"VLOOKUP(E531,Admin_lookup!$A$2:$B$14,2,FALSE)","v":"Regional"}]
[6237,"THE PLAINS","SHIRE OF","CAPEL","South West",{"$f":"VLOOKUP(E532,Admin_lookup!$A$2:$B$14,2,FALSE)","v":"Regional"}]
[6239,"ARGYLE","SHIRE OF","DONNYBROOK-BALINGUP","South West",{"$f":"VLOOKUP(E533,Admin_lookup!$A$2:$B$14,2,FALSE)","v":"Regional"}]
[6239,"BEELERUP","SHIRE OF","DONNYBROOK-BALINGUP","South West",{"$f":"VLOOKUP(E534,Admin_lookup!$A$2:$B$14,2,FALSE)","v":"Regional"}]
[6239,"BROOKHAMPTON","SHIRE OF","DONNYBROOK-BALINGUP","South West",{"$f":"VLOOKUP(E535,Admin_lookup!$A$2:$B$14,2,FALSE)","v":"Regional"}]
[6239,"CHARLEY CREEK","SHIRE OF","DONNYBROOK-BALINGUP","South West",{"$f":"VLOOKUP(E536,Admin_lookup!$A$2:$B$14,2,FALSE)","v":"Regional"}]
[6239,"DONNYBROOK","SHIRE OF","DONNYBROOK-BALINGUP","South West",{"$f":"VLOOKUP(E537,Admin_lookup!$A$2:$B$14,2,FALSE)","v":"Regional"}]
[6239,"GLEN MERVYN","SHIRE OF","DONNYBROOK-BALINGUP","South West",{"$f":"VLOOKUP(E538,Admin_lookup!$A$2:$B$14,2,FALSE)","v":"Regional"}]
[6239,"PAYNEDALE","SHIRE OF","DONNYBROOK-BALINGUP","South West",{"$f":"VLOOKUP(E539,Admin_lookup!$A$2:$B$14,2,FALSE)","v":"Regional"}]
[6239,"QUEENWOOD","SHIRE OF","DONNYBROOK-BALINGUP","South West",{"$f":"VLOOKUP(E540,Admin_lookup!$A$2:$B$14,2,FALSE)","v":"Regional"}]
[6239,"THOMSON BROOK","SHIRE OF","DONNYBROOK-BALINGUP","South West",{"$f":"VLOOKUP(E541,Admin_lookup!$A$2:$B$14,2,FALSE)","v":"Regional"}]
[6239,"UPPER CAPEL","SHIRE OF","DONNYBROOK-BALINGUP","South West",{"$f":"VLOOKUP(E542,Admin_lookup!$A$2:$B$14,2,FALSE)","v":"Regional"}]
[6239,"YABBERUP","SHIRE OF","DONNYBROOK-BALINGUP","South West",{"$f":"VLOOKUP(E543,Admin_lookup!$A$2:$B$14,2,FALSE)","v":"Regional"}]
[6240,"LOWDEN","SHIRE OF","DONNYBROOK-BALINGUP","South West",{"$f":"VLOOKUP(E544,Admin_lookup!$A$2:$B$14,2,FALSE)","v":"Regional"}]
[6243,"WILGA","SHIRE OF","DONNYBROOK-BALINGUP","South West",{"$f":"VLOOKUP(E545,Admin_lookup!$A$2:$B$14,2,FALSE)","v":"Regional"}]
[6243,"WILGA WEST","SHIRE OF","DONNYBROOK-BALINGUP","South West",{"$f":"VLOOKUP(E546,Admin_lookup!$A$2:$B$14,2,FALSE)","v":"Regional"}]
[6244,"BOYUP BROOK","SHIRE OF","Boyup Brook","South West",{"$f":"VLOOKUP(E547,Admin_lookup!$A$2:$B$14,2,FALSE)","v":"Regional"}]
[6244,"CHOWERUP","SHIRE OF","WEST ARTHUR","Wheatbelt",{"$f":"VLOOKUP(E548,Admin_lookup!$A$2:$B$14,2,FALSE)","v":"Regional"}]
[6244,"DINNINUP","SHIRE OF","Boyup Brook","South West",{"$f":"VLOOKUP(E549,Admin_lookup!$A$2:$B$14,2,FALSE)","v":"Regional"}]
[6244,"KULIKUP","SHIRE OF","Boyup Brook","South West",{"$f":"VLOOKUP(E550,Admin_lookup!$A$2:$B$14,2,FALSE)","v":"Regional"}]
[6244,"MAYANUP","SHIRE OF","Boyup Brook","South West",{"$f":"VLOOKUP(E551,Admin_lookup!$A$2:$B$14,2,FALSE)","v":"Regional"}]
[6244,"SCOTTS BROOK","SHIRE OF","WEST ARTHUR","Wheatbelt",{"$f":"VLOOKUP(E552,Admin_lookup!$A$2:$B$14,2,FALSE)","v":"Regional"}]
[6244,"TONEBRIDGE","SHIRE OF","Boyup Brook","South West",{"$f":"VLOOKUP(E553,Admin_lookup!$A$2:$B$14,2,FALSE)","v":"Regional"}]
[6251,"BRAZIER","SHIRE OF","DONNYBROOK-BALINGUP","South West",{"$f":"VLOOKUP(E554,Admin_lookup!$A$2:$B$14,2,FALSE)","v":"Regional"}]
[6251,"KIRUP","SHIRE OF","DONNYBROOK-BALINGUP","South West",{"$f":"VLOOKUP(E555,Admin_lookup!$A$2:$B$14,2,FALSE)","v":"Regional"}]
[6251,"NEWLANDS","SHIRE OF","DONNYBROOK-BALINGUP","South West",{"$f":"VLOOKUP(E556,Admin_lookup!$A$2:$B$14,2,FALSE)","v":"Regional"}]
[6252,"MULLALYUP","SHIRE OF","DONNYBROOK-BALINGUP","South West",{"$f":"VLOOKUP(E557,Admin_lookup!$A$2:$B$14,2,FALSE)","v":"Regional"}]
[6253,"BALINGUP","SHIRE OF","DONNYBROOK-BALINGUP","South West",{"$f":"VLOOKUP(E558,Admin_lookup!$A$2:$B$14,2,FALSE)","v":"Regional"}]
[6253,"GRIMWADE","SHIRE OF","DONNYBROOK-BALINGUP","South West",{"$f":"VLOOKUP(E559,Admin_lookup!$A$2:$B$14,2,FALSE)","v":"Regional"}]
[6253,"SOUTHAMPTON","SHIRE OF","DONNYBROOK-BALINGUP","South West",{"$f":"VLOOKUP(E560,Admin_lookup!$A$2:$B$14,2,FALSE)","v":"Regional"}]
[6254,"GREENBUSHES","SHIRE OF","BRIDGETOWN-GREENBUSHES","South West",{"$f":"VLOOKUP(E561,Admin_lookup!$A$2:$B$14,2,FALSE)","v":"Regional"}]
[6254,"NORTH GREENBUSHES","SHIRE OF","BRIDGETOWN-GREENBUSHES","South West",{"$f":"VLOOKUP(E562,Admin_lookup!$A$2:$B$14,2,FALSE)","v":"Regional"}]
[6255,"BENJINUP","SHIRE OF","BRIDGETOWN-GREENBUSHES","South West",{"$f":"VLOOKUP(E563,Admin_lookup!$A$2:$B$14,2,FALSE)","v":"Regional"}]
[6255,"BRIDGETOWN","SHIRE OF","BRIDGETOWN-GREENBUSHES","South West",{"$f":"VLOOKUP(E564,Admin_lookup!$A$2:$B$14,2,FALSE)","v":"Regional"}]
[6255,"CATTERICK","SHIRE OF","BRIDGETOWN-GREENBUSHES","South West",{"$f":"VLOOKUP(E565,Admin_lookup!$A$2:$B$14,2,FALSE)","v":"Regional"}]
[6255,"HESTER","SHIRE OF","BRIDGETOWN-GREENBUSHES","South West",{"$f":"VLOOKUP(E566,Admin_lookup!$A$2:$B$14,2,FALSE)","v":"Regional"}]
[6255,"HESTER BROOK","SHIRE OF","BRIDGETOWN-GREENBUSHES","South West",{"$f":"VLOOKUP(E567,Admin_lookup!$A$2:$B$14,2,FALSE)","v":"Regional"}]
[6255,"KANGAROO GULLY","SHIRE OF","BRIDGETOWN-GREENBUSHES","South West",{"$f":"VLOOKUP(E568,Admin_lookup!$A$2:$B$14,2,FALSE)","v":"Regional"}]
[6255,"WINNEJUP","SHIRE OF","BRIDGETOWN-GREENBUSHES","South West",{"$f":"VLOOKUP(E569,Admin_lookup!$A$2:$B$14,2,FALSE)","v":"Regional"}]
[6256,"GLENLYNN","SHIRE OF","BRIDGETOWN-GREENBUSHES","South West",{"$f":"VLOOKUP(E570,Admin_lookup!$A$2:$B$14,2,FALSE)","v":"Regional"}]
[6256,"KINGSTON","SHIRE OF","BRIDGETOWN-GREENBUSHES","South West",{"$f":"VLOOKUP(E571,Admin_lookup!$A$2:$B$14,2,FALSE)","v":"Regional"}]
[6256,"MARANUP","SHIRE OF","BRIDGETOWN-GREENBUSHES","South West",{"$f":"VLOOKUP(E572,Admin_lookup!$A$2:$B$14,2,FALSE)","v":"Regional"}]
[6256,"SUNNYSIDE","SHIRE OF","BRIDGETOWN-GREENBUSHES","South West",{"$f":"VLOOKUP(E573,Admin_lookup!$A$2:$B$14,2,FALSE)","v":"Regional"}]
[6256,"WANDILLUP","SHIRE OF","BRIDGETOWN-GREENBUSHES","South West",{"$f":"VLOOKUP(E574,Admin_lookup!$A$2:$B$14,2,FALSE)","v":"Regional"}]
[6256,"YORNUP","SHIRE OF","BRIDGETOWN-GREENBUSHES","South West",{"$f":"VLOOKUP(E575,Admin_lookup!$A$2:$B$14,2,FALSE)","v":"Regional"}]
[6258,"BALBARRUP","SHIRE OF","MANJIMUP","South West",{"$f":"VLOOKUP(E576,Admin_lookup!$A$2:$B$14,2,FALSE)","v":"Regional"}]
[6258,"CROWEA","SHIRE OF","MANJIMUP","South West",{"$f":"VLOOKUP(E577,Admin_lookup!$A$2:$B$14,2,FALSE)","v":"Regional"}]
[6258,"DEANMILL","SHIRE OF","MANJIMUP","South West",{"$f":"VLOOKUP(E578,Admin_lookup!$A$2:$B$14,2,FALSE)","v":"Regional"}]
[6258,"DIAMOND TREE","SHIRE OF","MANJIMUP","South West",{"$f":"VLOOKUP(E579,Admin_lookup!$A$2:$B$14,2,FALSE)","v":"Regional"}]
[6258,"DINGUP","SHIRE OF","MANJIMUP","South West",{"$f":"VLOOKUP(E580,Admin_lookup!$A$2:$B$14,2,FALSE)","v":"Regional"}]
[6258,"DIXVALE","SHIRE OF","MANJIMUP","South West",{"$f":"VLOOKUP(E581,Admin_lookup!$A$2:$B$14,2,FALSE)","v":"Regional"}]
[6258,"DONNELLY RIVER","SHIRE OF","MANJIMUP","South West",{"$f":"VLOOKUP(E582,Admin_lookup!$A$2:$B$14,2,FALSE)","v":"Regional"}]
[6258,"GLENORAN","SHIRE OF","MANJIMUP","South West",{"$f":"VLOOKUP(E583,Admin_lookup!$A$2:$B$14,2,FALSE)","v":"Regional"}]
[6258,"JARDEE","SHIRE OF","MANJIMUP","South West",{"$f":"VLOOKUP(E584,Admin_lookup!$A$2:$B$14,2,FALSE)","v":"Regional"}]
[6258,"LAKE MUIR","SHIRE OF","MANJIMUP","South West",{"$f":"VLOOKUP(E585,Admin_lookup!$A$2:$B$14,2,FALSE)","v":"Regional"}]
[6258,"LINFARNE","SHIRE OF","MANJIMUP","South West",{"$f":"VLOOKUP(E586,Admin_lookup!$A$2:$B$14,2,FALSE)","v":"Regional"}]
[6258,"MANJIMUP","SHIRE OF","MANJIMUP","South West",{"$f":"VLOOKUP(E587,Admin_lookup!$A$2:$B$14,2,FALSE)","v":"Regional"}]
[6258,"MIDDLESEX","SHIRE OF","MANJIMUP","South West",{"$f":"VLOOKUP(E588,Admin_lookup!$A$2:$B$14,2,FALSE)","v":"Regional"}]
[6258,"MORDALUP","SHIRE OF","MANJIMUP","South West",{"$f":"VLOOKUP(E589,Admin_lookup!$A$2:$B$14,2,FALSE)","v":"Regional"}]
[6258,"PALGARUP","SHIRE OF","MANJIMUP","South West",{"$f":"VLOOKUP(E590,Admin_lookup!$A$2:$B$14,2,FALSE)","v":"Regional"}]
[6258,"PERUP","SHIRE OF","MANJIMUP","South West",{"$f":"VLOOKUP(E591,Admin_lookup!$A$2:$B$14,2,FALSE)","v":"Regional"}]
[6258,"QUINNINUP","SHIRE OF","MANJIMUP","South West",{"$f":"VLOOKUP(E592,Admin_lookup!$A$2:$B$14,2,FALSE)","v":"Regional"}]
[6258,"RINGBARK","SHIRE OF","MANJIMUP","South West",{"$f":"VLOOKUP(E593,Admin_lookup!$A$2:$B$14,2,FALSE)","v":"Regional"}]
[6258,"SMITH BROOK","SHIRE OF","MANJIMUP","South West",{"$f":"VLOOKUP(E594,Admin_lookup!$A$2:$B$14,2,FALSE)","v":"Regional"}]
[6258,"UPPER WARREN","SHIRE OF","MANJIMUP","South West",{"$f":"VLOOKUP(E595,Admin_lookup!$A$2:$B$14,2,FALSE)","v":"Regional"}]
[6258,"WILGARRUP","SHIRE OF","MANJIMUP","South West",{"$f":"VLOOKUP(E596,Admin_lookup!$A$2:$B$14,2,FALSE)","v":"Regional"}]
[6258,"YANMAH","SHIRE OF","MANJIMUP","South West",{"$f":"VLOOKUP(E597,Admin_lookup!$A$2:$B$14,2,FALSE)","v":"Regional"}]
[6260,"BEEDELUP","SHIRE OF","MANJIMUP","South West",{"$f":"VLOOKUP(E598,Admin_lookup!$A$2:$B$14,2,FALSE)","v":"Regional"}]
[6260,"BIDDELIA","SHIRE OF","MANJIMUP","South West",{"$f":"VLOOKUP(E599,Admin_lookup!$A$2:$B$14,2,FALSE)","v":"Regional"}]
[6260,"CALLCUP","SHIRE OF","MANJIMUP","South West",{"$f":"VLOOKUP(E600,Admin_lookup!$A$2:$B$14,2,FALSE)","v":"Regional"}]
[6260,"CHANNYBEARUP","SHIRE OF","MANJIMUP","South West",{"$f":"VLOOKUP(E601,Admin_lookup!$A$2:$B$14,2,FALSE)","v":"Regional"}]
[6260,"COLLINS","SHIRE OF","MANJIMUP","South West",{"$f":"VLOOKUP(E602,Admin_lookup!$A$2:$B$14,2,FALSE)","v":"Regional"}]
[6260,"EASTBROOK","SHIRE OF","MANJIMUP","South West",{"$f":"VLOOKUP(E603,Admin_lookup!$A$2:$B$14,2,FALSE)","v":"Regional"}]
[6260,"LAKE JASPER","SHIRE OF","MANJIMUP","South West",{"$f":"VLOOKUP(E604,Admin_lookup!$A$2:$B$14,2,FALSE)","v":"Regional"}]
[6260,"PEERABEELUP","SHIRE OF","MANJIMUP","South West",{"$f":"VLOOKUP(E605,Admin_lookup!$A$2:$B$14,2,FALSE)","v":"Regional"}]
[6260,"PEMBERTON","SHIRE OF","MANJIMUP","South West",{"$f":"VLOOKUP(E606,Admin_lookup!$A$2:$B$14,2,FALSE)","v":"Regional"}]
[6260,"YEAGARUP","SHIRE OF","MANJIMUP","South West",{"$f":"VLOOKUP(E607,Admin_lookup!$A$2:$B$14,2,FALSE)","v":"Regional"}]
[6262,"BOORARA BROOK","SHIRE OF","MANJIMUP","South West",{"$f":"VLOOKUP(E608,Admin_lookup!$A$2:$B$14,2,FALSE)","v":"Regional"}]
[6262,"MEERUP","SHIRE OF","MANJIMUP","South West",{"$f":"VLOOKUP(E609,Admin_lookup!$A$2:$B$14,2,FALSE)","v":"Regional"}]
[6262,"NORTHCLIFFE","SHIRE OF","MANJIMUP","South West",{"$f":"VLOOKUP(E610,Admin_lookup!$A$2:$B$14,2,FALSE)","v":"Regional"}]
[6262,"SHANNON","SHIRE OF","MANJIMUP","South West",{"$f":"VLOOKUP(E611,Admin_lookup!$A$2:$B$14,2,FALSE)","v":"Regional"}]
[6262,"WINDY HARBOUR","SHIRE OF","MANJIMUP","South West",{"$f":"VLOOKUP(E612,Admin_lookup!$A$2:$B$14,2,FALSE)","v":"Regional"}]
[6271,"CAPEL","SHIRE OF","CAPEL","South West",{"$f":"VLOOKUP(E613,Admin_lookup!$A$2:$B$14,2,FALSE)","v":"Regional"}]
[6271,"CAPEL RIVER","SHIRE OF","CAPEL","South West",{"$f":"VLOOKUP(E614,Admin_lookup!$A$2:$B$14,2,FALSE)","v":"Regional"}]
[6271,"FORREST BEACH","SHIRE OF","CAPEL","South West",{"$f":"VLOOKUP(E615,Admin_lookup!$A$2:$B$14,2,FALSE)","v":"Regional"}]
[6271,"PEPPERMINT GROVE BEACH","SHIRE OF","CAPEL","South West",{"$f":"VLOOKUP(E616,Admin_lookup!$A$2:$B$14,2,FALSE)","v":"Regional"}]
[6271,"STIRLING ESTATE","SHIRE OF","CAPEL","South West",{"$f":"VLOOKUP(E617,Admin_lookup!$A$2:$B$14,2,FALSE)","v":"Regional"}]
[6275,"BARRABUP","SHIRE OF","BUSSELTON","South West",{"$f":"VLOOKUP(E618,Admin_lookup!$A$2:$B$14,2,FALSE)","v":"Regional"}]
[6275,"CARLOTTA","SHIRE OF","BUSSELTON","South West",{"$f":"VLOOKUP(E619,Admin_lookup!$A$2:$B$14,2,FALSE)","v":"Regional"}]
[6275,"CUNDINUP","SHIRE OF","BUSSELTON","South West",{"$f":"VLOOKUP(E620,Admin_lookup!$A$2:$B$14,2,FALSE)","v":"Regional"}]
[6275,"DARRADUP","SHIRE OF","BUSSELTON","South West",{"$f":"VLOOKUP(E621,Admin_lookup!$A$2:$B$14,2,FALSE)","v":"Regional"}]
[6275,"EAST NANNUP","SHIRE OF","BUSSELTON","South West",{"$f":"VLOOKUP(E622,Admin_lookup!$A$2:$B$14,2,FALSE)","v":"Regional"}]
[6275,"JALBARRAGUP","SHIRE OF","BUSSELTON","South West",{"$f":"VLOOKUP(E623,Admin_lookup!$A$2:$B$14,2,FALSE)","v":"Regional"}]
[6275,"JARRAHWOOD","SHIRE OF","BUSSELTON","South West",{"$f":"VLOOKUP(E624,Admin_lookup!$A$2:$B$14,2,FALSE)","v":"Regional"}]
[6275,"NANNUP","SHIRE OF","BUSSELTON","South West",{"$f":"VLOOKUP(E625,Admin_lookup!$A$2:$B$14,2,FALSE)","v":"Regional"}]
[6275,"SCOTT RIVER EAST","SHIRE OF","BUSSELTON","South West",{"$f":"VLOOKUP(E626,Admin_lookup!$A$2:$B$14,2,FALSE)","v":"Regional"}]
[6275,"YOGANUP","SHIRE OF","BUSSELTON","South West",{"$f":"VLOOKUP(E627,Admin_lookup!$A$2:$B$14,2,FALSE)","v":"Regional"}]
[6280,"ABBA RIVER","SHIRE OF","BUSSELTON","South West",{"$f":"VLOOKUP(E628,Admin_lookup!$A$2:$B$14,2,FALSE)","v":"Regional"}]
[6280,"ABBEY","SHIRE OF","BUSSELTON","South West",{"$f":"VLOOKUP(E629,Admin_lookup!$A$2:$B$14,2,FALSE)","v":"Regional"}]
[6280,"ACTON PARK","SHIRE OF","BUSSELTON","South West",{"$f":"VLOOKUP(E630,Admin_lookup!$A$2:$B$14,2,FALSE)","v":"Regional"}]
[6280,"AMBERGATE","SHIRE OF","BUSSELTON","South West",{"$f":"VLOOKUP(E631,Admin_lookup!$A$2:$B$14,2,FALSE)","v":"Regional"}]
[6280,"ANNIEBROOK","SHIRE OF","BUSSELTON","South West",{"$f":"VLOOKUP(E632,Admin_lookup!$A$2:$B$14,2,FALSE)","v":"Regional"}]
[6280,"BOALLIA","SHIRE OF","BUSSELTON","South West",{"$f":"VLOOKUP(E633,Admin_lookup!$A$2:$B$14,2,FALSE)","v":"Regional"}]
[6280,"BOVELL","SHIRE OF","BUSSELTON","South West",{"$f":"VLOOKUP(E634,Admin_lookup!$A$2:$B$14,2,FALSE)","v":"Regional"}]
[6280,"BROADWATER","SHIRE OF","BUSSELTON","South West",{"$f":"VLOOKUP(E635,Admin_lookup!$A$2:$B$14,2,FALSE)","v":"Regional"}]
[6280,"BUSSELTON","SHIRE OF","BUSSELTON","South West",{"$f":"VLOOKUP(E636,Admin_lookup!$A$2:$B$14,2,FALSE)","v":"Regional"}]
[6280,"CARBUNUP RIVER","SHIRE OF","BUSSELTON","South West",{"$f":"VLOOKUP(E637,Admin_lookup!$A$2:$B$14,2,FALSE)","v":"Regional"}]
[6280,"CHAPMAN HILL","SHIRE OF","BUSSELTON","South West",{"$f":"VLOOKUP(E638,Admin_lookup!$A$2:$B$14,2,FALSE)","v":"Regional"}]
[6280,"GEOGRAPHE","SHIRE OF","BUSSELTON","South West",{"$f":"VLOOKUP(E639,Admin_lookup!$A$2:$B$14,2,FALSE)","v":"Regional"}]
[6280,"HITHERGREEN","SHIRE OF","BUSSELTON","South West",{"$f":"VLOOKUP(E640,Admin_lookup!$A$2:$B$14,2,FALSE)","v":"Regional"}]
[6280,"JINDONG","SHIRE OF","BUSSELTON","South West",{"$f":"VLOOKUP(E641,Admin_lookup!$A$2:$B$14,2,FALSE)","v":"Regional"}]
[6280,"KALGUP","SHIRE OF","BUSSELTON","South West",{"$f":"VLOOKUP(E642,Admin_lookup!$A$2:$B$14,2,FALSE)","v":"Regional"}]
[6280,"KALOORUP","SHIRE OF","BUSSELTON","South West",{"$f":"VLOOKUP(E643,Admin_lookup!$A$2:$B$14,2,FALSE)","v":"Regional"}]
[6280,"KEALY","SHIRE OF","BUSSELTON","South West",{"$f":"VLOOKUP(E644,Admin_lookup!$A$2:$B$14,2,FALSE)","v":"Regional"}]
[6280,"LUDLOW","SHIRE OF","BUSSELTON","South West",{"$f":"VLOOKUP(E645,Admin_lookup!$A$2:$B$14,2,FALSE)","v":"Regional"}]
[6280,"MARYBROOK","SHIRE OF","BUSSELTON","South West",{"$f":"VLOOKUP(E646,Admin_lookup!$A$2:$B$14,2,FALSE)","v":"Regional"}]
[6280,"METRICUP","SHIRE OF","BUSSELTON","South West",{"$f":"VLOOKUP(E647,Admin_lookup!$A$2:$B$14,2,FALSE)","v":"Regional"}]
[6280,"NORTH JINDONG","SHIRE OF","BUSSELTON","South West",{"$f":"VLOOKUP(E648,Admin_lookup!$A$2:$B$14,2,FALSE)","v":"Regional"}]
[6280,"REINSCOURT","SHIRE OF","BUSSELTON","South West",{"$f":"VLOOKUP(E649,Admin_lookup!$A$2:$B$14,2,FALSE)","v":"Regional"}]
[6280,"RUABON","SHIRE OF","BUSSELTON","South West",{"$f":"VLOOKUP(E650,Admin_lookup!$A$2:$B$14,2,FALSE)","v":"Regional"}]
[6280,"SABINA RIVER","SHIRE OF","BUSSELTON","South West",{"$f":"VLOOKUP(E651,Admin_lookup!$A$2:$B$14,2,FALSE)","v":"Regional"}]
[6280,"SIESTA PARK","SHIRE OF","BUSSELTON","South West",{"$f":"VLOOKUP(E652,Admin_lookup!$A$2:$B$14,2,FALSE)","v":"Regional"}]
[6280,"TUTUNUP","SHIRE OF","BUSSELTON","South West",{"$f":"VLOOKUP(E653,Admin_lookup!$A$2:$B$14,2,FALSE)","v":"Regional"}]
[6280,"VASSE","SHIRE OF","BUSSELTON","South West",{"$f":"VLOOKUP(E654,Admin_lookup!$A$2:$B$14,2,FALSE)","v":"Regional"}]
[6280,"WALSALL","SHIRE OF","BUSSELTON","South West",{"$f":"VLOOKUP(E655,Admin_lookup!$A$2:$B$14,2,FALSE)","v":"Regional"}]
[6280,"WEST BUSSELTON","SHIRE OF","BUSSELTON","South West",{"$f":"VLOOKUP(E656,Admin_lookup!$A$2:$B$14,2,FALSE)","v":"Regional"}]
[6280,"WILYABRUP","SHIRE OF","BUSSELTON","South West",{"$f":"VLOOKUP(E657,Admin_lookup!$A$2:$B$14,2,FALSE)","v":"Regional"}]
[6280,"WONNERUP","SHIRE OF","BUSSELTON","South West",{"$f":"VLOOKUP(E658,Admin_lookup!$A$2:$B$14,2,FALSE)","v":"Regional"}]
[6280,"YALYALUP","SHIRE OF","BUSSELTON","South West",{"$f":"VLOOKUP(E659,Admin_lookup!$A$2:$B$14,2,FALSE)","v":"Regional"}]
[6280,"YELVERTON","SHIRE OF","BUSSELTON","South West",{"$f":"VLOOKUP(E660,Admin_lookup!$A$2:$B$14,2,FALSE)","v":"Regional"}]
[6280,"YOONGARILLUP","SHIRE OF","BUSSELTON","South West",{"$f":"VLOOKUP(E661,Admin_lookup!$A$2:$B$14,2,FALSE)","v":"Regional"}]
[6281,"DUNSBOROUGH","SHIRE OF","BUSSELTON","South West",{"$f":"VLOOKUP(E662,Admin_lookup!$A$2:$B$14,2,FALSE)","v":"Regional"}]
[6281,"EAGLE BAY","SHIRE OF","BUSSELTON","South West",{"$f":"VLOOKUP(E663,Admin_lookup!$A$2:$B$14,2,FALSE)","v":"Regional"}]
[6281,"NATURALISTE","SHIRE OF","BUSSELTON","South West",{"$f":"VLOOKUP(E664,Admin_lookup!$A$2:$B$14,2,FALSE)","v":"Regional"}]
[6281,"QUEDJINUP","SHIRE OF","BUSSELTON","South West",{"$f":"VLOOKUP(E665,Admin_lookup!$A$2:$B$14,2,FALSE)","v":"Regional"}]
[6281,"QUINDALUP","SHIRE OF","BUSSELTON","South West",{"$f":"VLOOKUP(E666,Admin_lookup!$A$2:$B$14,2,FALSE)","v":"Regional"}]
[6282,"YALLINGUP","SHIRE OF","BUSSELTON","South West",{"$f":"VLOOKUP(E667,Admin_lookup!$A$2:$B$14,2,FALSE)","v":"Regional"}]
[6282,"YALLINGUP SIDING","SHIRE OF","BUSSELTON","South West",{"$f":"VLOOKUP(E668,Admin_lookup!$A$2:$B$14,2,FALSE)","v":"Regional"}]
[6284,"BAUDIN","SHIRE OF","AUGUSTA-MARGARET RIVER","South West",{"$f":"VLOOKUP(E669,Admin_lookup!$A$2:$B$14,2,FALSE)","v":"Regional"}]
[6284,"COWARAMUP","SHIRE OF","AUGUSTA-MARGARET RIVER","South West",{"$f":"VLOOKUP(E670,Admin_lookup!$A$2:$B$14,2,FALSE)","v":"Regional"}]
[6284,"GRACETOWN","SHIRE OF","AUGUSTA-MARGARET RIVER","South West",{"$f":"VLOOKUP(E671,Admin_lookup!$A$2:$B$14,2,FALSE)","v":"Regional"}]
[6284,"TREETON","SHIRE OF","AUGUSTA-MARGARET RIVER","South West",{"$f":"VLOOKUP(E672,Admin_lookup!$A$2:$B$14,2,FALSE)","v":"Regional"}]
[6285,"BRAMLEY","SHIRE OF","AUGUSTA-MARGARET RIVER","South West",{"$f":"VLOOKUP(E673,Admin_lookup!$A$2:$B$14,2,FALSE)","v":"Regional"}]
[6285,"BURNSIDE","SHIRE OF","AUGUSTA-MARGARET RIVER","South West",{"$f":"VLOOKUP(E674,Admin_lookup!$A$2:$B$14,2,FALSE)","v":"Regional"}]
[6285,"GNARABUP","SHIRE OF","AUGUSTA-MARGARET RIVER","South West",{"$f":"VLOOKUP(E675,Admin_lookup!$A$2:$B$14,2,FALSE)","v":"Regional"}]
[6285,"MARGARET RIVER","SHIRE OF","AUGUSTA-MARGARET RIVER","South West",{"$f":"VLOOKUP(E676,Admin_lookup!$A$2:$B$14,2,FALSE)","v":"Regional"}]
[6285,"OSMINGTON","SHIRE OF","AUGUSTA-MARGARET RIVER","South West",{"$f":"VLOOKUP(E677,Admin_lookup!$A$2:$B$14,2,FALSE)","v":"Regional"}]
[6285,"PREVELLY","SHIRE OF","AUGUSTA-MARGARET RIVER","South West",{"$f":"VLOOKUP(E678,Admin_lookup!$A$2:$B$14,2,FALSE)","v":"Regional"}]
[6285,"ROSA BROOK","SHIRE OF","AUGUSTA-MARGARET RIVER","South West",{"$f":"VLOOKUP(E679,Admin_lookup!$A$2:$B$14,2,FALSE)","v":"Regional"}]
[6285,"ROSA GLEN","SHIRE OF","AUGUSTA-MARGARET RIVER","South West",{"$f":"VLOOKUP(E680,Admin_lookup!$A$2:$B$14,2,FALSE)","v":"Regional"}]
[6285,"SCHROEDER","SHIRE OF","AUGUSTA-MARGARET RIVER","South West",{"$f":"VLOOKUP(E681,Admin_lookup!$A$2:$B$14,2,FALSE)","v":"Regional"}]
[6286,"BORANUP","SHIRE OF","AUGUSTA-MARGARET RIVER","South West",{"$f":"VLOOKUP(E682,Admin_lookup!$A$2:$B$14,2,FALSE)","v":"Regional"}]
[6286,"FOREST GROVE","SHIRE OF","AUGUSTA-MARGARET RIVER","South West",{"$f":"VLOOKUP(E683,Admin_lookup!$A$2:$B$14,2,FALSE)","v":"Regional"}]
[6286,"REDGATE","SHIRE OF","AUGUSTA-MARGARET RIVER","South West",{"$f":"VLOOKUP(E684,Admin_lookup!$A$2:$B$14,2,FALSE)","v":"Regional"}]
[6286,"WITCHCLIFFE","SHIRE OF","AUGUSTA-MARGARET RIVER","South West",{"$f":"VLOOKUP(E685,Admin_lookup!$A$2:$B$14,2,FALSE)","v":"Regional"}]
[6288,"ALEXANDRA BRIDGE","SHIRE OF","AUGUSTA-MARGARET RIVER","South West",{"$f":"VLOOKUP(E686,Admin_lookup!$A$2:$B$14,2,FALSE)","v":"Regional"}]
[6288,"COURTENAY","SHIRE OF","AUGUSTA-MARGARET RIVER","South West",{"$f":"VLOOKUP(E687,Admin_lookup!$A$2:$B$14,2,FALSE)","v":"Regional"}]
[6288,"HAMELIN BAY","SHIRE OF","AUGUSTA-MARGARET RIVER","South West",{"$f":"VLOOKUP(E688,Admin_lookup!$A$2:$B$14,2,FALSE)","v":"Regional"}]
[6288,"KARRIDALE","SHIRE OF","AUGUSTA-MARGARET RIVER","South West",{"$f":"VLOOKUP(E689,Admin_lookup!$A$2:$B$14,2,FALSE)","v":"Regional"}]
[6288,"NILLUP","SHIRE OF","AUGUSTA-MARGARET RIVER","South West",{"$f":"VLOOKUP(E690,Admin_lookup!$A$2:$B$14,2,FALSE)","v":"Regional"}]
[6288,"SCOTT RIVER","SHIRE OF","AUGUSTA-MARGARET RIVER","South West",{"$f":"VLOOKUP(E691,Admin_lookup!$A$2:$B$14,2,FALSE)","v":"Regional"}]
[6288,"WARNER GLEN","SHIRE OF","AUGUSTA-MARGARET RIVER","South West",{"$f":"VLOOKUP(E692,Admin_lookup!$A$2:$B$14,2,FALSE)","v":"Regional"}]
[6290,"AUGUSTA","SHIRE OF","AUGUSTA-MARGARET RIVER","South West",{"$f":"VLOOKUP(E693,Admin_lookup!$A$2:$B$14,2,FALSE)","v":"Regional"}]
[6290,"DEEPDENE","SHIRE OF","AUGUSTA-MARGARET RIVER","South West",{"$f":"VLOOKUP(E694,Admin_lookup!$A$2:$B$14,2,FALSE)","v":"Regional"}]
[6290,"EAST AUGUSTA","SHIRE OF","AUGUSTA-MARGARET RIVER","South West",{"$f":"VLOOKUP(E695,Admin_lookup!$A$2:$B$14,2,FALSE)","v":"Regional"}]
[6290,"KUDARDUP","SHIRE OF","AUGUSTA-MARGARET RIVER","South West",{"$f":"VLOOKUP(E696,Admin_lookup!$A$2:$B$14,2,FALSE)","v":"Regional"}]
[6290,"LEEUWIN","SHIRE OF","AUGUSTA-MARGARET RIVER","South West",{"$f":"VLOOKUP(E697,Admin_lookup!$A$2:$B$14,2,FALSE)","v":"Regional"}]
[6290,"MOLLOY ISLAND","SHIRE OF","AUGUSTA-MARGARET RIVER","South West",{"$f":"VLOOKUP(E698,Admin_lookup!$A$2:$B$14,2,FALSE)","v":"Regional"}]
[6302,"BADGIN","SHIRE OF","YORK","Wheatbelt",{"$f":"VLOOKUP(E699,Admin_lookup!$A$2:$B$14,2,FALSE)","v":"Regional"}]
[6302,"BALLADONG","SHIRE OF","YORK","Wheatbelt",{"$f":"VLOOKUP(E700,Admin_lookup!$A$2:$B$14,2,FALSE)","v":"Regional"}]
[6302,"BURGES","SHIRE OF","YORK","Wheatbelt",{"$f":"VLOOKUP(E701,Admin_lookup!$A$2:$B$14,2,FALSE)","v":"Regional"}]
[6302,"CALJIE","SHIRE OF","YORK","Wheatbelt",{"$f":"VLOOKUP(E702,Admin_lookup!$A$2:$B$14,2,FALSE)","v":"Regional"}]
[6302,"COLD HARBOUR","SHIRE OF","YORK","Wheatbelt",{"$f":"VLOOKUP(E703,Admin_lookup!$A$2:$B$14,2,FALSE)","v":"Regional"}]
[6302,"DALIAK","SHIRE OF","YORK","Wheatbelt",{"$f":"VLOOKUP(E704,Admin_lookup!$A$2:$B$14,2,FALSE)","v":"Regional"}]
[6302,"FLINT","SHIRE OF","YORK","Wheatbelt",{"$f":"VLOOKUP(E705,Admin_lookup!$A$2:$B$14,2,FALSE)","v":"Regional"}]
[6302,"FLYNN","SHIRE OF","YORK","Wheatbelt",{"$f":"VLOOKUP(E706,Admin_lookup!$A$2:$B$14,2,FALSE)","v":"Regional"}]
[6302,"GILGERING","SHIRE OF","YORK","Wheatbelt",{"$f":"VLOOKUP(E707,Admin_lookup!$A$2:$B$14,2,FALSE)","v":"Regional"}]
[6302,"GREENHILLS","SHIRE OF","YORK","Wheatbelt",{"$f":"VLOOKUP(E708,Admin_lookup!$A$2:$B$14,2,FALSE)","v":"Regional"}]
[6302,"GWAMBYGINE","SHIRE OF","YORK","Wheatbelt",{"$f":"VLOOKUP(E709,Admin_lookup!$A$2:$B$14,2,FALSE)","v":"Regional"}]
[6302,"INKPEN","SHIRE OF","YORK","Wheatbelt",{"$f":"VLOOKUP(E710,Admin_lookup!$A$2:$B$14,2,FALSE)","v":"Regional"}]
[6302,"KAURING","SHIRE OF","YORK","Wheatbelt",{"$f":"VLOOKUP(E711,Admin_lookup!$A$2:$B$14,2,FALSE)","v":"Regional"}]
[6302,"MALEBELLING","SHIRE OF","YORK","Wheatbelt",{"$f":"VLOOKUP(E712,Admin_lookup!$A$2:$B$14,2,FALSE)","v":"Regional"}]
[6302,"MOUNT HARDEY","SHIRE OF","YORK","Wheatbelt",{"$f":"VLOOKUP(E713,Admin_lookup!$A$2:$B$14,2,FALSE)","v":"Regional"}]
[6302,"MOUNT OBSERVATION","SHIRE OF","YORK","Wheatbelt",{"$f":"VLOOKUP(E714,Admin_lookup!$A$2:$B$14,2,FALSE)","v":"Regional"}]
[6302,"NARRALOGGAN","SHIRE OF","YORK","Wheatbelt",{"$f":"VLOOKUP(E715,Admin_lookup!$A$2:$B$14,2,FALSE)","v":"Regional"}]
[6302,"QUELLINGTON","SHIRE OF","YORK","Wheatbelt",{"$f":"VLOOKUP(E716,Admin_lookup!$A$2:$B$14,2,FALSE)","v":"Regional"}]
[6302,"ST RONANS","SHIRE OF","YORK","Wheatbelt",{"$f":"VLOOKUP(E717,Admin_lookup!$A$2:$B$14,2,FALSE)","v":"Regional"}]
[6302,"TALBOT","SHIRE OF","YORK","Wheatbelt",{"$f":"VLOOKUP(E718,Admin_lookup!$A$2:$B$14,2,FALSE)","v":"Regional"}]
[6302,"TALBOT WEST","SHIRE OF","YORK","Wheatbelt",{"$f":"VLOOKUP(E719,Admin_lookup!$A$2:$B$14,2,FALSE)","v":"Regional"}]
[6302,"WILBERFORCE","SHIRE OF","YORK","Wheatbelt",{"$f":"VLOOKUP(E720,Admin_lookup!$A$2:$B$14,2,FALSE)","v":"Regional"}]
[6302,"YORK","SHIRE OF","YORK","Wheatbelt",{"$f":"VLOOKUP(E721,Admin_lookup!$A$2:$B$14,2,FALSE)","v":"Regional"}]
[6304,"BALLY BALLY","SHIRE OF","BEVERLEY","Wheatbelt",{"$f":"VLOOKUP(E722,Admin_lookup!$A$2:$B$14,2,FALSE)","v":"Regional"}]
[6304,"BEVERLEY","SHIRE OF","BEVERLEY","Wheatbelt",{"$f":"VLOOKUP(E723,Admin_lookup!$A$2:$B$14,2,FALSE)","v":"Regional"}]
[6304,"DALE","SHIRE OF","BEVERLEY","Wheatbelt",{"$f":"VLOOKUP(E724,Admin_lookup!$A$2:$B$14,2,FALSE)","v":"Regional"}]
[6304,"EAST BEVERLEY","SHIRE OF","BEVERLEY","Wheatbelt",{"$f":"VLOOKUP(E725,Admin_lookup!$A$2:$B$14,2,FALSE)","v":"Regional"}]
[6304,"KOKEBY","SHIRE OF","BEVERLEY","Wheatbelt",{"$f":"VLOOKUP(E726,Admin_lookup!$A$2:$B$14,2,FALSE)","v":"Regional"}]
[6304,"MORBINNING","SHIRE OF","BEVERLEY","Wheatbelt",{"$f":"VLOOKUP(E727,Admin_lookup!$A$2:$B$14,2,FALSE)","v":"Regional"}]
[6304,"WESTDALE","SHIRE OF","BEVERLEY","Wheatbelt",{"$f":"VLOOKUP(E728,Admin_lookup!$A$2:$B$14,2,FALSE)","v":"Regional"}]
[6306,"ALDERSYDE","SHIRE OF","BROOKTON","Wheatbelt",{"$f":"VLOOKUP(E729,Admin_lookup!$A$2:$B$14,2,FALSE)","v":"Regional"}]
[6306,"BROOKTON","SHIRE OF","BROOKTON","Wheatbelt",{"$f":"VLOOKUP(E730,Admin_lookup!$A$2:$B$14,2,FALSE)","v":"Regional"}]
[6306,"BULYEE","SHIRE OF","BROOKTON","Wheatbelt",{"$f":"VLOOKUP(E731,Admin_lookup!$A$2:$B$14,2,FALSE)","v":"Regional"}]
[6306,"JELCOBINE","SHIRE OF","BROOKTON","Wheatbelt",{"$f":"VLOOKUP(E732,Admin_lookup!$A$2:$B$14,2,FALSE)","v":"Regional"}]
[6306,"KWEDA","SHIRE OF","BROOKTON","Wheatbelt",{"$f":"VLOOKUP(E733,Admin_lookup!$A$2:$B$14,2,FALSE)","v":"Regional"}]
[6308,"CODJATOTINE","SHIRE OF","PINGELLY","Wheatbelt",{"$f":"VLOOKUP(E734,Admin_lookup!$A$2:$B$14,2,FALSE)","v":"Regional"}]
[6308,"DWARDA","SHIRE OF","PINGELLY","Wheatbelt",{"$f":"VLOOKUP(E735,Admin_lookup!$A$2:$B$14,2,FALSE)","v":"Regional"}]
[6308,"EAST PINGELLY","SHIRE OF","PINGELLY","Wheatbelt",{"$f":"VLOOKUP(E736,Admin_lookup!$A$2:$B$14,2,FALSE)","v":"Regional"}]
[6308,"GILLIMANNING","SHIRE OF","PINGELLY","Wheatbelt",{"$f":"VLOOKUP(E737,Admin_lookup!$A$2:$B$14,2,FALSE)","v":"Regional"}]
[6308,"HASTINGS","SHIRE OF","PINGELLY","Wheatbelt",{"$f":"VLOOKUP(E738,Admin_lookup!$A$2:$B$14,2,FALSE)","v":"Regional"}]
[6308,"PINGELLY","SHIRE OF","PINGELLY","Wheatbelt",{"$f":"VLOOKUP(E739,Admin_lookup!$A$2:$B$14,2,FALSE)","v":"Regional"}]
[6308,"PUMPHREYS BRIDGE","SHIRE OF","PINGELLY","Wheatbelt",{"$f":"VLOOKUP(E740,Admin_lookup!$A$2:$B$14,2,FALSE)","v":"Regional"}]
[6308,"SPRINGS","SHIRE OF","PINGELLY","Wheatbelt",{"$f":"VLOOKUP(E741,Admin_lookup!$A$2:$B$14,2,FALSE)","v":"Regional"}]
[6308,"WANDERING","SHIRE OF","PINGELLY","Wheatbelt",{"$f":"VLOOKUP(E742,Admin_lookup!$A$2:$B$14,2,FALSE)","v":"Regional"}]
[6308,"WEST PINGELLY","SHIRE OF","PINGELLY","Wheatbelt",{"$f":"VLOOKUP(E743,Admin_lookup!$A$2:$B$14,2,FALSE)","v":"Regional"}]
[6309,"EAST POPANYINNING","SHIRE OF","CUBALLING","Wheatbelt",{"$f":"VLOOKUP(E744,Admin_lookup!$A$2:$B$14,2,FALSE)","v":"Regional"}]
[6309,"POPANYINNING","SHIRE OF","CUBALLING","Wheatbelt",{"$f":"VLOOKUP(E745,Admin_lookup!$A$2:$B$14,2,FALSE)","v":"Regional"}]
[6309,"STRATHERNE","SHIRE OF","CUBALLING","Wheatbelt",{"$f":"VLOOKUP(E746,Admin_lookup!$A$2:$B$14,2,FALSE)","v":"Regional"}]
[6309,"WEST POPANYINNING","SHIRE OF","CUBALLING","Wheatbelt",{"$f":"VLOOKUP(E747,Admin_lookup!$A$2:$B$14,2,FALSE)","v":"Regional"}]
[6311,"COMMODINE","SHIRE OF","CUBALLING","Wheatbelt",{"$f":"VLOOKUP(E748,Admin_lookup!$A$2:$B$14,2,FALSE)","v":"Regional"}]
[6311,"CONTINE","SHIRE OF","CUBALLING","Wheatbelt",{"$f":"VLOOKUP(E749,Admin_lookup!$A$2:$B$14,2,FALSE)","v":"Regional"}]
[6311,"CUBALLING","SHIRE OF","CUBALLING","Wheatbelt",{"$f":"VLOOKUP(E750,Admin_lookup!$A$2:$B$14,2,FALSE)","v":"Regional"}]
[6311,"DRYANDRA","SHIRE OF","CUBALLING","Wheatbelt",{"$f":"VLOOKUP(E751,Admin_lookup!$A$2:$B$14,2,FALSE)","v":"Regional"}]
[6311,"LOL GRAY","SHIRE OF","CUBALLING","Wheatbelt",{"$f":"VLOOKUP(E752,Admin_lookup!$A$2:$B$14,2,FALSE)","v":"Regional"}]
[6311,"TOWNSENDALE","SHIRE OF","CUBALLING","Wheatbelt",{"$f":"VLOOKUP(E753,Admin_lookup!$A$2:$B$14,2,FALSE)","v":"Regional"}]
[6311,"WARDERING","SHIRE OF","CUBALLING","Wheatbelt",{"$f":"VLOOKUP(E754,Admin_lookup!$A$2:$B$14,2,FALSE)","v":"Regional"}]
[6311,"YORNANING","SHIRE OF","CUBALLING","Wheatbelt",{"$f":"VLOOKUP(E755,Admin_lookup!$A$2:$B$14,2,FALSE)","v":"Regional"}]
[6312,"BOUNDAIN","SHIRE OF","NARROGIN","Wheatbelt",{"$f":"VLOOKUP(E756,Admin_lookup!$A$2:$B$14,2,FALSE)","v":"Regional"}]
[6312,"DUMBERNING","SHIRE OF","NARROGIN","Wheatbelt",{"$f":"VLOOKUP(E757,Admin_lookup!$A$2:$B$14,2,FALSE)","v":"Regional"}]
[6312,"HILLSIDE","SHIRE OF","NARROGIN","Wheatbelt",{"$f":"VLOOKUP(E758,Admin_lookup!$A$2:$B$14,2,FALSE)","v":"Regional"}]
[6312,"MINIGIN","SHIRE OF","NARROGIN","Wheatbelt",{"$f":"VLOOKUP(E759,Admin_lookup!$A$2:$B$14,2,FALSE)","v":"Regional"}]
[6312,"NARROGIN","SHIRE OF","NARROGIN","Wheatbelt",{"$f":"VLOOKUP(E760,Admin_lookup!$A$2:$B$14,2,FALSE)","v":"Regional"}]
[6312,"NARROGIN VALLEY","SHIRE OF","NARROGIN","Wheatbelt",{"$f":"VLOOKUP(E761,Admin_lookup!$A$2:$B$14,2,FALSE)","v":"Regional"}]
[6312,"NOMANS LAKE","SHIRE OF","NARROGIN","Wheatbelt",{"$f":"VLOOKUP(E762,Admin_lookup!$A$2:$B$14,2,FALSE)","v":"Regional"}]
[6312,"TOOLIBIN","SHIRE OF","NARROGIN","Wheatbelt",{"$f":"VLOOKUP(E763,Admin_lookup!$A$2:$B$14,2,FALSE)","v":"Regional"}]
[6312,"YILLIMINNING","SHIRE OF","NARROGIN","Wheatbelt",{"$f":"VLOOKUP(E764,Admin_lookup!$A$2:$B$14,2,FALSE)","v":"Regional"}]
[6313,"HIGHBURY","SHIRE OF","NARROGIN","Wheatbelt",{"$f":"VLOOKUP(E765,Admin_lookup!$A$2:$B$14,2,FALSE)","v":"Regional"}]
[6315,"ARTHUR RIVER","SHIRE OF","WAGIN","Wheatbelt",{"$f":"VLOOKUP(E766,Admin_lookup!$A$2:$B$14,2,FALSE)","v":"Regional"}]
[6315,"BALLAYING","SHIRE OF","WAGIN","Wheatbelt",{"$f":"VLOOKUP(E767,Admin_lookup!$A$2:$B$14,2,FALSE)","v":"Regional"}]
[6315,"CANCANNING","SHIRE OF","WAGIN","Wheatbelt",{"$f":"VLOOKUP(E768,Admin_lookup!$A$2:$B$14,2,FALSE)","v":"Regional"}]
[6315,"COLLANILLING","SHIRE OF","WAGIN","Wheatbelt",{"$f":"VLOOKUP(E769,Admin_lookup!$A$2:$B$14,2,FALSE)","v":"Regional"}]
[6315,"DONGOLOCKING","SHIRE OF","WAGIN","Wheatbelt",{"$f":"VLOOKUP(E770,Admin_lookup!$A$2:$B$14,2,FALSE)","v":"Regional"}]
[6315,"GUNDARING","SHIRE OF","WAGIN","Wheatbelt",{"$f":"VLOOKUP(E771,Admin_lookup!$A$2:$B$14,2,FALSE)","v":"Regional"}]
[6315,"JALORAN","SHIRE OF","WAGIN","Wheatbelt",{"$f":"VLOOKUP(E772,Admin_lookup!$A$2:$B$14,2,FALSE)","v":"Regional"}]
[6315,"LIME LAKE","SHIRE OF","WAGIN","Wheatbelt",{"$f":"VLOOKUP(E773,Admin_lookup!$A$2:$B$14,2,FALSE)","v":"Regional"}]
[6315,"MINDING","SHIRE OF","WAGIN","Wheatbelt",{"$f":"VLOOKUP(E774,Admin_lookup!$A$2:$B$14,2,FALSE)","v":"Regional"}]
[6315,"PIESSEVILLE","SHIRE OF","WAGIN","Wheatbelt",{"$f":"VLOOKUP(E775,Admin_lookup!$A$2:$B$14,2,FALSE)","v":"Regional"}]
[6315,"WAGIN","SHIRE OF","WAGIN","Wheatbelt",{"$f":"VLOOKUP(E776,Admin_lookup!$A$2:$B$14,2,FALSE)","v":"Regional"}]
[6315,"WEDGECARRUP","SHIRE OF","WAGIN","Wheatbelt",{"$f":"VLOOKUP(E777,Admin_lookup!$A$2:$B$14,2,FALSE)","v":"Regional"}]
[6316,"BOYERINE","SHIRE OF","WOODANILLING","Great Southern",{"$f":"VLOOKUP(E778,Admin_lookup!$A$2:$B$14,2,FALSE)","v":"Regional"}]
[6316,"CARTMETICUP","SHIRE OF","WOODANILLING","Great Southern",{"$f":"VLOOKUP(E779,Admin_lookup!$A$2:$B$14,2,FALSE)","v":"Regional"}]
[6316,"GLENCOE","SHIRE OF","WOODANILLING","Great Southern",{"$f":"VLOOKUP(E780,Admin_lookup!$A$2:$B$14,2,FALSE)","v":"Regional"}]
[6316,"KENMARE","SHIRE OF","WOODANILLING","Great Southern",{"$f":"VLOOKUP(E781,Admin_lookup!$A$2:$B$14,2,FALSE)","v":"Regional"}]
[6316,"WESTWOOD","SHIRE OF","WOODANILLING","Great Southern",{"$f":"VLOOKUP(E782,Admin_lookup!$A$2:$B$14,2,FALSE)","v":"Regional"}]
[6316,"WOODANILLING","SHIRE OF","WOODANILLING","Great Southern",{"$f":"VLOOKUP(E783,Admin_lookup!$A$2:$B$14,2,FALSE)","v":"Regional"}]
[6317,"BADGEBUP","SHIRE OF","KATANNING","Great Southern",{"$f":"VLOOKUP(E784,Admin_lookup!$A$2:$B$14,2,FALSE)","v":"Regional"}]
[6317,"BULLOCK HILLS","SHIRE OF","KATANNING","Great Southern",{"$f":"VLOOKUP(E785,Admin_lookup!$A$2:$B$14,2,FALSE)","v":"Regional"}]
[6317,"CARROLUP","SHIRE OF","KATANNING","Great Southern",{"$f":"VLOOKUP(E786,Admin_lookup!$A$2:$B$14,2,FALSE)","v":"Regional"}]
[6317,"COBLININE","SHIRE OF","KATANNING","Great Southern",{"$f":"VLOOKUP(E787,Admin_lookup!$A$2:$B$14,2,FALSE)","v":"Regional"}]
[6317,"COYRECUP","SHIRE OF","KATANNING","Great Southern",{"$f":"VLOOKUP(E788,Admin_lookup!$A$2:$B$14,2,FALSE)","v":"Regional"}]
[6317,"DATATINE","SHIRE OF","KATANNING","Great Southern",{"$f":"VLOOKUP(E789,Admin_lookup!$A$2:$B$14,2,FALSE)","v":"Regional"}]
[6317,"EWLYAMARTUP","SHIRE OF","KATANNING","Great Southern",{"$f":"VLOOKUP(E790,Admin_lookup!$A$2:$B$14,2,FALSE)","v":"Regional"}]
[6317,"KATANNING","SHIRE OF","KATANNING","Great Southern",{"$f":"VLOOKUP(E791,Admin_lookup!$A$2:$B$14,2,FALSE)","v":"Regional"}]
[6317,"MARRACOONDA","SHIRE OF","KATANNING","Great Southern",{"$f":"VLOOKUP(E792,Admin_lookup!$A$2:$B$14,2,FALSE)","v":"Regional"}]
[6317,"MOOJEBING","SHIRE OF","KATANNING","Great Southern",{"$f":"VLOOKUP(E793,Admin_lookup!$A$2:$B$14,2,FALSE)","v":"Regional"}]
[6317,"MURDONG","SHIRE OF","KATANNING","Great Southern",{"$f":"VLOOKUP(E794,Admin_lookup!$A$2:$B$14,2,FALSE)","v":"Regional"}]
[6317,"PINWERNYING","SHIRE OF","KATANNING","Great Southern",{"$f":"VLOOKUP(E795,Admin_lookup!$A$2:$B$14,2,FALSE)","v":"Regional"}]
[6317,"SOUTH DATATINE","SHIRE OF","KATANNING","Great Southern",{"$f":"VLOOKUP(E796,Admin_lookup!$A$2:$B$14,2,FALSE)","v":"Regional"}]
[6317,"SOUTH GLENCOE","SHIRE OF","KATANNING","Great Southern",{"$f":"VLOOKUP(E797,Admin_lookup!$A$2:$B$14,2,FALSE)","v":"Regional"}]
[6318,"BROOMEHILL","SHIRE OF","BROOMEHILL-TAMBELLUP","Great Southern",{"$f":"VLOOKUP(E798,Admin_lookup!$A$2:$B$14,2,FALSE)","v":"Regional"}]
[6318,"BROOMEHILL EAST","SHIRE OF","BROOMEHILL-TAMBELLUP","Great Southern",{"$f":"VLOOKUP(E799,Admin_lookup!$A$2:$B$14,2,FALSE)","v":"Regional"}]
[6318,"BROOMEHILL VILLAGE","SHIRE OF","BROOMEHILL-TAMBELLUP","Great Southern",{"$f":"VLOOKUP(E800,Admin_lookup!$A$2:$B$14,2,FALSE)","v":"Regional"}]
[6318,"BROOMEHILL WEST","SHIRE OF","BROOMEHILL-TAMBELLUP","Great Southern",{"$f":"VLOOKUP(E801,Admin_lookup!$A$2:$B$14,2,FALSE)","v":"Regional"}]
[6320,"BOBALONG","SHIRE OF","BROOMEHILL-TAMBELLUP","Great Southern",{"$f":"VLOOKUP(E802,Admin_lookup!$A$2:$B$14,2,FALSE)","v":"Regional"}]
[6320,"BORDERDALE","SHIRE OF","BROOMEHILL-TAMBELLUP","Great Southern",{"$f":"VLOOKUP(E803,Admin_lookup!$A$2:$B$14,2,FALSE)","v":"Regional"}]
[6320,"DARTNALL","SHIRE OF","BROOMEHILL-TAMBELLUP","Great Southern",{"$f":"VLOOKUP(E804,Admin_lookup!$A$2:$B$14,2,FALSE)","v":"Regional"}]
[6320,"LAKE TOOLBRUNUP","SHIRE OF","BROOMEHILL-TAMBELLUP","Great Southern",{"$f":"VLOOKUP(E805,Admin_lookup!$A$2:$B$14,2,FALSE)","v":"Regional"}]
[6320,"MOONIES HILL","SHIRE OF","BROOMEHILL-TAMBELLUP","Great Southern",{"$f":"VLOOKUP(E806,Admin_lookup!$A$2:$B$14,2,FALSE)","v":"Regional"}]
[6320,"TAMBELLUP","SHIRE OF","BROOMEHILL-TAMBELLUP","Great Southern",{"$f":"VLOOKUP(E807,Admin_lookup!$A$2:$B$14,2,FALSE)","v":"Regional"}]
[6320,"WANSBROUGH","SHIRE OF","BROOMEHILL-TAMBELLUP","Great Southern",{"$f":"VLOOKUP(E808,Admin_lookup!$A$2:$B$14,2,FALSE)","v":"Regional"}]
[6321,"CRANBROOK","SHIRE OF","CRANBROOK","Great Southern",{"$f":"VLOOKUP(E809,Admin_lookup!$A$2:$B$14,2,FALSE)","v":"Regional"}]
[6322,"TENTERDEN","SHIRE OF","CRANBROOK","Great Southern",{"$f":"VLOOKUP(E810,Admin_lookup!$A$2:$B$14,2,FALSE)","v":"Regional"}]
[6323,"KENDENUP","SHIRE OF","PLANTAGENET","Great Southern",{"$f":"VLOOKUP(E811,Admin_lookup!$A$2:$B$14,2,FALSE)","v":"Regional"}]
[6324,"DENBARKER","SHIRE OF","PLANTAGENET","Great Southern",{"$f":"VLOOKUP(E812,Admin_lookup!$A$2:$B$14,2,FALSE)","v":"Regional"}]
[6324,"FOREST HILL","SHIRE OF","PLANTAGENET","Great Southern",{"$f":"VLOOKUP(E813,Admin_lookup!$A$2:$B$14,2,FALSE)","v":"Regional"}]
[6324,"MOUNT BARKER","SHIRE OF","PLANTAGENET","Great Southern",{"$f":"VLOOKUP(E814,Admin_lookup!$A$2:$B$14,2,FALSE)","v":"Regional"}]
[6324,"PERILLUP","SHIRE OF","PLANTAGENET","Great Southern",{"$f":"VLOOKUP(E815,Admin_lookup!$A$2:$B$14,2,FALSE)","v":"Regional"}]
[6324,"PORONGURUP","SHIRE OF","PLANTAGENET","Great Southern",{"$f":"VLOOKUP(E816,Admin_lookup!$A$2:$B$14,2,FALSE)","v":"Regional"}]
[6324,"SOUTH STIRLING","SHIRE OF","PLANTAGENET","Great Southern",{"$f":"VLOOKUP(E817,Admin_lookup!$A$2:$B$14,2,FALSE)","v":"Regional"}]
[6324,"TAKALARUP","SHIRE OF","PLANTAGENET","Great Southern",{"$f":"VLOOKUP(E818,Admin_lookup!$A$2:$B$14,2,FALSE)","v":"Regional"}]
[6324,"WOOGENELLUP","SHIRE OF","PLANTAGENET","Great Southern",{"$f":"VLOOKUP(E819,Admin_lookup!$A$2:$B$14,2,FALSE)","v":"Regional"}]
[6326,"NARRIKUP","SHIRE OF","PLANTAGENET","Great Southern",{"$f":"VLOOKUP(E820,Admin_lookup!$A$2:$B$14,2,FALSE)","v":"Regional"}]
[6327,"REDMOND","CITY OF","ALBANY","Great Southern",{"$f":"VLOOKUP(E821,Admin_lookup!$A$2:$B$14,2,FALSE)","v":"Regional"}]
[6327,"REDMOND WEST","CITY OF","ALBANY","Great Southern",{"$f":"VLOOKUP(E822,Admin_lookup!$A$2:$B$14,2,FALSE)","v":"Regional"}]
[6328,"CHEYNES","CITY OF","ALBANY","Great Southern",{"$f":"VLOOKUP(E823,Admin_lookup!$A$2:$B$14,2,FALSE)","v":"Regional"}]
[6328,"GNOWELLEN","CITY OF","ALBANY","Great Southern",{"$f":"VLOOKUP(E824,Admin_lookup!$A$2:$B$14,2,FALSE)","v":"Regional"}]
[6328,"GREEN RANGE","CITY OF","ALBANY","Great Southern",{"$f":"VLOOKUP(E825,Admin_lookup!$A$2:$B$14,2,FALSE)","v":"Regional"}]
[6328,"KOJANEERUP SOUTH","CITY OF","ALBANY","Great Southern",{"$f":"VLOOKUP(E826,Admin_lookup!$A$2:$B$14,2,FALSE)","v":"Regional"}]
[6328,"MANYPEAKS","CITY OF","ALBANY","Great Southern",{"$f":"VLOOKUP(E827,Admin_lookup!$A$2:$B$14,2,FALSE)","v":"Regional"}]
[6328,"METTLER","CITY OF","ALBANY","Great Southern",{"$f":"VLOOKUP(E828,Admin_lookup!$A$2:$B$14,2,FALSE)","v":"Regional"}]
[6328,"PALMDALE","CITY OF","ALBANY","Great Southern",{"$f":"VLOOKUP(E829,Admin_lookup!$A$2:$B$14,2,FALSE)","v":"Regional"}]
[6328,"WELLSTEAD","CITY OF","ALBANY","Great Southern",{"$f":"VLOOKUP(E830,Admin_lookup!$A$2:$B$14,2,FALSE)","v":"Regional"}]
[6330,"ALBANY","CITY OF","ALBANY","Great Southern",{"$f":"VLOOKUP(E831,Admin_lookup!$A$2:$B$14,2,FALSE)","v":"Regional"}]
[6330,"BAYONET HEAD","CITY OF","ALBANY","Great Southern",{"$f":"VLOOKUP(E832,Admin_lookup!$A$2:$B$14,2,FALSE)","v":"Regional"}]
[6330,"BIG GROVE","CITY OF","ALBANY","Great Southern",{"$f":"VLOOKUP(E833,Admin_lookup!$A$2:$B$14,2,FALSE)","v":"Regional"}]
[6330,"BORNHOLM","CITY OF","ALBANY","Great Southern",{"$f":"VLOOKUP(E834,Admin_lookup!$A$2:$B$14,2,FALSE)","v":"Regional"}]
[6330,"CENTENNIAL PARK","CITY OF","ALBANY","Great Southern",{"$f":"VLOOKUP(E835,Admin_lookup!$A$2:$B$14,2,FALSE)","v":"Regional"}]
[6330,"COLLINGWOOD HEIGHTS","CITY OF","ALBANY","Great Southern",{"$f":"VLOOKUP(E836,Admin_lookup!$A$2:$B$14,2,FALSE)","v":"Regional"}]
[6330,"COLLINGWOOD PARK","CITY OF","ALBANY","Great Southern",{"$f":"VLOOKUP(E837,Admin_lookup!$A$2:$B$14,2,FALSE)","v":"Regional"}]
[6330,"CUTHBERT","CITY OF","ALBANY","Great Southern",{"$f":"VLOOKUP(E838,Admin_lookup!$A$2:$B$14,2,FALSE)","v":"Regional"}]
[6330,"DROME","CITY OF","ALBANY","Great Southern",{"$f":"VLOOKUP(E839,Admin_lookup!$A$2:$B$14,2,FALSE)","v":"Regional"}]
[6330,"ELLEKER","CITY OF","ALBANY","Great Southern",{"$f":"VLOOKUP(E840,Admin_lookup!$A$2:$B$14,2,FALSE)","v":"Regional"}]
[6330,"EMU POINT","CITY OF","ALBANY","Great Southern",{"$f":"VLOOKUP(E841,Admin_lookup!$A$2:$B$14,2,FALSE)","v":"Regional"}]
[6330,"FRENCHMAN BAY","CITY OF","ALBANY","Great Southern",{"$f":"VLOOKUP(E842,Admin_lookup!$A$2:$B$14,2,FALSE)","v":"Regional"}]
[6330,"GLEDHOW","CITY OF","ALBANY","Great Southern",{"$f":"VLOOKUP(E843,Admin_lookup!$A$2:$B$14,2,FALSE)","v":"Regional"}]
[6330,"GOODE BEACH","CITY OF","ALBANY","Great Southern",{"$f":"VLOOKUP(E844,Admin_lookup!$A$2:$B$14,2,FALSE)","v":"Regional"}]
[6330,"GREEN VALLEY","CITY OF","ALBANY","Great Southern",{"$f":"VLOOKUP(E845,Admin_lookup!$A$2:$B$14,2,FALSE)","v":"Regional"}]
[6330,"KALGAN","CITY OF","ALBANY","Great Southern",{"$f":"VLOOKUP(E846,Admin_lookup!$A$2:$B$14,2,FALSE)","v":"Regional"}]
[6330,"KING RIVER","CITY OF","ALBANY","Great Southern",{"$f":"VLOOKUP(E847,Admin_lookup!$A$2:$B$14,2,FALSE)","v":"Regional"}]
[6330,"KRONKUP","CITY OF","ALBANY","Great Southern",{"$f":"VLOOKUP(E848,Admin_lookup!$A$2:$B$14,2,FALSE)","v":"Regional"}]
[6330,"LANGE","CITY OF","ALBANY","Great Southern",{"$f":"VLOOKUP(E849,Admin_lookup!$A$2:$B$14,2,FALSE)","v":"Regional"}]
[6330,"LITTLE GROVE","CITY OF","ALBANY","Great Southern",{"$f":"VLOOKUP(E850,Admin_lookup!$A$2:$B$14,2,FALSE)","v":"Regional"}]
[6330,"LOCKYER","CITY OF","ALBANY","Great Southern",{"$f":"VLOOKUP(E851,Admin_lookup!$A$2:$B$14,2,FALSE)","v":"Regional"}]
[6330,"LOWER KING","CITY OF","ALBANY","Great Southern",{"$f":"VLOOKUP(E852,Admin_lookup!$A$2:$B$14,2,FALSE)","v":"Regional"}]
[6330,"LOWLANDS","CITY OF","ALBANY","Great Southern",{"$f":"VLOOKUP(E853,Admin_lookup!$A$2:$B$14,2,FALSE)","v":"Regional"}]
[6330,"MARBELUP","CITY OF","ALBANY","Great Southern",{"$f":"VLOOKUP(E854,Admin_lookup!$A$2:$B$14,2,FALSE)","v":"Regional"}]
[6330,"MCKAIL","CITY OF","ALBANY","Great Southern",{"$f":"VLOOKUP(E855,Admin_lookup!$A$2:$B$14,2,FALSE)","v":"Regional"}]
[6330,"MIDDLETON BEACH","CITY OF","ALBANY","Great Southern",{"$f":"VLOOKUP(E856,Admin_lookup!$A$2:$B$14,2,FALSE)","v":"Regional"}]
[6330,"MILLBROOK","CITY OF","ALBANY","Great Southern",{"$f":"VLOOKUP(E857,Admin_lookup!$A$2:$B$14,2,FALSE)","v":"Regional"}]
[6330,"MILPARA","CITY OF","ALBANY","Great Southern",{"$f":"VLOOKUP(E858,Admin_lookup!$A$2:$B$14,2,FALSE)","v":"Regional"}]
[6330,"MIRA MAR","CITY OF","ALBANY","Great Southern",{"$f":"VLOOKUP(E859,Admin_lookup!$A$2:$B$14,2,FALSE)","v":"Regional"}]
[6330,"MOUNT CLARENCE","CITY OF","ALBANY","Great Southern",{"$f":"VLOOKUP(E860,Admin_lookup!$A$2:$B$14,2,FALSE)","v":"Regional"}]
[6330,"MOUNT ELPHINSTONE","CITY OF","ALBANY","Great Southern",{"$f":"VLOOKUP(E861,Admin_lookup!$A$2:$B$14,2,FALSE)","v":"Regional"}]
[6330,"MOUNT MELVILLE","CITY OF","ALBANY","Great Southern",{"$f":"VLOOKUP(E862,Admin_lookup!$A$2:$B$14,2,FALSE)","v":"Regional"}]
[6330,"NANARUP","CITY OF","ALBANY","Great Southern",{"$f":"VLOOKUP(E863,Admin_lookup!$A$2:$B$14,2,FALSE)","v":"Regional"}]
[6330,"NAPIER","CITY OF","ALBANY","Great Southern",{"$f":"VLOOKUP(E864,Admin_lookup!$A$2:$B$14,2,FALSE)","v":"Regional"}]
[6330,"NULLAKI","CITY OF","ALBANY","Great Southern",{"$f":"VLOOKUP(E865,Admin_lookup!$A$2:$B$14,2,FALSE)","v":"Regional"}]
[6330,"ORANA","CITY OF","ALBANY","Great Southern",{"$f":"VLOOKUP(E866,Admin_lookup!$A$2:$B$14,2,FALSE)","v":"Regional"}]
[6330,"PORT ALBANY","CITY OF","ALBANY","Great Southern",{"$f":"VLOOKUP(E867,Admin_lookup!$A$2:$B$14,2,FALSE)","v":"Regional"}]
[6330,"ROBINSON","CITY OF","ALBANY","Great Southern",{"$f":"VLOOKUP(E868,Admin_lookup!$A$2:$B$14,2,FALSE)","v":"Regional"}]
[6330,"SANDPATCH","CITY OF","ALBANY","Great Southern",{"$f":"VLOOKUP(E869,Admin_lookup!$A$2:$B$14,2,FALSE)","v":"Regional"}]
[6330,"SEPPINGS","CITY OF","ALBANY","Great Southern",{"$f":"VLOOKUP(E870,Admin_lookup!$A$2:$B$14,2,FALSE)","v":"Regional"}]
[6330,"SPENCER PARK","CITY OF","ALBANY","Great Southern",{"$f":"VLOOKUP(E871,Admin_lookup!$A$2:$B$14,2,FALSE)","v":"Regional"}]
[6330,"TORBAY","CITY OF","ALBANY","Great Southern",{"$f":"VLOOKUP(E872,Admin_lookup!$A$2:$B$14,2,FALSE)","v":"Regional"}]
[6330,"TORNDIRRUP","CITY OF","ALBANY","Great Southern",{"$f":"VLOOKUP(E873,Admin_lookup!$A$2:$B$14,2,FALSE)","v":"Regional"}]
[6330,"VANCOUVER PENINSULA","CITY OF","ALBANY","Great Southern",{"$f":"VLOOKUP(E874,Admin_lookup!$A$2:$B$14,2,FALSE)","v":"Regional"}]
[6330,"WALMSLEY","CITY OF","ALBANY","Great Southern",{"$f":"VLOOKUP(E875,Admin_lookup!$A$2:$B$14,2,FALSE)","v":"Regional"}]
[6330,"WARRENUP","CITY OF","ALBANY","Great Southern",{"$f":"VLOOKUP(E876,Admin_lookup!$A$2:$B$14,2,FALSE)","v":"Regional"}]
[6330,"WEST CAPE HOWE","CITY OF","ALBANY","Great Southern",{"$f":"VLOOKUP(E877,Admin_lookup!$A$2:$B$14,2,FALSE)","v":"Regional"}]
[6330,"WILLYUNG","CITY OF","ALBANY","Great Southern",{"$f":"VLOOKUP(E878,Admin_lookup!$A$2:$B$14,2,FALSE)","v":"Regional"}]
[6330,"YAKAMIA","CITY OF","ALBANY","Great Southern",{"$f":"VLOOKUP(E879,Admin_lookup!$A$2:$B$14,2,FALSE)","v":"Regional"}]
[6330,"YOUNGS SIDING","CITY OF","ALBANY","Great Southern",{"$f":"VLOOKUP(E880,Admin_lookup!$A$2:$B$14,2,FALSE)","v":"Regional"}]
[6331,"ALBANY DC","CITY OF","ALBANY","Great Southern",{"$f":"VLOOKUP(E881,Admin_lookup!$A$2:$B$14,2,FALSE)","v":"Regional"}]
[6332,"ALBANY PO BOXES 5000-6000","CITY OF","ALBANY","Great Southern",{"$f":"VLOOKUP(E882,Admin_lookup!$A$2:$B$14,2,FALSE)","v":"Regional"}]
[6333,"BOW BRIDGE","SHIRE OF","DENMARK","Great Southern",{"$f":"VLOOKUP(E883,Admin_lookup!$A$2:$B$14,2,FALSE)","v":"Regional"}]
[6333,"DENMARK","SHIRE OF","DENMARK","Great Southern",{"$f":"VLOOKUP(E884,Admin_lookup!$A$2:$B$14,2,FALSE)","v":"Regional"}]
[6333,"HAY","SHIRE OF","DENMARK","Great Southern",{"$f":"VLOOKUP(E885,Admin_lookup!$A$2:$B$14,2,FALSE)","v":"Regional"}]
[6333,"HAZELVALE","SHIRE OF","DENMARK","Great Southern",{"$f":"VLOOKUP(E886,Admin_lookup!$A$2:$B$14,2,FALSE)","v":"Regional"}]
[6333,"KENTDALE","SHIRE OF","DENMARK","Great Southern",{"$f":"VLOOKUP(E887,Admin_lookup!$A$2:$B$14,2,FALSE)","v":"Regional"}]
[6333,"KORDABUP","SHIRE OF","DENMARK","Great Southern",{"$f":"VLOOKUP(E888,Admin_lookup!$A$2:$B$14,2,FALSE)","v":"Regional"}]
[6333,"MOUNT LINDESAY","SHIRE OF","DENMARK","Great Southern",{"$f":"VLOOKUP(E889,Admin_lookup!$A$2:$B$14,2,FALSE)","v":"Regional"}]
[6333,"MOUNT ROMANCE","SHIRE OF","DENMARK","Great Southern",{"$f":"VLOOKUP(E890,Admin_lookup!$A$2:$B$14,2,FALSE)","v":"Regional"}]
[6333,"NORNALUP","SHIRE OF","DENMARK","Great Southern",{"$f":"VLOOKUP(E891,Admin_lookup!$A$2:$B$14,2,FALSE)","v":"Regional"}]
[6333,"OCEAN BEACH","SHIRE OF","DENMARK","Great Southern",{"$f":"VLOOKUP(E892,Admin_lookup!$A$2:$B$14,2,FALSE)","v":"Regional"}]
[6333,"PARRYVILLE","SHIRE OF","DENMARK","Great Southern",{"$f":"VLOOKUP(E893,Admin_lookup!$A$2:$B$14,2,FALSE)","v":"Regional"}]
[6333,"PEACEFUL BAY","SHIRE OF","DENMARK","Great Southern",{"$f":"VLOOKUP(E894,Admin_lookup!$A$2:$B$14,2,FALSE)","v":"Regional"}]
[6333,"SCOTSDALE","SHIRE OF","DENMARK","Great Southern",{"$f":"VLOOKUP(E895,Admin_lookup!$A$2:$B$14,2,FALSE)","v":"Regional"}]
[6333,"SHADFORTH","SHIRE OF","DENMARK","Great Southern",{"$f":"VLOOKUP(E896,Admin_lookup!$A$2:$B$14,2,FALSE)","v":"Regional"}]
[6333,"TINGLEDALE","SHIRE OF","DENMARK","Great Southern",{"$f":"VLOOKUP(E897,Admin_lookup!$A$2:$B$14,2,FALSE)","v":"Regional"}]
[6333,"TRENT","SHIRE OF","DENMARK","Great Southern",{"$f":"VLOOKUP(E898,Admin_lookup!$A$2:$B$14,2,FALSE)","v":"Regional"}]
[6333,"WILLIAM BAY","SHIRE OF","DENMARK","Great Southern",{"$f":"VLOOKUP(E899,Admin_lookup!$A$2:$B$14,2,FALSE)","v":"Regional"}]
[6335,"GNOWANGERUP","SHIRE OF","GNOWANGERUP","Great Southern",{"$f":"VLOOKUP(E900,Admin_lookup!$A$2:$B$14,2,FALSE)","v":"Regional"}]
[6335,"JACKITUP","SHIRE OF","GNOWANGERUP","Great Southern",{"$f":"VLOOKUP(E901,Admin_lookup!$A$2:$B$14,2,FALSE)","v":"Regional"}]
[6335,"KEBARINGUP","SHIRE OF","GNOWANGERUP","Great Southern",{"$f":"VLOOKUP(E902,Admin_lookup!$A$2:$B$14,2,FALSE)","v":"Regional"}]
[6335,"PALLINUP","SHIRE OF","GNOWANGERUP","Great Southern",{"$f":"VLOOKUP(E903,Admin_lookup!$A$2:$B$14,2,FALSE)","v":"Regional"}]
[6336,"COWALELLUP","SHIRE OF","GNOWANGERUP","Great Southern",{"$f":"VLOOKUP(E904,Admin_lookup!$A$2:$B$14,2,FALSE)","v":"Regional"}]
[6336,"MILLS LAKE","SHIRE OF","GNOWANGERUP","Great Southern",{"$f":"VLOOKUP(E905,Admin_lookup!$A$2:$B$14,2,FALSE)","v":"Regional"}]
[6336,"MINDARABIN","SHIRE OF","GNOWANGERUP","Great Southern",{"$f":"VLOOKUP(E906,Admin_lookup!$A$2:$B$14,2,FALSE)","v":"Regional"}]
[6336,"NEEDILUP","SHIRE OF","GNOWANGERUP","Great Southern",{"$f":"VLOOKUP(E907,Admin_lookup!$A$2:$B$14,2,FALSE)","v":"Regional"}]
[6336,"ONGERUP","SHIRE OF","GNOWANGERUP","Great Southern",{"$f":"VLOOKUP(E908,Admin_lookup!$A$2:$B$14,2,FALSE)","v":"Regional"}]
[6336,"TOOMPUP","SHIRE OF","GNOWANGERUP","Great Southern",{"$f":"VLOOKUP(E909,Admin_lookup!$A$2:$B$14,2,FALSE)","v":"Regional"}]
[6337,"FITZGERALD","SHIRE OF","JERRAMUNGUP","Great Southern",{"$f":"VLOOKUP(E910,Admin_lookup!$A$2:$B$14,2,FALSE)","v":"Regional"}]
[6337,"GAIRDNER","SHIRE OF","JERRAMUNGUP","Great Southern",{"$f":"VLOOKUP(E911,Admin_lookup!$A$2:$B$14,2,FALSE)","v":"Regional"}]
[6337,"JACUP","SHIRE OF","JERRAMUNGUP","Great Southern",{"$f":"VLOOKUP(E912,Admin_lookup!$A$2:$B$14,2,FALSE)","v":"Regional"}]
[6337,"JERRAMUNGUP","SHIRE OF","JERRAMUNGUP","Great Southern",{"$f":"VLOOKUP(E913,Admin_lookup!$A$2:$B$14,2,FALSE)","v":"Regional"}]
[6337,"WEST FITZGERALD","SHIRE OF","JERRAMUNGUP","Great Southern",{"$f":"VLOOKUP(E914,Admin_lookup!$A$2:$B$14,2,FALSE)","v":"Regional"}]
[6338,"AMELUP","SHIRE OF","GNOWANGERUP","Great Southern",{"$f":"VLOOKUP(E915,Admin_lookup!$A$2:$B$14,2,FALSE)","v":"Regional"}]
[6338,"BORDEN","SHIRE OF","GNOWANGERUP","Great Southern",{"$f":"VLOOKUP(E916,Admin_lookup!$A$2:$B$14,2,FALSE)","v":"Regional"}]
[6338,"BOXWOOD HILL","SHIRE OF","GNOWANGERUP","Great Southern",{"$f":"VLOOKUP(E917,Admin_lookup!$A$2:$B$14,2,FALSE)","v":"Regional"}]
[6338,"BREMER BAY","SHIRE OF","GNOWANGERUP","Great Southern",{"$f":"VLOOKUP(E918,Admin_lookup!$A$2:$B$14,2,FALSE)","v":"Regional"}]
[6338,"MAGITUP","SHIRE OF","GNOWANGERUP","Great Southern",{"$f":"VLOOKUP(E919,Admin_lookup!$A$2:$B$14,2,FALSE)","v":"Regional"}]
[6338,"MONJEBUP","SHIRE OF","GNOWANGERUP","Great Southern",{"$f":"VLOOKUP(E920,Admin_lookup!$A$2:$B$14,2,FALSE)","v":"Regional"}]
[6338,"NALYERLUP","SHIRE OF","GNOWANGERUP","Great Southern",{"$f":"VLOOKUP(E921,Admin_lookup!$A$2:$B$14,2,FALSE)","v":"Regional"}]
[6338,"NORTH STIRLINGS","SHIRE OF","GNOWANGERUP","Great Southern",{"$f":"VLOOKUP(E922,Admin_lookup!$A$2:$B$14,2,FALSE)","v":"Regional"}]
[6338,"STIRLING RANGE NATIONAL PARK","SHIRE OF","GNOWANGERUP","Great Southern",{"$f":"VLOOKUP(E923,Admin_lookup!$A$2:$B$14,2,FALSE)","v":"Regional"}]
[6341,"NYABING","SHIRE OF","KENT","Great Southern",{"$f":"VLOOKUP(E924,Admin_lookup!$A$2:$B$14,2,FALSE)","v":"Regional"}]
[6343,"PINGRUP","SHIRE OF","KENT","Great Southern",{"$f":"VLOOKUP(E925,Admin_lookup!$A$2:$B$14,2,FALSE)","v":"Regional"}]
[6346,"FITZGERALD RIVER NATIONAL PARK","SHIRE OF","RAVENSTHORPE","Goldfields-Esperance",{"$f":"VLOOKUP(E926,Admin_lookup!$A$2:$B$14,2,FALSE)","v":"Regional"}]
[6346,"JERDACUTTUP","SHIRE OF","RAVENSTHORPE","Goldfields-Esperance",{"$f":"VLOOKUP(E927,Admin_lookup!$A$2:$B$14,2,FALSE)","v":"Regional"}]
[6346,"RAVENSTHORPE","SHIRE OF","RAVENSTHORPE","Goldfields-Esperance",{"$f":"VLOOKUP(E928,Admin_lookup!$A$2:$B$14,2,FALSE)","v":"Regional"}]
[6346,"WEST RIVER","SHIRE OF","RAVENSTHORPE","Goldfields-Esperance",{"$f":"VLOOKUP(E929,Admin_lookup!$A$2:$B$14,2,FALSE)","v":"Regional"}]
[6348,"HOPETOUN","SHIRE OF","RAVENSTHORPE","Goldfields-Esperance",{"$f":"VLOOKUP(E930,Admin_lookup!$A$2:$B$14,2,FALSE)","v":"Regional"}]
[6350,"DUMBLEYUNG","SHIRE OF","DUMBLEYUNG","Wheatbelt",{"$f":"VLOOKUP(E931,Admin_lookup!$A$2:$B$14,2,FALSE)","v":"Regional"}]
[6350,"NAIRIBIN","SHIRE OF","DUMBLEYUNG","Wheatbelt",{"$f":"VLOOKUP(E932,Admin_lookup!$A$2:$B$14,2,FALSE)","v":"Regional"}]
[6350,"NIPPERING","SHIRE OF","DUMBLEYUNG","Wheatbelt",{"$f":"VLOOKUP(E933,Admin_lookup!$A$2:$B$14,2,FALSE)","v":"Regional"}]
[6351,"MOULYINNING","SHIRE OF","DUMBLEYUNG","Wheatbelt",{"$f":"VLOOKUP(E934,Admin_lookup!$A$2:$B$14,2,FALSE)","v":"Regional"}]
[6351,"NORTH MOULYINNING","SHIRE OF","DUMBLEYUNG","Wheatbelt",{"$f":"VLOOKUP(E935,Admin_lookup!$A$2:$B$14,2,FALSE)","v":"Regional"}]
[6352,"KUKERIN","SHIRE OF","DUMBLEYUNG","Wheatbelt",{"$f":"VLOOKUP(E936,Admin_lookup!$A$2:$B$14,2,FALSE)","v":"Regional"}]
[6352,"MERILUP","SHIRE OF","DUMBLEYUNG","Wheatbelt",{"$f":"VLOOKUP(E937,Admin_lookup!$A$2:$B$14,2,FALSE)","v":"Regional"}]
[6352,"NORTH KUKERIN","SHIRE OF","DUMBLEYUNG","Wheatbelt",{"$f":"VLOOKUP(E938,Admin_lookup!$A$2:$B$14,2,FALSE)","v":"Regional"}]
[6352,"SOUTH KUKERIN","SHIRE OF","DUMBLEYUNG","Wheatbelt",{"$f":"VLOOKUP(E939,Admin_lookup!$A$2:$B$14,2,FALSE)","v":"Regional"}]
[6353,"BEENONG","SHIRE OF","DUMBLEYUNG","Wheatbelt",{"$f":"VLOOKUP(E940,Admin_lookup!$A$2:$B$14,2,FALSE)","v":"Regional"}]
[6353,"BUNICHE","SHIRE OF","DUMBLEYUNG","Wheatbelt",{"$f":"VLOOKUP(E941,Admin_lookup!$A$2:$B$14,2,FALSE)","v":"Regional"}]
[6353,"KUENDER","SHIRE OF","DUMBLEYUNG","Wheatbelt",{"$f":"VLOOKUP(E942,Admin_lookup!$A$2:$B$14,2,FALSE)","v":"Regional"}]
[6353,"LAKE GRACE","SHIRE OF","DUMBLEYUNG","Wheatbelt",{"$f":"VLOOKUP(E943,Admin_lookup!$A$2:$B$14,2,FALSE)","v":"Regional"}]
[6353,"MALLEE HILL","SHIRE OF","DUMBLEYUNG","Wheatbelt",{"$f":"VLOOKUP(E944,Admin_lookup!$A$2:$B$14,2,FALSE)","v":"Regional"}]
[6353,"NEENDALING","SHIRE OF","DUMBLEYUNG","Wheatbelt",{"$f":"VLOOKUP(E945,Admin_lookup!$A$2:$B$14,2,FALSE)","v":"Regional"}]
[6353,"NORTH BURNGUP","SHIRE OF","DUMBLEYUNG","Wheatbelt",{"$f":"VLOOKUP(E946,Admin_lookup!$A$2:$B$14,2,FALSE)","v":"Regional"}]
[6353,"NORTH LAKE GRACE","SHIRE OF","DUMBLEYUNG","Wheatbelt",{"$f":"VLOOKUP(E947,Admin_lookup!$A$2:$B$14,2,FALSE)","v":"Regional"}]
[6353,"SOUTH LAKE GRACE","SHIRE OF","DUMBLEYUNG","Wheatbelt",{"$f":"VLOOKUP(E948,Admin_lookup!$A$2:$B$14,2,FALSE)","v":"Regional"}]
[6353,"TARIN ROCK","SHIRE OF","DUMBLEYUNG","Wheatbelt",{"$f":"VLOOKUP(E949,Admin_lookup!$A$2:$B$14,2,FALSE)","v":"Regional"}]
[6355,"DUNN ROCK","SHIRE OF","LAKE GRACE","Wheatbelt",{"$f":"VLOOKUP(E950,Admin_lookup!$A$2:$B$14,2,FALSE)","v":"Regional"}]
[6355,"EAST NEWDEGATE","SHIRE OF","LAKE GRACE","Wheatbelt",{"$f":"VLOOKUP(E951,Admin_lookup!$A$2:$B$14,2,FALSE)","v":"Regional"}]
[6355,"HOLT ROCK","SHIRE OF","LAKE GRACE","Wheatbelt",{"$f":"VLOOKUP(E952,Admin_lookup!$A$2:$B$14,2,FALSE)","v":"Regional"}]
[6355,"LAKE BIDDY","SHIRE OF","LAKE GRACE","Wheatbelt",{"$f":"VLOOKUP(E953,Admin_lookup!$A$2:$B$14,2,FALSE)","v":"Regional"}]
[6355,"LAKE CAMM","SHIRE OF","LAKE GRACE","Wheatbelt",{"$f":"VLOOKUP(E954,Admin_lookup!$A$2:$B$14,2,FALSE)","v":"Regional"}]
[6355,"LITTLE ITALY","SHIRE OF","LAKE GRACE","Wheatbelt",{"$f":"VLOOKUP(E955,Admin_lookup!$A$2:$B$14,2,FALSE)","v":"Regional"}]
[6355,"MAGENTA","SHIRE OF","LAKE GRACE","Wheatbelt",{"$f":"VLOOKUP(E956,Admin_lookup!$A$2:$B$14,2,FALSE)","v":"Regional"}]
[6355,"MOUNT SHERIDAN","SHIRE OF","LAKE GRACE","Wheatbelt",{"$f":"VLOOKUP(E957,Admin_lookup!$A$2:$B$14,2,FALSE)","v":"Regional"}]
[6355,"NEWDEGATE","SHIRE OF","LAKE GRACE","Wheatbelt",{"$f":"VLOOKUP(E958,Admin_lookup!$A$2:$B$14,2,FALSE)","v":"Regional"}]
[6355,"SOUTH NEWDEGATE","SHIRE OF","LAKE GRACE","Wheatbelt",{"$f":"VLOOKUP(E959,Admin_lookup!$A$2:$B$14,2,FALSE)","v":"Regional"}]
[6355,"VARLEY","SHIRE OF","LAKE GRACE","Wheatbelt",{"$f":"VLOOKUP(E960,Admin_lookup!$A$2:$B$14,2,FALSE)","v":"Regional"}]
[6356,"LAKE KING","SHIRE OF","LAKE GRACE","Wheatbelt",{"$f":"VLOOKUP(E961,Admin_lookup!$A$2:$B$14,2,FALSE)","v":"Regional"}]
[6356,"MOUNT MADDEN","SHIRE OF","LAKE GRACE","Wheatbelt",{"$f":"VLOOKUP(E962,Admin_lookup!$A$2:$B$14,2,FALSE)","v":"Regional"}]
[6357,"PINGARING","SHIRE OF","KULIN","Wheatbelt",{"$f":"VLOOKUP(E963,Admin_lookup!$A$2:$B$14,2,FALSE)","v":"Regional"}]
[6358,"KARLGARIN","SHIRE OF","KONDININ","Wheatbelt",{"$f":"VLOOKUP(E964,Admin_lookup!$A$2:$B$14,2,FALSE)","v":"Regional"}]
[6359,"FORRESTANIA","SHIRE OF","KONDININ","Wheatbelt",{"$f":"VLOOKUP(E965,Admin_lookup!$A$2:$B$14,2,FALSE)","v":"Regional"}]
[6359,"HYDEN","SHIRE OF","KONDININ","Wheatbelt",{"$f":"VLOOKUP(E966,Admin_lookup!$A$2:$B$14,2,FALSE)","v":"Regional"}]
[6361,"HARRISMITH","SHIRE OF","WICKEPIN","Wheatbelt",{"$f":"VLOOKUP(E967,Admin_lookup!$A$2:$B$14,2,FALSE)","v":"Regional"}]
[6361,"TINCURRIN","SHIRE OF","WICKEPIN","Wheatbelt",{"$f":"VLOOKUP(E968,Admin_lookup!$A$2:$B$14,2,FALSE)","v":"Regional"}]
[6363,"DUDININ","SHIRE OF","KULIN","Wheatbelt",{"$f":"VLOOKUP(E969,Admin_lookup!$A$2:$B$14,2,FALSE)","v":"Regional"}]
[6363,"WALYURIN","SHIRE OF","KULIN","Wheatbelt",{"$f":"VLOOKUP(E970,Admin_lookup!$A$2:$B$14,2,FALSE)","v":"Regional"}]
[6365,"JILAKIN","SHIRE OF","KULIN","Wheatbelt",{"$f":"VLOOKUP(E971,Admin_lookup!$A$2:$B$14,2,FALSE)","v":"Regional"}]
[6365,"JITARNING","SHIRE OF","KULIN","Wheatbelt",{"$f":"VLOOKUP(E972,Admin_lookup!$A$2:$B$14,2,FALSE)","v":"Regional"}]
[6365,"KULIN","SHIRE OF","KULIN","Wheatbelt",{"$f":"VLOOKUP(E973,Admin_lookup!$A$2:$B$14,2,FALSE)","v":"Regional"}]
[6365,"KULIN WEST","SHIRE OF","KULIN","Wheatbelt",{"$f":"VLOOKUP(E974,Admin_lookup!$A$2:$B$14,2,FALSE)","v":"Regional"}]
[6367,"KONDININ","SHIRE OF","KONDININ","Wheatbelt",{"$f":"VLOOKUP(E975,Admin_lookup!$A$2:$B$14,2,FALSE)","v":"Regional"}]
[6368,"SOUTH KUMMININ","SHIRE OF","NAREMBEEN","Wheatbelt",{"$f":"VLOOKUP(E976,Admin_lookup!$A$2:$B$14,2,FALSE)","v":"Regional"}]
[6369,"MOUNT WALKER","SHIRE OF","NAREMBEEN","Wheatbelt",{"$f":"VLOOKUP(E977,Admin_lookup!$A$2:$B$14,2,FALSE)","v":"Regional"}]
[6369,"NAREMBEEN","SHIRE OF","NAREMBEEN","Wheatbelt",{"$f":"VLOOKUP(E978,Admin_lookup!$A$2:$B$14,2,FALSE)","v":"Regional"}]
[6369,"WADDERIN","SHIRE OF","NAREMBEEN","Wheatbelt",{"$f":"VLOOKUP(E979,Admin_lookup!$A$2:$B$14,2,FALSE)","v":"Regional"}]
[6369,"WEST HOLLETON","SHIRE OF","NAREMBEEN","Wheatbelt",{"$f":"VLOOKUP(E980,Admin_lookup!$A$2:$B$14,2,FALSE)","v":"Regional"}]
[6369,"WOOLOCUTTY","SHIRE OF","NAREMBEEN","Wheatbelt",{"$f":"VLOOKUP(E981,Admin_lookup!$A$2:$B$14,2,FALSE)","v":"Regional"}]
[6370,"EAST WICKEPIN","SHIRE OF","WICKEPIN","Wheatbelt",{"$f":"VLOOKUP(E982,Admin_lookup!$A$2:$B$14,2,FALSE)","v":"Regional"}]
[6370,"KIRK ROCK","SHIRE OF","WICKEPIN","Wheatbelt",{"$f":"VLOOKUP(E983,Admin_lookup!$A$2:$B$14,2,FALSE)","v":"Regional"}]
[6370,"MALYALLING","SHIRE OF","WICKEPIN","Wheatbelt",{"$f":"VLOOKUP(E984,Admin_lookup!$A$2:$B$14,2,FALSE)","v":"Regional"}]
[6370,"WICKEPIN","SHIRE OF","WICKEPIN","Wheatbelt",{"$f":"VLOOKUP(E985,Admin_lookup!$A$2:$B$14,2,FALSE)","v":"Regional"}]
[6370,"WOGOLIN","SHIRE OF","WICKEPIN","Wheatbelt",{"$f":"VLOOKUP(E986,Admin_lookup!$A$2:$B$14,2,FALSE)","v":"Regional"}]
[6372,"YEALERING","SHIRE OF","WICKEPIN","Wheatbelt",{"$f":"VLOOKUP(E987,Admin_lookup!$A$2:$B$14,2,FALSE)","v":"Regional"}]
[6373,"BULLARING","SHIRE OF","CORRIGIN","Wheatbelt",{"$f":"VLOOKUP(E988,Admin_lookup!$A$2:$B$14,2,FALSE)","v":"Regional"}]
[6375,"ADAMSVALE","SHIRE OF","CORRIGIN","Wheatbelt",{"$f":"VLOOKUP(E989,Admin_lookup!$A$2:$B$14,2,FALSE)","v":"Regional"}]
[6375,"BILBARIN","SHIRE OF","CORRIGIN","Wheatbelt",{"$f":"VLOOKUP(E990,Admin_lookup!$A$2:$B$14,2,FALSE)","v":"Regional"}]
[6375,"CORRIGIN","SHIRE OF","CORRIGIN","Wheatbelt",{"$f":"VLOOKUP(E991,Admin_lookup!$A$2:$B$14,2,FALSE)","v":"Regional"}]
[6375,"GORGE ROCK","SHIRE OF","CORRIGIN","Wheatbelt",{"$f":"VLOOKUP(E992,Admin_lookup!$A$2:$B$14,2,FALSE)","v":"Regional"}]
[6375,"KUNJIN","SHIRE OF","CORRIGIN","Wheatbelt",{"$f":"VLOOKUP(E993,Admin_lookup!$A$2:$B$14,2,FALSE)","v":"Regional"}]
[6375,"KURRENKUTTEN","SHIRE OF","CORRIGIN","Wheatbelt",{"$f":"VLOOKUP(E994,Admin_lookup!$A$2:$B$14,2,FALSE)","v":"Regional"}]
[6383,"BADJALING","SHIRE OF","QUAIRADING","Wheatbelt",{"$f":"VLOOKUP(E995,Admin_lookup!$A$2:$B$14,2,FALSE)","v":"Regional"}]
[6383,"BALKULING","SHIRE OF","QUAIRADING","Wheatbelt",{"$f":"VLOOKUP(E996,Admin_lookup!$A$2:$B$14,2,FALSE)","v":"Regional"}]
[6383,"CUBBINE","SHIRE OF","QUAIRADING","Wheatbelt",{"$f":"VLOOKUP(E997,Admin_lookup!$A$2:$B$14,2,FALSE)","v":"Regional"}]
[6383,"DANGIN","SHIRE OF","QUAIRADING","Wheatbelt",{"$f":"VLOOKUP(E998,Admin_lookup!$A$2:$B$14,2,FALSE)","v":"Regional"}]
[6383,"DOODENANNING","SHIRE OF","QUAIRADING","Wheatbelt",{"$f":"VLOOKUP(E999,Admin_lookup!$A$2:$B$14,2,FALSE)","v":"Regional"}]
[6383,"DULBELLING","SHIRE OF","QUAIRADING","Wheatbelt",{"$f":"VLOOKUP(E1000,Admin_lookup!$A$2:$B$14,2,FALSE)","v":"Regional"}]
[6383,"MOUNT STIRLING","SHIRE OF","QUAIRADING","Wheatbelt",{"$f":"VLOOKUP(E1001,Admin_lookup!$A$2:$B$14,2,FALSE)","v":"Regional"}]
[6383,"QUAIRADING","SHIRE OF","QUAIRADING","Wheatbelt",{"$f":"VLOOKUP(E1002,Admin_lookup!$A$2:$B$14,2,FALSE)","v":"Regional"}]
[6383,"SOUTH QUAIRADING","SHIRE OF","QUAIRADING","Wheatbelt",{"$f":"VLOOKUP(E1003,Admin_lookup!$A$2:$B$14,2,FALSE)","v":"Regional"}]
[6383,"WAMENUSKING","SHIRE OF","QUAIRADING","Wheatbelt",{"$f":"VLOOKUP(E1004,Admin_lookup!$A$2:$B$14,2,FALSE)","v":"Regional"}]
[6383,"YOTING","SHIRE OF","QUAIRADING","Wheatbelt",{"$f":"VLOOKUP(E1005,Admin_lookup!$A$2:$B$14,2,FALSE)","v":"Regional"}]
[6384,"PANTAPIN","SHIRE OF","QUAIRADING","Wheatbelt",{"$f":"VLOOKUP(E1006,Admin_lookup!$A$2:$B$14,2,FALSE)","v":"Regional"}]
[6385,"KWOLYIN","SHIRE OF","BRUCE ROCK","Wheatbelt",{"$f":"VLOOKUP(E1007,Admin_lookup!$A$2:$B$14,2,FALSE)","v":"Regional"}]
[6386,"SHACKLETON","SHIRE OF","BRUCE ROCK","Wheatbelt",{"$f":"VLOOKUP(E1008,Admin_lookup!$A$2:$B$14,2,FALSE)","v":"Regional"}]
[6390,"BANNISTER","SHIRE OF","Wandering","Wheatbelt",{"$f":"VLOOKUP(E1009,Admin_lookup!$A$2:$B$14,2,FALSE)","v":"Regional"}]
[6390,"BODDINGTON","SHIRE OF","BODDINGTON","Peel",{"$f":"VLOOKUP(E1010,Admin_lookup!$A$2:$B$14,2,FALSE)","v":"Regional"}]
[6390,"CROSSMAN","SHIRE OF","BODDINGTON","Peel",{"$f":"VLOOKUP(E1011,Admin_lookup!$A$2:$B$14,2,FALSE)","v":"Regional"}]
[6390,"LOWER HOTHAM","SHIRE OF","BODDINGTON","Peel",{"$f":"VLOOKUP(E1012,Admin_lookup!$A$2:$B$14,2,FALSE)","v":"Regional"}]
[6390,"MARRADONG","SHIRE OF","BODDINGTON","Peel",{"$f":"VLOOKUP(E1013,Admin_lookup!$A$2:$B$14,2,FALSE)","v":"Regional"}]
[6390,"MOUNT COOKE","SHIRE OF","BODDINGTON","Peel",{"$f":"VLOOKUP(E1014,Admin_lookup!$A$2:$B$14,2,FALSE)","v":"Regional"}]
[6390,"MOUNT WELLS","SHIRE OF","BODDINGTON","Peel",{"$f":"VLOOKUP(E1015,Admin_lookup!$A$2:$B$14,2,FALSE)","v":"Regional"}]
[6390,"NORTH BANNISTER","SHIRE OF","Wandering","Wheatbelt",{"$f":"VLOOKUP(E1016,Admin_lookup!$A$2:$B$14,2,FALSE)","v":"Regional"}]
[6390,"RANFORD","SHIRE OF","BODDINGTON","Peel",{"$f":"VLOOKUP(E1017,Admin_lookup!$A$2:$B$14,2,FALSE)","v":"Regional"}]
[6390,"UPPER MURRAY","SHIRE OF","BODDINGTON","Peel",{"$f":"VLOOKUP(E1018,Admin_lookup!$A$2:$B$14,2,FALSE)","v":"Regional"}]
[6390,"WURAMING","SHIRE OF","BODDINGTON","Peel",{"$f":"VLOOKUP(E1019,Admin_lookup!$A$2:$B$14,2,FALSE)","v":"Regional"}]
[6391,"QUINDANNING","SHIRE OF","WILLIAMS","Wheatbelt",{"$f":"VLOOKUP(E1020,Admin_lookup!$A$2:$B$14,2,FALSE)","v":"Regional"}]
[6391,"WILLIAMS","SHIRE OF","WILLIAMS","Wheatbelt",{"$f":"VLOOKUP(E1021,Admin_lookup!$A$2:$B$14,2,FALSE)","v":"Regional"}]
[6392,"BOKAL","SHIRE OF","WILLIAMS","Wheatbelt",{"$f":"VLOOKUP(E1022,Admin_lookup!$A$2:$B$14,2,FALSE)","v":"Regional"}]
[6392,"BOOLADING","SHIRE OF","WILLIAMS","Wheatbelt",{"$f":"VLOOKUP(E1023,Admin_lookup!$A$2:$B$14,2,FALSE)","v":"Regional"}]
[6392,"DARKAN","SHIRE OF","WILLIAMS","Wheatbelt",{"$f":"VLOOKUP(E1024,Admin_lookup!$A$2:$B$14,2,FALSE)","v":"Regional"}]
[6393,"CORDERING","SHIRE OF","WEST ARTHUR","Wheatbelt",{"$f":"VLOOKUP(E1025,Admin_lookup!$A$2:$B$14,2,FALSE)","v":"Regional"}]
[6393,"DURANILLIN","SHIRE OF","WEST ARTHUR","Wheatbelt",{"$f":"VLOOKUP(E1026,Admin_lookup!$A$2:$B$14,2,FALSE)","v":"Regional"}]
[6393,"MOODIARRUP","SHIRE OF","WEST ARTHUR","Wheatbelt",{"$f":"VLOOKUP(E1027,Admin_lookup!$A$2:$B$14,2,FALSE)","v":"Regional"}]
[6393,"TRIGWELL","SHIRE OF","WEST ARTHUR","Wheatbelt",{"$f":"VLOOKUP(E1028,Admin_lookup!$A$2:$B$14,2,FALSE)","v":"Regional"}]
[6394,"BEAUFORT RIVER","SHIRE OF","KOJONUP","Great Southern",{"$f":"VLOOKUP(E1029,Admin_lookup!$A$2:$B$14,2,FALSE)","v":"Regional"}]
[6394,"BOILUP","SHIRE OF","KOJONUP","Great Southern",{"$f":"VLOOKUP(E1030,Admin_lookup!$A$2:$B$14,2,FALSE)","v":"Regional"}]
[6394,"BOSCABEL","SHIRE OF","KOJONUP","Great Southern",{"$f":"VLOOKUP(E1031,Admin_lookup!$A$2:$B$14,2,FALSE)","v":"Regional"}]
[6394,"CHANGERUP","SHIRE OF","KOJONUP","Great Southern",{"$f":"VLOOKUP(E1032,Admin_lookup!$A$2:$B$14,2,FALSE)","v":"Regional"}]
[6394,"MURADUP","SHIRE OF","KOJONUP","Great Southern",{"$f":"VLOOKUP(E1033,Admin_lookup!$A$2:$B$14,2,FALSE)","v":"Regional"}]
[6394,"ORCHID VALLEY","SHIRE OF","KOJONUP","Great Southern",{"$f":"VLOOKUP(E1034,Admin_lookup!$A$2:$B$14,2,FALSE)","v":"Regional"}]
[6394,"QUALEUP","SHIRE OF","KOJONUP","Great Southern",{"$f":"VLOOKUP(E1035,Admin_lookup!$A$2:$B$14,2,FALSE)","v":"Regional"}]
[6395,"CHERRY TREE POOL","SHIRE OF","KOJONUP","Great Southern",{"$f":"VLOOKUP(E1036,Admin_lookup!$A$2:$B$14,2,FALSE)","v":"Regional"}]
[6395,"JINGALUP","SHIRE OF","KOJONUP","Great Southern",{"$f":"VLOOKUP(E1037,Admin_lookup!$A$2:$B$14,2,FALSE)","v":"Regional"}]
[6395,"KOJONUP","SHIRE OF","KOJONUP","Great Southern",{"$f":"VLOOKUP(E1038,Admin_lookup!$A$2:$B$14,2,FALSE)","v":"Regional"}]
[6395,"LUMEAH","SHIRE OF","KOJONUP","Great Southern",{"$f":"VLOOKUP(E1039,Admin_lookup!$A$2:$B$14,2,FALSE)","v":"Regional"}]
[6395,"MOBRUP","SHIRE OF","KOJONUP","Great Southern",{"$f":"VLOOKUP(E1040,Admin_lookup!$A$2:$B$14,2,FALSE)","v":"Regional"}]
[6395,"RYANSBROOK","SHIRE OF","KOJONUP","Great Southern",{"$f":"VLOOKUP(E1041,Admin_lookup!$A$2:$B$14,2,FALSE)","v":"Regional"}]
[6396,"FRANKLAND RIVER","SHIRE OF","CRANBROOK","Great Southern",{"$f":"VLOOKUP(E1042,Admin_lookup!$A$2:$B$14,2,FALSE)","v":"Regional"}]
[6397,"ROCKY GULLY","SHIRE OF","PLANTAGENET","Great Southern",{"$f":"VLOOKUP(E1043,Admin_lookup!$A$2:$B$14,2,FALSE)","v":"Regional"}]
[6398,"BROKE","SHIRE OF","MANJIMUP","South West",{"$f":"VLOOKUP(E1044,Admin_lookup!$A$2:$B$14,2,FALSE)","v":"Regional"}]
[6398,"NORTH WALPOLE","SHIRE OF","MANJIMUP","South West",{"$f":"VLOOKUP(E1045,Admin_lookup!$A$2:$B$14,2,FALSE)","v":"Regional"}]
[6398,"WALPOLE","SHIRE OF","MANJIMUP","South West",{"$f":"VLOOKUP(E1046,Admin_lookup!$A$2:$B$14,2,FALSE)","v":"Regional"}]
[6401,"BUCKLAND","SHIRE OF","GOOMALLING","Wheatbelt",{"$f":"VLOOKUP(E1047,Admin_lookup!$A$2:$B$14,2,FALSE)","v":"Regional"}]
[6401,"BURLONG","SHIRE OF","GOOMALLING","Wheatbelt",{"$f":"VLOOKUP(E1048,Admin_lookup!$A$2:$B$14,2,FALSE)","v":"Regional"}]
[6401,"CUNJARDINE","SHIRE OF","GOOMALLING","Wheatbelt",{"$f":"VLOOKUP(E1049,Admin_lookup!$A$2:$B$14,2,FALSE)","v":"Regional"}]
[6401,"IRISHTOWN","SHIRE OF","GOOMALLING","Wheatbelt",{"$f":"VLOOKUP(E1050,Admin_lookup!$A$2:$B$14,2,FALSE)","v":"Regional"}]
[6401,"JENNACUBBINE","SHIRE OF","GOOMALLING","Wheatbelt",{"$f":"VLOOKUP(E1051,Admin_lookup!$A$2:$B$14,2,FALSE)","v":"Regional"}]
[6401,"JENNAPULLIN","SHIRE OF","GOOMALLING","Wheatbelt",{"$f":"VLOOKUP(E1052,Admin_lookup!$A$2:$B$14,2,FALSE)","v":"Regional"}]
[6401,"MALABAINE","SHIRE OF","GOOMALLING","Wheatbelt",{"$f":"VLOOKUP(E1053,Admin_lookup!$A$2:$B$14,2,FALSE)","v":"Regional"}]
[6401,"MEENAAR","SHIRE OF","GOOMALLING","Wheatbelt",{"$f":"VLOOKUP(E1054,Admin_lookup!$A$2:$B$14,2,FALSE)","v":"Regional"}]
[6401,"MOKINE","SHIRE OF","GOOMALLING","Wheatbelt",{"$f":"VLOOKUP(E1055,Admin_lookup!$A$2:$B$14,2,FALSE)","v":"Regional"}]
[6401,"MULUCKINE","SHIRE OF","GOOMALLING","Wheatbelt",{"$f":"VLOOKUP(E1056,Admin_lookup!$A$2:$B$14,2,FALSE)","v":"Regional"}]
[6401,"MUMBERKINE","SHIRE OF","GOOMALLING","Wheatbelt",{"$f":"VLOOKUP(E1057,Admin_lookup!$A$2:$B$14,2,FALSE)","v":"Regional"}]
[6401,"MURESK","SHIRE OF","GOOMALLING","Wheatbelt",{"$f":"VLOOKUP(E1058,Admin_lookup!$A$2:$B$14,2,FALSE)","v":"Regional"}]
[6401,"NORTHAM","SHIRE OF","GOOMALLING","Wheatbelt",{"$f":"VLOOKUP(E1059,Admin_lookup!$A$2:$B$14,2,FALSE)","v":"Regional"}]
[6401,"ROSSMORE","SHIRE OF","GOOMALLING","Wheatbelt",{"$f":"VLOOKUP(E1060,Admin_lookup!$A$2:$B$14,2,FALSE)","v":"Regional"}]
[6401,"SOUTHERN BROOK","SHIRE OF","GOOMALLING","Wheatbelt",{"$f":"VLOOKUP(E1061,Admin_lookup!$A$2:$B$14,2,FALSE)","v":"Regional"}]
[6401,"SPENCERS BROOK","SHIRE OF","GOOMALLING","Wheatbelt",{"$f":"VLOOKUP(E1062,Admin_lookup!$A$2:$B$14,2,FALSE)","v":"Regional"}]
[6401,"THROSSELL","SHIRE OF","GOOMALLING","Wheatbelt",{"$f":"VLOOKUP(E1063,Admin_lookup!$A$2:$B$14,2,FALSE)","v":"Regional"}]
[6401,"WONGAMINE","SHIRE OF","GOOMALLING","Wheatbelt",{"$f":"VLOOKUP(E1064,Admin_lookup!$A$2:$B$14,2,FALSE)","v":"Regional"}]
[6403,"GRASS VALLEY","SHIRE OF","NORTHAM","Wheatbelt",{"$f":"VLOOKUP(E1065,Admin_lookup!$A$2:$B$14,2,FALSE)","v":"Regional"}]
[6405,"GREENWOODS VALLEY","SHIRE OF","CUNDERDIN","Wheatbelt",{"$f":"VLOOKUP(E1066,Admin_lookup!$A$2:$B$14,2,FALSE)","v":"Regional"}]
[6405,"MECKERING","SHIRE OF","CUNDERDIN","Wheatbelt",{"$f":"VLOOKUP(E1067,Admin_lookup!$A$2:$B$14,2,FALSE)","v":"Regional"}]
[6405,"QUELAGETTING","SHIRE OF","CUNDERDIN","Wheatbelt",{"$f":"VLOOKUP(E1068,Admin_lookup!$A$2:$B$14,2,FALSE)","v":"Regional"}]
[6405,"WARDING EAST","SHIRE OF","CUNDERDIN","Wheatbelt",{"$f":"VLOOKUP(E1069,Admin_lookup!$A$2:$B$14,2,FALSE)","v":"Regional"}]
[6407,"CUNDERDIN","SHIRE OF","CUNDERDIN","Wheatbelt",{"$f":"VLOOKUP(E1070,Admin_lookup!$A$2:$B$14,2,FALSE)","v":"Regional"}]
[6407,"WAEEL","SHIRE OF","CUNDERDIN","Wheatbelt",{"$f":"VLOOKUP(E1071,Admin_lookup!$A$2:$B$14,2,FALSE)","v":"Regional"}]
[6407,"WATERCARRIN","SHIRE OF","CUNDERDIN","Wheatbelt",{"$f":"VLOOKUP(E1072,Admin_lookup!$A$2:$B$14,2,FALSE)","v":"Regional"}]
[6407,"WYOLA WEST","SHIRE OF","CUNDERDIN","Wheatbelt",{"$f":"VLOOKUP(E1073,Admin_lookup!$A$2:$B$14,2,FALSE)","v":"Regional"}]
[6407,"YOUNDEGIN","SHIRE OF","CUNDERDIN","Wheatbelt",{"$f":"VLOOKUP(E1074,Admin_lookup!$A$2:$B$14,2,FALSE)","v":"Regional"}]
[6409,"NORTH TAMMIN","SHIRE OF","TAMMIN","Wheatbelt",{"$f":"VLOOKUP(E1075,Admin_lookup!$A$2:$B$14,2,FALSE)","v":"Regional"}]
[6409,"SOUTH TAMMIN","SHIRE OF","TAMMIN","Wheatbelt",{"$f":"VLOOKUP(E1076,Admin_lookup!$A$2:$B$14,2,FALSE)","v":"Regional"}]
[6409,"TAMMIN","SHIRE OF","TAMMIN","Wheatbelt",{"$f":"VLOOKUP(E1077,Admin_lookup!$A$2:$B$14,2,FALSE)","v":"Regional"}]
[6410,"DAADENNING CREEK","SHIRE OF","KELLERBERRIN","Wheatbelt",{"$f":"VLOOKUP(E1078,Admin_lookup!$A$2:$B$14,2,FALSE)","v":"Regional"}]
[6410,"KELLERBERRIN","SHIRE OF","KELLERBERRIN","Wheatbelt",{"$f":"VLOOKUP(E1079,Admin_lookup!$A$2:$B$14,2,FALSE)","v":"Regional"}]
[6410,"MOUNT CAROLINE","SHIRE OF","KELLERBERRIN","Wheatbelt",{"$f":"VLOOKUP(E1080,Admin_lookup!$A$2:$B$14,2,FALSE)","v":"Regional"}]
[6410,"NORTH KELLERBERRIN","SHIRE OF","KELLERBERRIN","Wheatbelt",{"$f":"VLOOKUP(E1081,Admin_lookup!$A$2:$B$14,2,FALSE)","v":"Regional"}]
[6411,"DOODLAKINE","SHIRE OF","KELLERBERRIN","Wheatbelt",{"$f":"VLOOKUP(E1082,Admin_lookup!$A$2:$B$14,2,FALSE)","v":"Regional"}]
[6411,"SOUTH DOODLAKINE","SHIRE OF","KELLERBERRIN","Wheatbelt",{"$f":"VLOOKUP(E1083,Admin_lookup!$A$2:$B$14,2,FALSE)","v":"Regional"}]
[6412,"BAANDEE","SHIRE OF","KELLERBERRIN","Wheatbelt",{"$f":"VLOOKUP(E1084,Admin_lookup!$A$2:$B$14,2,FALSE)","v":"Regional"}]
[6412,"NORTH BAANDEE","SHIRE OF","KELLERBERRIN","Wheatbelt",{"$f":"VLOOKUP(E1085,Admin_lookup!$A$2:$B$14,2,FALSE)","v":"Regional"}]
[6413,"HINES HILL","SHIRE OF","MERREDIN","Wheatbelt",{"$f":"VLOOKUP(E1086,Admin_lookup!$A$2:$B$14,2,FALSE)","v":"Regional"}]
[6414,"NANGEENAN","SHIRE OF","MERREDIN","Wheatbelt",{"$f":"VLOOKUP(E1087,Admin_lookup!$A$2:$B$14,2,FALSE)","v":"Regional"}]
[6415,"GOOMARIN","SHIRE OF","MERREDIN","Wheatbelt",{"$f":"VLOOKUP(E1088,Admin_lookup!$A$2:$B$14,2,FALSE)","v":"Regional"}]
[6415,"KORBEL","SHIRE OF","MERREDIN","Wheatbelt",{"$f":"VLOOKUP(E1089,Admin_lookup!$A$2:$B$14,2,FALSE)","v":"Regional"}]
[6415,"MERREDIN","SHIRE OF","MERREDIN","Wheatbelt",{"$f":"VLOOKUP(E1090,Admin_lookup!$A$2:$B$14,2,FALSE)","v":"Regional"}]
[6415,"NOKANING","SHIRE OF","MERREDIN","Wheatbelt",{"$f":"VLOOKUP(E1091,Admin_lookup!$A$2:$B$14,2,FALSE)","v":"Regional"}]
[6415,"NORPA","SHIRE OF","MERREDIN","Wheatbelt",{"$f":"VLOOKUP(E1092,Admin_lookup!$A$2:$B$14,2,FALSE)","v":"Regional"}]
[6415,"TANDEGIN","SHIRE OF","MERREDIN","Wheatbelt",{"$f":"VLOOKUP(E1093,Admin_lookup!$A$2:$B$14,2,FALSE)","v":"Regional"}]
[6418,"BRUCE ROCK","SHIRE OF","BRUCE ROCK","Wheatbelt",{"$f":"VLOOKUP(E1094,Admin_lookup!$A$2:$B$14,2,FALSE)","v":"Regional"}]
[6419,"ARDATH","SHIRE OF","BRUCE ROCK","Wheatbelt",{"$f":"VLOOKUP(E1095,Admin_lookup!$A$2:$B$14,2,FALSE)","v":"Regional"}]
[6420,"CRAMPHORNE","SHIRE OF","MERREDIN","Wheatbelt",{"$f":"VLOOKUP(E1096,Admin_lookup!$A$2:$B$14,2,FALSE)","v":"Regional"}]
[6420,"MUNTADGIN","SHIRE OF","MERREDIN","Wheatbelt",{"$f":"VLOOKUP(E1097,Admin_lookup!$A$2:$B$14,2,FALSE)","v":"Regional"}]
[6421,"BURRACOPPIN","SHIRE OF","WESTONIA","Wheatbelt",{"$f":"VLOOKUP(E1098,Admin_lookup!$A$2:$B$14,2,FALSE)","v":"Regional"}]
[6421,"SOUTH BURRACOPPIN","SHIRE OF","WESTONIA","Wheatbelt",{"$f":"VLOOKUP(E1099,Admin_lookup!$A$2:$B$14,2,FALSE)","v":"Regional"}]
[6421,"WARRALAKIN","SHIRE OF","WESTONIA","Wheatbelt",{"$f":"VLOOKUP(E1100,Admin_lookup!$A$2:$B$14,2,FALSE)","v":"Regional"}]
[6422,"WALGOOLAN","SHIRE OF","WESTONIA","Wheatbelt",{"$f":"VLOOKUP(E1101,Admin_lookup!$A$2:$B$14,2,FALSE)","v":"Regional"}]
[6423,"BOODAROCKIN","SHIRE OF","WESTONIA","Wheatbelt",{"$f":"VLOOKUP(E1102,Admin_lookup!$A$2:$B$14,2,FALSE)","v":"Regional"}]
[6423,"CARRABIN","SHIRE OF","WESTONIA","Wheatbelt",{"$f":"VLOOKUP(E1103,Admin_lookup!$A$2:$B$14,2,FALSE)","v":"Regional"}]
[6423,"WARRACHUPPIN","SHIRE OF","WESTONIA","Wheatbelt",{"$f":"VLOOKUP(E1104,Admin_lookup!$A$2:$B$14,2,FALSE)","v":"Regional"}]
[6423,"WESTONIA","SHIRE OF","WESTONIA","Wheatbelt",{"$f":"VLOOKUP(E1105,Admin_lookup!$A$2:$B$14,2,FALSE)","v":"Regional"}]
[6424,"BODALLIN","SHIRE OF","YILGARN","Wheatbelt",{"$f":"VLOOKUP(E1106,Admin_lookup!$A$2:$B$14,2,FALSE)","v":"Regional"}]
[6424,"NORTH BODALLIN","SHIRE OF","YILGARN","Wheatbelt",{"$f":"VLOOKUP(E1107,Admin_lookup!$A$2:$B$14,2,FALSE)","v":"Regional"}]
[6424,"SOUTH BODALLIN","SHIRE OF","YILGARN","Wheatbelt",{"$f":"VLOOKUP(E1108,Admin_lookup!$A$2:$B$14,2,FALSE)","v":"Regional"}]
[6425,"DULYALBIN","SHIRE OF","YILGARN","Wheatbelt",{"$f":"VLOOKUP(E1109,Admin_lookup!$A$2:$B$14,2,FALSE)","v":"Regional"}]
[6425,"MOORINE ROCK","SHIRE OF","YILGARN","Wheatbelt",{"$f":"VLOOKUP(E1110,Admin_lookup!$A$2:$B$14,2,FALSE)","v":"Regional"}]
[6426,"CORINTHIA","SHIRE OF","YILGARN","Wheatbelt",{"$f":"VLOOKUP(E1111,Admin_lookup!$A$2:$B$14,2,FALSE)","v":"Regional"}]
[6426,"GHOOLI","SHIRE OF","YILGARN","Wheatbelt",{"$f":"VLOOKUP(E1112,Admin_lookup!$A$2:$B$14,2,FALSE)","v":"Regional"}]
[6426,"HOLLETON","SHIRE OF","YILGARN","Wheatbelt",{"$f":"VLOOKUP(E1113,Admin_lookup!$A$2:$B$14,2,FALSE)","v":"Regional"}]
[6426,"MARVEL LOCH","SHIRE OF","YILGARN","Wheatbelt",{"$f":"VLOOKUP(E1114,Admin_lookup!$A$2:$B$14,2,FALSE)","v":"Regional"}]
[6426,"MOUNT HAMPTON","SHIRE OF","YILGARN","Wheatbelt",{"$f":"VLOOKUP(E1115,Admin_lookup!$A$2:$B$14,2,FALSE)","v":"Regional"}]
[6426,"MOUNT HOLLAND","SHIRE OF","YILGARN","Wheatbelt",{"$f":"VLOOKUP(E1116,Admin_lookup!$A$2:$B$14,2,FALSE)","v":"Regional"}]
[6426,"MOUNT JACKSON","SHIRE OF","YILGARN","Wheatbelt",{"$f":"VLOOKUP(E1117,Admin_lookup!$A$2:$B$14,2,FALSE)","v":"Regional"}]
[6426,"MOUNT PALMER","SHIRE OF","YILGARN","Wheatbelt",{"$f":"VLOOKUP(E1118,Admin_lookup!$A$2:$B$14,2,FALSE)","v":"Regional"}]
[6426,"PARKER RANGE","SHIRE OF","YILGARN","Wheatbelt",{"$f":"VLOOKUP(E1119,Admin_lookup!$A$2:$B$14,2,FALSE)","v":"Regional"}]
[6426,"SKELETON ROCK","SHIRE OF","YILGARN","Wheatbelt",{"$f":"VLOOKUP(E1120,Admin_lookup!$A$2:$B$14,2,FALSE)","v":"Regional"}]
[6426,"SOUTH YILGARN","SHIRE OF","YILGARN","Wheatbelt",{"$f":"VLOOKUP(E1121,Admin_lookup!$A$2:$B$14,2,FALSE)","v":"Regional"}]
[6426,"SOUTHERN CROSS","SHIRE OF","YILGARN","Wheatbelt",{"$f":"VLOOKUP(E1122,Admin_lookup!$A$2:$B$14,2,FALSE)","v":"Regional"}]
[6426,"TURKEY HILL","SHIRE OF","YILGARN","Wheatbelt",{"$f":"VLOOKUP(E1123,Admin_lookup!$A$2:$B$14,2,FALSE)","v":"Regional"}]
[6426,"YELLOWDINE","SHIRE OF","YILGARN","Wheatbelt",{"$f":"VLOOKUP(E1124,Admin_lookup!$A$2:$B$14,2,FALSE)","v":"Regional"}]
[6427,"KOOLYANOBBING","SHIRE OF","YILGARN","Wheatbelt",{"$f":"VLOOKUP(E1125,Admin_lookup!$A$2:$B$14,2,FALSE)","v":"Regional"}]
[6428,"BABAKIN","SHIRE OF","BRUCE ROCK","Wheatbelt",{"$f":"VLOOKUP(E1126,Admin_lookup!$A$2:$B$14,2,FALSE)","v":"Regional"}]
[6429,"BOORABBIN","SHIRE OF","COOLGARDIE","Goldfields-Esperance",{"$f":"VLOOKUP(E1127,Admin_lookup!$A$2:$B$14,2,FALSE)","v":"Regional"}]
[6429,"BULLABULLING","SHIRE OF","COOLGARDIE","Goldfields-Esperance",{"$f":"VLOOKUP(E1128,Admin_lookup!$A$2:$B$14,2,FALSE)","v":"Regional"}]
[6429,"COOLGARDIE","SHIRE OF","COOLGARDIE","Goldfields-Esperance",{"$f":"VLOOKUP(E1129,Admin_lookup!$A$2:$B$14,2,FALSE)","v":"Regional"}]
[6429,"KARRAMINDIE","SHIRE OF","COOLGARDIE","Goldfields-Esperance",{"$f":"VLOOKUP(E1130,Admin_lookup!$A$2:$B$14,2,FALSE)","v":"Regional"}]
[6429,"LONDONDERRY","SHIRE OF","COOLGARDIE","Goldfields-Esperance",{"$f":"VLOOKUP(E1131,Admin_lookup!$A$2:$B$14,2,FALSE)","v":"Regional"}]
[6429,"MOUNT BURGES","SHIRE OF","COOLGARDIE","Goldfields-Esperance",{"$f":"VLOOKUP(E1132,Admin_lookup!$A$2:$B$14,2,FALSE)","v":"Regional"}]
[6429,"VICTORIA ROCK","SHIRE OF","COOLGARDIE","Goldfields-Esperance",{"$f":"VLOOKUP(E1133,Admin_lookup!$A$2:$B$14,2,FALSE)","v":"Regional"}]
[6429,"WALLAROO","SHIRE OF","COOLGARDIE","Goldfields-Esperance",{"$f":"VLOOKUP(E1134,Admin_lookup!$A$2:$B$14,2,FALSE)","v":"Regional"}]
[6430,"BINDULI","CITY OF","KALGOORLIE-BOULDER","Goldfields-Esperance",{"$f":"VLOOKUP(E1135,Admin_lookup!$A$2:$B$14,2,FALSE)","v":"Regional"}]
[6430,"BROADWOOD","CITY OF","KALGOORLIE-BOULDER","Goldfields-Esperance",{"$f":"VLOOKUP(E1136,Admin_lookup!$A$2:$B$14,2,FALSE)","v":"Regional"}]
[6430,"HANNANS","CITY OF","KALGOORLIE-BOULDER","Goldfields-Esperance",{"$f":"VLOOKUP(E1137,Admin_lookup!$A$2:$B$14,2,FALSE)","v":"Regional"}]
[6430,"KALGOORLIE","CITY OF","KALGOORLIE-BOULDER","Goldfields-Esperance",{"$f":"VLOOKUP(E1138,Admin_lookup!$A$2:$B$14,2,FALSE)","v":"Regional"}]
[6430,"KARLKURLA","CITY OF","KALGOORLIE-BOULDER","Goldfields-Esperance",{"$f":"VLOOKUP(E1139,Admin_lookup!$A$2:$B$14,2,FALSE)","v":"Regional"}]
[6430,"LAMINGTON","CITY OF","KALGOORLIE-BOULDER","Goldfields-Esperance",{"$f":"VLOOKUP(E1140,Admin_lookup!$A$2:$B$14,2,FALSE)","v":"Regional"}]
[6430,"MULLINGAR","CITY OF","KALGOORLIE-BOULDER","Goldfields-Esperance",{"$f":"VLOOKUP(E1141,Admin_lookup!$A$2:$B$14,2,FALSE)","v":"Regional"}]
[6430,"PICCADILLY","CITY OF","KALGOORLIE-BOULDER","Goldfields-Esperance",{"$f":"VLOOKUP(E1142,Admin_lookup!$A$2:$B$14,2,FALSE)","v":"Regional"}]
[6430,"SOMERVILLE","CITY OF","KALGOORLIE-BOULDER","Goldfields-Esperance",{"$f":"VLOOKUP(E1143,Admin_lookup!$A$2:$B$14,2,FALSE)","v":"Regional"}]
[6430,"SOUTH KALGOORLIE","CITY OF","KALGOORLIE-BOULDER","Goldfields-Esperance",{"$f":"VLOOKUP(E1144,Admin_lookup!$A$2:$B$14,2,FALSE)","v":"Regional"}]
[6430,"WEST KALGOORLIE","CITY OF","KALGOORLIE-BOULDER","Goldfields-Esperance",{"$f":"VLOOKUP(E1145,Admin_lookup!$A$2:$B$14,2,FALSE)","v":"Regional"}]
[6430,"WEST LAMINGTON","CITY OF","KALGOORLIE-BOULDER","Goldfields-Esperance",{"$f":"VLOOKUP(E1146,Admin_lookup!$A$2:$B$14,2,FALSE)","v":"Regional"}]
[6430,"WILLIAMSTOWN","CITY OF","KALGOORLIE-BOULDER","Goldfields-Esperance",{"$f":"VLOOKUP(E1147,Admin_lookup!$A$2:$B$14,2,FALSE)","v":"Regional"}]
[6430,"YILKARI","CITY OF","KALGOORLIE-BOULDER","Goldfields-Esperance",{"$f":"VLOOKUP(E1148,Admin_lookup!$A$2:$B$14,2,FALSE)","v":"Regional"}]
[6431,"BOORARA","SHIRE OF","NGAANYATJARRAKU","Goldfields-Esperance",{"$f":"VLOOKUP(E1149,Admin_lookup!$A$2:$B$14,2,FALSE)","v":"Regional"}]
[6431,"BROWN HILL","SHIRE OF","NGAANYATJARRAKU","Goldfields-Esperance",{"$f":"VLOOKUP(E1150,Admin_lookup!$A$2:$B$14,2,FALSE)","v":"Regional"}]
[6431,"BULONG","SHIRE OF","NGAANYATJARRAKU","Goldfields-Esperance",{"$f":"VLOOKUP(E1151,Admin_lookup!$A$2:$B$14,2,FALSE)","v":"Regional"}]
[6431,"EMU FLAT","SHIRE OF","NGAANYATJARRAKU","Goldfields-Esperance",{"$f":"VLOOKUP(E1152,Admin_lookup!$A$2:$B$14,2,FALSE)","v":"Regional"}]
[6431,"FEYSVILLE","SHIRE OF","NGAANYATJARRAKU","Goldfields-Esperance",{"$f":"VLOOKUP(E1153,Admin_lookup!$A$2:$B$14,2,FALSE)","v":"Regional"}]
[6431,"KANOWNA","SHIRE OF","NGAANYATJARRAKU","Goldfields-Esperance",{"$f":"VLOOKUP(E1154,Admin_lookup!$A$2:$B$14,2,FALSE)","v":"Regional"}]
[6431,"KOOKYNIE","SHIRE OF","NGAANYATJARRAKU","Goldfields-Esperance",{"$f":"VLOOKUP(E1155,Admin_lookup!$A$2:$B$14,2,FALSE)","v":"Regional"}]
[6431,"KURNALPI","SHIRE OF","NGAANYATJARRAKU","Goldfields-Esperance",{"$f":"VLOOKUP(E1156,Admin_lookup!$A$2:$B$14,2,FALSE)","v":"Regional"}]
[6431,"LAKEWOOD","SHIRE OF","NGAANYATJARRAKU","Goldfields-Esperance",{"$f":"VLOOKUP(E1157,Admin_lookup!$A$2:$B$14,2,FALSE)","v":"Regional"}]
[6431,"ORA BANDA","SHIRE OF","NGAANYATJARRAKU","Goldfields-Esperance",{"$f":"VLOOKUP(E1158,Admin_lookup!$A$2:$B$14,2,FALSE)","v":"Regional"}]
[6431,"PLUMRIDGE LAKES","SHIRE OF","NGAANYATJARRAKU","Goldfields-Esperance",{"$f":"VLOOKUP(E1159,Admin_lookup!$A$2:$B$14,2,FALSE)","v":"Regional"}]
[6431,"TRAFALGAR","SHIRE OF","NGAANYATJARRAKU","Goldfields-Esperance",{"$f":"VLOOKUP(E1160,Admin_lookup!$A$2:$B$14,2,FALSE)","v":"Regional"}]
[6431,"WARBURTON","SHIRE OF","NGAANYATJARRAKU","Goldfields-Esperance",{"$f":"VLOOKUP(E1161,Admin_lookup!$A$2:$B$14,2,FALSE)","v":"Regional"}]
[6432,"BOULDER","CITY OF","KALGOORLIE-BOULDER","Goldfields-Esperance",{"$f":"VLOOKUP(E1162,Admin_lookup!$A$2:$B$14,2,FALSE)","v":"Regional"}]
[6432,"FIMISTON","CITY OF","KALGOORLIE-BOULDER","Goldfields-Esperance",{"$f":"VLOOKUP(E1163,Admin_lookup!$A$2:$B$14,2,FALSE)","v":"Regional"}]
[6432,"SOUTH BOULDER","CITY OF","KALGOORLIE-BOULDER","Goldfields-Esperance",{"$f":"VLOOKUP(E1164,Admin_lookup!$A$2:$B$14,2,FALSE)","v":"Regional"}]
[6432,"VICTORY HEIGHTS","CITY OF","KALGOORLIE-BOULDER","Goldfields-Esperance",{"$f":"VLOOKUP(E1165,Admin_lookup!$A$2:$B$14,2,FALSE)","v":"Regional"}]
[6433,"HANNANS PO BOXES 8001-8300","CITY OF","KALGOORLIE-BOULDER","Goldfields-Esperance",{"$f":"VLOOKUP(E1166,Admin_lookup!$A$2:$B$14,2,FALSE)","v":"Regional"}]
[6433,"KALGOORLIE PO BOXES 1-1671 & 4000-5550","CITY OF","KALGOORLIE-BOULDER","Goldfields-Esperance",{"$f":"VLOOKUP(E1167,Admin_lookup!$A$2:$B$14,2,FALSE)","v":"Regional"}]
[6434,"CUNDEELEE","CITY OF","KALGOORLIE-BOULDER","Goldfields-Esperance",{"$f":"VLOOKUP(E1168,Admin_lookup!$A$2:$B$14,2,FALSE)","v":"Regional"}]
[6434,"FORREST","CITY OF","KALGOORLIE-BOULDER","Goldfields-Esperance",{"$f":"VLOOKUP(E1169,Admin_lookup!$A$2:$B$14,2,FALSE)","v":"Regional"}]
[6434,"PARKESTON","CITY OF","KALGOORLIE-BOULDER","Goldfields-Esperance",{"$f":"VLOOKUP(E1170,Admin_lookup!$A$2:$B$14,2,FALSE)","v":"Regional"}]
[6434,"RAWLINNA","CITY OF","KALGOORLIE-BOULDER","Goldfields-Esperance",{"$f":"VLOOKUP(E1171,Admin_lookup!$A$2:$B$14,2,FALSE)","v":"Regional"}]
[6434,"ZANTHUS","CITY OF","KALGOORLIE-BOULDER","Goldfields-Esperance",{"$f":"VLOOKUP(E1172,Admin_lookup!$A$2:$B$14,2,FALSE)","v":"Regional"}]
[6436,"MENZIES","SHIRE OF","MENZIES","Goldfields-Esperance",{"$f":"VLOOKUP(E1173,Admin_lookup!$A$2:$B$14,2,FALSE)","v":"Regional"}]
[6436,"ULARRING","SHIRE OF","MENZIES","Goldfields-Esperance",{"$f":"VLOOKUP(E1174,Admin_lookup!$A$2:$B$14,2,FALSE)","v":"Regional"}]
[6437,"LEINSTER","SHIRE OF","LEONORA","Goldfields-Esperance",{"$f":"VLOOKUP(E1175,Admin_lookup!$A$2:$B$14,2,FALSE)","v":"Regional"}]
[6437,"SIR SAMUEL","SHIRE OF","LEONORA","Goldfields-Esperance",{"$f":"VLOOKUP(E1176,Admin_lookup!$A$2:$B$14,2,FALSE)","v":"Regional"}]
[6438,"LAKE DARLOT","SHIRE OF","LEONORA","Goldfields-Esperance",{"$f":"VLOOKUP(E1177,Admin_lookup!$A$2:$B$14,2,FALSE)","v":"Regional"}]
[6438,"LEONORA","SHIRE OF","LEONORA","Goldfields-Esperance",{"$f":"VLOOKUP(E1178,Admin_lookup!$A$2:$B$14,2,FALSE)","v":"Regional"}]
[6440,"BANDYA","SHIRE OF","LAVERTON","Goldfields-Esperance",{"$f":"VLOOKUP(E1179,Admin_lookup!$A$2:$B$14,2,FALSE)","v":"Regional"}]
[6440,"BEADELL","SHIRE OF","LAVERTON","Goldfields-Esperance",{"$f":"VLOOKUP(E1180,Admin_lookup!$A$2:$B$14,2,FALSE)","v":"Regional"}]
[6440,"COSMO NEWBERY","SHIRE OF","LAVERTON","Goldfields-Esperance",{"$f":"VLOOKUP(E1181,Admin_lookup!$A$2:$B$14,2,FALSE)","v":"Regional"}]
[6440,"LAKE WELLS","SHIRE OF","LAVERTON","Goldfields-Esperance",{"$f":"VLOOKUP(E1182,Admin_lookup!$A$2:$B$14,2,FALSE)","v":"Regional"}]
[6440,"LAVERTON","SHIRE OF","LAVERTON","Goldfields-Esperance",{"$f":"VLOOKUP(E1183,Admin_lookup!$A$2:$B$14,2,FALSE)","v":"Regional"}]
[6440,"NEALE","SHIRE OF","LAVERTON","Goldfields-Esperance",{"$f":"VLOOKUP(E1184,Admin_lookup!$A$2:$B$14,2,FALSE)","v":"Regional"}]
[6442,"KAMBALDA EAST","SHIRE OF","COOLGARDIE","Goldfields-Esperance",{"$f":"VLOOKUP(E1185,Admin_lookup!$A$2:$B$14,2,FALSE)","v":"Regional"}]
[6442,"KAMBALDA WEST","SHIRE OF","COOLGARDIE","Goldfields-Esperance",{"$f":"VLOOKUP(E1186,Admin_lookup!$A$2:$B$14,2,FALSE)","v":"Regional"}]
[6443,"BALLADONIA","SHIRE OF","COOLGARDIE","Goldfields-Esperance",{"$f":"VLOOKUP(E1187,Admin_lookup!$A$2:$B$14,2,FALSE)","v":"Regional"}]
[6443,"CAIGUNA","SHIRE OF","COOLGARDIE","Goldfields-Esperance",{"$f":"VLOOKUP(E1188,Admin_lookup!$A$2:$B$14,2,FALSE)","v":"Regional"}]
[6443,"COCKLEBIDDY","SHIRE OF","COOLGARDIE","Goldfields-Esperance",{"$f":"VLOOKUP(E1189,Admin_lookup!$A$2:$B$14,2,FALSE)","v":"Regional"}]
[6443,"DUNDAS","SHIRE OF","COOLGARDIE","Goldfields-Esperance",{"$f":"VLOOKUP(E1190,Admin_lookup!$A$2:$B$14,2,FALSE)","v":"Regional"}]
[6443,"EUCLA","SHIRE OF","COOLGARDIE","Goldfields-Esperance",{"$f":"VLOOKUP(E1191,Admin_lookup!$A$2:$B$14,2,FALSE)","v":"Regional"}]
[6443,"FRASER RANGE","SHIRE OF","COOLGARDIE","Goldfields-Esperance",{"$f":"VLOOKUP(E1192,Admin_lookup!$A$2:$B$14,2,FALSE)","v":"Regional"}]
[6443,"HIGGINSVILLE","SHIRE OF","COOLGARDIE","Goldfields-Esperance",{"$f":"VLOOKUP(E1193,Admin_lookup!$A$2:$B$14,2,FALSE)","v":"Regional"}]
[6443,"MADURA","SHIRE OF","COOLGARDIE","Goldfields-Esperance",{"$f":"VLOOKUP(E1194,Admin_lookup!$A$2:$B$14,2,FALSE)","v":"Regional"}]
[6443,"MUNDRABILLA","SHIRE OF","COOLGARDIE","Goldfields-Esperance",{"$f":"VLOOKUP(E1195,Admin_lookup!$A$2:$B$14,2,FALSE)","v":"Regional"}]
[6443,"NORSEMAN","SHIRE OF","COOLGARDIE","Goldfields-Esperance",{"$f":"VLOOKUP(E1196,Admin_lookup!$A$2:$B$14,2,FALSE)","v":"Regional"}]
[6443,"WIDGIEMOOLTHA","SHIRE OF","COOLGARDIE","Goldfields-Esperance",{"$f":"VLOOKUP(E1197,Admin_lookup!$A$2:$B$14,2,FALSE)","v":"Regional"}]
[6445,"NORTH CASCADE","SHIRE OF","ESPERANCE","Goldfields-Esperance",{"$f":"VLOOKUP(E1198,Admin_lookup!$A$2:$B$14,2,FALSE)","v":"Regional"}]
[6445,"SALMON GUMS","SHIRE OF","ESPERANCE","Goldfields-Esperance",{"$f":"VLOOKUP(E1199,Admin_lookup!$A$2:$B$14,2,FALSE)","v":"Regional"}]
[6446,"GRASS PATCH","SHIRE OF","ESPERANCE","Goldfields-Esperance",{"$f":"VLOOKUP(E1200,Admin_lookup!$A$2:$B$14,2,FALSE)","v":"Regional"}]
[6447,"LORT RIVER","SHIRE OF","ESPERANCE","Goldfields-Esperance",{"$f":"VLOOKUP(E1201,Admin_lookup!$A$2:$B$14,2,FALSE)","v":"Regional"}]
[6447,"MOUNT NEY","SHIRE OF","ESPERANCE","Goldfields-Esperance",{"$f":"VLOOKUP(E1202,Admin_lookup!$A$2:$B$14,2,FALSE)","v":"Regional"}]
[6447,"SCADDAN","SHIRE OF","ESPERANCE","Goldfields-Esperance",{"$f":"VLOOKUP(E1203,Admin_lookup!$A$2:$B$14,2,FALSE)","v":"Regional"}]
[6447,"WITTENOOM HILLS","SHIRE OF","ESPERANCE","Goldfields-Esperance",{"$f":"VLOOKUP(E1204,Admin_lookup!$A$2:$B$14,2,FALSE)","v":"Regional"}]
[6448,"GIBSON","SHIRE OF","ESPERANCE","Goldfields-Esperance",{"$f":"VLOOKUP(E1205,Admin_lookup!$A$2:$B$14,2,FALSE)","v":"Regional"}]
[6450,"BANDY CREEK","SHIRE OF","ESPERANCE","Goldfields-Esperance",{"$f":"VLOOKUP(E1206,Admin_lookup!$A$2:$B$14,2,FALSE)","v":"Regional"}]
[6450,"BEAUMONT","SHIRE OF","ESPERANCE","Goldfields-Esperance",{"$f":"VLOOKUP(E1207,Admin_lookup!$A$2:$B$14,2,FALSE)","v":"Regional"}]
[6450,"BOYATUP","SHIRE OF","ESPERANCE","Goldfields-Esperance",{"$f":"VLOOKUP(E1208,Admin_lookup!$A$2:$B$14,2,FALSE)","v":"Regional"}]
[6450,"CAPE LE GRAND","SHIRE OF","ESPERANCE","Goldfields-Esperance",{"$f":"VLOOKUP(E1209,Admin_lookup!$A$2:$B$14,2,FALSE)","v":"Regional"}]
[6450,"CASCADE","SHIRE OF","ESPERANCE","Goldfields-Esperance",{"$f":"VLOOKUP(E1210,Admin_lookup!$A$2:$B$14,2,FALSE)","v":"Regional"}]
[6450,"CASTLETOWN","SHIRE OF","ESPERANCE","Goldfields-Esperance",{"$f":"VLOOKUP(E1211,Admin_lookup!$A$2:$B$14,2,FALSE)","v":"Regional"}]
[6450,"CHADWICK","SHIRE OF","ESPERANCE","Goldfields-Esperance",{"$f":"VLOOKUP(E1212,Admin_lookup!$A$2:$B$14,2,FALSE)","v":"Regional"}]
[6450,"CONDINGUP","SHIRE OF","ESPERANCE","Goldfields-Esperance",{"$f":"VLOOKUP(E1213,Admin_lookup!$A$2:$B$14,2,FALSE)","v":"Regional"}]
[6450,"COOMALBIDGUP","SHIRE OF","ESPERANCE","Goldfields-Esperance",{"$f":"VLOOKUP(E1214,Admin_lookup!$A$2:$B$14,2,FALSE)","v":"Regional"}]
[6450,"DALYUP","SHIRE OF","ESPERANCE","Goldfields-Esperance",{"$f":"VLOOKUP(E1215,Admin_lookup!$A$2:$B$14,2,FALSE)","v":"Regional"}]
[6450,"EAST MUNGLINUP","SHIRE OF","ESPERANCE","Goldfields-Esperance",{"$f":"VLOOKUP(E1216,Admin_lookup!$A$2:$B$14,2,FALSE)","v":"Regional"}]
[6450,"ESPERANCE","SHIRE OF","ESPERANCE","Goldfields-Esperance",{"$f":"VLOOKUP(E1217,Admin_lookup!$A$2:$B$14,2,FALSE)","v":"Regional"}]
[6450,"HOWICK","SHIRE OF","ESPERANCE","Goldfields-Esperance",{"$f":"VLOOKUP(E1218,Admin_lookup!$A$2:$B$14,2,FALSE)","v":"Regional"}]
[6450,"MERIVALE","SHIRE OF","ESPERANCE","Goldfields-Esperance",{"$f":"VLOOKUP(E1219,Admin_lookup!$A$2:$B$14,2,FALSE)","v":"Regional"}]
[6450,"MONJINGUP","SHIRE OF","ESPERANCE","Goldfields-Esperance",{"$f":"VLOOKUP(E1220,Admin_lookup!$A$2:$B$14,2,FALSE)","v":"Regional"}]
[6450,"MUNGLINUP","SHIRE OF","ESPERANCE","Goldfields-Esperance",{"$f":"VLOOKUP(E1221,Admin_lookup!$A$2:$B$14,2,FALSE)","v":"Regional"}]
[6450,"MYRUP","SHIRE OF","ESPERANCE","Goldfields-Esperance",{"$f":"VLOOKUP(E1222,Admin_lookup!$A$2:$B$14,2,FALSE)","v":"Regional"}]
[6450,"NERIDUP","SHIRE OF","ESPERANCE","Goldfields-Esperance",{"$f":"VLOOKUP(E1223,Admin_lookup!$A$2:$B$14,2,FALSE)","v":"Regional"}]
[6450,"NULSEN","SHIRE OF","ESPERANCE","Goldfields-Esperance",{"$f":"VLOOKUP(E1224,Admin_lookup!$A$2:$B$14,2,FALSE)","v":"Regional"}]
[6450,"PINK LAKE","SHIRE OF","ESPERANCE","Goldfields-Esperance",{"$f":"VLOOKUP(E1225,Admin_lookup!$A$2:$B$14,2,FALSE)","v":"Regional"}]
[6450,"SINCLAIR","SHIRE OF","ESPERANCE","Goldfields-Esperance",{"$f":"VLOOKUP(E1226,Admin_lookup!$A$2:$B$14,2,FALSE)","v":"Regional"}]
[6450,"WEST BEACH","SHIRE OF","ESPERANCE","Goldfields-Esperance",{"$f":"VLOOKUP(E1227,Admin_lookup!$A$2:$B$14,2,FALSE)","v":"Regional"}]
[6450,"WINDABOUT","SHIRE OF","ESPERANCE","Goldfields-Esperance",{"$f":"VLOOKUP(E1228,Admin_lookup!$A$2:$B$14,2,FALSE)","v":"Regional"}]
[6452,"BURAMINYA","SHIRE OF","ESPERANCE","Goldfields-Esperance",{"$f":"VLOOKUP(E1229,Admin_lookup!$A$2:$B$14,2,FALSE)","v":"Regional"}]
[6452,"CAPE ARID","SHIRE OF","ESPERANCE","Goldfields-Esperance",{"$f":"VLOOKUP(E1230,Admin_lookup!$A$2:$B$14,2,FALSE)","v":"Regional"}]
[6452,"ISRAELITE BAY","SHIRE OF","ESPERANCE","Goldfields-Esperance",{"$f":"VLOOKUP(E1231,Admin_lookup!$A$2:$B$14,2,FALSE)","v":"Regional"}]
[6460,"GOOMALLING","SHIRE OF","GOOMALLING","Wheatbelt",{"$f":"VLOOKUP(E1232,Admin_lookup!$A$2:$B$14,2,FALSE)","v":"Regional"}]
[6460,"HULONGINE","SHIRE OF","GOOMALLING","Wheatbelt",{"$f":"VLOOKUP(E1233,Admin_lookup!$A$2:$B$14,2,FALSE)","v":"Regional"}]
[6460,"KARRANADGIN","SHIRE OF","GOOMALLING","Wheatbelt",{"$f":"VLOOKUP(E1234,Admin_lookup!$A$2:$B$14,2,FALSE)","v":"Regional"}]
[6460,"UCARTY WEST","SHIRE OF","GOOMALLING","Wheatbelt",{"$f":"VLOOKUP(E1235,Admin_lookup!$A$2:$B$14,2,FALSE)","v":"Regional"}]
[6460,"WALYORMOURING","SHIRE OF","GOOMALLING","Wheatbelt",{"$f":"VLOOKUP(E1236,Admin_lookup!$A$2:$B$14,2,FALSE)","v":"Regional"}]
[6461,"DOWERIN","SHIRE OF","DOWERIN","Wheatbelt",{"$f":"VLOOKUP(E1237,Admin_lookup!$A$2:$B$14,2,FALSE)","v":"Regional"}]
[6461,"KOOMBERKINE","SHIRE OF","DOWERIN","Wheatbelt",{"$f":"VLOOKUP(E1238,Admin_lookup!$A$2:$B$14,2,FALSE)","v":"Regional"}]
[6462,"HINDMARSH","SHIRE OF","DOWERIN","Wheatbelt",{"$f":"VLOOKUP(E1239,Admin_lookup!$A$2:$B$14,2,FALSE)","v":"Regional"}]
[6462,"MINNIVALE","SHIRE OF","DOWERIN","Wheatbelt",{"$f":"VLOOKUP(E1240,Admin_lookup!$A$2:$B$14,2,FALSE)","v":"Regional"}]
[6462,"UCARTY","SHIRE OF","DOWERIN","Wheatbelt",{"$f":"VLOOKUP(E1241,Admin_lookup!$A$2:$B$14,2,FALSE)","v":"Regional"}]
[6463,"BENJABERRING","SHIRE OF","WYALKATCHEM","Wheatbelt",{"$f":"VLOOKUP(E1242,Admin_lookup!$A$2:$B$14,2,FALSE)","v":"Regional"}]
[6465,"MANMANNING","SHIRE OF","DOWERIN","Wheatbelt",{"$f":"VLOOKUP(E1243,Admin_lookup!$A$2:$B$14,2,FALSE)","v":"Regional"}]
[6466,"CADOUX","SHIRE OF","WONGAN-BALLIDU","Wheatbelt",{"$f":"VLOOKUP(E1244,Admin_lookup!$A$2:$B$14,2,FALSE)","v":"Regional"}]
[6467,"BURAKIN","SHIRE OF","WONGAN-BALLIDU","Wheatbelt",{"$f":"VLOOKUP(E1245,Admin_lookup!$A$2:$B$14,2,FALSE)","v":"Regional"}]
[6468,"GOODLANDS","SHIRE OF","DALWALLINU","Wheatbelt",{"$f":"VLOOKUP(E1246,Admin_lookup!$A$2:$B$14,2,FALSE)","v":"Regional"}]
[6468,"KALANNIE","SHIRE OF","DALWALLINU","Wheatbelt",{"$f":"VLOOKUP(E1247,Admin_lookup!$A$2:$B$14,2,FALSE)","v":"Regional"}]
[6468,"PETRUDOR","SHIRE OF","DALWALLINU","Wheatbelt",{"$f":"VLOOKUP(E1248,Admin_lookup!$A$2:$B$14,2,FALSE)","v":"Regional"}]
[6470,"KULJA","SHIRE OF","KOORDA","Wheatbelt",{"$f":"VLOOKUP(E1249,Admin_lookup!$A$2:$B$14,2,FALSE)","v":"Regional"}]
[6472,"BEACON","SHIRE OF","MOUNT MARSHALL","Wheatbelt",{"$f":"VLOOKUP(E1250,Admin_lookup!$A$2:$B$14,2,FALSE)","v":"Regional"}]
[6472,"BIMBIJY","SHIRE OF","MOUNT MARSHALL","Wheatbelt",{"$f":"VLOOKUP(E1251,Admin_lookup!$A$2:$B$14,2,FALSE)","v":"Regional"}]
[6472,"CLEARY","SHIRE OF","MOUNT MARSHALL","Wheatbelt",{"$f":"VLOOKUP(E1252,Admin_lookup!$A$2:$B$14,2,FALSE)","v":"Regional"}]
[6472,"KARROUN HILL","SHIRE OF","MOUNT MARSHALL","Wheatbelt",{"$f":"VLOOKUP(E1253,Admin_lookup!$A$2:$B$14,2,FALSE)","v":"Regional"}]
[6472,"MOUROUBRA","SHIRE OF","MOUNT MARSHALL","Wheatbelt",{"$f":"VLOOKUP(E1254,Admin_lookup!$A$2:$B$14,2,FALSE)","v":"Regional"}]
[6472,"REMLAP","SHIRE OF","MOUNT MARSHALL","Wheatbelt",{"$f":"VLOOKUP(E1255,Admin_lookup!$A$2:$B$14,2,FALSE)","v":"Regional"}]
[6472,"TAMPU","SHIRE OF","MOUNT MARSHALL","Wheatbelt",{"$f":"VLOOKUP(E1256,Admin_lookup!$A$2:$B$14,2,FALSE)","v":"Regional"}]
[6473,"NORTH WIALKI","SHIRE OF","MOUNT MARSHALL","Wheatbelt",{"$f":"VLOOKUP(E1257,Admin_lookup!$A$2:$B$14,2,FALSE)","v":"Regional"}]
[6473,"WIALKI","SHIRE OF","MOUNT MARSHALL","Wheatbelt",{"$f":"VLOOKUP(E1258,Admin_lookup!$A$2:$B$14,2,FALSE)","v":"Regional"}]
[6475,"BADGERIN ROCK","SHIRE OF","KOORDA","Wheatbelt",{"$f":"VLOOKUP(E1259,Admin_lookup!$A$2:$B$14,2,FALSE)","v":"Regional"}]
[6475,"BOORALAMING","SHIRE OF","KOORDA","Wheatbelt",{"$f":"VLOOKUP(E1260,Admin_lookup!$A$2:$B$14,2,FALSE)","v":"Regional"}]
[6475,"DUKIN","SHIRE OF","KOORDA","Wheatbelt",{"$f":"VLOOKUP(E1261,Admin_lookup!$A$2:$B$14,2,FALSE)","v":"Regional"}]
[6475,"KOORDA","SHIRE OF","KOORDA","Wheatbelt",{"$f":"VLOOKUP(E1262,Admin_lookup!$A$2:$B$14,2,FALSE)","v":"Regional"}]
[6475,"LAKE MARGARETTE","SHIRE OF","KOORDA","Wheatbelt",{"$f":"VLOOKUP(E1263,Admin_lookup!$A$2:$B$14,2,FALSE)","v":"Regional"}]
[6475,"MOLLERIN","SHIRE OF","KOORDA","Wheatbelt",{"$f":"VLOOKUP(E1264,Admin_lookup!$A$2:$B$14,2,FALSE)","v":"Regional"}]
[6475,"NEWCARLBEON","SHIRE OF","KOORDA","Wheatbelt",{"$f":"VLOOKUP(E1265,Admin_lookup!$A$2:$B$14,2,FALSE)","v":"Regional"}]
[6476,"GABBIN","SHIRE OF","MOUNT MARSHALL","Wheatbelt",{"$f":"VLOOKUP(E1266,Admin_lookup!$A$2:$B$14,2,FALSE)","v":"Regional"}]
[6477,"BENCUBBIN","SHIRE OF","MOUNT MARSHALL","Wheatbelt",{"$f":"VLOOKUP(E1267,Admin_lookup!$A$2:$B$14,2,FALSE)","v":"Regional"}]
[6477,"WELBUNGIN","SHIRE OF","MOUNT MARSHALL","Wheatbelt",{"$f":"VLOOKUP(E1268,Admin_lookup!$A$2:$B$14,2,FALSE)","v":"Regional"}]
[6479,"BARBALIN","SHIRE OF","MUKINBUDIN","Wheatbelt",{"$f":"VLOOKUP(E1269,Admin_lookup!$A$2:$B$14,2,FALSE)","v":"Regional"}]
[6479,"BONNIE ROCK","SHIRE OF","MUKINBUDIN","Wheatbelt",{"$f":"VLOOKUP(E1270,Admin_lookup!$A$2:$B$14,2,FALSE)","v":"Regional"}]
[6479,"DANDANNING","SHIRE OF","MUKINBUDIN","Wheatbelt",{"$f":"VLOOKUP(E1271,Admin_lookup!$A$2:$B$14,2,FALSE)","v":"Regional"}]
[6479,"ELACHBUTTING","SHIRE OF","MUKINBUDIN","Wheatbelt",{"$f":"VLOOKUP(E1272,Admin_lookup!$A$2:$B$14,2,FALSE)","v":"Regional"}]
[6479,"KARLONING","SHIRE OF","MUKINBUDIN","Wheatbelt",{"$f":"VLOOKUP(E1273,Admin_lookup!$A$2:$B$14,2,FALSE)","v":"Regional"}]
[6479,"LAKE BROWN","SHIRE OF","MUKINBUDIN","Wheatbelt",{"$f":"VLOOKUP(E1274,Admin_lookup!$A$2:$B$14,2,FALSE)","v":"Regional"}]
[6479,"MUKINBUDIN","SHIRE OF","MUKINBUDIN","Wheatbelt",{"$f":"VLOOKUP(E1275,Admin_lookup!$A$2:$B$14,2,FALSE)","v":"Regional"}]
[6479,"WATTONING","SHIRE OF","MUKINBUDIN","Wheatbelt",{"$f":"VLOOKUP(E1276,Admin_lookup!$A$2:$B$14,2,FALSE)","v":"Regional"}]
[6479,"WILGOYNE","SHIRE OF","MUKINBUDIN","Wheatbelt",{"$f":"VLOOKUP(E1277,Admin_lookup!$A$2:$B$14,2,FALSE)","v":"Regional"}]
[6480,"NUKARNI","SHIRE OF","MERREDIN","Wheatbelt",{"$f":"VLOOKUP(E1278,Admin_lookup!$A$2:$B$14,2,FALSE)","v":"Regional"}]
[6484,"BULLFINCH","SHIRE OF","YILGARN","Wheatbelt",{"$f":"VLOOKUP(E1279,Admin_lookup!$A$2:$B$14,2,FALSE)","v":"Regional"}]
[6484,"ENNUIN","SHIRE OF","YILGARN","Wheatbelt",{"$f":"VLOOKUP(E1280,Admin_lookup!$A$2:$B$14,2,FALSE)","v":"Regional"}]
[6484,"LAKE DEBORAH","SHIRE OF","YILGARN","Wheatbelt",{"$f":"VLOOKUP(E1281,Admin_lookup!$A$2:$B$14,2,FALSE)","v":"Regional"}]
[6485,"COWCOWING","SHIRE OF","WYALKATCHEM","Wheatbelt",{"$f":"VLOOKUP(E1282,Admin_lookup!$A$2:$B$14,2,FALSE)","v":"Regional"}]
[6485,"KORRELOCKING","SHIRE OF","WYALKATCHEM","Wheatbelt",{"$f":"VLOOKUP(E1283,Admin_lookup!$A$2:$B$14,2,FALSE)","v":"Regional"}]
[6485,"NALKAIN","SHIRE OF","WYALKATCHEM","Wheatbelt",{"$f":"VLOOKUP(E1284,Admin_lookup!$A$2:$B$14,2,FALSE)","v":"Regional"}]
[6485,"NEMBUDDING","SHIRE OF","WYALKATCHEM","Wheatbelt",{"$f":"VLOOKUP(E1285,Admin_lookup!$A$2:$B$14,2,FALSE)","v":"Regional"}]
[6485,"WYALKATCHEM","SHIRE OF","WYALKATCHEM","Wheatbelt",{"$f":"VLOOKUP(E1286,Admin_lookup!$A$2:$B$14,2,FALSE)","v":"Regional"}]
[6487,"NORTH YELBENI","SHIRE OF","TRAYNING","Wheatbelt",{"$f":"VLOOKUP(E1287,Admin_lookup!$A$2:$B$14,2,FALSE)","v":"Regional"}]
[6487,"SOUTH YELBENI","SHIRE OF","TRAYNING","Wheatbelt",{"$f":"VLOOKUP(E1288,Admin_lookup!$A$2:$B$14,2,FALSE)","v":"Regional"}]
[6487,"YELBENI","SHIRE OF","TRAYNING","Wheatbelt",{"$f":"VLOOKUP(E1289,Admin_lookup!$A$2:$B$14,2,FALSE)","v":"Regional"}]
[6488,"NORTH TRAYNING","SHIRE OF","TRAYNING","Wheatbelt",{"$f":"VLOOKUP(E1290,Admin_lookup!$A$2:$B$14,2,FALSE)","v":"Regional"}]
[6488,"SOUTH TRAYNING","SHIRE OF","TRAYNING","Wheatbelt",{"$f":"VLOOKUP(E1291,Admin_lookup!$A$2:$B$14,2,FALSE)","v":"Regional"}]
[6488,"TRAYNING","SHIRE OF","TRAYNING","Wheatbelt",{"$f":"VLOOKUP(E1292,Admin_lookup!$A$2:$B$14,2,FALSE)","v":"Regional"}]
[6489,"KUNUNOPPIN","SHIRE OF","TRAYNING","Wheatbelt",{"$f":"VLOOKUP(E1293,Admin_lookup!$A$2:$B$14,2,FALSE)","v":"Regional"}]
[6489,"NORTH KUNUNOPPIN","SHIRE OF","TRAYNING","Wheatbelt",{"$f":"VLOOKUP(E1294,Admin_lookup!$A$2:$B$14,2,FALSE)","v":"Regional"}]
[6489,"SOUTH KUNUNOPPIN","SHIRE OF","TRAYNING","Wheatbelt",{"$f":"VLOOKUP(E1295,Admin_lookup!$A$2:$B$14,2,FALSE)","v":"Regional"}]
[6490,"BURRAN ROCK","SHIRE OF","NUNGARIN","Wheatbelt",{"$f":"VLOOKUP(E1296,Admin_lookup!$A$2:$B$14,2,FALSE)","v":"Regional"}]
[6490,"CHANDLER","SHIRE OF","NUNGARIN","Wheatbelt",{"$f":"VLOOKUP(E1297,Admin_lookup!$A$2:$B$14,2,FALSE)","v":"Regional"}]
[6490,"ELABBIN","SHIRE OF","NUNGARIN","Wheatbelt",{"$f":"VLOOKUP(E1298,Admin_lookup!$A$2:$B$14,2,FALSE)","v":"Regional"}]
[6490,"KWELKAN","SHIRE OF","NUNGARIN","Wheatbelt",{"$f":"VLOOKUP(E1299,Admin_lookup!$A$2:$B$14,2,FALSE)","v":"Regional"}]
[6490,"NUNGARIN","SHIRE OF","NUNGARIN","Wheatbelt",{"$f":"VLOOKUP(E1300,Admin_lookup!$A$2:$B$14,2,FALSE)","v":"Regional"}]
[6490,"TALGOMINE","SHIRE OF","NUNGARIN","Wheatbelt",{"$f":"VLOOKUP(E1301,Admin_lookup!$A$2:$B$14,2,FALSE)","v":"Regional"}]
[6501,"MUCHEA","SHIRE OF","CHITTERING","Wheatbelt",{"$f":"VLOOKUP(E1302,Admin_lookup!$A$2:$B$14,2,FALSE)","v":"Regional"}]
[6502,"BINDOON","SHIRE OF","TOODYAY","Wheatbelt",{"$f":"VLOOKUP(E1303,Admin_lookup!$A$2:$B$14,2,FALSE)","v":"Regional"}]
[6502,"BINDOON TRAINING AREA","SHIRE OF","TOODYAY","Wheatbelt",{"$f":"VLOOKUP(E1304,Admin_lookup!$A$2:$B$14,2,FALSE)","v":"Regional"}]
[6503,"BAMBUN","SHIRE OF","GINGIN","Wheatbelt",{"$f":"VLOOKUP(E1305,Admin_lookup!$A$2:$B$14,2,FALSE)","v":"Regional"}]
[6503,"BEERMULLAH","SHIRE OF","GINGIN","Wheatbelt",{"$f":"VLOOKUP(E1306,Admin_lookup!$A$2:$B$14,2,FALSE)","v":"Regional"}]
[6503,"BOONANARRING","SHIRE OF","GINGIN","Wheatbelt",{"$f":"VLOOKUP(E1307,Admin_lookup!$A$2:$B$14,2,FALSE)","v":"Regional"}]
[6503,"BREERA","SHIRE OF","GINGIN","Wheatbelt",{"$f":"VLOOKUP(E1308,Admin_lookup!$A$2:$B$14,2,FALSE)","v":"Regional"}]
[6503,"COONABIDGEE","SHIRE OF","GINGIN","Wheatbelt",{"$f":"VLOOKUP(E1309,Admin_lookup!$A$2:$B$14,2,FALSE)","v":"Regional"}]
[6503,"COWALLA","SHIRE OF","GINGIN","Wheatbelt",{"$f":"VLOOKUP(E1310,Admin_lookup!$A$2:$B$14,2,FALSE)","v":"Regional"}]
[6503,"CULLALLA","SHIRE OF","GINGIN","Wheatbelt",{"$f":"VLOOKUP(E1311,Admin_lookup!$A$2:$B$14,2,FALSE)","v":"Regional"}]
[6503,"GINGIN","SHIRE OF","GINGIN","Wheatbelt",{"$f":"VLOOKUP(E1312,Admin_lookup!$A$2:$B$14,2,FALSE)","v":"Regional"}]
[6503,"GINGINUP","SHIRE OF","GINGIN","Wheatbelt",{"$f":"VLOOKUP(E1313,Admin_lookup!$A$2:$B$14,2,FALSE)","v":"Regional"}]
[6503,"GRANVILLE","SHIRE OF","GINGIN","Wheatbelt",{"$f":"VLOOKUP(E1314,Admin_lookup!$A$2:$B$14,2,FALSE)","v":"Regional"}]
[6503,"LENNARD BROOK","SHIRE OF","GINGIN","Wheatbelt",{"$f":"VLOOKUP(E1315,Admin_lookup!$A$2:$B$14,2,FALSE)","v":"Regional"}]
[6503,"MINDARRA","SHIRE OF","GINGIN","Wheatbelt",{"$f":"VLOOKUP(E1316,Admin_lookup!$A$2:$B$14,2,FALSE)","v":"Regional"}]
[6503,"MOONDAH","SHIRE OF","GINGIN","Wheatbelt",{"$f":"VLOOKUP(E1317,Admin_lookup!$A$2:$B$14,2,FALSE)","v":"Regional"}]
[6503,"MOORE RIVER NATIONAL PARK","SHIRE OF","GINGIN","Wheatbelt",{"$f":"VLOOKUP(E1318,Admin_lookup!$A$2:$B$14,2,FALSE)","v":"Regional"}]
[6503,"MUCKENBURRA","SHIRE OF","GINGIN","Wheatbelt",{"$f":"VLOOKUP(E1319,Admin_lookup!$A$2:$B$14,2,FALSE)","v":"Regional"}]
[6503,"NEERGABBY","SHIRE OF","GINGIN","Wheatbelt",{"$f":"VLOOKUP(E1320,Admin_lookup!$A$2:$B$14,2,FALSE)","v":"Regional"}]
[6503,"ORANGE SPRINGS","SHIRE OF","GINGIN","Wheatbelt",{"$f":"VLOOKUP(E1321,Admin_lookup!$A$2:$B$14,2,FALSE)","v":"Regional"}]
[6503,"RED GULLY","SHIRE OF","GINGIN","Wheatbelt",{"$f":"VLOOKUP(E1322,Admin_lookup!$A$2:$B$14,2,FALSE)","v":"Regional"}]
[6503,"WANERIE","SHIRE OF","GINGIN","Wheatbelt",{"$f":"VLOOKUP(E1323,Admin_lookup!$A$2:$B$14,2,FALSE)","v":"Regional"}]
[6503,"YEAL","SHIRE OF","GINGIN","Wheatbelt",{"$f":"VLOOKUP(E1324,Admin_lookup!$A$2:$B$14,2,FALSE)","v":"Regional"}]
[6504,"MOOLIABEENEE","SHIRE OF","CHITTERING","Wheatbelt",{"$f":"VLOOKUP(E1325,Admin_lookup!$A$2:$B$14,2,FALSE)","v":"Regional"}]
[6505,"WANNAMAL","SHIRE OF","CHITTERING","Wheatbelt",{"$f":"VLOOKUP(E1326,Admin_lookup!$A$2:$B$14,2,FALSE)","v":"Regional"}]
[6506,"MOGUMBER","SHIRE OF","VICTORIA PLAINS","Wheatbelt",{"$f":"VLOOKUP(E1327,Admin_lookup!$A$2:$B$14,2,FALSE)","v":"Regional"}]
[6507,"CATABY","SHIRE OF","DANDARAGAN","Wheatbelt",{"$f":"VLOOKUP(E1328,Admin_lookup!$A$2:$B$14,2,FALSE)","v":"Regional"}]
[6507,"COOLJARLOO","SHIRE OF","DANDARAGAN","Wheatbelt",{"$f":"VLOOKUP(E1329,Admin_lookup!$A$2:$B$14,2,FALSE)","v":"Regional"}]
[6507,"DANDARAGAN","SHIRE OF","DANDARAGAN","Wheatbelt",{"$f":"VLOOKUP(E1330,Admin_lookup!$A$2:$B$14,2,FALSE)","v":"Regional"}]
[6507,"MIMEGARRA","SHIRE OF","DANDARAGAN","Wheatbelt",{"$f":"VLOOKUP(E1331,Admin_lookup!$A$2:$B$14,2,FALSE)","v":"Regional"}]
[6507,"REGANS FORD","SHIRE OF","DANDARAGAN","Wheatbelt",{"$f":"VLOOKUP(E1332,Admin_lookup!$A$2:$B$14,2,FALSE)","v":"Regional"}]
[6507,"YATHROO","SHIRE OF","DANDARAGAN","Wheatbelt",{"$f":"VLOOKUP(E1333,Admin_lookup!$A$2:$B$14,2,FALSE)","v":"Regional"}]
[6509,"GLENTROMIE","SHIRE OF","VICTORIA PLAINS","Wheatbelt",{"$f":"VLOOKUP(E1334,Admin_lookup!$A$2:$B$14,2,FALSE)","v":"Regional"}]
[6509,"NEW NORCIA","SHIRE OF","VICTORIA PLAINS","Wheatbelt",{"$f":"VLOOKUP(E1335,Admin_lookup!$A$2:$B$14,2,FALSE)","v":"Regional"}]
[6509,"WADDINGTON","SHIRE OF","VICTORIA PLAINS","Wheatbelt",{"$f":"VLOOKUP(E1336,Admin_lookup!$A$2:$B$14,2,FALSE)","v":"Regional"}]
[6509,"YARAWINDAH","SHIRE OF","VICTORIA PLAINS","Wheatbelt",{"$f":"VLOOKUP(E1337,Admin_lookup!$A$2:$B$14,2,FALSE)","v":"Regional"}]
[6510,"BARBERTON","SHIRE OF","MOORA","Wheatbelt",{"$f":"VLOOKUP(E1338,Admin_lookup!$A$2:$B$14,2,FALSE)","v":"Regional"}]
[6510,"BERKSHIRE VALLEY","SHIRE OF","MOORA","Wheatbelt",{"$f":"VLOOKUP(E1339,Admin_lookup!$A$2:$B$14,2,FALSE)","v":"Regional"}]
[6510,"GILLINGARRA","SHIRE OF","MOORA","Wheatbelt",{"$f":"VLOOKUP(E1340,Admin_lookup!$A$2:$B$14,2,FALSE)","v":"Regional"}]
[6510,"KOOJAN","SHIRE OF","MOORA","Wheatbelt",{"$f":"VLOOKUP(E1341,Admin_lookup!$A$2:$B$14,2,FALSE)","v":"Regional"}]
[6510,"MOORA","SHIRE OF","MOORA","Wheatbelt",{"$f":"VLOOKUP(E1342,Admin_lookup!$A$2:$B$14,2,FALSE)","v":"Regional"}]
[6510,"WALEBING","SHIRE OF","MOORA","Wheatbelt",{"$f":"VLOOKUP(E1343,Admin_lookup!$A$2:$B$14,2,FALSE)","v":"Regional"}]
[6511,"CERVANTES","SHIRE OF","DANDARAGAN","Wheatbelt",{"$f":"VLOOKUP(E1344,Admin_lookup!$A$2:$B$14,2,FALSE)","v":"Regional"}]
[6512,"COOMBERDALE","SHIRE OF","MOORA","Wheatbelt",{"$f":"VLOOKUP(E1345,Admin_lookup!$A$2:$B$14,2,FALSE)","v":"Regional"}]
[6512,"NAMBAN","SHIRE OF","MOORA","Wheatbelt",{"$f":"VLOOKUP(E1346,Admin_lookup!$A$2:$B$14,2,FALSE)","v":"Regional"}]
[6513,"GUNYIDI","SHIRE OF","COOROW","Mid-West",{"$f":"VLOOKUP(E1347,Admin_lookup!$A$2:$B$14,2,FALSE)","v":"Regional"}]
[6513,"WATHEROO","SHIRE OF","MOORA","Wheatbelt",{"$f":"VLOOKUP(E1348,Admin_lookup!$A$2:$B$14,2,FALSE)","v":"Regional"}]
[6514,"GREEN HEAD","SHIRE OF","COOROW","Mid-West",{"$f":"VLOOKUP(E1349,Admin_lookup!$A$2:$B$14,2,FALSE)","v":"Regional"}]
[6514,"LEEMAN","SHIRE OF","COOROW","Mid-West",{"$f":"VLOOKUP(E1350,Admin_lookup!$A$2:$B$14,2,FALSE)","v":"Regional"}]
[6515,"COOROW","SHIRE OF","COOROW","Mid-West",{"$f":"VLOOKUP(E1351,Admin_lookup!$A$2:$B$14,2,FALSE)","v":"Regional"}]
[6515,"EGANU","SHIRE OF","COOROW","Mid-West",{"$f":"VLOOKUP(E1352,Admin_lookup!$A$2:$B$14,2,FALSE)","v":"Regional"}]
[6515,"MARCHAGEE","SHIRE OF","COOROW","Mid-West",{"$f":"VLOOKUP(E1353,Admin_lookup!$A$2:$B$14,2,FALSE)","v":"Regional"}]
[6515,"WADDY FOREST","SHIRE OF","COOROW","Mid-West",{"$f":"VLOOKUP(E1354,Admin_lookup!$A$2:$B$14,2,FALSE)","v":"Regional"}]
[6516,"JURIEN BAY","SHIRE OF","DANDARAGAN","Wheatbelt",{"$f":"VLOOKUP(E1355,Admin_lookup!$A$2:$B$14,2,FALSE)","v":"Regional"}]
[6517,"CARNAMAH","SHIRE OF","CARNAMAH","Mid-West",{"$f":"VLOOKUP(E1356,Admin_lookup!$A$2:$B$14,2,FALSE)","v":"Regional"}]
[6518,"ENEABBA","SHIRE OF","COOROW","Mid-West",{"$f":"VLOOKUP(E1357,Admin_lookup!$A$2:$B$14,2,FALSE)","v":"Regional"}]
[6518,"WARRADARGE","SHIRE OF","COOROW","Mid-West",{"$f":"VLOOKUP(E1358,Admin_lookup!$A$2:$B$14,2,FALSE)","v":"Regional"}]
[6519,"ARRINO","SHIRE OF","THREE SPRINGS","Mid-West",{"$f":"VLOOKUP(E1359,Admin_lookup!$A$2:$B$14,2,FALSE)","v":"Regional"}]
[6519,"ARROWSMITH EAST","SHIRE OF","THREE SPRINGS","Mid-West",{"$f":"VLOOKUP(E1360,Admin_lookup!$A$2:$B$14,2,FALSE)","v":"Regional"}]
[6519,"DUDAWA","SHIRE OF","THREE SPRINGS","Mid-West",{"$f":"VLOOKUP(E1361,Admin_lookup!$A$2:$B$14,2,FALSE)","v":"Regional"}]
[6519,"KADATHINNI","SHIRE OF","THREE SPRINGS","Mid-West",{"$f":"VLOOKUP(E1362,Admin_lookup!$A$2:$B$14,2,FALSE)","v":"Regional"}]
[6519,"THREE SPRINGS","SHIRE OF","THREE SPRINGS","Mid-West",{"$f":"VLOOKUP(E1363,Admin_lookup!$A$2:$B$14,2,FALSE)","v":"Regional"}]
[6519,"WOMARDEN","SHIRE OF","THREE SPRINGS","Mid-West",{"$f":"VLOOKUP(E1364,Admin_lookup!$A$2:$B$14,2,FALSE)","v":"Regional"}]
[6521,"BADGINGARRA","SHIRE OF","DANDARAGAN","Wheatbelt",{"$f":"VLOOKUP(E1365,Admin_lookup!$A$2:$B$14,2,FALSE)","v":"Regional"}]
[6521,"BOOTHENDARRA","SHIRE OF","DANDARAGAN","Wheatbelt",{"$f":"VLOOKUP(E1366,Admin_lookup!$A$2:$B$14,2,FALSE)","v":"Regional"}]
[6521,"GREY","SHIRE OF","DANDARAGAN","Wheatbelt",{"$f":"VLOOKUP(E1367,Admin_lookup!$A$2:$B$14,2,FALSE)","v":"Regional"}]
[6521,"HILL RIVER","SHIRE OF","DANDARAGAN","Wheatbelt",{"$f":"VLOOKUP(E1368,Admin_lookup!$A$2:$B$14,2,FALSE)","v":"Regional"}]
[6521,"NAMBUNG","SHIRE OF","DANDARAGAN","Wheatbelt",{"$f":"VLOOKUP(E1369,Admin_lookup!$A$2:$B$14,2,FALSE)","v":"Regional"}]
[6522,"BUNDANOON","SHIRE OF","MINGENEW","Mid-West",{"$f":"VLOOKUP(E1370,Admin_lookup!$A$2:$B$14,2,FALSE)","v":"Regional"}]
[6522,"HOLMWOOD","SHIRE OF","MINGENEW","Mid-West",{"$f":"VLOOKUP(E1371,Admin_lookup!$A$2:$B$14,2,FALSE)","v":"Regional"}]
[6522,"IKEWA","SHIRE OF","MINGENEW","Mid-West",{"$f":"VLOOKUP(E1372,Admin_lookup!$A$2:$B$14,2,FALSE)","v":"Regional"}]
[6522,"LOCKIER","SHIRE OF","MINGENEW","Mid-West",{"$f":"VLOOKUP(E1373,Admin_lookup!$A$2:$B$14,2,FALSE)","v":"Regional"}]
[6522,"MINGENEW","SHIRE OF","MINGENEW","Mid-West",{"$f":"VLOOKUP(E1374,Admin_lookup!$A$2:$B$14,2,FALSE)","v":"Regional"}]
[6522,"MOORIARY","SHIRE OF","MINGENEW","Mid-West",{"$f":"VLOOKUP(E1375,Admin_lookup!$A$2:$B$14,2,FALSE)","v":"Regional"}]
[6522,"MOUNT BUDD","SHIRE OF","MINGENEW","Mid-West",{"$f":"VLOOKUP(E1376,Admin_lookup!$A$2:$B$14,2,FALSE)","v":"Regional"}]
[6522,"NANGETTY","SHIRE OF","MINGENEW","Mid-West",{"$f":"VLOOKUP(E1377,Admin_lookup!$A$2:$B$14,2,FALSE)","v":"Regional"}]
[6522,"YANDANOOKA","SHIRE OF","MINGENEW","Mid-West",{"$f":"VLOOKUP(E1378,Admin_lookup!$A$2:$B$14,2,FALSE)","v":"Regional"}]
[6522,"YARRAGADEE","SHIRE OF","MINGENEW","Mid-West",{"$f":"VLOOKUP(E1379,Admin_lookup!$A$2:$B$14,2,FALSE)","v":"Regional"}]
[6525,"ALLANOOKA","SHIRE OF","IRWIN","Mid-West",{"$f":"VLOOKUP(E1380,Admin_lookup!$A$2:$B$14,2,FALSE)","v":"Regional"}]
[6525,"ARROWSMITH","SHIRE OF","IRWIN","Mid-West",{"$f":"VLOOKUP(E1381,Admin_lookup!$A$2:$B$14,2,FALSE)","v":"Regional"}]
[6525,"BONNIEFIELD","SHIRE OF","IRWIN","Mid-West",{"$f":"VLOOKUP(E1382,Admin_lookup!$A$2:$B$14,2,FALSE)","v":"Regional"}]
[6525,"BOOKARA","SHIRE OF","IRWIN","Mid-West",{"$f":"VLOOKUP(E1383,Admin_lookup!$A$2:$B$14,2,FALSE)","v":"Regional"}]
[6525,"DONGARA","SHIRE OF","IRWIN","Mid-West",{"$f":"VLOOKUP(E1384,Admin_lookup!$A$2:$B$14,2,FALSE)","v":"Regional"}]
[6525,"IRWIN","SHIRE OF","IRWIN","Mid-West",{"$f":"VLOOKUP(E1385,Admin_lookup!$A$2:$B$14,2,FALSE)","v":"Regional"}]
[6525,"MILO","SHIRE OF","IRWIN","Mid-West",{"$f":"VLOOKUP(E1386,Admin_lookup!$A$2:$B$14,2,FALSE)","v":"Regional"}]
[6525,"MOUNT ADAMS","SHIRE OF","IRWIN","Mid-West",{"$f":"VLOOKUP(E1387,Admin_lookup!$A$2:$B$14,2,FALSE)","v":"Regional"}]
[6525,"MOUNT HORNER","SHIRE OF","IRWIN","Mid-West",{"$f":"VLOOKUP(E1388,Admin_lookup!$A$2:$B$14,2,FALSE)","v":"Regional"}]
[6525,"PORT DENISON","SHIRE OF","IRWIN","Mid-West",{"$f":"VLOOKUP(E1389,Admin_lookup!$A$2:$B$14,2,FALSE)","v":"Regional"}]
[6525,"SPRINGFIELD","SHIRE OF","IRWIN","Mid-West",{"$f":"VLOOKUP(E1390,Admin_lookup!$A$2:$B$14,2,FALSE)","v":"Regional"}]
[6525,"YARDARINO","SHIRE OF","IRWIN","Mid-West",{"$f":"VLOOKUP(E1391,Admin_lookup!$A$2:$B$14,2,FALSE)","v":"Regional"}]
[6528,"MOUNT HILL","CITY OF","GERALDTON-GREENOUGH","Mid-West",{"$f":"VLOOKUP(E1392,Admin_lookup!$A$2:$B$14,2,FALSE)","v":"Regional"}]
[6528,"SOUTH GREENOUGH","CITY OF","GERALDTON-GREENOUGH","Mid-West",{"$f":"VLOOKUP(E1393,Admin_lookup!$A$2:$B$14,2,FALSE)","v":"Regional"}]
[6528,"WALKAWAY","CITY OF","GERALDTON-GREENOUGH","Mid-West",{"$f":"VLOOKUP(E1394,Admin_lookup!$A$2:$B$14,2,FALSE)","v":"Regional"}]
[6530,"BEACHLANDS","CITY OF","GERALDTON-GREENOUGH","Mid-West",{"$f":"VLOOKUP(E1395,Admin_lookup!$A$2:$B$14,2,FALSE)","v":"Regional"}]
[6530,"BERESFORD","CITY OF","GERALDTON-GREENOUGH","Mid-West",{"$f":"VLOOKUP(E1396,Admin_lookup!$A$2:$B$14,2,FALSE)","v":"Regional"}]
[6530,"BLUFF POINT","CITY OF","GERALDTON-GREENOUGH","Mid-West",{"$f":"VLOOKUP(E1397,Admin_lookup!$A$2:$B$14,2,FALSE)","v":"Regional"}]
[6530,"GERALDTON","CITY OF","GERALDTON-GREENOUGH","Mid-West",{"$f":"VLOOKUP(E1398,Admin_lookup!$A$2:$B$14,2,FALSE)","v":"Regional"}]
[6530,"GERALDTON DC","CITY OF","GERALDTON-GREENOUGH","Mid-West",{"$f":"VLOOKUP(E1399,Admin_lookup!$A$2:$B$14,2,FALSE)","v":"Regional"}]
[6530,"HOUTMAN ABROLHOS ISLANDS","CITY OF","GERALDTON-GREENOUGH","Mid-West",{"$f":"VLOOKUP(E1400,Admin_lookup!$A$2:$B$14,2,FALSE)","v":"Regional"}]
[6530,"KARLOO","CITY OF","GERALDTON-GREENOUGH","Mid-West",{"$f":"VLOOKUP(E1401,Admin_lookup!$A$2:$B$14,2,FALSE)","v":"Regional"}]
[6530,"MAHOMETS FLATS","CITY OF","GERALDTON-GREENOUGH","Mid-West",{"$f":"VLOOKUP(E1402,Admin_lookup!$A$2:$B$14,2,FALSE)","v":"Regional"}]
[6530,"MERU","CITY OF","GERALDTON-GREENOUGH","Mid-West",{"$f":"VLOOKUP(E1403,Admin_lookup!$A$2:$B$14,2,FALSE)","v":"Regional"}]
[6530,"MORESBY","CITY OF","GERALDTON-GREENOUGH","Mid-West",{"$f":"VLOOKUP(E1404,Admin_lookup!$A$2:$B$14,2,FALSE)","v":"Regional"}]
[6530,"MOUNT TARCOOLA","CITY OF","GERALDTON-GREENOUGH","Mid-West",{"$f":"VLOOKUP(E1405,Admin_lookup!$A$2:$B$14,2,FALSE)","v":"Regional"}]
[6530,"RANGEWAY","CITY OF","GERALDTON-GREENOUGH","Mid-West",{"$f":"VLOOKUP(E1406,Admin_lookup!$A$2:$B$14,2,FALSE)","v":"Regional"}]
[6530,"SPALDING","CITY OF","GERALDTON-GREENOUGH","Mid-West",{"$f":"VLOOKUP(E1407,Admin_lookup!$A$2:$B$14,2,FALSE)","v":"Regional"}]
[6530,"STRATHALBYN","CITY OF","GERALDTON-GREENOUGH","Mid-West",{"$f":"VLOOKUP(E1408,Admin_lookup!$A$2:$B$14,2,FALSE)","v":"Regional"}]
[6530,"SUNSET BEACH","CITY OF","GERALDTON-GREENOUGH","Mid-West",{"$f":"VLOOKUP(E1409,Admin_lookup!$A$2:$B$14,2,FALSE)","v":"Regional"}]
[6530,"TARCOOLA BEACH","CITY OF","GERALDTON-GREENOUGH","Mid-West",{"$f":"VLOOKUP(E1410,Admin_lookup!$A$2:$B$14,2,FALSE)","v":"Regional"}]
[6530,"UTAKARRA","CITY OF","GERALDTON-GREENOUGH","Mid-West",{"$f":"VLOOKUP(E1411,Admin_lookup!$A$2:$B$14,2,FALSE)","v":"Regional"}]
[6530,"WAGGRAKINE","CITY OF","GERALDTON-GREENOUGH","Mid-West",{"$f":"VLOOKUP(E1412,Admin_lookup!$A$2:$B$14,2,FALSE)","v":"Regional"}]
[6530,"WANDINA","CITY OF","GERALDTON-GREENOUGH","Mid-West",{"$f":"VLOOKUP(E1413,Admin_lookup!$A$2:$B$14,2,FALSE)","v":"Regional"}]
[6530,"WEBBERTON","CITY OF","GERALDTON-GREENOUGH","Mid-West",{"$f":"VLOOKUP(E1414,Admin_lookup!$A$2:$B$14,2,FALSE)","v":"Regional"}]
[6530,"WEST END","CITY OF","GERALDTON-GREENOUGH","Mid-West",{"$f":"VLOOKUP(E1415,Admin_lookup!$A$2:$B$14,2,FALSE)","v":"Regional"}]
[6530,"WONTHELLA","CITY OF","GERALDTON-GREENOUGH","Mid-West",{"$f":"VLOOKUP(E1416,Admin_lookup!$A$2:$B$14,2,FALSE)","v":"Regional"}]
[6530,"WOORREE","CITY OF","GERALDTON-GREENOUGH","Mid-West",{"$f":"VLOOKUP(E1417,Admin_lookup!$A$2:$B$14,2,FALSE)","v":"Regional"}]
[6531,"GERALDTON PO BOXES","CITY OF","GERALDTON-GREENOUGH","Mid-West",{"$f":"VLOOKUP(E1418,Admin_lookup!$A$2:$B$14,2,FALSE)","v":"Regional"}]
[6532,"AJANA","SHIRE OF","CHAPMAN VALLEY","Mid-West",{"$f":"VLOOKUP(E1419,Admin_lookup!$A$2:$B$14,2,FALSE)","v":"Regional"}]
[6532,"BINNU","SHIRE OF","CHAPMAN VALLEY","Mid-West",{"$f":"VLOOKUP(E1420,Admin_lookup!$A$2:$B$14,2,FALSE)","v":"Regional"}]
[6532,"BOOTENAL","SHIRE OF","CHAPMAN VALLEY","Mid-West",{"$f":"VLOOKUP(E1421,Admin_lookup!$A$2:$B$14,2,FALSE)","v":"Regional"}]
[6532,"BRINGO","SHIRE OF","CHAPMAN VALLEY","Mid-West",{"$f":"VLOOKUP(E1422,Admin_lookup!$A$2:$B$14,2,FALSE)","v":"Regional"}]
[6532,"BULLER","SHIRE OF","CHAPMAN VALLEY","Mid-West",{"$f":"VLOOKUP(E1423,Admin_lookup!$A$2:$B$14,2,FALSE)","v":"Regional"}]
[6532,"BURMA ROAD","SHIRE OF","CHAPMAN VALLEY","Mid-West",{"$f":"VLOOKUP(E1424,Admin_lookup!$A$2:$B$14,2,FALSE)","v":"Regional"}]
[6532,"CAPE BURNEY","SHIRE OF","CHAPMAN VALLEY","Mid-West",{"$f":"VLOOKUP(E1425,Admin_lookup!$A$2:$B$14,2,FALSE)","v":"Regional"}]
[6532,"CARRARANG","SHIRE OF","CHAPMAN VALLEY","Mid-West",{"$f":"VLOOKUP(E1426,Admin_lookup!$A$2:$B$14,2,FALSE)","v":"Regional"}]
[6532,"COBURN","SHIRE OF","CHAPMAN VALLEY","Mid-West",{"$f":"VLOOKUP(E1427,Admin_lookup!$A$2:$B$14,2,FALSE)","v":"Regional"}]
[6532,"COOLCALALAYA","SHIRE OF","CHAPMAN VALLEY","Mid-West",{"$f":"VLOOKUP(E1428,Admin_lookup!$A$2:$B$14,2,FALSE)","v":"Regional"}]
[6532,"DARTMOOR","SHIRE OF","CHAPMAN VALLEY","Mid-West",{"$f":"VLOOKUP(E1429,Admin_lookup!$A$2:$B$14,2,FALSE)","v":"Regional"}]
[6532,"DEEPDALE","SHIRE OF","CHAPMAN VALLEY","Mid-West",{"$f":"VLOOKUP(E1430,Admin_lookup!$A$2:$B$14,2,FALSE)","v":"Regional"}]
[6532,"DINDILOA","SHIRE OF","CHAPMAN VALLEY","Mid-West",{"$f":"VLOOKUP(E1431,Admin_lookup!$A$2:$B$14,2,FALSE)","v":"Regional"}]
[6532,"DRUMMOND COVE","SHIRE OF","CHAPMAN VALLEY","Mid-West",{"$f":"VLOOKUP(E1432,Admin_lookup!$A$2:$B$14,2,FALSE)","v":"Regional"}]
[6532,"DURAWAH","SHIRE OF","CHAPMAN VALLEY","Mid-West",{"$f":"VLOOKUP(E1433,Admin_lookup!$A$2:$B$14,2,FALSE)","v":"Regional"}]
[6532,"EAST CHAPMAN","SHIRE OF","CHAPMAN VALLEY","Mid-West",{"$f":"VLOOKUP(E1434,Admin_lookup!$A$2:$B$14,2,FALSE)","v":"Regional"}]
[6532,"EAST NABAWA","SHIRE OF","CHAPMAN VALLEY","Mid-West",{"$f":"VLOOKUP(E1435,Admin_lookup!$A$2:$B$14,2,FALSE)","v":"Regional"}]
[6532,"EAST YUNA","SHIRE OF","CHAPMAN VALLEY","Mid-West",{"$f":"VLOOKUP(E1436,Admin_lookup!$A$2:$B$14,2,FALSE)","v":"Regional"}]
[6532,"ELLENDALE","SHIRE OF","CHAPMAN VALLEY","Mid-West",{"$f":"VLOOKUP(E1437,Admin_lookup!$A$2:$B$14,2,FALSE)","v":"Regional"}]
[6532,"ERADU","SHIRE OF","CHAPMAN VALLEY","Mid-West",{"$f":"VLOOKUP(E1438,Admin_lookup!$A$2:$B$14,2,FALSE)","v":"Regional"}]
[6532,"ERADU SOUTH","SHIRE OF","CHAPMAN VALLEY","Mid-West",{"$f":"VLOOKUP(E1439,Admin_lookup!$A$2:$B$14,2,FALSE)","v":"Regional"}]
[6532,"EURARDY","SHIRE OF","CHAPMAN VALLEY","Mid-West",{"$f":"VLOOKUP(E1440,Admin_lookup!$A$2:$B$14,2,FALSE)","v":"Regional"}]
[6532,"GEORGINA","SHIRE OF","CHAPMAN VALLEY","Mid-West",{"$f":"VLOOKUP(E1441,Admin_lookup!$A$2:$B$14,2,FALSE)","v":"Regional"}]
[6532,"GLENFIELD","SHIRE OF","CHAPMAN VALLEY","Mid-West",{"$f":"VLOOKUP(E1442,Admin_lookup!$A$2:$B$14,2,FALSE)","v":"Regional"}]
[6532,"GREENOUGH","SHIRE OF","CHAPMAN VALLEY","Mid-West",{"$f":"VLOOKUP(E1443,Admin_lookup!$A$2:$B$14,2,FALSE)","v":"Regional"}]
[6532,"HAMELIN POOL","SHIRE OF","CHAPMAN VALLEY","Mid-West",{"$f":"VLOOKUP(E1444,Admin_lookup!$A$2:$B$14,2,FALSE)","v":"Regional"}]
[6532,"HICKETY","SHIRE OF","CHAPMAN VALLEY","Mid-West",{"$f":"VLOOKUP(E1445,Admin_lookup!$A$2:$B$14,2,FALSE)","v":"Regional"}]
[6532,"HOWATHARRA","SHIRE OF","CHAPMAN VALLEY","Mid-West",{"$f":"VLOOKUP(E1446,Admin_lookup!$A$2:$B$14,2,FALSE)","v":"Regional"}]
[6532,"KOJARENA","SHIRE OF","CHAPMAN VALLEY","Mid-West",{"$f":"VLOOKUP(E1447,Admin_lookup!$A$2:$B$14,2,FALSE)","v":"Regional"}]
[6532,"MARRAH","SHIRE OF","CHAPMAN VALLEY","Mid-West",{"$f":"VLOOKUP(E1448,Admin_lookup!$A$2:$B$14,2,FALSE)","v":"Regional"}]
[6532,"MEADOW","SHIRE OF","CHAPMAN VALLEY","Mid-West",{"$f":"VLOOKUP(E1449,Admin_lookup!$A$2:$B$14,2,FALSE)","v":"Regional"}]
[6532,"MINNENOOKA","SHIRE OF","CHAPMAN VALLEY","Mid-West",{"$f":"VLOOKUP(E1450,Admin_lookup!$A$2:$B$14,2,FALSE)","v":"Regional"}]
[6532,"MOONYOONOOKA","SHIRE OF","CHAPMAN VALLEY","Mid-West",{"$f":"VLOOKUP(E1451,Admin_lookup!$A$2:$B$14,2,FALSE)","v":"Regional"}]
[6532,"MOUNT ERIN","SHIRE OF","CHAPMAN VALLEY","Mid-West",{"$f":"VLOOKUP(E1452,Admin_lookup!$A$2:$B$14,2,FALSE)","v":"Regional"}]
[6532,"NABAWA","SHIRE OF","CHAPMAN VALLEY","Mid-West",{"$f":"VLOOKUP(E1453,Admin_lookup!$A$2:$B$14,2,FALSE)","v":"Regional"}]
[6532,"NANSON","SHIRE OF","CHAPMAN VALLEY","Mid-West",{"$f":"VLOOKUP(E1454,Admin_lookup!$A$2:$B$14,2,FALSE)","v":"Regional"}]
[6532,"NARALING","SHIRE OF","CHAPMAN VALLEY","Mid-West",{"$f":"VLOOKUP(E1455,Admin_lookup!$A$2:$B$14,2,FALSE)","v":"Regional"}]
[6532,"NARNGULU","SHIRE OF","CHAPMAN VALLEY","Mid-West",{"$f":"VLOOKUP(E1456,Admin_lookup!$A$2:$B$14,2,FALSE)","v":"Regional"}]
[6532,"NARRA TARRA","SHIRE OF","CHAPMAN VALLEY","Mid-West",{"$f":"VLOOKUP(E1457,Admin_lookup!$A$2:$B$14,2,FALSE)","v":"Regional"}]
[6532,"NERREN NERREN","SHIRE OF","CHAPMAN VALLEY","Mid-West",{"$f":"VLOOKUP(E1458,Admin_lookup!$A$2:$B$14,2,FALSE)","v":"Regional"}]
[6532,"NOLBA","SHIRE OF","CHAPMAN VALLEY","Mid-West",{"$f":"VLOOKUP(E1459,Admin_lookup!$A$2:$B$14,2,FALSE)","v":"Regional"}]
[6532,"NORTH ERADU","SHIRE OF","CHAPMAN VALLEY","Mid-West",{"$f":"VLOOKUP(E1460,Admin_lookup!$A$2:$B$14,2,FALSE)","v":"Regional"}]
[6532,"NORTHERN GULLY","SHIRE OF","CHAPMAN VALLEY","Mid-West",{"$f":"VLOOKUP(E1461,Admin_lookup!$A$2:$B$14,2,FALSE)","v":"Regional"}]
[6532,"OAKAJEE","SHIRE OF","CHAPMAN VALLEY","Mid-West",{"$f":"VLOOKUP(E1462,Admin_lookup!$A$2:$B$14,2,FALSE)","v":"Regional"}]
[6532,"ROCKWELL","SHIRE OF","CHAPMAN VALLEY","Mid-West",{"$f":"VLOOKUP(E1463,Admin_lookup!$A$2:$B$14,2,FALSE)","v":"Regional"}]
[6532,"RUDDS GULLY","SHIRE OF","CHAPMAN VALLEY","Mid-West",{"$f":"VLOOKUP(E1464,Admin_lookup!$A$2:$B$14,2,FALSE)","v":"Regional"}]
[6532,"SANDSPRINGS","SHIRE OF","CHAPMAN VALLEY","Mid-West",{"$f":"VLOOKUP(E1465,Admin_lookup!$A$2:$B$14,2,FALSE)","v":"Regional"}]
[6532,"SOUTH YUNA","SHIRE OF","CHAPMAN VALLEY","Mid-West",{"$f":"VLOOKUP(E1466,Admin_lookup!$A$2:$B$14,2,FALSE)","v":"Regional"}]
[6532,"TAMALA","SHIRE OF","CHAPMAN VALLEY","Mid-West",{"$f":"VLOOKUP(E1467,Admin_lookup!$A$2:$B$14,2,FALSE)","v":"Regional"}]
[6532,"TIBRADDEN","SHIRE OF","CHAPMAN VALLEY","Mid-West",{"$f":"VLOOKUP(E1468,Admin_lookup!$A$2:$B$14,2,FALSE)","v":"Regional"}]
[6532,"TOOLONGA","SHIRE OF","CHAPMAN VALLEY","Mid-West",{"$f":"VLOOKUP(E1469,Admin_lookup!$A$2:$B$14,2,FALSE)","v":"Regional"}]
[6532,"VALENTINE","SHIRE OF","CHAPMAN VALLEY","Mid-West",{"$f":"VLOOKUP(E1470,Admin_lookup!$A$2:$B$14,2,FALSE)","v":"Regional"}]
[6532,"WANDANA","SHIRE OF","CHAPMAN VALLEY","Mid-West",{"$f":"VLOOKUP(E1471,Admin_lookup!$A$2:$B$14,2,FALSE)","v":"Regional"}]
[6532,"WEST BINNU","SHIRE OF","CHAPMAN VALLEY","Mid-West",{"$f":"VLOOKUP(E1472,Admin_lookup!$A$2:$B$14,2,FALSE)","v":"Regional"}]
[6532,"WHITE PEAK","SHIRE OF","CHAPMAN VALLEY","Mid-West",{"$f":"VLOOKUP(E1473,Admin_lookup!$A$2:$B$14,2,FALSE)","v":"Regional"}]
[6532,"WICHERINA","SHIRE OF","CHAPMAN VALLEY","Mid-West",{"$f":"VLOOKUP(E1474,Admin_lookup!$A$2:$B$14,2,FALSE)","v":"Regional"}]
[6532,"WICHERINA SOUTH","SHIRE OF","CHAPMAN VALLEY","Mid-West",{"$f":"VLOOKUP(E1475,Admin_lookup!$A$2:$B$14,2,FALSE)","v":"Regional"}]
[6532,"YETNA","SHIRE OF","CHAPMAN VALLEY","Mid-West",{"$f":"VLOOKUP(E1476,Admin_lookup!$A$2:$B$14,2,FALSE)","v":"Regional"}]
[6532,"YUNA","SHIRE OF","CHAPMAN VALLEY","Mid-West",{"$f":"VLOOKUP(E1477,Admin_lookup!$A$2:$B$14,2,FALSE)","v":"Regional"}]
[6535,"ALMA","SHIRE OF","NORTHAMPTON","Mid-West",{"$f":"VLOOKUP(E1478,Admin_lookup!$A$2:$B$14,2,FALSE)","v":"Regional"}]
[6535,"BOWES","SHIRE OF","NORTHAMPTON","Mid-West",{"$f":"VLOOKUP(E1479,Admin_lookup!$A$2:$B$14,2,FALSE)","v":"Regional"}]
[6535,"EAST BOWES","SHIRE OF","NORTHAMPTON","Mid-West",{"$f":"VLOOKUP(E1480,Admin_lookup!$A$2:$B$14,2,FALSE)","v":"Regional"}]
[6535,"GREGORY","SHIRE OF","NORTHAMPTON","Mid-West",{"$f":"VLOOKUP(E1481,Admin_lookup!$A$2:$B$14,2,FALSE)","v":"Regional"}]
[6535,"HORROCKS","SHIRE OF","NORTHAMPTON","Mid-West",{"$f":"VLOOKUP(E1482,Admin_lookup!$A$2:$B$14,2,FALSE)","v":"Regional"}]
[6535,"ISSEKA","SHIRE OF","NORTHAMPTON","Mid-West",{"$f":"VLOOKUP(E1483,Admin_lookup!$A$2:$B$14,2,FALSE)","v":"Regional"}]
[6535,"NORTHAMPTON","SHIRE OF","NORTHAMPTON","Mid-West",{"$f":"VLOOKUP(E1484,Admin_lookup!$A$2:$B$14,2,FALSE)","v":"Regional"}]
[6535,"OGILVIE","SHIRE OF","NORTHAMPTON","Mid-West",{"$f":"VLOOKUP(E1485,Admin_lookup!$A$2:$B$14,2,FALSE)","v":"Regional"}]
[6535,"SANDY GULLY","SHIRE OF","NORTHAMPTON","Mid-West",{"$f":"VLOOKUP(E1486,Admin_lookup!$A$2:$B$14,2,FALSE)","v":"Regional"}]
[6535,"YALLABATHARRA","SHIRE OF","NORTHAMPTON","Mid-West",{"$f":"VLOOKUP(E1487,Admin_lookup!$A$2:$B$14,2,FALSE)","v":"Regional"}]
[6536,"KALBARRI","SHIRE OF","NORTHAMPTON","Mid-West",{"$f":"VLOOKUP(E1488,Admin_lookup!$A$2:$B$14,2,FALSE)","v":"Regional"}]
[6536,"KALBARRI NATIONAL PARK","SHIRE OF","NORTHAMPTON","Mid-West",{"$f":"VLOOKUP(E1489,Admin_lookup!$A$2:$B$14,2,FALSE)","v":"Regional"}]
[6536,"ZUYTDORP","SHIRE OF","NORTHAMPTON","Mid-West",{"$f":"VLOOKUP(E1490,Admin_lookup!$A$2:$B$14,2,FALSE)","v":"Regional"}]
[6537,"DENHAM","SHIRE OF","SHARK BAY","Gascoyne",{"$f":"VLOOKUP(E1491,Admin_lookup!$A$2:$B$14,2,FALSE)","v":"Regional"}]
[6537,"DIRK HARTOG ISLAND","SHIRE OF","SHARK BAY","Gascoyne",{"$f":"VLOOKUP(E1492,Admin_lookup!$A$2:$B$14,2,FALSE)","v":"Regional"}]
[6537,"FRANCOIS PERON NATIONAL PARK","SHIRE OF","SHARK BAY","Gascoyne",{"$f":"VLOOKUP(E1493,Admin_lookup!$A$2:$B$14,2,FALSE)","v":"Regional"}]
[6537,"MONKEY MIA","SHIRE OF","SHARK BAY","Gascoyne",{"$f":"VLOOKUP(E1494,Admin_lookup!$A$2:$B$14,2,FALSE)","v":"Regional"}]
[6537,"NANGA","SHIRE OF","SHARK BAY","Gascoyne",{"$f":"VLOOKUP(E1495,Admin_lookup!$A$2:$B$14,2,FALSE)","v":"Regional"}]
[6537,"SHARK BAY","SHIRE OF","SHARK BAY","Gascoyne",{"$f":"VLOOKUP(E1496,Admin_lookup!$A$2:$B$14,2,FALSE)","v":"Regional"}]
[6537,"USELESS LOOP","SHIRE OF","SHARK BAY","Gascoyne",{"$f":"VLOOKUP(E1497,Admin_lookup!$A$2:$B$14,2,FALSE)","v":"Regional"}]
[6556,"BEECHINA","CITY OF","SWAN","Perth",{"$f":"VLOOKUP(E1498,Admin_lookup!$A$2:$B$14,2,FALSE)","v":"Metro"}]
[6556,"CHIDLOW","CITY OF","SWAN","Perth",{"$f":"VLOOKUP(E1499,Admin_lookup!$A$2:$B$14,2,FALSE)","v":"Metro"}]
[6556,"GORRIE","CITY OF","SWAN","Perth",{"$f":"VLOOKUP(E1500,Admin_lookup!$A$2:$B$14,2,FALSE)","v":"Metro"}]
[6556,"MALMALLING","CITY OF","SWAN","Perth",{"$f":"VLOOKUP(E1501,Admin_lookup!$A$2:$B$14,2,FALSE)","v":"Metro"}]
[6556,"THE LAKES","CITY OF","SWAN","Perth",{"$f":"VLOOKUP(E1502,Admin_lookup!$A$2:$B$14,2,FALSE)","v":"Metro"}]
[6558,"WOOROLOO","SHIRE OF","MUNDARING","Perth",{"$f":"VLOOKUP(E1503,Admin_lookup!$A$2:$B$14,2,FALSE)","v":"Metro"}]
[6560,"WUNDOWIE","SHIRE OF","NORTHAM","Wheatbelt",{"$f":"VLOOKUP(E1504,Admin_lookup!$A$2:$B$14,2,FALSE)","v":"Regional"}]
[6562,"BAKERS HILL","SHIRE OF","NORTHAM","Wheatbelt",{"$f":"VLOOKUP(E1505,Admin_lookup!$A$2:$B$14,2,FALSE)","v":"Regional"}]
[6562,"COPLEY","SHIRE OF","NORTHAM","Wheatbelt",{"$f":"VLOOKUP(E1506,Admin_lookup!$A$2:$B$14,2,FALSE)","v":"Regional"}]
[6562,"WOOTTATING","SHIRE OF","NORTHAM","Wheatbelt",{"$f":"VLOOKUP(E1507,Admin_lookup!$A$2:$B$14,2,FALSE)","v":"Regional"}]
[6564,"CLACKLINE","SHIRE OF","NORTHAM","Wheatbelt",{"$f":"VLOOKUP(E1508,Admin_lookup!$A$2:$B$14,2,FALSE)","v":"Regional"}]
[6566,"BEJOORDING","SHIRE OF","TOODYAY","Wheatbelt",{"$f":"VLOOKUP(E1509,Admin_lookup!$A$2:$B$14,2,FALSE)","v":"Regional"}]
[6566,"CARANI","SHIRE OF","TOODYAY","Wheatbelt",{"$f":"VLOOKUP(E1510,Admin_lookup!$A$2:$B$14,2,FALSE)","v":"Regional"}]
[6566,"COONDLE","SHIRE OF","TOODYAY","Wheatbelt",{"$f":"VLOOKUP(E1511,Admin_lookup!$A$2:$B$14,2,FALSE)","v":"Regional"}]
[6566,"CULHAM","SHIRE OF","TOODYAY","Wheatbelt",{"$f":"VLOOKUP(E1512,Admin_lookup!$A$2:$B$14,2,FALSE)","v":"Regional"}]
[6566,"DUMBARTON","SHIRE OF","TOODYAY","Wheatbelt",{"$f":"VLOOKUP(E1513,Admin_lookup!$A$2:$B$14,2,FALSE)","v":"Regional"}]
[6566,"HODDYS WELL","SHIRE OF","TOODYAY","Wheatbelt",{"$f":"VLOOKUP(E1514,Admin_lookup!$A$2:$B$14,2,FALSE)","v":"Regional"}]
[6566,"KATRINE","SHIRE OF","TOODYAY","Wheatbelt",{"$f":"VLOOKUP(E1515,Admin_lookup!$A$2:$B$14,2,FALSE)","v":"Regional"}]
[6566,"NUNILE","SHIRE OF","TOODYAY","Wheatbelt",{"$f":"VLOOKUP(E1516,Admin_lookup!$A$2:$B$14,2,FALSE)","v":"Regional"}]
[6566,"TOODYAY","SHIRE OF","TOODYAY","Wheatbelt",{"$f":"VLOOKUP(E1517,Admin_lookup!$A$2:$B$14,2,FALSE)","v":"Regional"}]
[6566,"WEST TOODYAY","SHIRE OF","TOODYAY","Wheatbelt",{"$f":"VLOOKUP(E1518,Admin_lookup!$A$2:$B$14,2,FALSE)","v":"Regional"}]
[6567,"DEWARS POOL","SHIRE OF","TOODYAY","Wheatbelt",{"$f":"VLOOKUP(E1519,Admin_lookup!$A$2:$B$14,2,FALSE)","v":"Regional"}]
[6567,"JULIMAR","SHIRE OF","TOODYAY","Wheatbelt",{"$f":"VLOOKUP(E1520,Admin_lookup!$A$2:$B$14,2,FALSE)","v":"Regional"}]
[6567,"MOONDYNE","SHIRE OF","TOODYAY","Wheatbelt",{"$f":"VLOOKUP(E1521,Admin_lookup!$A$2:$B$14,2,FALSE)","v":"Regional"}]
[6568,"BOLGART","SHIRE OF","VICTORIA PLAINS","Wheatbelt",{"$f":"VLOOKUP(E1522,Admin_lookup!$A$2:$B$14,2,FALSE)","v":"Regional"}]
[6568,"WATTENING","SHIRE OF","VICTORIA PLAINS","Wheatbelt",{"$f":"VLOOKUP(E1523,Admin_lookup!$A$2:$B$14,2,FALSE)","v":"Regional"}]
[6568,"WYENING","SHIRE OF","VICTORIA PLAINS","Wheatbelt",{"$f":"VLOOKUP(E1524,Admin_lookup!$A$2:$B$14,2,FALSE)","v":"Regional"}]
[6569,"CALINGIRI","SHIRE OF","VICTORIA PLAINS","Wheatbelt",{"$f":"VLOOKUP(E1525,Admin_lookup!$A$2:$B$14,2,FALSE)","v":"Regional"}]
[6569,"OLD PLAINS","SHIRE OF","VICTORIA PLAINS","Wheatbelt",{"$f":"VLOOKUP(E1526,Admin_lookup!$A$2:$B$14,2,FALSE)","v":"Regional"}]
[6571,"YERECOIN","SHIRE OF","VICTORIA PLAINS","Wheatbelt",{"$f":"VLOOKUP(E1527,Admin_lookup!$A$2:$B$14,2,FALSE)","v":"Regional"}]
[6572,"PIAWANING","SHIRE OF","VICTORIA PLAINS","Wheatbelt",{"$f":"VLOOKUP(E1528,Admin_lookup!$A$2:$B$14,2,FALSE)","v":"Regional"}]
[6574,"BINDI BINDI","SHIRE OF","MOORA","Wheatbelt",{"$f":"VLOOKUP(E1529,Admin_lookup!$A$2:$B$14,2,FALSE)","v":"Regional"}]
[6574,"GABALONG","SHIRE OF","MOORA","Wheatbelt",{"$f":"VLOOKUP(E1530,Admin_lookup!$A$2:$B$14,2,FALSE)","v":"Regional"}]
[6575,"MILING","SHIRE OF","MOORA","Wheatbelt",{"$f":"VLOOKUP(E1531,Admin_lookup!$A$2:$B$14,2,FALSE)","v":"Regional"}]
[6603,"KONNONGORRING","SHIRE OF","WONGAN-BALLIDU","Wheatbelt",{"$f":"VLOOKUP(E1532,Admin_lookup!$A$2:$B$14,2,FALSE)","v":"Regional"}]
[6603,"LAKE HINDS","SHIRE OF","WONGAN-BALLIDU","Wheatbelt",{"$f":"VLOOKUP(E1533,Admin_lookup!$A$2:$B$14,2,FALSE)","v":"Regional"}]
[6603,"LAKE NINAN","SHIRE OF","WONGAN-BALLIDU","Wheatbelt",{"$f":"VLOOKUP(E1534,Admin_lookup!$A$2:$B$14,2,FALSE)","v":"Regional"}]
[6603,"MOCARDY","SHIRE OF","WONGAN-BALLIDU","Wheatbelt",{"$f":"VLOOKUP(E1535,Admin_lookup!$A$2:$B$14,2,FALSE)","v":"Regional"}]
[6603,"WONGAN HILLS","SHIRE OF","WONGAN-BALLIDU","Wheatbelt",{"$f":"VLOOKUP(E1536,Admin_lookup!$A$2:$B$14,2,FALSE)","v":"Regional"}]
[6605,"KONDUT","SHIRE OF","WONGAN-BALLIDU","Wheatbelt",{"$f":"VLOOKUP(E1537,Admin_lookup!$A$2:$B$14,2,FALSE)","v":"Regional"}]
[6606,"BALLIDU","SHIRE OF","WONGAN-BALLIDU","Wheatbelt",{"$f":"VLOOKUP(E1538,Admin_lookup!$A$2:$B$14,2,FALSE)","v":"Regional"}]
[6606,"EAST BALLIDU","SHIRE OF","WONGAN-BALLIDU","Wheatbelt",{"$f":"VLOOKUP(E1539,Admin_lookup!$A$2:$B$14,2,FALSE)","v":"Regional"}]
[6606,"WEST BALLIDU","SHIRE OF","WONGAN-BALLIDU","Wheatbelt",{"$f":"VLOOKUP(E1540,Admin_lookup!$A$2:$B$14,2,FALSE)","v":"Regional"}]
[6608,"EAST DAMBORING","SHIRE OF","DALWALLINU","Wheatbelt",{"$f":"VLOOKUP(E1541,Admin_lookup!$A$2:$B$14,2,FALSE)","v":"Regional"}]
[6608,"MARNE","SHIRE OF","DALWALLINU","Wheatbelt",{"$f":"VLOOKUP(E1542,Admin_lookup!$A$2:$B$14,2,FALSE)","v":"Regional"}]
[6608,"PITHARA","SHIRE OF","DALWALLINU","Wheatbelt",{"$f":"VLOOKUP(E1543,Admin_lookup!$A$2:$B$14,2,FALSE)","v":"Regional"}]
[6609,"DALWALLINU","SHIRE OF","DALWALLINU","Wheatbelt",{"$f":"VLOOKUP(E1544,Admin_lookup!$A$2:$B$14,2,FALSE)","v":"Regional"}]
[6609,"NUGADONG","SHIRE OF","DALWALLINU","Wheatbelt",{"$f":"VLOOKUP(E1545,Admin_lookup!$A$2:$B$14,2,FALSE)","v":"Regional"}]
[6609,"XANTIPPE","SHIRE OF","DALWALLINU","Wheatbelt",{"$f":"VLOOKUP(E1546,Admin_lookup!$A$2:$B$14,2,FALSE)","v":"Regional"}]
[6612,"JIBBERDING","SHIRE OF","DALWALLINU","Wheatbelt",{"$f":"VLOOKUP(E1547,Admin_lookup!$A$2:$B$14,2,FALSE)","v":"Regional"}]
[6612,"MIAMOON","SHIRE OF","DALWALLINU","Wheatbelt",{"$f":"VLOOKUP(E1548,Admin_lookup!$A$2:$B$14,2,FALSE)","v":"Regional"}]
[6612,"PAYNES FIND","SHIRE OF","YALGOO","Mid-West",{"$f":"VLOOKUP(E1549,Admin_lookup!$A$2:$B$14,2,FALSE)","v":"Regional"}]
[6612,"WUBIN","SHIRE OF","DALWALLINU","Wheatbelt",{"$f":"VLOOKUP(E1550,Admin_lookup!$A$2:$B$14,2,FALSE)","v":"Regional"}]
[6613,"BUNTINE","SHIRE OF","DALWALLINU","Wheatbelt",{"$f":"VLOOKUP(E1551,Admin_lookup!$A$2:$B$14,2,FALSE)","v":"Regional"}]
[6614,"MAYA","SHIRE OF","PERENJORI","Mid-West",{"$f":"VLOOKUP(E1552,Admin_lookup!$A$2:$B$14,2,FALSE)","v":"Regional"}]
[6616,"LATHAM","SHIRE OF","PERENJORI","Mid-West",{"$f":"VLOOKUP(E1553,Admin_lookup!$A$2:$B$14,2,FALSE)","v":"Regional"}]
[6620,"PERENJORI","SHIRE OF","PERENJORI","Mid-West",{"$f":"VLOOKUP(E1554,Admin_lookup!$A$2:$B$14,2,FALSE)","v":"Regional"}]
[6620,"ROTHSAY","SHIRE OF","PERENJORI","Mid-West",{"$f":"VLOOKUP(E1555,Admin_lookup!$A$2:$B$14,2,FALSE)","v":"Regional"}]
[6623,"BOWGADA","SHIRE OF","MORAWA","Mid-West",{"$f":"VLOOKUP(E1556,Admin_lookup!$A$2:$B$14,2,FALSE)","v":"Regional"}]
[6623,"BUNJIL","SHIRE OF","MORAWA","Mid-West",{"$f":"VLOOKUP(E1557,Admin_lookup!$A$2:$B$14,2,FALSE)","v":"Regional"}]
[6623,"GUTHA","SHIRE OF","MORAWA","Mid-West",{"$f":"VLOOKUP(E1558,Admin_lookup!$A$2:$B$14,2,FALSE)","v":"Regional"}]
[6623,"KOOLANOOKA","SHIRE OF","MORAWA","Mid-West",{"$f":"VLOOKUP(E1559,Admin_lookup!$A$2:$B$14,2,FALSE)","v":"Regional"}]
[6623,"MORAWA","SHIRE OF","MORAWA","Mid-West",{"$f":"VLOOKUP(E1560,Admin_lookup!$A$2:$B$14,2,FALSE)","v":"Regional"}]
[6623,"PINTHARUKA","SHIRE OF","MORAWA","Mid-West",{"$f":"VLOOKUP(E1561,Admin_lookup!$A$2:$B$14,2,FALSE)","v":"Regional"}]
[6625,"MERKANOOKA","SHIRE OF","MORAWA","Mid-West",{"$f":"VLOOKUP(E1562,Admin_lookup!$A$2:$B$14,2,FALSE)","v":"Regional"}]
[6627,"CANNA","SHIRE OF","MORAWA","Mid-West",{"$f":"VLOOKUP(E1563,Admin_lookup!$A$2:$B$14,2,FALSE)","v":"Regional"}]
[6628,"TARDUN","SHIRE OF","MULLEWA","Mid-West",{"$f":"VLOOKUP(E1564,Admin_lookup!$A$2:$B$14,2,FALSE)","v":"Regional"}]
[6630,"DEVILS CREEK","SHIRE OF","MURCHISON","Mid-West",{"$f":"VLOOKUP(E1565,Admin_lookup!$A$2:$B$14,2,FALSE)","v":"Regional"}]
[6630,"MULLEWA","SHIRE OF","MURCHISON","Mid-West",{"$f":"VLOOKUP(E1566,Admin_lookup!$A$2:$B$14,2,FALSE)","v":"Regional"}]
[6630,"MURCHISON","SHIRE OF","MURCHISON","Mid-West",{"$f":"VLOOKUP(E1567,Admin_lookup!$A$2:$B$14,2,FALSE)","v":"Regional"}]
[6630,"NERRAMYNE","SHIRE OF","MURCHISON","Mid-West",{"$f":"VLOOKUP(E1568,Admin_lookup!$A$2:$B$14,2,FALSE)","v":"Regional"}]
[6630,"NUNIERRA","SHIRE OF","MURCHISON","Mid-West",{"$f":"VLOOKUP(E1569,Admin_lookup!$A$2:$B$14,2,FALSE)","v":"Regional"}]
[6630,"WEST CASUARINAS","SHIRE OF","MURCHISON","Mid-West",{"$f":"VLOOKUP(E1570,Admin_lookup!$A$2:$B$14,2,FALSE)","v":"Regional"}]
[6630,"WONGOONDY","SHIRE OF","MURCHISON","Mid-West",{"$f":"VLOOKUP(E1571,Admin_lookup!$A$2:$B$14,2,FALSE)","v":"Regional"}]
[6630,"WOOLGORONG","SHIRE OF","MURCHISON","Mid-West",{"$f":"VLOOKUP(E1572,Admin_lookup!$A$2:$B$14,2,FALSE)","v":"Regional"}]
[6631,"PINDAR","SHIRE OF","MULLEWA","Mid-West",{"$f":"VLOOKUP(E1573,Admin_lookup!$A$2:$B$14,2,FALSE)","v":"Regional"}]
[6632,"AMBANIA","SHIRE OF","MULLEWA","Mid-West",{"$f":"VLOOKUP(E1574,Admin_lookup!$A$2:$B$14,2,FALSE)","v":"Regional"}]
[6632,"TENINDEWA","SHIRE OF","MULLEWA","Mid-West",{"$f":"VLOOKUP(E1575,Admin_lookup!$A$2:$B$14,2,FALSE)","v":"Regional"}]
[6635,"SOUTH MURCHISON","SHIRE OF","YALGOO","Mid-West",{"$f":"VLOOKUP(E1576,Admin_lookup!$A$2:$B$14,2,FALSE)","v":"Regional"}]
[6635,"YALGOO","SHIRE OF","YALGOO","Mid-West",{"$f":"VLOOKUP(E1577,Admin_lookup!$A$2:$B$14,2,FALSE)","v":"Regional"}]
[6638,"COOLADAR HILL","SHIRE OF","MOUNT MAGNET","Mid-West",{"$f":"VLOOKUP(E1578,Admin_lookup!$A$2:$B$14,2,FALSE)","v":"Regional"}]
[6638,"DAGGAR HILLS","SHIRE OF","MOUNT MAGNET","Mid-West",{"$f":"VLOOKUP(E1579,Admin_lookup!$A$2:$B$14,2,FALSE)","v":"Regional"}]
[6638,"MOUNT MAGNET","SHIRE OF","MOUNT MAGNET","Mid-West",{"$f":"VLOOKUP(E1580,Admin_lookup!$A$2:$B$14,2,FALSE)","v":"Regional"}]
[6638,"PAYNESVILLE","SHIRE OF","MOUNT MAGNET","Mid-West",{"$f":"VLOOKUP(E1581,Admin_lookup!$A$2:$B$14,2,FALSE)","v":"Regional"}]
[6639,"SANDSTONE","SHIRE OF","SANDSTONE","Mid-West",{"$f":"VLOOKUP(E1582,Admin_lookup!$A$2:$B$14,2,FALSE)","v":"Regional"}]
[6640,"CUE","SHIRE OF","CUE","Mid-West",{"$f":"VLOOKUP(E1583,Admin_lookup!$A$2:$B$14,2,FALSE)","v":"Regional"}]
[6640,"EAST MURCHISON","SHIRE OF","CUE","Mid-West",{"$f":"VLOOKUP(E1584,Admin_lookup!$A$2:$B$14,2,FALSE)","v":"Regional"}]
[6640,"LAKE AUSTIN","SHIRE OF","CUE","Mid-West",{"$f":"VLOOKUP(E1585,Admin_lookup!$A$2:$B$14,2,FALSE)","v":"Regional"}]
[6640,"REEDY","SHIRE OF","CUE","Mid-West",{"$f":"VLOOKUP(E1586,Admin_lookup!$A$2:$B$14,2,FALSE)","v":"Regional"}]
[6640,"WELD RANGE","SHIRE OF","CUE","Mid-West",{"$f":"VLOOKUP(E1587,Admin_lookup!$A$2:$B$14,2,FALSE)","v":"Regional"}]
[6642,"ANGELO RIVER","SHIRE OF","MEEKATHARRA","Mid-West",{"$f":"VLOOKUP(E1588,Admin_lookup!$A$2:$B$14,2,FALSE)","v":"Regional"}]
[6642,"CAPRICORN","SHIRE OF","MEEKATHARRA","Mid-West",{"$f":"VLOOKUP(E1589,Admin_lookup!$A$2:$B$14,2,FALSE)","v":"Regional"}]
[6642,"KUMARINA","SHIRE OF","MEEKATHARRA","Mid-West",{"$f":"VLOOKUP(E1590,Admin_lookup!$A$2:$B$14,2,FALSE)","v":"Regional"}]
[6642,"MEEKATHARRA","SHIRE OF","MEEKATHARRA","Mid-West",{"$f":"VLOOKUP(E1591,Admin_lookup!$A$2:$B$14,2,FALSE)","v":"Regional"}]
[6642,"PEAK HILL","SHIRE OF","MEEKATHARRA","Mid-West",{"$f":"VLOOKUP(E1592,Admin_lookup!$A$2:$B$14,2,FALSE)","v":"Regional"}]
[6646,"LAKE CARNEGIE","SHIRE OF","WILUNA","Mid-West",{"$f":"VLOOKUP(E1593,Admin_lookup!$A$2:$B$14,2,FALSE)","v":"Regional"}]
[6646,"LITTLE SANDY DESERT","SHIRE OF","WILUNA","Mid-West",{"$f":"VLOOKUP(E1594,Admin_lookup!$A$2:$B$14,2,FALSE)","v":"Regional"}]
[6646,"WILUNA","SHIRE OF","WILUNA","Mid-West",{"$f":"VLOOKUP(E1595,Admin_lookup!$A$2:$B$14,2,FALSE)","v":"Regional"}]
[6701,"BABBAGE ISLAND","SHIRE OF","CARNARVON","Gascoyne",{"$f":"VLOOKUP(E1596,Admin_lookup!$A$2:$B$14,2,FALSE)","v":"Regional"}]
[6701,"BERNIER ISLAND","SHIRE OF","CARNARVON","Gascoyne",{"$f":"VLOOKUP(E1597,Admin_lookup!$A$2:$B$14,2,FALSE)","v":"Regional"}]
[6701,"BROCKMAN","SHIRE OF","CARNARVON","Gascoyne",{"$f":"VLOOKUP(E1598,Admin_lookup!$A$2:$B$14,2,FALSE)","v":"Regional"}]
[6701,"BROWN RANGE","SHIRE OF","CARNARVON","Gascoyne",{"$f":"VLOOKUP(E1599,Admin_lookup!$A$2:$B$14,2,FALSE)","v":"Regional"}]
[6701,"CARBLA","SHIRE OF","CARNARVON","Gascoyne",{"$f":"VLOOKUP(E1600,Admin_lookup!$A$2:$B$14,2,FALSE)","v":"Regional"}]
[6701,"CARNARVON","SHIRE OF","CARNARVON","Gascoyne",{"$f":"VLOOKUP(E1601,Admin_lookup!$A$2:$B$14,2,FALSE)","v":"Regional"}]
[6701,"CORAL BAY","SHIRE OF","CARNARVON","Gascoyne",{"$f":"VLOOKUP(E1602,Admin_lookup!$A$2:$B$14,2,FALSE)","v":"Regional"}]
[6701,"DORRE ISLAND","SHIRE OF","CARNARVON","Gascoyne",{"$f":"VLOOKUP(E1603,Admin_lookup!$A$2:$B$14,2,FALSE)","v":"Regional"}]
[6701,"EAST CARNARVON","SHIRE OF","CARNARVON","Gascoyne",{"$f":"VLOOKUP(E1604,Admin_lookup!$A$2:$B$14,2,FALSE)","v":"Regional"}]
[6701,"GILROYD","SHIRE OF","CARNARVON","Gascoyne",{"$f":"VLOOKUP(E1605,Admin_lookup!$A$2:$B$14,2,FALSE)","v":"Regional"}]
[6701,"GREYS PLAIN","SHIRE OF","CARNARVON","Gascoyne",{"$f":"VLOOKUP(E1606,Admin_lookup!$A$2:$B$14,2,FALSE)","v":"Regional"}]
[6701,"INGGARDA","SHIRE OF","CARNARVON","Gascoyne",{"$f":"VLOOKUP(E1607,Admin_lookup!$A$2:$B$14,2,FALSE)","v":"Regional"}]
[6701,"KENNEDY RANGE","SHIRE OF","CARNARVON","Gascoyne",{"$f":"VLOOKUP(E1608,Admin_lookup!$A$2:$B$14,2,FALSE)","v":"Regional"}]
[6701,"KINGSFORD","SHIRE OF","CARNARVON","Gascoyne",{"$f":"VLOOKUP(E1609,Admin_lookup!$A$2:$B$14,2,FALSE)","v":"Regional"}]
[6701,"LYNDON","SHIRE OF","CARNARVON","Gascoyne",{"$f":"VLOOKUP(E1610,Admin_lookup!$A$2:$B$14,2,FALSE)","v":"Regional"}]
[6701,"MACLEOD","SHIRE OF","CARNARVON","Gascoyne",{"$f":"VLOOKUP(E1611,Admin_lookup!$A$2:$B$14,2,FALSE)","v":"Regional"}]
[6701,"MASSEY BAY","SHIRE OF","CARNARVON","Gascoyne",{"$f":"VLOOKUP(E1612,Admin_lookup!$A$2:$B$14,2,FALSE)","v":"Regional"}]
[6701,"MINILYA","SHIRE OF","CARNARVON","Gascoyne",{"$f":"VLOOKUP(E1613,Admin_lookup!$A$2:$B$14,2,FALSE)","v":"Regional"}]
[6701,"MORGANTOWN","SHIRE OF","CARNARVON","Gascoyne",{"$f":"VLOOKUP(E1614,Admin_lookup!$A$2:$B$14,2,FALSE)","v":"Regional"}]
[6701,"NINGALOO","SHIRE OF","CARNARVON","Gascoyne",{"$f":"VLOOKUP(E1615,Admin_lookup!$A$2:$B$14,2,FALSE)","v":"Regional"}]
[6701,"NORTH PLANTATIONS","SHIRE OF","CARNARVON","Gascoyne",{"$f":"VLOOKUP(E1616,Admin_lookup!$A$2:$B$14,2,FALSE)","v":"Regional"}]
[6701,"SOUTH CARNARVON","SHIRE OF","CARNARVON","Gascoyne",{"$f":"VLOOKUP(E1617,Admin_lookup!$A$2:$B$14,2,FALSE)","v":"Regional"}]
[6701,"SOUTH PLANTATIONS","SHIRE OF","CARNARVON","Gascoyne",{"$f":"VLOOKUP(E1618,Admin_lookup!$A$2:$B$14,2,FALSE)","v":"Regional"}]
[6701,"TALISKER","SHIRE OF","CARNARVON","Gascoyne",{"$f":"VLOOKUP(E1619,Admin_lookup!$A$2:$B$14,2,FALSE)","v":"Regional"}]
[6701,"WOODLEIGH","SHIRE OF","CARNARVON","Gascoyne",{"$f":"VLOOKUP(E1620,Admin_lookup!$A$2:$B$14,2,FALSE)","v":"Regional"}]
[6701,"WOORAMEL","SHIRE OF","CARNARVON","Gascoyne",{"$f":"VLOOKUP(E1621,Admin_lookup!$A$2:$B$14,2,FALSE)","v":"Regional"}]
[6701,"YALARDY","SHIRE OF","CARNARVON","Gascoyne",{"$f":"VLOOKUP(E1622,Admin_lookup!$A$2:$B$14,2,FALSE)","v":"Regional"}]
[6701,"YANDOO CREEK","SHIRE OF","CARNARVON","Gascoyne",{"$f":"VLOOKUP(E1623,Admin_lookup!$A$2:$B$14,2,FALSE)","v":"Regional"}]
[6705,"EAST LYONS RIVER","SHIRE OF","UPPER GASCOYNE","Gascoyne",{"$f":"VLOOKUP(E1624,Admin_lookup!$A$2:$B$14,2,FALSE)","v":"Regional"}]
[6705,"GASCOYNE JUNCTION","SHIRE OF","UPPER GASCOYNE","Gascoyne",{"$f":"VLOOKUP(E1625,Admin_lookup!$A$2:$B$14,2,FALSE)","v":"Regional"}]
[6705,"GASCOYNE RIVER","SHIRE OF","UPPER GASCOYNE","Gascoyne",{"$f":"VLOOKUP(E1626,Admin_lookup!$A$2:$B$14,2,FALSE)","v":"Regional"}]
[6705,"WEST LYONS RIVER","SHIRE OF","UPPER GASCOYNE","Gascoyne",{"$f":"VLOOKUP(E1627,Admin_lookup!$A$2:$B$14,2,FALSE)","v":"Regional"}]
[6707,"CAPE RANGE NATIONAL PARK","SHIRE OF","EXMOUTH","Gascoyne",{"$f":"VLOOKUP(E1628,Admin_lookup!$A$2:$B$14,2,FALSE)","v":"Regional"}]
[6707,"EXMOUTH","SHIRE OF","EXMOUTH","Gascoyne",{"$f":"VLOOKUP(E1629,Admin_lookup!$A$2:$B$14,2,FALSE)","v":"Regional"}]
[6707,"EXMOUTH GULF","SHIRE OF","EXMOUTH","Gascoyne",{"$f":"VLOOKUP(E1630,Admin_lookup!$A$2:$B$14,2,FALSE)","v":"Regional"}]
[6707,"LEARMONTH","SHIRE OF","EXMOUTH","Gascoyne",{"$f":"VLOOKUP(E1631,Admin_lookup!$A$2:$B$14,2,FALSE)","v":"Regional"}]
[6707,"NORTH WEST CAPE","SHIRE OF","EXMOUTH","Gascoyne",{"$f":"VLOOKUP(E1632,Admin_lookup!$A$2:$B$14,2,FALSE)","v":"Regional"}]
[6710,"CANE","SHIRE OF","ASHBURTON","Pilbara",{"$f":"VLOOKUP(E1633,Admin_lookup!$A$2:$B$14,2,FALSE)","v":"Pilbara"}]
[6710,"ONSLOW","SHIRE OF","ASHBURTON","Pilbara",{"$f":"VLOOKUP(E1634,Admin_lookup!$A$2:$B$14,2,FALSE)","v":"Pilbara"}]
[6710,"PEEDAMULLA","SHIRE OF","ASHBURTON","Pilbara",{"$f":"VLOOKUP(E1635,Admin_lookup!$A$2:$B$14,2,FALSE)","v":"Pilbara"}]
[6710,"TALANDJI","SHIRE OF","ASHBURTON","Pilbara",{"$f":"VLOOKUP(E1636,Admin_lookup!$A$2:$B$14,2,FALSE)","v":"Pilbara"}]
[6710,"YANNARIE","SHIRE OF","ASHBURTON","Pilbara",{"$f":"VLOOKUP(E1637,Admin_lookup!$A$2:$B$14,2,FALSE)","v":"Pilbara"}]
[6711,"THEVENARD ISLAND","SHIRE OF","ASHBURTON","Pilbara",{"$f":"VLOOKUP(E1638,Admin_lookup!$A$2:$B$14,2,FALSE)","v":"Pilbara"}]
[6712,"BARROW ISLAND","SHIRE OF","ASHBURTON","Pilbara",{"$f":"VLOOKUP(E1639,Admin_lookup!$A$2:$B$14,2,FALSE)","v":"Pilbara"}]
[6713,"DAMPIER","SHIRE OF","ROEBOURNE","Pilbara",{"$f":"VLOOKUP(E1640,Admin_lookup!$A$2:$B$14,2,FALSE)","v":"Pilbara"}]
[6713,"DAMPIER ARCHIPELAGO","SHIRE OF","ROEBOURNE","Pilbara",{"$f":"VLOOKUP(E1641,Admin_lookup!$A$2:$B$14,2,FALSE)","v":"Pilbara"}]
[6714,"ANTONYMYRE","SHIRE OF","ROEBOURNE","Pilbara",{"$f":"VLOOKUP(E1642,Admin_lookup!$A$2:$B$14,2,FALSE)","v":"Pilbara"}]
[6714,"BALLA BALLA","SHIRE OF","ROEBOURNE","Pilbara",{"$f":"VLOOKUP(E1643,Admin_lookup!$A$2:$B$14,2,FALSE)","v":"Pilbara"}]
[6714,"BAYNTON","SHIRE OF","ROEBOURNE","Pilbara",{"$f":"VLOOKUP(E1644,Admin_lookup!$A$2:$B$14,2,FALSE)","v":"Pilbara"}]
[6714,"BULGARRA","SHIRE OF","ROEBOURNE","Pilbara",{"$f":"VLOOKUP(E1645,Admin_lookup!$A$2:$B$14,2,FALSE)","v":"Pilbara"}]
[6714,"BURRUP","SHIRE OF","ROEBOURNE","Pilbara",{"$f":"VLOOKUP(E1646,Admin_lookup!$A$2:$B$14,2,FALSE)","v":"Pilbara"}]
[6714,"CLEAVERVILLE","SHIRE OF","ROEBOURNE","Pilbara",{"$f":"VLOOKUP(E1647,Admin_lookup!$A$2:$B$14,2,FALSE)","v":"Pilbara"}]
[6714,"COOYA POOYA","SHIRE OF","ROEBOURNE","Pilbara",{"$f":"VLOOKUP(E1648,Admin_lookup!$A$2:$B$14,2,FALSE)","v":"Pilbara"}]
[6714,"GAP RIDGE","SHIRE OF","ROEBOURNE","Pilbara",{"$f":"VLOOKUP(E1649,Admin_lookup!$A$2:$B$14,2,FALSE)","v":"Pilbara"}]
[6714,"GNOOREA","SHIRE OF","ROEBOURNE","Pilbara",{"$f":"VLOOKUP(E1650,Admin_lookup!$A$2:$B$14,2,FALSE)","v":"Pilbara"}]
[6714,"KARRATHA","SHIRE OF","ROEBOURNE","Pilbara",{"$f":"VLOOKUP(E1651,Admin_lookup!$A$2:$B$14,2,FALSE)","v":"Pilbara"}]
[6714,"KARRATHA INDUSTRIAL ESTATE","SHIRE OF","ROEBOURNE","Pilbara",{"$f":"VLOOKUP(E1652,Admin_lookup!$A$2:$B$14,2,FALSE)","v":"Pilbara"}]
[6714,"MAITLAND","SHIRE OF","ROEBOURNE","Pilbara",{"$f":"VLOOKUP(E1653,Admin_lookup!$A$2:$B$14,2,FALSE)","v":"Pilbara"}]
[6714,"MARDIE","SHIRE OF","ROEBOURNE","Pilbara",{"$f":"VLOOKUP(E1654,Admin_lookup!$A$2:$B$14,2,FALSE)","v":"Pilbara"}]
[6714,"MILLARS WELL","SHIRE OF","ROEBOURNE","Pilbara",{"$f":"VLOOKUP(E1655,Admin_lookup!$A$2:$B$14,2,FALSE)","v":"Pilbara"}]
[6714,"MOUNT ANKETELL","SHIRE OF","ROEBOURNE","Pilbara",{"$f":"VLOOKUP(E1656,Admin_lookup!$A$2:$B$14,2,FALSE)","v":"Pilbara"}]
[6714,"MULATAGA","SHIRE OF","ROEBOURNE","Pilbara",{"$f":"VLOOKUP(E1657,Admin_lookup!$A$2:$B$14,2,FALSE)","v":"Pilbara"}]
[6714,"NICKOL","SHIRE OF","ROEBOURNE","Pilbara",{"$f":"VLOOKUP(E1658,Admin_lookup!$A$2:$B$14,2,FALSE)","v":"Pilbara"}]
[6714,"PEGS CREEK","SHIRE OF","ROEBOURNE","Pilbara",{"$f":"VLOOKUP(E1659,Admin_lookup!$A$2:$B$14,2,FALSE)","v":"Pilbara"}]
[6714,"SHERLOCK","SHIRE OF","ROEBOURNE","Pilbara",{"$f":"VLOOKUP(E1660,Admin_lookup!$A$2:$B$14,2,FALSE)","v":"Pilbara"}]
[6714,"STOVE HILL","SHIRE OF","ROEBOURNE","Pilbara",{"$f":"VLOOKUP(E1661,Admin_lookup!$A$2:$B$14,2,FALSE)","v":"Pilbara"}]
[6716,"FORTESCUE","SHIRE OF","ASHBURTON","Pilbara",{"$f":"VLOOKUP(E1662,Admin_lookup!$A$2:$B$14,2,FALSE)","v":"Pilbara"}]
[6716,"HAMERSLEY RANGE","SHIRE OF","ASHBURTON","Pilbara",{"$f":"VLOOKUP(E1663,Admin_lookup!$A$2:$B$14,2,FALSE)","v":"Pilbara"}]
[6716,"MILLSTREAM","SHIRE OF","ASHBURTON","Pilbara",{"$f":"VLOOKUP(E1664,Admin_lookup!$A$2:$B$14,2,FALSE)","v":"Pilbara"}]
[6716,"PANNAWONICA","SHIRE OF","ASHBURTON","Pilbara",{"$f":"VLOOKUP(E1665,Admin_lookup!$A$2:$B$14,2,FALSE)","v":"Pilbara"}]
[6718,"ROEBOURNE","SHIRE OF","ROEBOURNE","Pilbara",{"$f":"VLOOKUP(E1666,Admin_lookup!$A$2:$B$14,2,FALSE)","v":"Pilbara"}]
[6718,"WHIM CREEK","SHIRE OF","ROEBOURNE","Pilbara",{"$f":"VLOOKUP(E1667,Admin_lookup!$A$2:$B$14,2,FALSE)","v":"Pilbara"}]
[6720,"COSSACK","SHIRE OF","ROEBOURNE","Pilbara",{"$f":"VLOOKUP(E1668,Admin_lookup!$A$2:$B$14,2,FALSE)","v":"Pilbara"}]
[6720,"POINT SAMSON","SHIRE OF","ROEBOURNE","Pilbara",{"$f":"VLOOKUP(E1669,Admin_lookup!$A$2:$B$14,2,FALSE)","v":"Pilbara"}]
[6720,"WICKHAM","SHIRE OF","ROEBOURNE","Pilbara",{"$f":"VLOOKUP(E1670,Admin_lookup!$A$2:$B$14,2,FALSE)","v":"Pilbara"}]
[6721,"INDEE","TOWN OF","PORT HEDLAND","Pilbara",{"$f":"VLOOKUP(E1671,Admin_lookup!$A$2:$B$14,2,FALSE)","v":"Pilbara"}]
[6721,"MUNDABULLANGANA","TOWN OF","PORT HEDLAND","Pilbara",{"$f":"VLOOKUP(E1672,Admin_lookup!$A$2:$B$14,2,FALSE)","v":"Pilbara"}]
[6721,"PARDOO","TOWN OF","PORT HEDLAND","Pilbara",{"$f":"VLOOKUP(E1673,Admin_lookup!$A$2:$B$14,2,FALSE)","v":"Pilbara"}]
[6721,"PORT HEDLAND","TOWN OF","PORT HEDLAND","Pilbara",{"$f":"VLOOKUP(E1674,Admin_lookup!$A$2:$B$14,2,FALSE)","v":"Pilbara"}]
[6721,"REDBANK","TOWN OF","PORT HEDLAND","Pilbara",{"$f":"VLOOKUP(E1675,Admin_lookup!$A$2:$B$14,2,FALSE)","v":"Pilbara"}]
[6721,"STRELLEY","TOWN OF","PORT HEDLAND","Pilbara",{"$f":"VLOOKUP(E1676,Admin_lookup!$A$2:$B$14,2,FALSE)","v":"Pilbara"}]
[6721,"WALLAREENYA","TOWN OF","PORT HEDLAND","Pilbara",{"$f":"VLOOKUP(E1677,Admin_lookup!$A$2:$B$14,2,FALSE)","v":"Pilbara"}]
[6721,"WEDGEFIELD","TOWN OF","PORT HEDLAND","Pilbara",{"$f":"VLOOKUP(E1678,Admin_lookup!$A$2:$B$14,2,FALSE)","v":"Pilbara"}]
[6722,"BOODARIE","TOWN OF","PORT HEDLAND","Pilbara",{"$f":"VLOOKUP(E1679,Admin_lookup!$A$2:$B$14,2,FALSE)","v":"Pilbara"}]
[6722,"DE GREY","TOWN OF","PORT HEDLAND","Pilbara",{"$f":"VLOOKUP(E1680,Admin_lookup!$A$2:$B$14,2,FALSE)","v":"Pilbara"}]
[6722,"FINUCANE","TOWN OF","PORT HEDLAND","Pilbara",{"$f":"VLOOKUP(E1681,Admin_lookup!$A$2:$B$14,2,FALSE)","v":"Pilbara"}]
[6722,"PIPPINGARRA","TOWN OF","PORT HEDLAND","Pilbara",{"$f":"VLOOKUP(E1682,Admin_lookup!$A$2:$B$14,2,FALSE)","v":"Pilbara"}]
[6722,"SOUTH HEDLAND","TOWN OF","PORT HEDLAND","Pilbara",{"$f":"VLOOKUP(E1683,Admin_lookup!$A$2:$B$14,2,FALSE)","v":"Pilbara"}]
[6725,"BILINGURR","SHIRE OF","BROOME","Kimberley",{"$f":"VLOOKUP(E1684,Admin_lookup!$A$2:$B$14,2,FALSE)","v":"Kimberley"}]
[6725,"BROOME","SHIRE OF","BROOME","Kimberley",{"$f":"VLOOKUP(E1685,Admin_lookup!$A$2:$B$14,2,FALSE)","v":"Kimberley"}]
[6725,"DAMPIER PENINSULA","SHIRE OF","BROOME","Kimberley",{"$f":"VLOOKUP(E1686,Admin_lookup!$A$2:$B$14,2,FALSE)","v":"Kimberley"}]
[6725,"DJUGUN","SHIRE OF","BROOME","Kimberley",{"$f":"VLOOKUP(E1687,Admin_lookup!$A$2:$B$14,2,FALSE)","v":"Kimberley"}]
[6725,"EIGHTY MILE BEACH","SHIRE OF","BROOME","Kimberley",{"$f":"VLOOKUP(E1688,Admin_lookup!$A$2:$B$14,2,FALSE)","v":"Kimberley"}]
[6725,"GINGERAH","SHIRE OF","BROOME","Kimberley",{"$f":"VLOOKUP(E1689,Admin_lookup!$A$2:$B$14,2,FALSE)","v":"Kimberley"}]
[6725,"LAGRANGE","SHIRE OF","BROOME","Kimberley",{"$f":"VLOOKUP(E1690,Admin_lookup!$A$2:$B$14,2,FALSE)","v":"Kimberley"}]
[6725,"MINYIRR","SHIRE OF","BROOME","Kimberley",{"$f":"VLOOKUP(E1691,Admin_lookup!$A$2:$B$14,2,FALSE)","v":"Kimberley"}]
[6725,"ROEBUCK","SHIRE OF","BROOME","Kimberley",{"$f":"VLOOKUP(E1692,Admin_lookup!$A$2:$B$14,2,FALSE)","v":"Kimberley"}]
[6725,"WATERBANK","SHIRE OF","BROOME","Kimberley",{"$f":"VLOOKUP(E1693,Admin_lookup!$A$2:$B$14,2,FALSE)","v":"Kimberley"}]
[6726,"CABLE BEACH","SHIRE OF","BROOME","Kimberley",{"$f":"VLOOKUP(E1694,Admin_lookup!$A$2:$B$14,2,FALSE)","v":"Kimberley"}]
[6728,"CAMBALLIN","SHIRE OF","DERBY-WEST KIMBERLEY","Kimberley",{"$f":"VLOOKUP(E1695,Admin_lookup!$A$2:$B$14,2,FALSE)","v":"Kimberley"}]
[6728,"DERBY","SHIRE OF","DERBY-WEST KIMBERLEY","Kimberley",{"$f":"VLOOKUP(E1696,Admin_lookup!$A$2:$B$14,2,FALSE)","v":"Kimberley"}]
[6728,"GEEGULLY CREEK","SHIRE OF","DERBY-WEST KIMBERLEY","Kimberley",{"$f":"VLOOKUP(E1697,Admin_lookup!$A$2:$B$14,2,FALSE)","v":"Kimberley"}]
[6728,"KIMBOLTON","SHIRE OF","DERBY-WEST KIMBERLEY","Kimberley",{"$f":"VLOOKUP(E1698,Admin_lookup!$A$2:$B$14,2,FALSE)","v":"Kimberley"}]
[6728,"KING LEOPOLD RANGES","SHIRE OF","DERBY-WEST KIMBERLEY","Kimberley",{"$f":"VLOOKUP(E1699,Admin_lookup!$A$2:$B$14,2,FALSE)","v":"Kimberley"}]
[6728,"MEDA","SHIRE OF","DERBY-WEST KIMBERLEY","Kimberley",{"$f":"VLOOKUP(E1700,Admin_lookup!$A$2:$B$14,2,FALSE)","v":"Kimberley"}]
[6728,"ST GEORGE RANGES","SHIRE OF","DERBY-WEST KIMBERLEY","Kimberley",{"$f":"VLOOKUP(E1701,Admin_lookup!$A$2:$B$14,2,FALSE)","v":"Kimberley"}]
[6728,"WILLARE","SHIRE OF","DERBY-WEST KIMBERLEY","Kimberley",{"$f":"VLOOKUP(E1702,Admin_lookup!$A$2:$B$14,2,FALSE)","v":"Kimberley"}]
[6731,"COCKATOO ISLAND","SHIRE OF","DERBY-WEST KIMBERLEY","Kimberley",{"$f":"VLOOKUP(E1703,Admin_lookup!$A$2:$B$14,2,FALSE)","v":"Kimberley"}]
[6733,"KOOLAN ISLAND","SHIRE OF","DERBY-WEST KIMBERLEY","Kimberley",{"$f":"VLOOKUP(E1704,Admin_lookup!$A$2:$B$14,2,FALSE)","v":"Kimberley"}]
[6740,"DRYSDALE RIVER","SHIRE OF","WYNDHAM-EAST KIMBERLEY","Kimberley",{"$f":"VLOOKUP(E1705,Admin_lookup!$A$2:$B$14,2,FALSE)","v":"Kimberley"}]
[6740,"KALUMBURU","SHIRE OF","WYNDHAM-EAST KIMBERLEY","Kimberley",{"$f":"VLOOKUP(E1706,Admin_lookup!$A$2:$B$14,2,FALSE)","v":"Kimberley"}]
[6740,"MITCHELL PLATEAU","SHIRE OF","WYNDHAM-EAST KIMBERLEY","Kimberley",{"$f":"VLOOKUP(E1707,Admin_lookup!$A$2:$B$14,2,FALSE)","v":"Kimberley"}]
[6740,"OOMBULGURRI","SHIRE OF","WYNDHAM-EAST KIMBERLEY","Kimberley",{"$f":"VLOOKUP(E1708,Admin_lookup!$A$2:$B$14,2,FALSE)","v":"Kimberley"}]
[6740,"PRINCE REGENT RIVER","SHIRE OF","WYNDHAM-EAST KIMBERLEY","Kimberley",{"$f":"VLOOKUP(E1709,Admin_lookup!$A$2:$B$14,2,FALSE)","v":"Kimberley"}]
[6740,"WYNDHAM","SHIRE OF","WYNDHAM-EAST KIMBERLEY","Kimberley",{"$f":"VLOOKUP(E1710,Admin_lookup!$A$2:$B$14,2,FALSE)","v":"Kimberley"}]
[6743,"CAMBRIDGE GULF","SHIRE OF","HALLS CREEK","Kimberley",{"$f":"VLOOKUP(E1711,Admin_lookup!$A$2:$B$14,2,FALSE)","v":"Kimberley"}]
[6743,"DURACK","SHIRE OF","HALLS CREEK","Kimberley",{"$f":"VLOOKUP(E1712,Admin_lookup!$A$2:$B$14,2,FALSE)","v":"Kimberley"}]
[6743,"GIBB","SHIRE OF","HALLS CREEK","Kimberley",{"$f":"VLOOKUP(E1713,Admin_lookup!$A$2:$B$14,2,FALSE)","v":"Kimberley"}]
[6743,"KUNUNURRA","SHIRE OF","HALLS CREEK","Kimberley",{"$f":"VLOOKUP(E1714,Admin_lookup!$A$2:$B$14,2,FALSE)","v":"Kimberley"}]
[6743,"LAKE ARGYLE","SHIRE OF","HALLS CREEK","Kimberley",{"$f":"VLOOKUP(E1715,Admin_lookup!$A$2:$B$14,2,FALSE)","v":"Kimberley"}]
[6743,"WARMUN","SHIRE OF","HALLS CREEK","Kimberley",{"$f":"VLOOKUP(E1716,Admin_lookup!$A$2:$B$14,2,FALSE)","v":"Kimberley"}]
[6751,"CHICHESTER","SHIRE OF","ASHBURTON","Pilbara",{"$f":"VLOOKUP(E1717,Admin_lookup!$A$2:$B$14,2,FALSE)","v":"Pilbara"}]
[6751,"INNAWANGA","SHIRE OF","ASHBURTON","Pilbara",{"$f":"VLOOKUP(E1718,Admin_lookup!$A$2:$B$14,2,FALSE)","v":"Pilbara"}]
[6751,"JUNA DOWNS","SHIRE OF","ASHBURTON","Pilbara",{"$f":"VLOOKUP(E1719,Admin_lookup!$A$2:$B$14,2,FALSE)","v":"Pilbara"}]
[6751,"KARIJINI","SHIRE OF","ASHBURTON","Pilbara",{"$f":"VLOOKUP(E1720,Admin_lookup!$A$2:$B$14,2,FALSE)","v":"Pilbara"}]
[6751,"MOUNT SHEILA","SHIRE OF","ASHBURTON","Pilbara",{"$f":"VLOOKUP(E1721,Admin_lookup!$A$2:$B$14,2,FALSE)","v":"Pilbara"}]
[6751,"MULGA DOWNS","SHIRE OF","ASHBURTON","Pilbara",{"$f":"VLOOKUP(E1722,Admin_lookup!$A$2:$B$14,2,FALSE)","v":"Pilbara"}]
[6751,"NANUTARRA","SHIRE OF","ASHBURTON","Pilbara",{"$f":"VLOOKUP(E1723,Admin_lookup!$A$2:$B$14,2,FALSE)","v":"Pilbara"}]
[6751,"ROCKLEA","SHIRE OF","ASHBURTON","Pilbara",{"$f":"VLOOKUP(E1724,Admin_lookup!$A$2:$B$14,2,FALSE)","v":"Pilbara"}]
[6751,"TOM PRICE","SHIRE OF","ASHBURTON","Pilbara",{"$f":"VLOOKUP(E1725,Admin_lookup!$A$2:$B$14,2,FALSE)","v":"Pilbara"}]
[6751,"WITTENOOM","SHIRE OF","ASHBURTON","Pilbara",{"$f":"VLOOKUP(E1726,Admin_lookup!$A$2:$B$14,2,FALSE)","v":"Pilbara"}]
[6753,"NEWMAN","SHIRE OF","EAST PILBARA","Pilbara",{"$f":"VLOOKUP(E1727,Admin_lookup!$A$2:$B$14,2,FALSE)","v":"Pilbara"}]
[6754,"PARABURDOO","SHIRE OF","ASHBURTON","Pilbara",{"$f":"VLOOKUP(E1728,Admin_lookup!$A$2:$B$14,2,FALSE)","v":"Pilbara"}]
[6758,"NULLAGINE","SHIRE OF","EAST PILBARA","Pilbara",{"$f":"VLOOKUP(E1729,Admin_lookup!$A$2:$B$14,2,FALSE)","v":"Pilbara"}]
[6760,"MARBLE BAR","SHIRE OF","EAST PILBARA","Pilbara",{"$f":"VLOOKUP(E1730,Admin_lookup!$A$2:$B$14,2,FALSE)","v":"Pilbara"}]
[6762,"TELFER","SHIRE OF","EAST PILBARA","Pilbara",{"$f":"VLOOKUP(E1731,Admin_lookup!$A$2:$B$14,2,FALSE)","v":"Pilbara"}]
[6765,"FITZROY CROSSING","SHIRE OF","DERBY-WEST KIMBERLEY","Kimberley",{"$f":"VLOOKUP(E1732,Admin_lookup!$A$2:$B$14,2,FALSE)","v":"Kimberley"}]
[6765,"MOUNT HARDMAN","SHIRE OF","DERBY-WEST KIMBERLEY","Kimberley",{"$f":"VLOOKUP(E1733,Admin_lookup!$A$2:$B$14,2,FALSE)","v":"Kimberley"}]
[6770,"HALLS CREEK","SHIRE OF","HALLS CREEK","Kimberley",{"$f":"VLOOKUP(E1734,Admin_lookup!$A$2:$B$14,2,FALSE)","v":"Kimberley"}]
[6770,"MCBEATH","SHIRE OF","HALLS CREEK","Kimberley",{"$f":"VLOOKUP(E1735,Admin_lookup!$A$2:$B$14,2,FALSE)","v":"Kimberley"}]
[6770,"MUELLER RANGES","SHIRE OF","HALLS CREEK","Kimberley",{"$f":"VLOOKUP(E1736,Admin_lookup!$A$2:$B$14,2,FALSE)","v":"Kimberley"}]
[6770,"ORD RIVER","SHIRE OF","HALLS CREEK","Kimberley",{"$f":"VLOOKUP(E1737,Admin_lookup!$A$2:$B$14,2,FALSE)","v":"Kimberley"}]
[6770,"PURNULULU","SHIRE OF","HALLS CREEK","Kimberley",{"$f":"VLOOKUP(E1738,Admin_lookup!$A$2:$B$14,2,FALSE)","v":"Kimberley"}]
[6770,"STURT CREEK","SHIRE OF","HALLS CREEK","Kimberley",{"$f":"VLOOKUP(E1739,Admin_lookup!$A$2:$B$14,2,FALSE)","v":"Kimberley"}]
[6770,"TANAMI","SHIRE OF","HALLS CREEK","Kimberley",{"$f":"VLOOKUP(E1740,Admin_lookup!$A$2:$B$14,2,FALSE)","v":"Kimberley"}]
[6798,"CHRISTMAS ISLAND","CHRISTMAS ISLAND","CHRISTMAS ISLAND","Christmas Island",{"$f":"VLOOKUP(E1741,Admin_lookup!$A$2:$B$14,2,FALSE)","v":"Not applicable"}]
[6799,"HOME ISLAND COCOS (KEELING) ISLANDS","COCOS (KEELING) ISLANDS","COCOS (KEELING) ISLANDS","Cocos (Keeling) Islands",{"$f":"VLOOKUP(E1742,Admin_lookup!$A$2:$B$14,2,FALSE)","v":"Not applicable"}]
[6799,"WEST ISLAND COCOS (KEELING) ISLANDS","COCOS (KEELING) ISLANDS","COCOS (KEELING) ISLANDS","Cocos (Keeling) Islands",{"$f":"VLOOKUP(E1743,Admin_lookup!$A$2:$B$14,2,FALSE)","v":"Not applicable"}]
[6800,"PERTH PO BOX","CITY OF","PERTH","Perth",{"$f":"VLOOKUP(E1744,Admin_lookup!$A$2:$B$14,2,FALSE)","v":"Metro"}]
[6803,"NORTHBRIDGE LVR","CITY OF","PERTH","Perth",{"$f":"VLOOKUP(E1745,Admin_lookup!$A$2:$B$14,2,FALSE)","v":"Metro"}]
[6809,"PERTH HBF HEALTH FUNDS INC","CITY OF","PERTH","Perth",{"$f":"VLOOKUP(E1746,Admin_lookup!$A$2:$B$14,2,FALSE)","v":"Metro"}]
[6817,"PERTH LVR","CITY OF","PERTH","Perth",{"$f":"VLOOKUP(E1747,Admin_lookup!$A$2:$B$14,2,FALSE)","v":"Metro"}]
[6820,"PERTH LVR2","CITY OF","PERTH","Perth",{"$f":"VLOOKUP(E1748,Admin_lookup!$A$2:$B$14,2,FALSE)","v":"Metro"}]
[6827,"PERTH SUNDAY TIMES","CITY OF","PERTH","Perth",{"$f":"VLOOKUP(E1749,Admin_lookup!$A$2:$B$14,2,FALSE)","v":"Metro"}]
[6830,"PERTH TELSTRA","CITY OF","PERTH","Perth",{"$f":"VLOOKUP(E1750,Admin_lookup!$A$2:$B$14,2,FALSE)","v":"Metro"}]
[6831,"PERTH PO BOXES Z5001-Z5584&5585-5646","CITY OF","PERTH","Perth",{"$f":"VLOOKUP(E1751,Admin_lookup!$A$2:$B$14,2,FALSE)","v":"Metro"}]
[6832,"PERTH PO BOXES 3001-3630","CITY OF","PERTH","Perth",{"$f":"VLOOKUP(E1752,Admin_lookup!$A$2:$B$14,2,FALSE)","v":"Metro"}]
[6837,"PERTH GPO BOXES A1-A48","CITY OF","PERTH","Perth",{"$f":"VLOOKUP(E1753,Admin_lookup!$A$2:$B$14,2,FALSE)","v":"Metro"}]
[6838,"PERTH GPO BOXES B49-B96","CITY OF","PERTH","Perth",{"$f":"VLOOKUP(E1754,Admin_lookup!$A$2:$B$14,2,FALSE)","v":"Metro"}]
[6839,"PERTH GPO BOXES C97-C140","CITY OF","PERTH","Perth",{"$f":"VLOOKUP(E1755,Admin_lookup!$A$2:$B$14,2,FALSE)","v":"Metro"}]
[6840,"PERTH GPO BOXES D141-D200","CITY OF","PERTH","Perth",{"$f":"VLOOKUP(E1756,Admin_lookup!$A$2:$B$14,2,FALSE)","v":"Metro"}]
[6841,"PERTH GPO BOXES E201-H629","CITY OF","PERTH","Perth",{"$f":"VLOOKUP(E1757,Admin_lookup!$A$2:$B$14,2,FALSE)","v":"Metro"}]
[6842,"PERTH GPO BOXES J630-L923","CITY OF","PERTH","Perth",{"$f":"VLOOKUP(E1758,Admin_lookup!$A$2:$B$14,2,FALSE)","v":"Metro"}]
[6843,"PERTH GPO BOXES M924-N1144","CITY OF","PERTH","Perth",{"$f":"VLOOKUP(E1759,Admin_lookup!$A$2:$B$14,2,FALSE)","v":"Metro"}]
[6844,"PERTH GPO BOXES P1145-R1290","CITY OF","PERTH","Perth",{"$f":"VLOOKUP(E1760,Admin_lookup!$A$2:$B$14,2,FALSE)","v":"Metro"}]
[6845,"PERTH GPO BOXES S1291-U1997","CITY OF","PERTH","Perth",{"$f":"VLOOKUP(E1761,Admin_lookup!$A$2:$B$14,2,FALSE)","v":"Metro"}]
[6846,"PERTH GPO BOXES W1998-W2109","CITY OF","PERTH","Perth",{"$f":"VLOOKUP(E1762,Admin_lookup!$A$2:$B$14,2,FALSE)","v":"Metro"}]
[6847,"PERTH GPO BOXES X2200-X2311","CITY OF","PERTH","Perth",{"$f":"VLOOKUP(E1763,Admin_lookup!$A$2:$B$14,2,FALSE)","v":"Metro"}]
[6848,"PERTH GPO BOXES 9000-10000","CITY OF","PERTH","Perth",{"$f":"VLOOKUP(E1764,Admin_lookup!$A$2:$B$14,2,FALSE)","v":"Metro"}]
[6849,"PERTH BC","CITY OF","PERTH","Perth",{"$f":"VLOOKUP(E1765,Admin_lookup!$A$2:$B$14,2,FALSE)","v":"Metro"}]
[6850,"CLOISTERS SQUARE","CITY OF","PERTH","Perth",{"$f":"VLOOKUP(E1766,Admin_lookup!$A$2:$B$14,2,FALSE)","v":"Metro"}]
[6865,"NORTHBRIDGE PO BOXES","CITY OF","PERTH","Perth",{"$f":"VLOOKUP(E1767,Admin_lookup!$A$2:$B$14,2,FALSE)","v":"Metro"}]
[6872,"WEST PERTH PO BOXES","CITY OF","PERTH","Perth",{"$f":"VLOOKUP(E1768,Admin_lookup!$A$2:$B$14,2,FALSE)","v":"Metro"}]
[6892,"EAST PERTH PO BOXES 1-827 & 6002-6892","CITY OF","PERTH","Perth",{"$f":"VLOOKUP(E1769,Admin_lookup!$A$2:$B$14,2,FALSE)","v":"Metro"}]
[6900,"LEEDERVILLE WATER AUTHORITY OF WA","CITY OF","PERTH","Perth",{"$f":"VLOOKUP(E1770,Admin_lookup!$A$2:$B$14,2,FALSE)","v":"Metro"}]
[6901,"WEST LEEDERVILLE PO BOXES","CITY OF","PERTH","Perth",{"$f":"VLOOKUP(E1771,Admin_lookup!$A$2:$B$14,2,FALSE)","v":"Metro"}]
[6902,"LEEDERVILLE PO BOXES 1-125","CITY OF","PERTH","Perth",{"$f":"VLOOKUP(E1772,Admin_lookup!$A$2:$B$14,2,FALSE)","v":"Metro"}]
[6903,"LEEDERVILLE PO BOXES 126-575","CITY OF","PERTH","Perth",{"$f":"VLOOKUP(E1773,Admin_lookup!$A$2:$B$14,2,FALSE)","v":"Metro"}]
[6904,"SUBIACO PO BOXES","CITY OF","PERTH","Perth",{"$f":"VLOOKUP(E1774,Admin_lookup!$A$2:$B$14,2,FALSE)","v":"Metro"}]
[6905,"NORTHLANDS","CITY OF","PERTH","Perth",{"$f":"VLOOKUP(E1775,Admin_lookup!$A$2:$B$14,2,FALSE)","v":"Metro"}]
[6906,"NORTH PERTH PO BOXES","CITY OF","PERTH","Perth",{"$f":"VLOOKUP(E1776,Admin_lookup!$A$2:$B$14,2,FALSE)","v":"Metro"}]
[6907,"NEDLANDS UNIVERSITY OF WESTERN AUSTRALI","CITY OF","PERTH","Perth",{"$f":"VLOOKUP(E1777,Admin_lookup!$A$2:$B$14,2,FALSE)","v":"Metro"}]
[6909,"NEDLANDS PO BOXES","CITY OF","PERTH","Perth",{"$f":"VLOOKUP(E1778,Admin_lookup!$A$2:$B$14,2,FALSE)","v":"Metro"}]
[6910,"CLAREMONT PO BOXES","CITY OF","PERTH","Perth",{"$f":"VLOOKUP(E1779,Admin_lookup!$A$2:$B$14,2,FALSE)","v":"Metro"}]
[6911,"COTTESLOE PO BOXES","CITY OF","PERTH","Perth",{"$f":"VLOOKUP(E1780,Admin_lookup!$A$2:$B$14,2,FALSE)","v":"Metro"}]
[6912,"MOSMAN PARK PO BOXES","CITY OF","PERTH","Perth",{"$f":"VLOOKUP(E1781,Admin_lookup!$A$2:$B$14,2,FALSE)","v":"Metro"}]
[6913,"WEMBLEY PO BOXES","CITY OF","PERTH","Perth",{"$f":"VLOOKUP(E1782,Admin_lookup!$A$2:$B$14,2,FALSE)","v":"Metro"}]
[6914,"BALCATTA PO BOXES","CITY OF","PERTH","Perth",{"$f":"VLOOKUP(E1783,Admin_lookup!$A$2:$B$14,2,FALSE)","v":"Metro"}]
[6915,"MOUNT HAWTHORN PO BOXES","CITY OF","PERTH","Perth",{"$f":"VLOOKUP(E1784,Admin_lookup!$A$2:$B$14,2,FALSE)","v":"Metro"}]
[6916,"OSBORNE PARK DC PO BOXES 1001-1515","CITY OF","PERTH","Perth",{"$f":"VLOOKUP(E1785,Admin_lookup!$A$2:$B$14,2,FALSE)","v":"Metro"}]
[6916,"OSBORNE PARK GARDEN PARK PO BOXES 700-762","CITY OF","PERTH","Perth",{"$f":"VLOOKUP(E1786,Admin_lookup!$A$2:$B$14,2,FALSE)","v":"Metro"}]
[6917,"OSBORNE PARK PO BOXES 1-515","CITY OF","PERTH","Perth",{"$f":"VLOOKUP(E1787,Admin_lookup!$A$2:$B$14,2,FALSE)","v":"Metro"}]
[6918,"INNALOO PO BOXES","CITY OF","PERTH","Perth",{"$f":"VLOOKUP(E1788,Admin_lookup!$A$2:$B$14,2,FALSE)","v":"Metro"}]
[6919,"JOONDALUP DC PO BOXES","CITY OF","PERTH","Perth",{"$f":"VLOOKUP(E1789,Admin_lookup!$A$2:$B$14,2,FALSE)","v":"Metro"}]
[6920,"NORTH BEACH PO BOXES","CITY OF","PERTH","Perth",{"$f":"VLOOKUP(E1790,Admin_lookup!$A$2:$B$14,2,FALSE)","v":"Metro"}]
[6921,"KARRINYUP PO BOXES","CITY OF","PERTH","Perth",{"$f":"VLOOKUP(E1791,Admin_lookup!$A$2:$B$14,2,FALSE)","v":"Metro"}]
[6922,"SCARBOROUGH PO BOXES","CITY OF","PERTH","Perth",{"$f":"VLOOKUP(E1792,Admin_lookup!$A$2:$B$14,2,FALSE)","v":"Metro"}]
[6923,"HILLARYS PO BOXES","CITY OF","PERTH","Perth",{"$f":"VLOOKUP(E1793,Admin_lookup!$A$2:$B$14,2,FALSE)","v":"Metro"}]
[6924,"GREENWOOD PO BOXES","CITY OF","PERTH","Perth",{"$f":"VLOOKUP(E1794,Admin_lookup!$A$2:$B$14,2,FALSE)","v":"Metro"}]
[6925,"WALLISTON DC PO BOXES","CITY OF","PERTH","Perth",{"$f":"VLOOKUP(E1795,Admin_lookup!$A$2:$B$14,2,FALSE)","v":"Metro"}]
[6926,"KALAMUNDA PO BOXES","CITY OF","PERTH","Perth",{"$f":"VLOOKUP(E1796,Admin_lookup!$A$2:$B$14,2,FALSE)","v":"Metro"}]
[6929,"MOUNT LAWLEY PO BOXES","CITY OF","PERTH","Perth",{"$f":"VLOOKUP(E1797,Admin_lookup!$A$2:$B$14,2,FALSE)","v":"Metro"}]
[6931,"MAYLANDS PO BOXES","CITY OF","PERTH","Perth",{"$f":"VLOOKUP(E1798,Admin_lookup!$A$2:$B$14,2,FALSE)","v":"Metro"}]
[6932,"INGLEWOOD PO BOXES","CITY OF","PERTH","Perth",{"$f":"VLOOKUP(E1799,Admin_lookup!$A$2:$B$14,2,FALSE)","v":"Metro"}]
[6933,"BAYSWATER PO BOXES","CITY OF","PERTH","Perth",{"$f":"VLOOKUP(E1800,Admin_lookup!$A$2:$B$14,2,FALSE)","v":"Metro"}]
[6934,"BASSENDEAN PO BOXES","CITY OF","PERTH","Perth",{"$f":"VLOOKUP(E1801,Admin_lookup!$A$2:$B$14,2,FALSE)","v":"Metro"}]
[6935,"GUILDFORD PO BOXES","CITY OF","PERTH","Perth",{"$f":"VLOOKUP(E1802,Admin_lookup!$A$2:$B$14,2,FALSE)","v":"Metro"}]
[6936,"MIDLAND DC","CITY OF","PERTH","Perth",{"$f":"VLOOKUP(E1803,Admin_lookup!$A$2:$B$14,2,FALSE)","v":"Metro"}]
[6937,"TUART HILL LVR1","CITY OF","PERTH","Perth",{"$f":"VLOOKUP(E1804,Admin_lookup!$A$2:$B$14,2,FALSE)","v":"Metro"}]
[6938,"TUART HILL LVR2","CITY OF","PERTH","Perth",{"$f":"VLOOKUP(E1805,Admin_lookup!$A$2:$B$14,2,FALSE)","v":"Metro"}]
[6939,"TUART HILL PO BOX","CITY OF","PERTH","Perth",{"$f":"VLOOKUP(E1806,Admin_lookup!$A$2:$B$14,2,FALSE)","v":"Metro"}]
[6940,"TUART HILL LVR3","CITY OF","PERTH","Perth",{"$f":"VLOOKUP(E1807,Admin_lookup!$A$2:$B$14,2,FALSE)","v":"Metro"}]
[6941,"MIRRABOOKA PO BOXES","CITY OF","PERTH","Perth",{"$f":"VLOOKUP(E1808,Admin_lookup!$A$2:$B$14,2,FALSE)","v":"Metro"}]
[6942,"BASSENDEAN DC PO BOXES","CITY OF","PERTH","Perth",{"$f":"VLOOKUP(E1809,Admin_lookup!$A$2:$B$14,2,FALSE)","v":"Metro"}]
[6943,"MORLEY PO BOXES","CITY OF","PERTH","Perth",{"$f":"VLOOKUP(E1810,Admin_lookup!$A$2:$B$14,2,FALSE)","v":"Metro"}]
[6944,"MALAGA PO BOXES","CITY OF","PERTH","Perth",{"$f":"VLOOKUP(E1811,Admin_lookup!$A$2:$B$14,2,FALSE)","v":"Metro"}]
[6945,"MALAGA DC","CITY OF","PERTH","Perth",{"$f":"VLOOKUP(E1812,Admin_lookup!$A$2:$B$14,2,FALSE)","v":"Metro"}]
[6946,"WANNEROO PO BOXES","CITY OF","PERTH","Perth",{"$f":"VLOOKUP(E1813,Admin_lookup!$A$2:$B$14,2,FALSE)","v":"Metro"}]
[6947,"WANGARA DC PO BOXES","CITY OF","PERTH","Perth",{"$f":"VLOOKUP(E1814,Admin_lookup!$A$2:$B$14,2,FALSE)","v":"Metro"}]
[6951,"SOUTH PERTH PO BOXES","CITY OF","PERTH","Perth",{"$f":"VLOOKUP(E1815,Admin_lookup!$A$2:$B$14,2,FALSE)","v":"Metro"}]
[6952,"COMO PO BOXES","CITY OF","PERTH","Perth",{"$f":"VLOOKUP(E1816,Admin_lookup!$A$2:$B$14,2,FALSE)","v":"Metro"}]
[6953,"APPLECROSS PO BOXES","CITY OF","PERTH","Perth",{"$f":"VLOOKUP(E1817,Admin_lookup!$A$2:$B$14,2,FALSE)","v":"Metro"}]
[6954,"BOORAGOON PO BOXES","CITY OF","PERTH","Perth",{"$f":"VLOOKUP(E1818,Admin_lookup!$A$2:$B$14,2,FALSE)","v":"Metro"}]
[6955,"WILLETTON PO BOXES","CITY OF","PERTH","Perth",{"$f":"VLOOKUP(E1819,Admin_lookup!$A$2:$B$14,2,FALSE)","v":"Metro"}]
[6956,"MELVILLE PO BOXES","CITY OF","PERTH","Perth",{"$f":"VLOOKUP(E1820,Admin_lookup!$A$2:$B$14,2,FALSE)","v":"Metro"}]
[6957,"PALMYRA PO BOXES","CITY OF","PERTH","Perth",{"$f":"VLOOKUP(E1821,Admin_lookup!$A$2:$B$14,2,FALSE)","v":"Metro"}]
[6958,"ROYAL AUSTRALIAN NAVY WARSHIPS","CITY OF","PERTH","Perth",{"$f":"VLOOKUP(E1822,Admin_lookup!$A$2:$B$14,2,FALSE)","v":"Metro"}]
[6959,"FREMANTLE PO BOXES","CITY OF","PERTH","Perth",{"$f":"VLOOKUP(E1823,Admin_lookup!$A$2:$B$14,2,FALSE)","v":"Metro"}]
[6960,"MYAREE BC","CITY OF","PERTH","Perth",{"$f":"VLOOKUP(E1824,Admin_lookup!$A$2:$B$14,2,FALSE)","v":"Metro"}]
[6961,"PALMYRA DC PO BOXES","CITY OF","PERTH","Perth",{"$f":"VLOOKUP(E1825,Admin_lookup!$A$2:$B$14,2,FALSE)","v":"Metro"}]
[6963,"HAMILTON HILL PO BOXES","CITY OF","PERTH","Perth",{"$f":"VLOOKUP(E1826,Admin_lookup!$A$2:$B$14,2,FALSE)","v":"Metro"}]
[6964,"SUCCESS PO BOXES","CITY OF","PERTH","Perth",{"$f":"VLOOKUP(E1827,Admin_lookup!$A$2:$B$14,2,FALSE)","v":"Metro"}]
[6965,"BIBRA LAKE DC PO BOXES","CITY OF","PERTH","Perth",{"$f":"VLOOKUP(E1828,Admin_lookup!$A$2:$B$14,2,FALSE)","v":"Metro"}]
[6966,"KWINANA","CITY OF","PERTH","Perth",{"$f":"VLOOKUP(E1829,Admin_lookup!$A$2:$B$14,2,FALSE)","v":"Metro"}]
[6967,"ROCKINGHAM DC PO BOXES 2001-2350","CITY OF","PERTH","Perth",{"$f":"VLOOKUP(E1830,Admin_lookup!$A$2:$B$14,2,FALSE)","v":"Metro"}]
[6968,"ROCKINGHAM PO BOXES 1-1478","CITY OF","PERTH","Perth",{"$f":"VLOOKUP(E1831,Admin_lookup!$A$2:$B$14,2,FALSE)","v":"Metro"}]
[6969,"ROCKINGHAM BEACH PO BOXES 5001-5400","CITY OF","PERTH","Perth",{"$f":"VLOOKUP(E1832,Admin_lookup!$A$2:$B$14,2,FALSE)","v":"Metro"}]
[6970,"CANNING VALE DC PO BOXES","CITY OF","PERTH","Perth",{"$f":"VLOOKUP(E1833,Admin_lookup!$A$2:$B$14,2,FALSE)","v":"Metro"}]
[6979,"VICTORIA PARK PO BOXES","CITY OF","PERTH","Perth",{"$f":"VLOOKUP(E1834,Admin_lookup!$A$2:$B$14,2,FALSE)","v":"Metro"}]
[6980,"CANNINGTON LVR","CITY OF","PERTH","Perth",{"$f":"VLOOKUP(E1835,Admin_lookup!$A$2:$B$14,2,FALSE)","v":"Metro"}]
[6981,"EAST VICTORIA PARK PO BOXES","CITY OF","PERTH","Perth",{"$f":"VLOOKUP(E1836,Admin_lookup!$A$2:$B$14,2,FALSE)","v":"Metro"}]
[6982,"BENTLEY PO BOXES 1-772","CITY OF","PERTH","Perth",{"$f":"VLOOKUP(E1837,Admin_lookup!$A$2:$B$14,2,FALSE)","v":"Metro"}]
[6983,"BENTLEY DC PO BOXES 1001-1316","CITY OF","PERTH","Perth",{"$f":"VLOOKUP(E1838,Admin_lookup!$A$2:$B$14,2,FALSE)","v":"Metro"}]
[6984,"BELMONT PO BOXES","CITY OF","PERTH","Perth",{"$f":"VLOOKUP(E1839,Admin_lookup!$A$2:$B$14,2,FALSE)","v":"Metro"}]
[6985,"CLOVERDALE PO BOXES","CITY OF","PERTH","Perth",{"$f":"VLOOKUP(E1840,Admin_lookup!$A$2:$B$14,2,FALSE)","v":"Metro"}]
[6986,"WELSHPOOL DC PO BOXES","CITY OF","PERTH","Perth",{"$f":"VLOOKUP(E1841,Admin_lookup!$A$2:$B$14,2,FALSE)","v":"Metro"}]
[6987,"CANNINGTON PO BOXES","CITY OF","PERTH","Perth",{"$f":"VLOOKUP(E1842,Admin_lookup!$A$2:$B$14,2,FALSE)","v":"Metro"}]
[6988,"THORNLIE PO BOXES","CITY OF","PERTH","Perth",{"$f":"VLOOKUP(E1843,Admin_lookup!$A$2:$B$14,2,FALSE)","v":"Metro"}]
[6989,"MADDINGTON PO BOXES","CITY OF","PERTH","Perth",{"$f":"VLOOKUP(E1844,Admin_lookup!$A$2:$B$14,2,FALSE)","v":"Metro"}]
[6990,"GOSNELLS PO BOXES","CITY OF","PERTH","Perth",{"$f":"VLOOKUP(E1845,Admin_lookup!$A$2:$B$14,2,FALSE)","v":"Metro"}]
[6991,"KELMSCOTT PO BOXES 1-550","CITY OF","PERTH","Perth",{"$f":"VLOOKUP(E1846,Admin_lookup!$A$2:$B$14,2,FALSE)","v":"Metro"}]
[6992,"ARMADALE PO BOXES","CITY OF","PERTH","Perth",{"$f":"VLOOKUP(E1847,Admin_lookup!$A$2:$B$14,2,FALSE)","v":"Metro"}]
[6997,"KELMSCOTT DC PO BOXES 1001-1240","CITY OF","PERTH","Perth",{"$f":"VLOOKUP(E1848,Admin_lookup!$A$2:$B$14,2,FALSE)","v":"Metro"}]

{"sheet":"Admin_lookup","index":7,"n_rows":20,"n_cols":4,"rows_kept":20,"cut":false,"hidden":true,"merged":[]}
[]
["Region","Income Limit"]
["Christmas Island","Not applicable"]
["Cocos (Keeling) Islands","Not applicable"]
["Gascoyne","Regional"]
["Goldfields-Esperance","Regional"]
["Great Southern","Regional"]
["Kimberley","Kimberley"]
["Mid-West","Regional"]
["Peel","Regional"]
["Perth","Metro"]
["Pilbara","Pilbara"]
["South West","Regional"]
["Wheatbelt","Regional"]
[]
["Region","Single","Couple","Family"]
["Metro",148000,218000,218000]
["Regional",148000,218000,218000]
["Kimberley",225000,285000,285000]
["Pilbara",225000,285000,285000]

{"sheet":"Admin_HELP","index":8,"n_rows":22,"n_cols":4,"rows_kept":22,"cut":false,"hidden":true,"merged":[]}
[]
[null,"HECS-HELP Range Maintenance"]
[null,"From Range","To Range","Rate %"]
[null,0,54434.99,0]
[null,54435,62850.99,0.01]
[null,62851,66620.990000000005,0.02]
[null,66621,70618.990000000005,2.5000000000000001E-2]
[null,70619,74855.990000000005,0.03]
[null,74856,79346.990000000005,3.5000000000000003E-2]
[null,79347,84107.99,0.04]
[null,84108,89154.99,4.4999999999999998E-2]
[null,89155,94503.99,0.05]
[null,94504,100174.99,5.5E-2]
[null,100175,106185.99,0.06]
[null,106186,112556.99,6.5000000000000002E-2]
[null,112557,119309.99,7.0000000000000007E-2]
[null,119310,126467.99,7.4999999999999997E-2]
[null,126468,134056.99,0.08]
[null,134057,142100.99,8.5000000000000006E-2]
[null,142101,150626.99,0.09]
[null,150627,159663.99,9.5000000000000001E-2]
[null,159664,999999.99,0.1]

{"sheet":"Admin_stamp_duty","index":9,"n_rows":32,"n_cols":4,"rows_kept":32,"cut":false,"hidden":true,"merged":[]}
[]
[null,"STAMP DUTY MAINTENANCE"]
[null,"Standard Stamp Duty on Purchase"]
[null,"From Range","To Range","Rate %"]
[null,0,120000,1.9E-2]
[null,{"$f":"C5+1","v":120001},150000,2.8500000000000001E-2]
[null,{"$f":"C6+1","v":150001},360000,3.7999999999999999E-2]
[null,{"$f":"C7+1","v":360001},725000,4.7500000000000001E-2]
[null,{"$f":"C8+1","v":725001},2000000,5.1499999999999997E-2]
[]
[null,"Standard Stamp Duty on Purchase of Land Only"]
[null,"From Range","To Range","Rate %"]
[null,0,120000,1.9E-2]
[null,{"$f":"C13+1","v":120001},150000,2.8500000000000001E-2]
[null,{"$f":"C14+1","v":150001},360000,3.7999999999999999E-2]
[null,{"$f":"C15+1","v":360001},725000,4.7500000000000001E-2]
[null,{"$f":"C16+1","v":725001},2000000,5.1499999999999997E-2]
[]
[null,"Concessional Stamp Duty on Purchase"]
[null,"From Range","To Range","Rate %"]
[null,0,100000,1.4999999999999999E-2]
[null,{"$f":"C21+1","v":100001},200000,4.3900000000000002E-2]
[]
[null,"First Home Owner Stamp Duty on Purchase"]
[null,"From Range","To Range","Rate %"]
[null,0,500000,0]
[null,{"$f":"C26+1","v":500001},700000,0.1363]
[]
[null,"First Home Owner Stamp Duty on Land"]
[null,"From Range","To Range","Rate %"]
[null,0,350000,0]
[null,{"$f":"C31+1","v":350001},450000,0.15390000000000001]

{"sheet":"Admin_Tax","index":10,"n_rows":9,"n_cols":3,"rows_kept":9,"cut":false,"hidden":true,"merged":[]}
[]
[null,"TAX BRACKET 2024-25"]
[]
[null,"Tax Tier","Tax Rate"]
[null,0,0]
[null,18200,0.16]
[null,45000,0.3]
[null,135000,0.37]
[null,190000,0.45]

{"sheet":"Admin_Rates","index":11,"n_rows":17,"n_cols":3,"rows_kept":17,"cut":false,"hidden":true,"merged":[]}
[]
[]
[null,"WATER & SHIRE RATES MAINTENANCE"]
[]
[null,"Month","# Payments"]
[null,"August ",9]
[null,"September",8]
[null,"October",7]
[null,"November",6]
[null,"December",5]
[null,"January",4]
[null,"February",3]
[null,"March",2]
[null,"April",12]
[null,"May",12]
[null,"June",11]
[null,"July",10]

{"sheet":"Admin_FTP","index":12,"n_rows":12,"n_cols":7,"rows_kept":12,"cut":false,"hidden":true,"merged":[]}
[]
[]
[null,"FAMILY TAX BENEFIT MAINTENANCE"]
[]
[null,"Age From","Age To","Maximum Rate per Dependant","Base Rate per Dependant","Benefit Type","Centrelink Guide"]
[null,0,4,6705.05,2774,"Family Tax Part A","Page 3"]
[null,5,12,6705.05,2774,"Family Tax Part A","Page 3"]
[null,13,15,8446.1,2774,"Family Tax Part A","Page 3"]
[null,16,17,2774,2774,"Family Tax Part A","Page 3"]
[null,18,24,0,0,"Family Tax Part A","Page 3"]
[null,0,4,5372.8,0,"Family Tax Part B","Page 6"]
[null,5,15,3883.6,0,"Family Tax Part B","Page 6"]

{"sheet":"Admin_Depend_assess_rates","index":13,"n_rows":30,"n_cols":4,"rows_kept":30,"cut":false,"hidden":true,"merged":[[3,1,3,3],[2,1,2,5]]}
[]
[]
[null,"DEPENDANT ASSESSMENT RATE MAINTENANCE"]
[]
[null,"Dependant Age","Rate %","Effective Date"]
[null,0,1,"2013-08-01"]
[null,1,1,"2013-08-01"]
[null,2,1,"2013-08-01"]
[null,3,1,"2013-08-01"]
[null,4,1,"2013-08-01"]
[null,5,1,"2013-08-01"]
[null,6,1,"2013-08-01"]
[null,7,1,"2013-08-01"]
[null,8,1,"2013-08-01"]
[null,9,1,"2013-08-01"]
[null,10,1,"2013-08-01"]
[null,11,1,"2013-08-01"]
[null,12,0.5,"2013-08-01"]
[null,13,0.5,"2013-08-01"]
[null,14,0,"2013-08-01"]
[null,15,0,"2013-08-01"]
[null,16,0,"2013-08-01"]
[null,17,0,"2013-08-01"]
[null,18,0,"2013-08-01"]
[null,19,0,"2013-08-01"]
[null,20,0,"2013-08-01"]
[null,21,0,"2013-08-01"]
[null,22,0,"2013-08-01"]
[null,23,0,"2013-08-01"]
[null,24,0,"2013-08-01"]

{"sheet":"Admin_settlement_agent","index":14,"n_rows":9,"n_cols":5,"rows_kept":9,"cut":false,"hidden":true,"merged":[]}
[]
[]
[null,"SETTLEMENT AGENT FEE RANGE MAINTENANCE"]
[]
[null,"From Range","To Range","Fixed Range","Rate %"]
[null,0,150000,963,0]
[null,150001,500000,770,2.2000000000000001E-3]
[null,500001,1000000,825,1.65E-3]
[null,1000001,10000000,9900,1.1000000000000001E-3]

{"sheet":"Admin_HEM","index":15,"n_rows":8,"n_cols":5,"rows_kept":8,"cut":false,"hidden":true,"merged":[]}
[]
[]
[null,"BENCHMARK EXPENSES & RATES ALLOWANCE"]
[]
[null,"Period","Single","Joint","Dependant"]
[null,"Weekly",0,0,0]
[null,"Monthly",{"$f":"SUM(C6*52)/12","v":0},{"$f":"SUM(D6*52)/12","v":0},0]
[null,"Annually",{"$f":"C6*52","v":0},{"$f":"D6*52","v":0},0]

{"sheet":"Admin_Tiered Hems","index":16,"n_rows":46,"n_cols":16,"rows_kept":46,"cut":false,"hidden":true,"merged":[]}
["Tiered Hems"]
[]
["Assesable Income",{"$f":"'Online Assessment tool'!AC35","v":0}]
[]
["Single Applicant",{"$f":"Single_Applicant","v":0}]
[]
["Couple Applicants",{"$f":"Couple","v":0}]
[]
["Number of Dependants",{"$f":"No_of_depend","v":0}]
[]
["Household Type",{"$f":"IF(B5=1,\"S\",IF(B7=1,\"C\",\"\"))","v":""}]
[]
["Income Category",{"$f":"HLOOKUP(B3,E22:P24,3,TRUE)","v":1}]
[]
["Combined ",{"$f":"CONCATENATE(B11,B9)","v":"0"}]
[]
["Expense Amount",{"$f":"VLOOKUP(B15,D25:P46,MATCH(B13,D24:P24,0),0)","v":{"$error":"#N/A"}}]
[]
[]
[]
[]
[null,null,null,null,0,{"$f":"E23+0.01","v":26000.01},{"$f":"F23+0.01","v":39000.01},{"$f":"G23+0.01","v":52000.01},65000.01,78000.009999999995,104000.01,130000.01,156000.01,182000.01,208000.01,261000.01]
[null,null,null,null,26000,39000,52000,65000,78000,104000,130000,156000,182000,208000,261000,326000]
[null,"Family Status","Dependents","Ref",1,2,3,4,5,6,7,8,9,10,11,12]
[null,"Couple",0,"C0",542.97095449999995,557.70440269999995,572.43785089999994,597.29344140000001,637.98227999999995,700.92580550000002,788.19857469999999,862.18205999999998,944.50829599999997,992.89333590000001,1058.9145639999999,1175.4349440000001]
[null,"Couple",1,"C1",612.73150250000003,636.75168870000005,661.71350970000003,686.67533070000002,727.5380692,790.7506085,878.39637159999995,952.696055,1035.374145,1083.9659790000001,1150.269372,1267.28775]
[null,"Couple",2,"C2",679.32882919999997,703.28302599999995,728.08188529999995,752.88074459999996,793.47671379999997,856.27657390000002,943.35014799999999,1017.164772,1099.303103,1147.577708,1213.4482459999999,1329.702677]
[null,"Couple",3,"C3",704.36632450000002,741.03112980000003,779.60447039999997,820.18569239999999,860.76691430000005,923.54396659999998,1010.585912,1084.3737249999999,1166.482219,1214.73929,1280.5859029999999,1396.7981070000001]
[null,"Couple",4,"C4",729.40381979999995,778.77923369999996,831.12705549999998,887.49064009999995,928.05711489999999,990.81135930000005,1077.821676,1151.582678,1233.6613359999999,1281.9008719999999,1347.723559,1463.893536]
[null,"Couple",5,"C5",754.4413151,816.52733750000004,882.6496406,954.79558789999999,995.34731539999996,1058.0787519999999,1145.05744,1218.7916310000001,1300.8404519999999,1349.062455,1414.8612149999999,1530.988965]
[null,"Couple",6,"C6",779.47881050000001,854.27544130000001,934.17222570000001,1022.100536,1062.637516,1125.346145,1212.2932049999999,1286.0005839999999,1368.0195679999999,1416.224037,1481.998871,1598.0843950000001]
[null,"Couple",7,"C7",804.51630580000005,892.02354509999998,985.69481080000003,1089.405483,1129.927717,1192.613537,1279.528969,1353.209537,1435.198684,1483.3856189999999,1549.1365269999999,1665.1798240000001]
[null,"Couple",8,"C8",829.55380109999999,929.77164889999995,1037.217396,1156.710431,1197.2179169999999,1259.88093,1346.764733,1420.4184909999999,1502.3778,1550.5472010000001,1616.2741840000001,1732.2752539999999]
[null,"Couple",9,"C9",854.59129640000003,967.51975270000003,1088.7399809999999,1224.0153789999999,1264.508118,1327.1483229999999,1414.000497,1487.627444,1569.556916,1617.708783,1683.41184,1799.3706830000001]
[null,"Couple",10,"C10",879.62879169999997,1005.2678560000001,1140.2625660000001,1291.3203269999999,1331.7983180000001,1394.415716,1481.236261,1554.836397,1636.7360329999999,1684.8703660000001,1750.5494960000001,1866.466113]
[null,"Single",0,"S0",270.03434800000002,285.43802979999998,300.19689190000003,325.09535649999998,365.85438019999998,428.9064778,516.32978509999998,590.44088680000004,672.90912739999999,721.37762869999995,787.51273819999994,904.23410520000004]
[null,"Single",1,"S1",371.57326430000001,382.93966590000002,397.60051549999997,422.3336309,462.82197580000002,525.45535140000004,612.29808849999995,685.91702269999996,767.83760110000003,815.98422849999997,881.68014010000002,997.62637129999996]
[null,"Single",2,"S2",478.58474589999997,493.2246217,507.8644974,532.56223039999998,572.99265490000005,635.5364237,722.25491969999996,795.76853670000003,877.57191780000005,925.64966159999994,991.25158539999995,1107.0319469999999]
[null,"Single",3,"S3",569.78776670000002,593.46612860000005,618.12847929999998,642.79083000000003,683.16333399999996,745.61749589999999,832.21175089999997,905.62005069999998,987.30623449999996,1035.3150949999999,1100.8230309999999,1216.4375230000001]
[null,"Single",4,"S4",660.99078759999998,693.70763550000004,728.39246109999999,753.0194295,793.33401300000003,855.69856819999995,942.16858209999998,1015.4715650000001,1097.0405510000001,1144.980528,1210.3944759999999,1325.8430989999999]
[null,"Single",5,"S5",752.19380839999997,793.94914240000003,838.65644299999997,863.24802899999997,903.50469210000006,965.77964039999995,1052.125413,1125.323079,1206.774868,1254.6459609999999,1319.965921,1435.2486739999999]
[null,"Single",6,"S6",843.39682919999996,894.19064930000002,948.92042489999994,973.47662860000003,1013.675371,1075.860713,1162.0822439999999,1235.174593,1316.5091849999999,1364.3113940000001,1429.537366,1544.65425]
[null,"Single",7,"S7",934.59984999999995,994.43215620000001,1059.184407,1083.705228,1123.8460500000001,1185.941785,1272.039076,1345.0261069999999,1426.2435009999999,1473.976827,1539.1088119999999,1654.0598259999999]
[null,"Single",8,"S8",1025.8028710000001,1094.673663,1169.4483889999999,1193.9338279999999,1234.0167289999999,1296.0228569999999,1381.995907,1454.8776210000001,1535.9778180000001,1583.6422600000001,1648.680257,1763.465402]
[null,"Single",9,"S9",1117.0058919999999,1194.91517,1279.71237,1304.162427,1344.1874089999999,1406.1039290000001,1491.952738,1564.729135,1645.712135,1693.307693,1758.251702,1872.8709779999999]
[null,"Single",10,"S10",1208.2089129999999,1295.1566769999999,1389.9763519999999,1414.3910269999999,1454.358088,1516.1850019999999,1601.9095689999999,1674.580649,1755.446451,1802.9731260000001,1867.8231479999999,1982.2765529999999]

{"sheet":"Admin_LAM_variables","index":17,"n_rows":56,"n_cols":5,"rows_kept":56,"cut":false,"hidden":true,"merged":[]}
[]
[]
[null,"VARIABLE MAINTENANCE"]
[null,"Name","Description","Value","Notes"]
[null,"AgedPensionLimit","Policy - Loan Percentage Outstanding at Retirement Age Threshold",27]
[null,"AgeDsp","Centrelink - Age Pension and Disability Support Pension (Fortnightly - Basic Rate)","N/A"]
[null,"AnnualSuperDeposit","Calculation - Compulsory Employer Superannuation Contribution",0.115]
[null,"CLAboveB33ReduceBy","FTB-A - Maximum Rate - Benefit Reduction (0.xx cents in dollar)",0.2,"Centrelink Guide Page 3"]
[null,"CLIncomeAboveB35","FTB-A - Base Rate - Benefit Reduction (0.xx cents in dollar)",0.3,"Centrelink Guide Page 3"]
[null,"CLIncomeEachChild","FTB-A - Base Rate - Income Reduction Threshold (Increased for each Child after first)",0,"Reduced from $3796 to $0 "]
[null,"CLIncomeMaxLowerEarner","FTB-B - Income Reduction Threshold (Based on the Lowest Income Earner)",6789,"Centrelink Guide Page 6"]
[null,"CLIncomeMaxIncome","FTB-B - Income based eligibility",117194,"Centrelink Guide Page 5"]
[null,"CLIncomeMinLevel","FTB-A - Base Rate - Income Reduction Threshold",115997,"Centrelink Guide Page 3"]
[null,"CLIncomeReduces","FTB-B - Benefit Reduction (0.xx cents in dollar)",0.2,"Centrelink Guide Page 6"]
[null,"CLIncreaseEachChildAfter","FTB-A - Maintenance Income - Income Reduction Threshold (Increase for each Child after first)",653.35,"Centrelink Guide Page 4"]
[null,"CLLargeFamily","FTB-A - Large Family Supplement (Fourth and subsequent child)",0,"Centrelink Guide Page 5"]
[null,"CLMaintRecOver5","FTB-A - Maintenance Income - Income Reduction Threshold (Single Parent)",3920.1,"Centrelink Guide Page 4"]
[null,"CLMaintRecUnder5","FTB-A - Maintenance Income - Income Reduction Threshold (Couple)",1960.05,"Centrelink Guide Page 4"]
[null,"CLPartAReducing","FTB-A - Maximum Rate - Income Reduction Threshold",65189,"Centrelink Guide Page 3"]
[null,"CLRateOfReduction","FTB-A - Maintenance Income - Benefit Reduction (0.xx cents in dollar)",0.5,"Centrelink Guide Page 4"]
[null,"ConstructionValFee","Loan - Construction Valuation Fee",0]
[null,"ConstructionPeriod","Average construction period - block & build",15]
[null,"DefaultLoanTerm","Loan - Default Loan Term (Years)",30]
[null,"DOHMaxSharePercent","Policy - DOH Equity - Maximum Share (Percentage)","N/A"]
[null,"DOHMaxValue","Policy - DOH Equity - Maximum Share (Dollar Value)","N/A"]
[null,"FeeAssistance","Policy - Maximum Fee Assistance",2000]
[null,"FHOGConstruction","Policy - FHOG - Housing Loan Subsidy (Construction)",10000]
[null,"FHOGEstablished","Policy - FHOG - Housing Loan Subsidy (Established)",0]
[null,"FHOGEstHomeLimit","Policy - FHOG - Maximum Home Value (Established)",530000]
[null,"FHOGLandLimit","Policy - FHOG - Maximum Land Value (Construction)",400000]
[null,"FutureEffectiveDays","Loan - Maximum Days - Effective Date can be set in future","N/A","Number of Days (from the current date) for Future Effective Date calendar picker to show"]
[null,"GenuineSavings","Policy - Minimum Genuine Savings Required (Percentage)","Refer to Loan Variables sheet"]
[null,"GovPensionGrowth","Calculation - Estimated Growth of Government Pension",0.01]
[null,"IntRate","Interest Rate - Keystart standard variable",7.0999999999999994E-2]
[null,"MaxDebtServiceRatio","Policy - Maximum Debt Service Ratio / Debt to Income (Percentage)",0]
[null,"MaxIncome","Policy - Maximum Qualifying Income","Refer to Loan Variables sheet"]
[null,"MaxLoanAmount","Policy - Maximum Loan Amount","Refer to Loan Variables sheet"]
[null,"MaxPropertyValue","Policy - Maximum Property Value","Refer to Loan Variables sheet"]
[null,"Median property value","Retirement age policy",510000]
[null,"MedicareLevy","Calculation - Medicare Levy (Percentage)",0.02]
[null,"MinimumDeposit","Policy - Minimum Deposit Required (Percentage)","Refer to Loan Variables sheet"]
[null,"MinimumMonthlyConstPymt","Minimum monthly repayment - construction loans",200]
[null,"NIS Buffer","NIS Buffer",0.01]
[null,"NewStart","Centrelink - Newstart Allowance (Fornightly - Single / Couple / Family)","N/A"]
[null,"ParentingPayment","Centrelink - Parenting Payment (Fortnightly - Single / Couples)","N/A"]
[null,"PensionCouple","Centrelink - Aged Pension - Couple (Annually - One Person - Includes Pension Supplement)",20852,"Centrelink Guide Pages 14 & 32"]
[null,"PensionSingle","Centrelink - Aged Pension - Single (Annually - Includes Pension Supplement)",27664,"Centrelink Guide Pages 14 & 32"]
[null,"RateBuffer","Calculation - Assessment Rate Buffer (Percentage) - All regions",0.02]
[null,"RetirementCalcBuffer","Calculation - Retirement Rate Buffer (Percentage added to Current Interest Rate)",0.01]
[null,"SDConcessionalLimit","Calculation - Concessional Stamp Duty Threshold (House and Land with No FHOG)",200000]
[null,"SettlementFeeMin","Loan - Settlement Agents Fee (Minimum)",963]
[null,"SharedEquitySplitLimit","Calculation - Maximum overriding DOH Equity in a Property (70/30 and 80/20 split)","N/A"]
[null,"SLSharedPropCeiling","Calculation - Property Value ceiling for eligibility of Social Lending Requirements","N/A","Variable referenced when checking the max. property ceiling for Shared Equity min. deposit calculation"]
[null,"SuperAnnualReturn","Calculation - Retirement Age Superannuation Projection - Annual Return of Portfolio",0.04]
[null,"SuperEmployeeRate","Compulsory Employer Superannuation Contribution",0.115]
[null,"WaterAllowance","Loan - Maximum Water/Shire Rates Allowance",3000]

{"sheet":"Admin_loan_variables","index":18,"n_rows":60,"n_cols":2,"rows_kept":60,"cut":false,"hidden":true,"merged":[]}
[{"$f":"CELL(\"filename\")","v":"C:\\Users\\naung\\AppData\\Local\\Microsoft\\Windows\\INetCache\\Content.Outlook\\92X2GW43\\[Offline Calc. v1.92 effective 15 October 2025 (2).xlsm]Online Assessment tool"}]
[]
["Calculator expiry data","2030-12-31"]
[]
["KEYSTART INCOME LIMITS"]
["Metro - Single",148000]
["Metro - Couple",218000]
["Metro - Family",218000]
["Regional - Single",148000]
["Regional - Couple ",218000]
["Regional - Family",218000]
["Kimberley - Single",225000]
["Kimberley - Couple",285000]
["Kimberley - Family",285000]
["Pilbara - Singles",225000]
["Pilbara - Couples ",285000]
["Pilbara - Family",285000]
[]
["KEYSTART PROPERTY VALUE LIMITS"]
["Metro ",800000]
["Regional",800000]
["Kimberley & Pilbara",800000]
["Kimberley & Pilbara",800000]
[]
["KEYSTART MAXIMUM LOAN AMOUNT"]
["Metro  - Up to $800,000",784000]
["Regional - Up to $800,000",784000]
["Regional - Up to $800,000",784000]
["Kimberley & Pilbara - Up to $800,000",784000]
["Kimberley & Pilbara - Up to $800,000",784000]
[]
[]
["DEPOSIT REQUIREMENT"]
[{"$f":"A26","v":"Metro  - Up to $800,000"},0.02]
[{"$f":"A27","v":"Regional - Up to $800,000"},0.02]
[{"$f":"A28","v":"Regional - Up to $800,000"},0.02]
[{"$f":"A29","v":"Kimberley & Pilbara - Up to $800,000"},0.02]
["Kimberley & Pilbara $500,001 to $750,000 ",0.02]
[]
[]
["GENUINE SAVINGS REQUIREMENT"]
[{"$f":"A26","v":"Metro  - Up to $800,000"},0.01]
[{"$f":"A27","v":"Regional - Up to $800,000"},0.01]
[{"$f":"A28","v":"Regional - Up to $800,000"},0.01]
[{"$f":"A29","v":"Kimberley & Pilbara - Up to $800,000"},0.01]
["Kimberley & Pilbara $500,001 to $750,000 ",0.02]
[]
[]
["MAXIMUM LVR"]
[{"$f":"A26","v":"Metro  - Up to $800,000"},0.98]
[{"$f":"A27","v":"Regional - Up to $800,000"},0.98]
[{"$f":"A28","v":"Regional - Up to $800,000"},0.98]
[{"$f":"A29","v":"Kimberley & Pilbara - Up to $800,000"},0.98]
["Kimberley & Pilbara $500,001 to $750,000 ",0.98]
[]
[]
[]
["MAXIMUM DEBT RATIO"]
["Standard Keystart L70 - Singles & Couples",0.1]
["Standard Keystart L70 - Families",0.1]

{"sheet":"Admin_Log","index":19,"n_rows":308,"n_cols":6,"rows_kept":308,"cut":false,"hidden":true,"merged":[]}
["DATE LOG OF CHANGES","Version","Effect Date"]
["Included LVR Calculation on main sheet",null,"2002-12-05"]
["Included worksheet to assist in annualising income",null,"2002-12-16"]
["HECS figures updated",null,"2003-01-07"]
["New Policy included",null,"2003-03-19"]
["Centrelink payments updated",null,"2003-03-19"]
["Max loan and Purchase price updated",null,"2003-05-05"]
["max loan updated to $240,000  -  worksheet end date 01/02/2004",null,"2003-11-19"]
["Centrelink benefits 20 sept to 31 dec 2003",10,"2003-11-19"]
["Interest rate increase .25%   Version number 11 not sent to brokers?",11,"2003-12-01"]
["Interest rate increase .25%  ",12,"2004-01-01"]
["Stamp Duty changed,  no changes to worksheet Centrelink. Unhide some area's.  Expiry date  01/05/2004   amend age 65 workings.",13,"2004-01-26"]
["Stamp  Duty for First Homebuyersa corrected.",13.1,"2004-02-11"]
["Include GreenSmart $1,000 as part of Fee Assistance.",14,"2004-03-01"]
["Amend 27.03% to 27%,   Take $75,000 max income off HECS",14,"2004-03-01"]
["Centrelink amended, new expiry date  1 July 2004,(later found wrong date used) SD fhog AND Est. fixed. ",15,"2004-04-20"]
["term changed from 25 to 30 yrs and assessed rate from 2% margin to 1% ie 7.99%.  Also tax rates changed to 2003/04 rates",16,"2004-04-22"]
["Settlement agent fees increased",16.100000000000001]
["Added settlement fee to broker version, also if loan>policy",16.2,"2004-04-29"]
["Corrected settlement agent fee to purchaser rate…included new val fee from 1 may 2004",16.3,"2004-04-29"]
["New warning messages for new max loan amounts",16.399999999999999]
["Texpiry date  extended to 1st Aug",16.5,"2004-05-28"]
["Amended for new First Home Owners stamp duty as from 1July 2004 time bomb 1st Oct 2004",17]
["Amended for new HECS/HELP parameters, estimate of annual shire/water $1,200 pa. Minor changes to deposit requirements messages. Centerlink changes to Sept 2004.   Expiry date  set to 1st Nov 04.",17.100000000000001,"2004-07-23"]
["Amended Family tax part A (au37) page 2. % reduced from 30% to 20% - put into sheet1. Part A amended to exclude Supplement $613.20 - applicable 2004/05 only. .",17.2,"Not sent to brokers"]
["Amended Family tax part A (au37) page 2. % reduced from 30% to 20% - put into sheet1. Part A amended to exclude Supplement $613.20 - lump sum payable after tax return done.  For age 65 section have amended to be term remaining or 10 years - whichever is the smaller repayment. For Land only have amended stamp duty on trf to be at normal rates...can claim back when they move in.  REBA max pp $125,000.   Warning message outside policy at age 65 changed to DSR at that age >27%. Tab changed from Sheet 1 to Variables and new Log sheet created.",17.3,"2004-08-23"]
["In V17.3 considered  stamp duty for First Home Buyers payable up front and claim back later.  Not so. On production of copy of FHOG approval and Stamp duty form, duty exempt when land trf stamped. If Land Loan FHOG is \"blacked out\" - FHOG can only be approved when building contract is signed. Legal fees increased $2.20 for DLI fee increase.",17.399999999999999,"2004-09-06"]
["Qrtly Centrelink changes to Parenting Payment, Aged pension, Newstart and in broker v min stds to included fully completed applic.  Expiry date set 1/2/05",17.5,"2004-10-29"]
[null,17.600000000000001]
["Qrtly Centrelink changes Jan to March 2005 no changes to major benefits . In fees box rates/water changed to $1500 pa. Miscellaneaous fees increased from $100 to $200   Expiry date set 1/5/05",17.7]
["Increase in rate by .25%  from current rate 6.99% to 7.24% and assessed 7.99% to 8.24% - 1% margin.",18,"2005-03-18"]
["include filename in the sheet - internal one only",18.100000000000001]
["Update lastest Centrelink and filename in broker version as well.  Expiry date 01 Aug 05",19,"2005-04-27"]
["Large Family Supplement \"Loan worksheet AV40\" moved to \"variables\"",19,"2005-05-31"]
["Allocation of shire & water rates made 100% for June each yr. Loan worksheet AW66 made 12. Also see variables b27 for total allocation of yrs rates.",19.100000000000001,"2005-06-15"]
["Income tax table changed from 01/07/05.  Centrelink updated. More lines included in payee box in increase tab",20,"2005-07-06"]
["Centrelink changes  -  Lending limits increased",21]
["Small changes - Loan DSR, DSR & LVR ratio's to 1 decimal place, add HELP to HECS amend AY to \"variable b43\" and centrelink changes. Also major amendmets to Child Support sheet.",22,"2005-09-13"]
["Board 20/12/2005 approved change of removing Loan DSR and only having Total DSR. Also DSR rate changed for incomes below and over $35,000. Centrelink Jan - March 06 - no changes to major benefits.",23,"2005-12-22"]
["New stamp Duty exemptions from 1/1/06 for refinanced loans. Only amended in the \"Mtge SD\" tab.",23.1,"2006-01-03"]
["New Centrelink rates updated 20/3 to 30/6/06",24,"2006-04-24"]
["RBA rate rise 3 May 06 Int rate increase .25%,  to 7.49%    Mortgage SD halved. Increased loan details included in front worksheet.",25,"2006-07-01"]
["New centrelink rates to 19 Sept. 06.  Small increase in legal fee at DOLI",25.1,"2006-07-07"]
["New increased lending limits - max pp $500,000",26,"2006-07-27"]
["Part A & B (Page 2, 3, 4 of guide) amended - should have been in V26.",26.1,"2006-08-01"]
["Loan limits increased to $500,000 & 10% removed.",27,"2006-08-21"]
["DSR increases 33% to 36%,  35% to 39%,  38% to 42%. Res Bank Interest rate increase 2 Aug 06 by .25%, KS to 7.74%.  REBA inrease on purchase limit to $400,000.  New Centrelink rates.",28,"2006-09-28"]
["Increase in rate by .25%  from current rate 7.74% to 7.99% and assessed 8.74% to 8.99% - 1% margin.     Calculation of SD on Est to include Fee Ass.  Mtge SD increase loan section made same as fee worksheet.",29,"2007-01-01"]
["Balance at age 65 youngest applic. Amended to deduct FV of Superan. for both from loan bal. at 65. ",29,"2007-01-01"]
["On Mtge SD sheet Land Loan added with sd based on 100%, not 105%.",29.1]
["Cell G73 changed from <200000 to <=200000….changed to v29.2 to keep in step with broker version.",29.2,"2007-03-21"]
["HECS figures updated to 2007/08",29.2,"2007-04-19"]
["First home Buyer stamp duty exemption increased from 10/05/07 to $500,000 - also land to $300,000. Also Centerlink and new tax scales updated.",30,"2007-05-11"]
["Landgate fees amended in line with new fees effective 2 July 2007.",30.1,"2007-06-19"]
["Centrelink payments adjusted to new rates effective 1 July 2007.",30.2,"2007-06-27"]
["Income tax table updated to new rates effective 1 July 2007",30.2,"2007-06-26"]
["Centrelink Benefits 1 July 2007 to 19 September 2007",30.2,"2007-06-26"]
["UMI BASIS OF ASSESSMENT INTRODUCED ",30.2,"2007-06-26"]
["Interest Rate increase .25% to 8.24%.         Up date Centrelink.",31,"2007-11-01"]
["Interest Rate increase .25% to 8.24%.         Up date Centrelink update Henderson Poverty index numbers.",31,"2007-11-01"]
["Interest Rate increase .25% to 8.49%.",32,"2008-02-01"]
["Interest Rate increase .25% to 8.74%. Henderson Poverty Index updated.",33,"2008-02-21"]
["UMI & DSR Calculator combined with First Start Calculator",33,"2008-02-21"]
["Interest rate increase .25% to 8.99% from 1st June. Board approved 50% of Child Maintance and Fam tax A and B to be used in calculation of DSR. HPI figures updated to December 2007 figures.",34,"2008-05-01"]
["Income tax rates changed to new rates effective 1 July 2008",35,"2008-07-01"]
["Updated Henderson Poverty Index to March 08 quarter figures",35,"2008-07-01"]
["Updated stamp duty tables in line with new rates effective 1 July 08",35,"2008-07-01"]
["Updated HECS & HELP table to 2008-2009 rates",35,"2008-07-01"]
["Interest rate decrease .25% to 8.74%",35.1,"2009-09-16"]
["FHOG increased to $14,000 (Established) $21,000 (Construction)",35.200000000000003,"2008-10-15"]
["Interest rate decrease by 1.00% to 7.74%.",35.299999999999997,"2008-10-22"]
["Updated Henderson Poverty Index to June 08 quarter figures",35.299999999999997,"2008-10-22"]
["Centrelink Benefits updated to 20 Sept 08 to 31 Dec 08 entitlements",35.299999999999997,"2008-10-22"]
["Interest rate decrease by .50% to 7.24% from 1 Dec 08. Buffer increased to 3.5%.",35.4,"2008-12-01"]
["Interest rate decrease by 1.00% to 6.24%.",35.5,"2008-12-09"]
["Interest rate decrease by 1.00% to 5.24% effective 7 Feb 09.",35.6,"2009-02-03"]
["Maximum income limit decreased to $120,000",35.700000000000003,"2009-03-01"]
["Maximum property value decreased to $412,000 for Perth metro & country areas. ",35.700000000000003,"2009-03-01"]
["Debt to income ratio introduced.",35.700000000000003,"2009-03-01"]
["Updated Henderson Poverty Index to Sept 08 figures",35.700000000000003,"2009-03-01"]
["Interest rate decrease by 0.25% to 4.99% effective 19 April 2009.",35.9,"2009-04-20"]
["Amended Family Tax rate for 14yo to 0% share, consistent with Internal calculator",35.9,"2009-05-04"]
["Correct errors as stated in work schedule (v35.9 to v36.0)",36,"2009-07-06"]
["Update Henderson Poverty Index to Mar 2009",36,"2009-07-06"]
["Update Centrelink to Jun 2009",36,"2009-07-06"]
["Update Landgate charges to 1 Jul 09",36,"2009-07-06"]
["Update DOH fees to 1 Jul 09",36,"2009-07-06"]
["Income tax rates changed to new rates effective 1 July 2009",36.1,"2009-07-23"]
["Updated HECS & HELP table to 2009-2010 rates",36.1,"2009-07-23"]
["Contract date drop down menu incorporated to allow for reduction in FHOG Boost",36.200000000000003,"2009-09-07"]
["Minimum deposit changed to 4% or $4,000 (whichever is greater) for property values up to $450,000.",36.200000000000003,"2009-09-07"]
["Provision for SFSS debt repayments incorporated in commitments box.",36.200000000000003,"2009-09-07"]
["Updated Centrelink benefits 20 Sept to 31 Dec 2009 entitlements",36.299999999999997,"2009-10-12"]
["Updated Henderson Poverty Index to Jun 09 figures",36.299999999999997,"2009-10-12"]
["Interest rate increase by 1.03% to 6.02%",36.299999999999997,"2009-10-12"]
["Interest rate increased by 0.25% to 6.27% effective 9 Nov 09",36.4,"2009-11-06"]
["UMI warning message changed ",36.4,"2009-11-06"]
["Interest rate increased by 0.35% to 6.62% effective 21 Dec 09",36.5,"2009-12-21"]
["Updated Henderson Poverty Index to Sept 09 figures",36.6,"2010-03-04"]
["Interest rate increased by 0.25% to 6.87%.",36.6,"2010-03-04"]
["Minimum deposit changed to 6% or $6,000 (whichever is greater) for property values up to $450,000.",36.700000000000003,"2010-03-30"]
["Genuine savings requirement changed to 3% of property value.",36.700000000000003,"2010-03-30"]
["Establishment fee increased to $600.",36.700000000000003,"2010-03-30"]
["Income thresholds introduced. Singles - $70,000, Couple - $90,000",36.700000000000003,"2010-03-30"]
["Updated Henderson Poverty Index to Dec 2009 data.",36.700000000000003,"2010-03-30"]
["Updated Centrelink benefits to 20 March - 30 June 2010 data.",36.700000000000003,"2010-03-30"]
["Interest rate increased by 0.25% to 7.12%",36.799999999999997,"2010-04-19",null,null," "]
["Removed loan increase section from main worksheet.",36.799999999999997,"2010-04-19"]
["Removed First Start worksheets from main workbook",36.799999999999997,"2010-04-19"]
["Removed contract date cell & changed formula for FHOG to ",36.799999999999997,"2010-04-19"]
["Valuation fee increased to $195.00 (established) & $214.50 (construction)",36.9,"2010-05-20"]
["Interest rate increased to 7.37% effective 1 June 2010",37,"2010-06-01"]
["Landgate fees amended to new schedule effective 1 July 2010",37.1,"2010-07-01"]
["Updated Henderson Poverty Index to March 2010 data",37.1,"2010-07-01"]
["Income tax rates changed to new rates effective 1 July 2010",37.1,"2010-07-01"]
["Updated Centrelink Benefits to rates effective 1 July 2010",37.1,"2010-07-01",null," "]
["Updated HECS & HELP table to 2010-2011 rates",37.1,"2010-07-01"]
["Updated Centrelink Benefits to rates effective 1 Jan to 19 March 2011",37.200000000000003,"2011-02-17"]
["Updated Henderson Poverty Index to Sept 2010 rates",37.200000000000003,"2011-02-17"]
["Minimum deposit changed to 4% and genuine savings to 2%.",37.200000000000003,"2011-02-17"]
["Interest increased by 41 basis points to 7.78%",37.299999999999997,"2011-02-23"]
["Updated Centrelink benefits to rates effective 1 July 2011",37.4,"2011-07-01"]
["Updated Henderson Poverty Index to March 2011 rates",37.4,"2011-07-01"]
["Updated HECS to 2011-2012 rates",37.4,"2011-07-01"]
["Landgate fees amended to new schedule effective 1 July 2011",37.4,"2011-07-01"]
["Provision for rates increased to $1900",37.4,"2011-07-01"]
["Valuation fee increased to $195.00 (established) ",37.5,"2011-08-09"]
["Updated Centrelink benefits to rates effective 20 Sept to 31 Dec 2011",37.6,"2011-09-27"]
["Updated Henderson Poverty Index to June 2011 rates",37.6,"2011-09-27"]
["Minimum deposit changed to 2% with genuine savings of 1%",37.700000000000003,"2011-11-08"]
["Interest rate decreased to 7.53% effective 14 Nov 11",37.700000000000003,"2011-11-08",null," "]
["Interest rate decreased to 7.28% effective 22 Dec 11",37.799999999999997,"2011-12-10"]
["Incorporated facility to select repayment frequency for other debts",37.799999999999997,"2012-01-03"]
["Standard L70 loan - Income limit increased to $110,000 for families",37.9,"2012-01-27"]
["Debt ratio increased to 8% for familes - Standard L70 loan only",37.9,"2012-01-27"]
["Updated Henderson Poverty Index to Sept 11 data",37.9,"2012-01-27"]
["Interest rate increased by 0.08% to 7.36% effective 5 March 12",38,"2012-02-27"]
["Updated Henderson Poverty Index to Dec 2011 figures",38.1,"2012-04-16"]
["Updated Centrelink benefits to rates effective 20 March to 30 June 2012.",38.1,"2012-04-16"]
["Interest rate decreased to 6.99% effective 14 May 2012",38.200000000000003,"2012-05-11"]
["Income & debt ratio limit for couples is now max $110k & 8%",38.299999999999997,"2012-05-20"]
["Interest rate decreased by 0.22% to 6.77% effective 18 June 12",38.4,"2012-06-10"]
["Updated DOH fees to new rates effective 1 July 2012.",38.4,"2012-06-10"]
["Updated income tax rates to new rates effective 1 July 2012",38.4,"2012-06-10"]
["Updated Henderson Poverty Index to March 2012 figures",38.5,"2012-07-06"]
["Updated HECS to 2012-13 rates",38.5,"2012-07-06"]
["Updated Centrelink benefits to rates effective 1 July to 19 September 2012",38.5,"2012-07-09"]
["Buffer reduced to 2.5% - Metro, regional & Gascoyne only",38.6,"2012-09-28"]
["Debt ratio increased to 10% for all loan products",38.6,"2012-09-28"]
["Income increased to $90,000 (singles) $110,000 couples & $130,000 (couples & families) - Metro",38.6,"2012-09-28"]
["Income increased to $110,000 (singles) & $130,000 (Couples/families) - Regional areas",38.6,"2012-10-18"]
["Income increased to $120,000 (singles) & $150,000 (couples & families - Kimberley",38.6,"2012-10-18"]
["Income increased to $150,000 (singles & $180,000 (couples & families) - Pilbara",38.6,"2012-10-18"]
["Max purchase price for standard loan increased to $450,000 (metro)",38.6,"2012-10-18"]
["Max purchase price for standard loan increased to $500,000 (regional)",38.6,"2012-10-18"]
["Max purchase price for standard loan increased to $700,000 (Kimberley)",38.6,"2012-10-18"]
["Max purchase price for standard loan increased to $850,00 (Pilbara)",38.6,"2012-10-18"]
["2% deposit / 1% genuine savings - Metro  $0 - $450,000",38.6,"2012-10-18"]
["5% deposit / 1% genuine savings - Regional $450,001 - $500,000",38.6,"2012-10-18"]
["7% deposit / 2% genuine savings - Kimberley & Pilbara $500,001 - $600,000",38.6,"2012-10-18"]
["8% deposit / 3% genuine savings - Kimberley & Pilbara $600,001 - $700,000",38.6,"2012-10-18"]
["9% deposit / 4% genuine savings - Pilbara $700,001 - $800,000",38.6,"2012-10-18"]
["10% deposit / 5% genuine savings - Pilbara $800,001 - $850,000",38.6,"2012-10-18"]
["Updated Henderson Poverty Index data to June 2012 figures",38.6,"2012-10-03"]
["Interest rate decreased by 0.20% to 6.57%",38.6,"2012-10-12"]
["Interest rate decreased by 0.20% to 6.37%",38.700000000000003,"2012-12-14"]
["Updated Henderson Poverty Index data to Sept 2012 data",38.799999999999997,"2013-01-30"]
["Updated Henderson Poverty Index to dec 2012 data",38.9,"2013-05-03"]
["Updated Centrelink benefits to to rates effective 20 March to 30 Jun 2013",38.9,"2013-05-03"]
["Interest rate decreased by 0.25% to 6.12% (new) & 5.34% (existing) eff 13 May 13",38.9,"2013-05-08"]
["Updated Centrelink benefits to rates effective 1 July to 19 Sept 2013",39,"2013-07-15"]
["Updated Henderson Poverty Index to Mar 13 Qtr data",39,"2013-07-24"]
["Interest Rate Amended to 5.86",39.1,"2013-08-13"]
["FHOG increased to $10000 Construction & Reduced to $3000 Established",39.1,"2013-08-13"]
["Property "]
["Max purchase price for standard loan increased to $470,000 (metro & regional)",39.200000000000003]
["Updated Centrelinks benefit to rates effect 20 Sept to 31 dec 2013",39.299999999999997,"2013-09-22"]
["Updated Henderson Poverty Index to Jun 13 Qtr",39.299999999999997,"2013-10-22"]
["Annualising calculator changed to daily methodology",39.4,"2013-12-13"]
["Settlement agent fees increased to new rates effective 1 October 2013",39.4,"2013-12-13"]
["Updated Henderson Poverty Index to Sept 13 Qtr data",39.4,"2014-01-22"]
["Income limits increased to $95,000 for singles (Metro only)",39.5,"2014-03-14"]
["Income limits to $135,000 for couples, siblings & families (Metro & regional only)",39.5,"2014-03-14"]
["Maximum purchase price increased to $480,000 (Metro only)",39.5,"2014-03-14"]
["Income limit decreased to $115k for couples & siblings (metro area only)",39.6,"2014-04-28"]
["Updated Henderson Poverty Index to Dec 13 Qtr",39.6,"2014-04-28"]
["Updated FHB stamp duty thresholds and rate to rates effect 1 Jul 14",39.700000000000003,"2014-05-19"]
["Updated HECS and Medicare to new rates effective 1 Jul 14",39.799999999999997,"2014-07-23"]
["Updated Centrelink benefits to rates effective 1 Jul 14 to 19 Sept 14",39.799999999999997,"2014-08-01"]
["Updated HPI data to March 2014 quarter",39.9,"2014-08-18"]
["Created online assessment tool for release to broker network",1,"2015-01-30"]
["Updated Centrelink benefits to rates effective 20 Sept 14 to 31 Dec 14",1,"2015-01-30"]
["Amended stamp duty rates on land to residential rates",1,"2015-01-30"]
["Interest rate decreased by 0.26% to 5.60% effect 12 Feb 15",1.1000000000000001,"2015-02-06"]
["Income limits reduced to $75k (singles), $95k (couples) & $115k (families) Metro & regional only)",1.2,"2015-05-01"]
["Maximum property value reduced to $600k (Kimberley) & $700k (Pilbara)",1.2,"2015-05-01"]
["Interest rate decreased by 0.22% to 5.38% effective 13 May 2015",1.3,"2015-05-07"]
["Updated HPI to Dec 14 Qtr data",1.3,"2015-05-07"]
["Allowance for rates increased to $2500 per annum",1.3,"2015-05-07"]
["Incorporated suburb & postcode search facility",1.4]
["Updated loan fees to new fees effective 1 July 2015",1.5,"2015-07-01"]
["Updated HECS/HELP to new rates effective 1 July 2015",1.5,"2015-07-01"]
["Buffer changed to 3.0% for all regions",1.6,"2015-10-01"]
["FHOG for established properties changed from $3000 to $0",1.6,"2015-10-01"]
["Interest rate increased by 0.17% to 5.55% effective 30 Nov 15",1.7,"2015-10-30"]
["Updated HPI to Jan 15 Qtr",1.8,"2016-01-01"]
["Updated Centrelink benefits to rates effective 20 Sept 15 to 31 Dec 15",1.8,"2016-01-01"]
["Updated FTB calculation & included percentage care dropdown","1.10","2016-02-12"]
["Updated HPI to Sept 15 Qtr","1.10","2016-02-29"]
["Incorporated PCRV & CPPV construction repayment viability assessment","1.10","2016-04-29"]
["Interest rate decreased by 0.24% to 5.51% effect 13 May 2016","1.11","2016-05-04"]
["Updated loan fees to new fees effective 1 July 2016",1.1200000000000001,"2016-06-29"]
["Updated HECS/HELP to new rates effective 1 July 2015",1.1200000000000001,"2016-06-29"]
["Updated HPI to Dec 15 Qtr",1.1200000000000001,"2016-06-29"]
["Maximum property value for Kimberley & Pilbara reduced to $500,000.",1.1299999999999999,"2016-09-01"]
["Maximum loan amount for Kimberley & Pilbara reduced to $475,000",1.1299999999999999,"2016-09-01"]
["Interest rate reduced to 5.19% effective 19 Aug 16",1.1299999999999999,"2016-08-19"]
["Updated HPI to Mar 16 Qtr",1.1399999999999999,"2016-10-17"]
["Updated Centrelink to rates effective 1 Jul to 19 Sept 16",1.1399999999999999,"2016-10-17"]
["Income limits increased to $90k singles, $115k couples & $135k families.",1.1499999999999999,"2016-12-28"]
["Property value limit increased to $650k for Kimberley & Pilbara",1.1499999999999999,"2016-12-28"]
["Deposit and gen savings changed 7% and 2% for Kimberley & Pilbara",1.1499999999999999,"2016-12-28"]
["Max loan changed to $604,500 for Kimberley & Pilbara",1.1499999999999999,"2016-12-28"]
["Included provision for FHOG increase to $15,000 from 1 Jan 2017",1.1499999999999999,"2016-12-28"]
["Updated HPI to Sept 16 Qtr",1.1599999999999999,"2017-04-03"]
["Interest rate increased by 0.3% effective 8 May 17",1.17,"2017-05-08"]
["Incorporated max Child Maintenance threshold of 40%",1.17,"2017-05-08"]
["Updated HPI to Dec 16 Qtr",1.18,"2017-07-17"]
["Updated HECS/HELP to new rates effective 1 July 2017",1.18,"2017-07-17"]
["Interest rate dreased by 0.6% to 5.16% effective 14 July 2017",1.18,"2017-07-14"]
["Updated HPI to March 17 Qtr",1.19,"2017-10-16"]
["Updated HPI to June 17 Qtr",1.2,"2018-01-15"]
["Updated HPI to Sept 17 Qtr",1.21,"2018-04-16"]
["Updated HPI to Dec 17 Qtr",1.22,"2018-07-16"]
["Updated tax rates & HELP, SSL & TSL",1.23,"2018-10-01"]
["Changed living expenses methodology to HEM based approach",1.23,"2018-10-01"]
["Reduced interest rate buffer from 3.0% to 2.25%",1.23,"2018-10-01"]
["Incorporated a Net Disposable Income (NDI) buffer of 0.5%",1.23,"2018-10-01"]
["Removed genuine savings requirement",1.23,"2018-10-01"]
["Updated Centrelink Family Tax Payment A & B",1.23,"2018-10-01"]
["Interest rate increased to 5.34% effect 1 Nov 18",1.24,"2018-11-01"]
["Maiintenance paid is no longer excluded from qualifying income",1.24,"2018-11-22"]
["Updated HEM to 2018 Qtr 3 data",1.25,"2019-01-17"]
["Reduced interest rate buffer from 2.25% to 2.0%",1.25,"2019-02-01"]
["Updated HEM to Qtr 4 2018 data",1.26,"2019-05-23"]
["Income limits increased by $15k (singles & couples) & $20k (families)",1.27,"2019-07-01"]
["Incorporated new credit card assessment guidelines into Debts section",1.28,"2019-06-01"]
["Interest rate reduced from 5.34% to 5.15% effective",1.29,"2019-07-01"]
["Updated HELP loan repayment thresholds to 2019-20 rates",1.3,"2019-07-01"]
["Updated HEM to Qtr 1 2019",1.3,"2019-07-15"]
["Interest rate reduced by 0.21% to 4.94%",1.31,"2019-07-23"]
["Maximum 10% DSR policy removed",1.32,"2019-09-01"]
["Updated HEM to 2019 Qtr 2",1.33,"2019-09-01"]
["Updated Centrelink benefits to quarter 1 July - 19 September 2019",1.33,"2019-09-01"]
["Interest rate reduced by 0.15% to 4.79%",1.34]
["Interest rate buffer increased to 2.5% & NDI buffer reduced to 0%",1.35,"2019-12-01"]
["Updated HEM to 2019 Qtr 3",1.36,"2020-01-14"]
["Interest rate reduced by 0.25% to 4.54%",1.37,"2020-03-24"]
["Incorporated Minimum Monthly Construction Period Payment",1.38,"2020-04-13"]
["Updated HEM to 2019 Qtr 4",1.39,"2020-04-13"]
["Incorporated provision for home renovation loan increases in calc",1.4]
["Updated HEM to 2020 Qtr 1",1.41,"2020-07-16"]
["Updated HEM to 2020 Qtr 2",1.42,"2020-10-19"]
["Updated HELP to 2020-21 repayment thresholds",1.42,"2020-10-19"]
["Incorporated new tax rates for 2020-21",1.43,"2020-11-16"]
["Included retirement age summary page",1.44]
["Updated HEM to 2020 Qtr 3",1.45,"2021-01-25"]
["Updated HEM to 2020 Qtr 4",1.46,"2021-04-12"]
["Updated Family Tax Benefit A & B",1.46,"2021-04-22"]
["Updated HEM to Qtr 1 2021 thresholds",1.47,"2021-07-12"]
["Employer super contribution increased to 10%",1.47,"2021-07-12"]
["Updated construction period to 15 months",1.48,"2021-07-26"]
["Incorporated downsizing calculator into offline tool",1.48,"2021-07-26"]
["Incorporated child maintenance & Centrelink debts into commitments area",1.49]
["Updated HEM to Qtr 2 2021",1.5,"2021-10-18"]
["Updated Centrelink earnings thresholds & pension rates",1.5,"2021-10-18"]
["Updated HELP thresholds to 2021/22",1.5,"2021-10-18"]
["Increased interest rate buffer to 3.0%",1.51,"2021-11-01"]
["Incorporated new retirement age guidelines",1.52,"2021-11-29"]
["Updated HEM to Qtr 3 2021",1.53,"2022-01-14"]
["Updated HEM to Qtr 4 2021",1.55,"2022-04-26"]
["Updated Family Tax Benefit A & B",1.55,"2022-04-26"]
["Interest Rate increase by .22% to 4.76%",1.56,"2022-05-10"]
["Increse Couple Metro/Regional to $155,00",1.57,"2022-05-30"]
["Increase Pilbra Max PP to $750,000",1.57,"2022-05-30"]
["Interest Rate Change 4.76% to 5.26%",1.58,"2022-06-14"]
["Living expense change and Superannuaiton change",1.59,"2022-06-20"]
["Interest Change form 5.26% to 5.76%",1.6,"2022-07-11"]
["Interest Change from 5.76% to 6.26%",1.61,"2022-08-11"]
["Interest Change from 6.26% to 6.76%",1.62,"2022-09-15"]
["Hems Change 17.10.2022",1.63,"2022-09-27"]
["Multiple changes to Family A+B and HELP tax brackets",1.63,"2022-10-17"]
["Interest Rate Change 6.76% to 7.01%",1.64,"2022-10-21"]
["Interest Rate Change 7.01% to 7.26%",1.65,"2022-11-24"]
["Change to Purchase Price $560,000",1.65,"2022-12-09"]
["Interest Rate Change 7.26% to 7.51%",1.66,"2022-12-29"]
["Interest Change 7.51% to 7.76%",1.68,"2023-02-16"]
["Interest Rate Change 7.76% to 8.01%",1.69,"2023-03-17"]
["Redcue Int Rate, Adjust HECS and Super to 11%",1.73,"2023-07-03"]
["Increase Pension and Adjust HEMS",1.76,"2024-01-15"]
["Adjust HEMS + Stamp Duty Rates",1.77,"2024-04-01"]
["Adjust Taxation Rates, Property Price Caps, HEMS and Super",1.78,"2024-06-27"]
["Adjust downsizing from $350k to $425",1.79,"2024-09-10"]
["Update min monthly construciotn amount to $400 per month. Change PRCV to pass on loan amount. ",1.8,"2024-09-12"]
["Update HEMS and Centrelink info amd remove auto calc for Centrelink",1.81,"2024-10-10"]
["Update Interest Rate  to 7.35% & change stamp duty",1.87,"2025-06-10"]
["Update HEMS",1.88,"2025-07-07"]
["Update Interest and add dependants custody arrangements and prop caps",1.89,"2025-08-12"]